Workbook

Sheet 원가
A1: 공 사 원 가 계 산 서
A3: 공사명 [ 본관 물탱크 등 기계설비 교체 설계용역(물탱크 교체공사)(7층저수조실) ] [ 기계소방공사 ]
D4: 금 액 | E4: 구 성 비 (%) | F4: 비 고
A5: 순 공 사 원 가 | B5: 재 료 비 | C5: 직 접 재 료 비 | D5: 38417939
C6: 작 업 설 . 부 산 물 등
C7: [소 계] | D7: =INT(SUM(D5:D6)) -> 38417939
B8: 노 무 비 | C8: 직 접 노 무 비 | D8: 10013650
C9: 간 접 노 무 비 | D9: =INT(SUM(D8)*17.5%) -> 1752388 | E9: 직접노무비의 17.5%
C10: [소 계] | D10: =SUM(D8:D9) -> 11766038
B11: 경 비 | C11: 기 계 경 비 | D11: 2611
C12: 산 재 보 험 료 | D12: =INT(SUM(D10)*3.56%) -> 418870 | E12: 노무비의 3.56%
C13: 고 용 보 험 료 | D13: =INT(SUM(D10)*1.01%) -> 118836 | E13: 노무비의 1.01%
C14: 건 강 보 험 료 | D14: =INT(SUM(D8)*3.595%) -> 359990 | E14: 직접노무비의 3.595%
C15: 노 인 장 기 요 양 보 험 료 | D15: =INT(D14*13.14%) -> 47302 | E15: 건강보험료의 13.14%
C16: 연 금 보 험 료 | D16: =INT(SUM(D8)*4.75%) -> 475648 | E16: 직접노무비의 4.75%
C17: 산 업 안 전 보 건 관 리 비 | D17: =MIN(H17,I17) -> 1506222 | E17: (재료비+직노+관급)*3.11% | H17: =INT(SUM(D5+D8+D35/1.1)*3.11%) -> 1506222 | I17: =INT(SUM(D5+D8)*3.11%)*1.2 -> 1807466.4
C18: 환 경 관 리 비
C19: 하 도 급 지 급 수 수 료
C20: 건 설 기 계 지 급 수 수 료
C21: 퇴 직 공 제 부 금 비
C22: 기 타 경 비 | D22: =INT(SUM(D7+D10)*5%) -> 2509198 | E22: (재료비+노무비)*5.0%
C23: 석 면 분 담 금 | D23: =INT(SUM(D10)*0.006%) -> 705 | E23: 노무비의 0.006%
C24: 임 금 채 권 부 담 금 | D24: =INT(SUM(D10)*0.09%) -> 10589 | E24: 노무비의 0.09%
C25: [소 계] | D25: =INT(SUM(D11:D24)) -> 5449971
A26: 계 | D26: =SUM(D25,D10,D7) -> 55633948
A27: 일 반 관 리 비 | D27: =INT(SUM(D26)*8%) -> 4450715 | E27: 계의 8%
A28: 이 윤 | D28: =INT((SUM(D10+D25+D27))*15%)-326 -> 3249682 | E28: (노무비+경비+일반관리비)*15%
A29: 작 업 부 산 물 | D29: -46530
A30: 공 급 가 액 | D30: =INT(SUM(D26:D29)) -> 63287815
A31: 배 상 책 임 공 제 료 | D31: =(D30+(D35/1.1))*0.364% -> 230367.65 | E31: 공급가액의 0.364%
A32: 부 가 가 치 세 | D32: =INT((D30+D31)*10%) -> 6351818 | E32: (공급가액+T.A.B)의 10%
A33: 도 급 금 액 | D33: =INT(SUM(D30:D32)) -> 69870000
A34: 분 담 금 공 사
A35: 도 급 자 관 급 | E35: 부가가치세,조달수수료포함
A36: 관 급 자 관 급 | E36: 부가가치세,조달수수료포함
A37: 결 정 금 액 | D37: =INT(SUM(D33:D36)/1000)*1000 -> 69870000
D41: =D5+D8+D11+#REF! -> #REF!

Sheet 공종별집계표
A1: 공 종 별 집 계 표
A2: [ 본관 물탱크 등 기계설비 교체 설계용역(물탱크 교체공사)(소방)(7층저수조실) ]
A3: 품 명 | B3: 규 격 | C3: 단위 | D3: 수량 | E3: 재 료 비 | G3: 노 무 비 | I3: 경 비 | K3: 합 계 | M3: 비 고 | N3: 공종코드 | O3: 변수 | P3: 상위공종 | Q3: 공종구분 | R3: 공종레벨 | S3: 공종소계 | T3: 원가계산서 연결금액
E4: 단 가 | F4: 금 액 | G4: 단 가 | H4: 금 액 | I4: 단 가 | J4: 금 액 | K4: 단 가 | L4: 금 액
A5: 01 본관 물탱크 등 기계설비 교체 설계용역(물탱크 교체공사)(소방)(7층저수조실) | D5: 1 | E5: =F6+F11 -> 32686970 | F5: =E5*D5 -> 32686970 | G5: =H6+H11 -> 0 | H5: =G5*D5 -> 0 | I5: =J6+J11 -> 0 | J5: =I5*D5 -> 0 | K5: =E5+G5+I5 -> 32686970 | L5: =F5+H5+J5 -> 32686970 | N5: 01 | R5: 1
A6: 0101 소화설비공사 | D6: 1 | E6: =F7+F8+F9+F10 -> 32733500 | F6: =E6*D6 -> 32733500 | G6: =H7+H8+H9+H10 -> 0 | H6: =G6*D6 -> 0 | I6: =J7+J8+J9+J10 -> 0 | J6: =I6*D6 -> 0 | K6: =E6+G6+I6 -> 32733500 | L6: =F6+H6+J6 -> 32733500 | N6: 0101 | P6: 01 | R6: 2
A7: 010101 장비설치공사 | D7: 1 | E7: =공종별내역서!F27 -> 28740000 | F7: =E7*D7 -> 28740000 | G7: =공종별내역서!H27 -> 0 | H7: =G7*D7 -> 0 | I7: =공종별내역서!J27 -> 0 | J7: =I7*D7 -> 0 | K7: =E7+G7+I7 -> 28740000 | L7: =F7+H7+J7 -> 28740000 | N7: 010101 | P7: 0101 | R7: 3
A8: 010102 소화배관공사 | D8: 1 | E8: =공종별내역서!F75 -> 3993500 | F8: =E8*D8 -> 3993500 | G8: =공종별내역서!H75 -> 0 | H8: =G8*D8 -> 0 | I8: =공종별내역서!J75 -> 0 | J8: =I8*D8 -> 0 | K8: =E8+G8+I8 -> 3993500 | L8: =F8+H8+J8 -> 3993500 | N8: 010102 | P8: 0101 | R8: 3
A9: 010103 철거공사 | D9: 1 | E9: =공종별내역서!F99 -> 0 | F9: =E9*D9 -> 0 | G9: =공종별내역서!H99 -> 0 | H9: =G9*D9 -> 0 | I9: =공종별내역서!J99 -> 0 | J9: =I9*D9 -> 0 | K9: =E9+G9+I9 -> 0 | L9: =F9+H9+J9 -> 0 | N9: 010103 | P9: 0101 | R9: 3
A10: 010104 폐기물처리비 | D10: 1 | E10: =공종별내역서!F123 -> 0 | F10: =E10*D10 -> 0 | G10: =공종별내역서!H123 -> 0 | H10: =G10*D10 -> 0 | I10: =공종별내역서!J123 -> 0 | J10: =I10*D10 -> 0 | K10: =E10+G10+I10 -> 0 | L10: =F10+H10+J10 -> 0 | N10: 010104 | P10: 0101 | R10: 3
A11: 0102 작업부산물 | D11: 1 | E11: =공종별내역서!F147 -> -46530 | F11: =E11*D11 -> -46530 | G11: =공종별내역서!H147 -> 0 | H11: =G11*D11 -> 0 | I11: =공종별내역서!J147 -> 0 | J11: =I11*D11 -> 0 | K11: =E11+G11+I11 -> -46530 | L11: =F11+H11+J11 -> -46530 | N11: 0102 | P11: 01 | R11: 2
A27: [ 합 계 ] | F27: =F5 -> 32686970 | H27: =H5 -> 0 | J27: =J5 -> 0 | L27: =L5 -> 32686970

Sheet 공종별내역서
A1: [ 본관 물탱크 등 기계설비 교체 설계용역(물탱크 교체공사)(소방)(7층저수조실) ]
A2: 품 명 | B2: 규 격 | C2: 단위 | D2: 수량 | E2: 재 료 비 | G2: 노 무 비 | I2: 경 비 | K2: 합 계 | M2: 비 고 | N2: 품목코드 | O2: 변수 | P2: 설정 | Q2: 공종코드 | R2: 일위 | S2: 단산 | T2: 자재 | U2: 손료적용 | V2: 손료저장 | W2: 적용율 | X2: JUK1 | Y2: JUK2 | Z2: JUK3 | AA2: JUK4 | AB2: JUK5 | AC2: JUK6 | AD2: JUK7 | AE2: JUK8 | AF2: JUK9 | AG2: JUK10 | AH2: JUK11 | AI2: JUK12 | AJ2: JUK13 | AK2: JUK14 | AL2: JUK15 | AM2: JUK16 | AN2: JUK17 | AO2: JUK18 | AP2: JUK19 | AQ2: JUK20 | AR2: 자재구분 | AS2: 공종구분 | AT2: 공종레벨 | AU2: 공종+자재 | AV2: 고유번호
E3: 단 가 | F3: 금 액 | G3: 단 가 | H3: 금 액 | I3: 단 가 | J3: 금 액 | K3: 단 가 | L3: 금 액
A4: 010101 장비설치공사 | Q4: 010101
A5: 연결송수가압펌프(다단터빈) | B5: 2600LPMx120Mx125HP | C5: 대 | D5: 1 | E5: =TRUNC(단가대비표!O13,0) -> 27540000 | F5: =TRUNC(E5*D5, 0) -> 27540000 | G5: =TRUNC(단가대비표!P13,0) -> 0 | H5: =TRUNC(G5*D5, 0) -> 0 | I5: =TRUNC(단가대비표!V13,0) -> 0 | J5: =TRUNC(I5*D5, 0) -> 0 | K5: =TRUNC(E5+G5+I5, 0) -> 27540000 | L5: =TRUNC(F5+H5+J5, 0) -> 27540000 | N5: 5965E42CB2F39614BAD245A6B6174A84680FFE | Q5: 010101 | R5: F | S5: F | T5: T | AU5: 0101015965E42CB2F39614BAD245A6B6174A84680FFE | AV5: 2856
A6: 진동방지장치 | B6: 펌프(편흡입) 25㎜ 125HP(90KW) 이하 | C6: 조 | D6: 1 | E6: =TRUNC(단가대비표!O6,0) -> 1200000 | F6: =TRUNC(E6*D6, 0) -> 1200000 | G6: =TRUNC(단가대비표!P6,0) -> 0 | H6: =TRUNC(G6*D6, 0) -> 0 | I6: =TRUNC(단가대비표!V6,0) -> 0 | J6: =TRUNC(I6*D6, 0) -> 0 | K6: =TRUNC(E6+G6+I6, 0) -> 1200000 | L6: =TRUNC(F6+H6+J6, 0) -> 1200000 | N6: 5977D4E062B3C814B65B1541938FCE95A54F7B | Q6: 010101 | R6: F | S6: F | T6: T | AU6: 0101015977D4E062B3C814B65B1541938FCE95A54F7B | AV6: 2854
A7: 일반펌프 설치 | B7: 75 kw 이하 | C7: 대 | D7: 1 | E7: =TRUNC(일위대가목록!E13,0) -> 0 | F7: =TRUNC(E7*D7, 0) -> 0 | G7: =TRUNC(일위대가목록!F13,0) -> 0 | H7: =TRUNC(G7*D7, 0) -> 0 | I7: =TRUNC(일위대가목록!G13,0) -> 0 | J7: =TRUNC(I7*D7, 0) -> 0 | K7: =TRUNC(E7+G7+I7, 0) -> 0 | L7: =TRUNC(F7+H7+J7, 0) -> 0 | M7: 호표 10 | N7: 5E8154DFF2B39014E77E13D3125E55 | Q7: 010101 | R7: T | S7: F | T7: F | AU7: 0101015E8154DFF2B39014E77E13D3125E55 | AV7: 2855
A8: 펌프 방진가대 설치 | B8: 75 kw 이하 | C8: 대 | D8: 1 | E8: =TRUNC(일위대가목록!E14,0) -> 0 | F8: =TRUNC(E8*D8, 0) -> 0 | G8: =TRUNC(일위대가목록!F14,0) -> 0 | H8: =TRUNC(G8*D8, 0) -> 0 | I8: =TRUNC(일위대가목록!G14,0) -> 0 | J8: =TRUNC(I8*D8, 0) -> 0 | K8: =TRUNC(E8+G8+I8, 0) -> 0 | L8: =TRUNC(F8+H8+J8, 0) -> 0 | M8: 호표 11 | N8: 5E8154DFF293E314126B34F5F283E7 | Q8: 010101 | R8: T | S8: F | T8: F | AU8: 0101015E8154DFF293E314126B34F5F283E7 | AV8: 2857
Q9: 010101
Q10: 010101
Q11: 010101
Q12: 010101
Q13: 010101
Q14: 010101
Q15: 010101
Q16: 010101
Q17: 010101
Q18: 010101
Q19: 010101
Q20: 010101
... Q26: 010101
A27: [ 합 계 ] | F27: =SUMIF(Q5:Q26,"010101",F5:F26) -> 28740000 | H27: =SUMIF(Q5:Q26,"010101",H5:H26) -> 0 | J27: =SUMIF(Q5:Q26,"010101",J5:J26) -> 0 | L27: =SUMIF(Q5:Q26,"010101",L5:L26) -> 28740000 | N27: TOTAL
A28: 010102 소화배관공사 | Q28: 010102
A29: 백강관옥내배관 | B29: D 25 | C29: M | D29: 2 | E29: =TRUNC(일위대가목록!E5,0) -> 0 | F29: =TRUNC(E29*D29, 0) -> 0 | G29: =TRUNC(일위대가목록!F5,0) -> 0 | H29: =TRUNC(G29*D29, 0) -> 0 | I29: =TRUNC(일위대가목록!G5,0) -> 0 | J29: =TRUNC(I29*D29, 0) -> 0 | K29: =TRUNC(E29+G29+I29, 0) -> 0 | L29: =TRUNC(F29+H29+J29, 0) -> 0 | M29: 호표 2 | N29: 5E8124AB92633814ACDFAC850F04C4 | Q29: 010102 | R29: T | S29: F | T29: F | AU29: 0101025E8124AB92633814ACDFAC850F04C4 | AV29: 2859
A30: 백강관옥내배관(무용접) | B30: D 100 | C30: M | D30: 20 | E30: =TRUNC(일위대가목록!E6,0) -> 0 | F30: =TRUNC(E30*D30, 0) -> 0 | G30: =TRUNC(일위대가목록!F6,0) -> 0 | H30: =TRUNC(G30*D30, 0) -> 0 | I30: =TRUNC(일위대가목록!G6,0) -> 0 | J30: =TRUNC(I30*D30, 0) -> 0 | K30: =TRUNC(E30+G30+I30, 0) -> 0 | L30: =TRUNC(F30+H30+J30, 0) -> 0 | M30: 호표 3 | N30: 5E8124AB92633814ACDFAF5B9D694D | Q30: 010102 | R30: T | S30: F | T30: F | AU30: 0101025E8124AB92633814ACDFAF5B9D694D | AV30: 2860
A31: 관보온(가교발포+매직) | B31: 40TxD100 | C31: M | D31: 19 | E31: =TRUNC(일위대가목록!E10,0) -> 0 | F31: =TRUNC(E31*D31, 0) -> 0 | G31: =TRUNC(일위대가목록!F10,0) -> 0 | H31: =TRUNC(G31*D31, 0) -> 0 | I31: =TRUNC(일위대가목록!G10,0) -> 0 | J31: =TRUNC(I31*D31, 0) -> 0 | K31: =TRUNC(E31+G31+I31, 0) -> 0 | L31: =TRUNC(F31+H31+J31, 0) -> 0 | M31: 호표 7 | N31: 5E8144F5E2B3D61468FE0DB5A2C093 | Q31: 010102 | R31: T | S31: F | T31: F | AU31: 0101025E8144F5E2B3D61468FE0DB5A2C093 | AV31: 2861
A32: 나사식 강관제 관이음쇠 | B32: 백엘보 (나사) D25 | C32: EA | D32: 2 | E32: =TRUNC(단가대비표!O36,0) -> 1640 | F32: =TRUNC(E32*D32, 0) -> 3280 | G32: =TRUNC(단가대비표!P36,0) -> 0 | H32: =TRUNC(G32*D32, 0) -> 0 | I32: =TRUNC(단가대비표!V36,0) -> 0 | J32: =TRUNC(I32*D32, 0) -> 0 | K32: =TRUNC(E32+G32+I32, 0) -> 1640 | L32: =TRUNC(F32+H32+J32, 0) -> 3280 | N32: 591D54A5C273DE14865E247B455575DC2FAF3A | Q32: 010102 | R32: F | S32: F | T32: T | AU32: 010102591D54A5C273DE14865E247B455575DC2FAF3A | AV32: 2862
A33: 나사식 강관제 관이음쇠 | B33: 백유니온 (나사) D25 | C33: EA | D33: 2 | E33: =TRUNC(단가대비표!O38,0) -> 5230 | F33: =TRUNC(E33*D33, 0) -> 10460 | G33: =TRUNC(단가대비표!P38,0) -> 0 | H33: =TRUNC(G33*D33, 0) -> 0 | I33: =TRUNC(단가대비표!V38,0) -> 0 | J33: =TRUNC(I33*D33, 0) -> 0 | K33: =TRUNC(E33+G33+I33, 0) -> 5230 | L33: =TRUNC(F33+H33+J33, 0) -> 10460 | N33: 591D54A5C273DE14865E247B455575DC202615 | Q33: 010102 | R33: F | S33: F | T33: T | AU33: 010102591D54A5C273DE14865E247B455575DC202615 | AV33: 2863
A34: 나사식 강관제 관이음쇠 | B34: 백니플 (나사) D25 | C34: EA | D34: 2 | E34: =TRUNC(단가대비표!O37,0) -> 1510 | F34: =TRUNC(E34*D34, 0) -> 3020 | G34: =TRUNC(단가대비표!P37,0) -> 0 | H34: =TRUNC(G34*D34, 0) -> 0 | I34: =TRUNC(단가대비표!V37,0) -> 0 | J34: =TRUNC(I34*D34, 0) -> 0 | K34: =TRUNC(E34+G34+I34, 0) -> 1510 | L34: =TRUNC(F34+H34+J34, 0) -> 3020 | N34: 591D54A5C273DE14865E247B455575DC20246A | Q34: 010102 | R34: F | S34: F | T34: T | AU34: 010102591D54A5C273DE14865E247B455575DC20246A | AV34: 2864
A35: 무용접엘보(아연도) | B35: D100 | C35: EA | D35: 12 | E35: =TRUNC(단가대비표!O28,0) -> 20500 | F35: =TRUNC(E35*D35, 0) -> 246000 | G35: =TRUNC(단가대비표!P28,0) -> 0 | H35: =TRUNC(G35*D35, 0) -> 0 | I35: =TRUNC(단가대비표!V28,0) -> 0 | J35: =TRUNC(I35*D35, 0) -> 0 | K35: =TRUNC(E35+G35+I35, 0) -> 20500 | L35: =TRUNC(F35+H35+J35, 0) -> 246000 | N35: 591D54A5C273DE14865F356DF66B6556571B13 | Q35: 010102 | R35: F | S35: F | T35: T | AU35: 010102591D54A5C273DE14865F356DF66B6556571B13 | AV35: 2865
A36: 무용접티이(아연도) | B36: D100 | C36: EA | D36: 3 | E36: =TRUNC(단가대비표!O29,0) -> 37000 | F36: =TRUNC(E36*D36, 0) -> 111000 | G36: =TRUNC(단가대비표!P29,0) -> 0 | H36: =TRUNC(G36*D36, 0) -> 0 | I36: =TRUNC(단가대비표!V29,0) -> 0 | J36: =TRUNC(I36*D36, 0) -> 0 | K36: =TRUNC(E36+G36+I36, 0) -> 37000 | L36: =TRUNC(F36+H36+J36, 0) -> 111000 | N36: 591D54A5C273DE14865F356DF66B6556571FF8 | Q36: 010102 | R36: F | S36: F | T36: T | AU36: 010102591D54A5C273DE14865F356DF66B6556571FF8 | AV36: 2866
A37: 무용접후렌지아답타니플 | B37: D100 | C37: EA | D37: 45 | E37: =TRUNC(단가대비표!O30,0) -> 55540 | F37: =TRUNC(E37*D37, 0) -> 2499300 | G37: =TRUNC(단가대비표!P30,0) -> 0 | H37: =TRUNC(G37*D37, 0) -> 0 | I37: =TRUNC(단가대비표!V30,0) -> 0 | J37: =TRUNC(I37*D37, 0) -> 0 | K37: =TRUNC(E37+G37+I37, 0) -> 55540 | L37: =TRUNC(F37+H37+J37, 0) -> 2499300 | N37: 591D54A5C273DE14865F356DF66B65565BF6AD | Q37: 010102 | R37: F | S37: F | T37: T | AU37: 010102591D54A5C273DE14865F356DF66B65565BF6AD | AV37: 2867
A38: 무용접고정식커플링(아연도) | B38: D100 | C38: EA | D38: 48 | E38: =TRUNC(단가대비표!O31,0) -> 14100 | F38: =TRUNC(E38*D38, 0) -> 676800 | G38: =TRUNC(단가대비표!P31,0) -> 0 | H38: =TRUNC(G38*D38, 0) -> 0 | I38: =TRUNC(단가대비표!V31,0) -> 0 | J38: =TRUNC(I38*D38, 0) -> 0 | K38: =TRUNC(E38+G38+I38, 0) -> 14100 | L38: =TRUNC(F38+H38+J38, 0) -> 676800 | N38: 591D54A5C273DE14865F356DF66B65565BF01B | Q38: 010102 | R38: F | S38: F | T38: T | AU38: 010102591D54A5C273DE14865F356DF66B65565BF01B | AV38: 2868
A39: 무용접후렉시블커플링(아연도) | B39: D100 | C39: EA | D39: 30 | E39: =TRUNC(단가대비표!O32,0) -> 14700 | F39: =TRUNC(E39*D39, 0) -> 441000 | G39: =TRUNC(단가대비표!P32,0) -> 0 | H39: =TRUNC(G39*D39, 0) -> 0 | I39: =TRUNC(단가대비표!V32,0) -> 0 | J39: =TRUNC(I39*D39, 0) -> 0 | K39: =TRUNC(E39+G39+I39, 0) -> 14700 | L39: =TRUNC(F39+H39+J39, 0) -> 441000 | N39: 591D54A5C273DE14865F356DF66B65554BA703 | Q39: 010102 | R39: F | S39: F | T39: T | AU39: 010102591D54A5C273DE14865F356DF66B65554BA703 | AV39: 2869
A40: 청동게이트밸브 | B40: D 25 (10KG) | C40: EA | D40: 1 | E40: =TRUNC(일위대가목록!E17,0) -> 0 | F40: =TRUNC(E40*D40, 0) -> 0 | G40: =TRUNC(일위대가목록!F17,0) -> 0 | H40: =TRUNC(G40*D40, 0) -> 0 | I40: =TRUNC(일위대가목록!G17,0) -> 0 | J40: =TRUNC(I40*D40, 0) -> 0 | K40: =TRUNC(E40+G40+I40, 0) -> 0 | L40: =TRUNC(F40+H40+J40, 0) -> 0 | M40: 호표 14 | N40: 5E8164C402637F14837CF151A40F09 | Q40: 010102 | R40: T | S40: F | T40: F | AU40: 0101025E8164C402637F14837CF151A40F09 | AV40: 2870
A41: 주강글로브밸브 | B41: D100 (20KG) | C41: EA | D41: 1 | E41: =TRUNC(일위대가목록!E18,0) -> 0 | F41: =TRUNC(E41*D41, 0) -> 0 | G41: =TRUNC(일위대가목록!F18,0) -> 0 | H41: =TRUNC(G41*D41, 0) -> 0 | I41: =TRUNC(일위대가목록!G18,0) -> 0 | J41: =TRUNC(I41*D41, 0) -> 0 | K41: =TRUNC(E41+G41+I41, 0) -> 0 | L41: =TRUNC(F41+H41+J41, 0) -> 0 | M41: 호표 15 | N41: 5E8164C402535D14795F9F0908C1BA | Q41: 010102 | R41: T | S41: F | T41: F | AU41: 0101025E8164C402535D14795F9F0908C1BA | AV41: 2871
A42: 주철스트레이너 | B42: D100 (10KG) | C42: EA | D42: 3 | E42: =TRUNC(일위대가목록!E19,0) -> 0 | F42: =TRUNC(E42*D42, 0) -> 0 | G42: =TRUNC(일위대가목록!F19,0) -> 0 | H42: =TRUNC(G42*D42, 0) -> 0 | I42: =TRUNC(일위대가목록!G19,0) -> 0 | J42: =TRUNC(I42*D42, 0) -> 0 | K42: =TRUNC(E42+G42+I42, 0) -> 0 | L42: =TRUNC(F42+H42+J42, 0) -> 0 | M42: 호표 16 | N42: 5E8164C40233A8146E49054801B55A | Q42: 010102 | R42: T | S42: F | T42: F | AU42: 0101025E8164C40233A8146E49054801B55A | AV42: 2872
A43: 스모렌스키체크밸브 | B43: D 100 (10KG) | C43: EA | D43: 2 | E43: =TRUNC(일위대가목록!E21,0) -> 0 | F43: =TRUNC(E43*D43, 0) -> 0 | G43: =TRUNC(일위대가목록!F21,0) -> 0 | H43: =TRUNC(G43*D43, 0) -> 0 | I43: =TRUNC(일위대가목록!G21,0) -> 0 | J43: =TRUNC(I43*D43, 0) -> 0 | K43: =TRUNC(E43+G43+I43, 0) -> 0 | L43: =TRUNC(F43+H43+J43, 0) -> 0 | M43: 호표 18 | N43: 5E8164C402238814F68AE2FFA1C447 | Q43: 010102 | R43: T | S43: F | T43: F | AU43: 0101025E8164C402238814F68AE2FFA1C447 | AV43: 2873
A44: 스모렌스키체크밸브 | B44: D100 (20KG) | C44: EA | D44: 1 | E44: =TRUNC(일위대가목록!E22,0) -> 0 | F44: =TRUNC(E44*D44, 0) -> 0 | G44: =TRUNC(일위대가목록!F22,0) -> 0 | H44: =TRUNC(G44*D44, 0) -> 0 | I44: =TRUNC(일위대가목록!G22,0) -> 0 | J44: =TRUNC(I44*D44, 0) -> 0 | K44: =TRUNC(E44+G44+I44, 0) -> 0 | L44: =TRUNC(F44+H44+J44, 0) -> 0 | M44: 호표 19 | N44: 5E8164C402238814F68AE381F20FBB | Q44: 010102 | R44: T | S44: F | T44: F | AU44: 0101025E8164C402238814F68AE381F20FBB | AV44: 2874
A45: 바깥나사게이트(댐퍼스위치) | B45: D100 (10KG) | C45: EA | D45: 5 | E45: =TRUNC(일위대가목록!E31,0) -> 0 | F45: =TRUNC(E45*D45, 0) -> 0 | G45: =TRUNC(일위대가목록!F31,0) -> 0 | H45: =TRUNC(G45*D45, 0) -> 0 | I45: =TRUNC(일위대가목록!G31,0) -> 0 | J45: =TRUNC(I45*D45, 0) -> 0 | K45: =TRUNC(E45+G45+I45, 0) -> 0 | L45: =TRUNC(F45+H45+J45, 0) -> 0 | M45: 호표 28 | N45: 5E81B4449263DC1496512391C2F54A | Q45: 010102 | R45: T | S45: F | T45: F | AU45: 0101025E81B4449263DC1496512391C2F54A | AV45: 2875
...

Sheet 일위대가목록
B1: 일 위 대 가 목 록
B2: [ 본관 물탱크 등 기계설비 교체 설계용역(물탱크 교체공사)(소방)(7층저수조실) ]
A3: 코 드 | B3: 품 명 | C3: 규 격 | D3: 단위 | E3: 재 료 비 | F3: 노 무 비 | G3: 경 비 | H3: 합 계 | I3: 번 호 | J3: 비 고 | K3: 노임계수 | L3: 할증 | M3: 품셈개요 | N3: 장비일위
A4: 5E4F44D0922300142AFB666D13664C | B4: 폐기물처리비 | C4: 24TON 30KM | D4: TON | H4: =E4+F4+G4 -> 0 | I4: 호표 1
A5: 5E8124AB92633814ACDFAC850F04C4 | B5: 백강관옥내배관 | C5: D 25 | D5: M | H5: =E5+F5+G5 -> 0 | I5: 호표 2 | M5: 기계 1-1-3
A6: 5E8124AB92633814ACDFAF5B9D694D | B6: 백강관옥내배관(무용접) | C6: D 100 | D6: M | H6: =E6+F6+G6 -> 0 | I6: 호표 3 | M6: 기계 1-1-4
A7: 5E8124AB92633814ACDE8683BD12CE | B7: 나사식 접합 및 배관 | C7: D25, 옥내일반 | D7: m | H7: =E7+F7+G7 -> 0 | I7: 호표 4 | M7: 기계 1-1-3
A8: 5E8124AB9273DE14CFAEA0EF026B1D | B8: 그루브조인트식 접합 및 배관 | C8: D100, 옥내일반 | D8: m | H8: =E8+F8+G8 -> 0 | I8: 호표 5 | M8: 기계 1-1-4
A9: 5E8144F6F213221480BD5613639BBE | B9: 관보온/발포폴리에틸렌보온재 | C9: D100, 보온두께 50mm 이하, 일반접합, 옥내일반, 매직 | D9: m | H9: =E9+F9+G9 -> 0 | I9: 호표 6 | M9: 기계 3-1-1
A10: 5E8144F5E2B3D61468FE0DB5A2C093 | B10: 관보온(가교발포+매직) | C10: 40TxD100 | D10: M | H10: =E10+F10+G10 -> 0 | I10: 호표 7 | M10: 기계 3-1-1
A11: 5E8144F4C223001461451F058B3E6C | B11: 밸브보온/함석마감 | C11: D100 | D11: 개소 | H11: =E11+F11+G11 -> 0 | I11: 호표 8 | M11: 기계 3-2-2
A12: 5E8144F332B38E148953F87F6DEF48 | B12: 밸브보온 (함석마감) | C12: 50TxD100 | D12: 개소 | H12: =E12+F12+G12 -> 0 | I12: 호표 9 | M12: 기계 3-2-2
A13: 5E8154DFF2B39014E77E13D3125E55 | B13: 일반펌프 설치 | C13: 75 kw 이하 | D13: 대 | H13: =E13+F13+G13 -> 0 | I13: 호표 10 | M13: 기계 4-1-1
A14: 5E8154DFF293E314126B34F5F283E7 | B14: 펌프 방진가대 설치 | C14: 75 kw 이하 | D14: 대 | H14: =E14+F14+G14 -> 0 | I14: 호표 11 | M14: 기계 4-1-3
A15: 5E8164C4027303149F66D9C5F487A0 | B15: 일반밸브 및 콕류 설치 | C15: D15∼25 | D15: 개 | H15: =E15+F15+G15 -> 0 | I15: 호표 12 | M15: 기계 5-1-1
A16: 5E8164C4027303149F66D9C5F02CB0 | B16: 일반밸브 및 콕류 설치 | C16: D100 | D16: 개 | H16: =E16+F16+G16 -> 0 | I16: 호표 13 | M16: 기계 5-1-1
... A39: 5E8014D642F35D149612B5508487F8 | B39: 배관보온 해체/발포폴리에틸렌보온재 | C39: D100, 보온두께 50mm 이하, 발포폴리에틸렌보온재 | D39: m | H39: =E39+F39+G39 -> 0 | I39: 호표 36 | M39: 유지관리 4-1-4

Sheet 일위대가
A1: [ 본관 물탱크 등 기계설비 교체 설계용역(물탱크 교체공사)(소방)(7층저수조실) ]
A2: 품 명 | B2: 규 격 | C2: 단위 | D2: 수량 | E2: 재 료 비 | G2: 노 무 비 | I2: 경 비 | K2: 합 계 | M2: 비 고 | N2: 일위대가 | O2: 품목코드 | P2: 일위 | Q2: 단산 | R2: 자재 | S2: 손료적용 | T2: 손료저장 | U2: 적용율 | V2: JUK1 | W2: JUK2 | X2: JUK3 | Y2: JUK4 | Z2: JUK5 | AA2: JUK6 | AB2: JUK7 | AC2: JUK8 | AD2: JUK9 | AE2: JUK10 | AF2: JUK11 | AG2: JUK12 | AH2: JUK13 | AI2: JUK14 | AJ2: JUK15 | AK2: JUK16 | AL2: JUK17 | AM2: JUK18 | AN2: JUK19 | AO2: JUK20 | AP2: 할증적용 | AQ2: 할증저장 | AR2: 할증율 | AS2: HAL1 | AT2: HAL2 | AU2: HAL3 | AV2: 자재구분 | AW2: 일위대가+자재 | AX2: 장비일위 | AY2: 설정 | AZ2: 할증체크
E3: 단 가 | F3: 금 액 | G3: 단 가 | H3: 금 액 | I3: 단 가 | J3: 금 액 | K3: 단 가 | L3: 금 액
A4: 폐기물처리비 24TON 30KM TON ( 호표 1 ) | N4: 5E4F44D0922300142AFB666D13664C
A5: 폐기물반입수수료 | B5: 혼합폐기물 | C5: TON | D5: 1 | E5: =단가대비표!O47 -> 0 | F5: =TRUNC(E5*D5,1) -> 0 | G5: =단가대비표!P47 -> 0 | H5: =TRUNC(G5*D5,1) -> 0 | J5: =TRUNC(I5*D5,1) -> 0 | K5: =TRUNC(E5+G5+I5,1) -> 0 | L5: =TRUNC(F5+H5+J5,1) -> 0 | N5: 5E4F44D0922300142AFB666D13664C | O5: 5E4F44D0922300142B800BD9260D36 | P5: F | Q5: F | R5: T | AW5: 5E4F44D0922300142AFB666D13664C5E4F44D0922300142B800BD9260D36
A6: 건설폐기물상차비 | B6: 24톤 암롤트럭,30KM | C6: TON | D6: 1 | E6: =단가대비표!O46 -> 0 | F6: =TRUNC(E6*D6,1) -> 0 | G6: =단가대비표!P46 -> 0 | H6: =TRUNC(G6*D6,1) -> 0 | J6: =TRUNC(I6*D6,1) -> 0 | K6: =TRUNC(E6+G6+I6,1) -> 0 | L6: =TRUNC(F6+H6+J6,1) -> 0 | N6: 5E4F44D0922300142AFB666D13664C | O6: 5E4F44D0922300142B800BDAC3B23C | P6: F | Q6: F | R6: T | AW6: 5E4F44D0922300142AFB666D13664C5E4F44D0922300142B800BDAC3B23C
A7: 건설폐기물운반비 | B7: 24톤 암롤트럭,30KM | C7: TON | D7: 1 | E7: =단가대비표!O48 -> 0 | F7: =TRUNC(E7*D7,1) -> 0 | G7: =단가대비표!P48 -> 0 | H7: =TRUNC(G7*D7,1) -> 0 | J7: =TRUNC(I7*D7,1) -> 0 | K7: =TRUNC(E7+G7+I7,1) -> 0 | L7: =TRUNC(F7+H7+J7,1) -> 0 | N7: 5E4F44D0922300142AFB666D13664C | O7: 5E4F44D0922300142B800BDEA1D68B | P7: F | Q7: F | R7: T | AW7: 5E4F44D0922300142AFB666D13664C5E4F44D0922300142B800BDEA1D68B
A8: [ 합 계 ] | F8: =TRUNC(SUMIF(N5:N7, N4, F5:F7),0) -> 0 | H8: =TRUNC(SUMIF(N5:N7, N4, H5:H7),0) -> 0 | J8: =TRUNC(SUMIF(N5:N7, N4, J5:J7),0) -> 0 | L8: =F8+H8+J8 -> 0 | N8: TOTAL | O8: TOTAL
A10: 백강관옥내배관 D 25 M 기계 1-1-3 ( 호표 2 ) | N10: 5E8124AB92633814ACDFAC850F04C4
A11: 배관용 탄소강관 | B11: 백관 (SPP), D25, 반제품 | C11: M | D11: 1.1 | F11: =TRUNC(E11*D11,1) -> 0 | G11: =단가대비표!P26 -> 0 | H11: =TRUNC(G11*D11,1) -> 0 | I11: =단가대비표!V26 -> 0 | J11: =TRUNC(I11*D11,1) -> 0 | K11: =TRUNC(E11+G11+I11,1) -> 0 | L11: =TRUNC(F11+H11+J11,1) -> 0 | N11: 5E8124AB92633814ACDFAC850F04C4 | O11: 591D54A5C273DE1484AA29B344E6C43BEDD99B | P11: F | Q11: F | R11: T | V11: 1 | AW11: 5E8124AB92633814ACDFAC850F04C4591D54A5C273DE1484AA29B344E6C43BEDD99B
A12: 잡재료비 | B12: 주재료비의 3% | C12: 식 | D12: 1 | F12: =TRUNC(E12*D12,1) -> 0 | G12: 0 | H12: =TRUNC(G12*D12,1) -> 0 | I12: 0 | J12: =TRUNC(I12*D12,1) -> 0 | K12: =TRUNC(E12+G12+I12,1) -> 0 | L12: =TRUNC(F12+H12+J12,1) -> 0 | N12: 5E8124AB92633814ACDFAC850F04C4 | O12: 5F5584B0B2C30F14C17CE25B64F6001 | P12: F | Q12: F | R12: F | S12: 0 | T12: 0 | U12: 0.03 | AW12: 5E8124AB92633814ACDFAC850F04C45F5584B0B2C30F14C17CE25A5FB0122
A13: 나사식 접합 및 배관 | B13: D25, 옥내일반 | C13: m | D13: 1 | F13: =TRUNC(E13*D13,1) -> 0 | G13: =일위대가목록!F7 -> 0 | H13: =TRUNC(G13*D13,1) -> 0 | I13: =일위대가목록!G7 -> 0 | J13: =TRUNC(I13*D13,1) -> 0 | K13: =TRUNC(E13+G13+I13,1) -> 0 | L13: =TRUNC(F13+H13+J13,1) -> 0 | M13: 호표 4 | N13: 5E8124AB92633814ACDFAC850F04C4 | O13: 5E8124AB92633814ACDE8683BD12CE | P13: T | Q13: F | R13: F | AW13: 5E8124AB92633814ACDFAC850F04C45E8124AB92633814ACDE8683BD12CE
A14: [ 합 계 ] | F14: =TRUNC(SUMIF(N11:N13, N10, F11:F13),0) -> 0 | H14: =TRUNC(SUMIF(N11:N13, N10, H11:H13),0) -> 0 | J14: =TRUNC(SUMIF(N11:N13, N10, J11:J13),0) -> 0 | L14: =F14+H14+J14 -> 0 | N14: TOTAL | O14: TOTAL
A16: 백강관옥내배관(무용접) D 100 M 기계 1-1-4 ( 호표 3 ) | N16: 5E8124AB92633814ACDFAF5B9D694D
A17: 배관용 탄소강관 | B17: 백관 (SPP), D100, 반제품 | C17: M | D17: 1.1 | F17: =TRUNC(E17*D17,1) -> 0 | G17: =단가대비표!P27 -> 0 | H17: =TRUNC(G17*D17,1) -> 0 | I17: =단가대비표!V27 -> 0 | J17: =TRUNC(I17*D17,1) -> 0 | K17: =TRUNC(E17+G17+I17,1) -> 0 | L17: =TRUNC(F17+H17+J17,1) -> 0 | N17: 5E8124AB92633814ACDFAF5B9D694D | O17: 591D54A5C273DE1484AA29B344E6C43BEDDE1C | P17: F | Q17: F | R17: T | V17: 1 | AW17: 5E8124AB92633814ACDFAF5B9D694D591D54A5C273DE1484AA29B344E6C43BEDDE1C
A18: 잡재료비 | B18: 주재료비의 3% | C18: 식 | D18: 1 | E18: =TRUNC(SUMIF(V17:V19, RIGHTB(O18, 1), F17:F19)*U18, 2) -> 0 | F18: =TRUNC(E18*D18,1) -> 0 | G18: 0 | H18: =TRUNC(G18*D18,1) -> 0 | I18: 0 | J18: =TRUNC(I18*D18,1) -> 0 | K18: =TRUNC(E18+G18+I18,1) -> 0 | L18: =TRUNC(F18+H18+J18,1) -> 0 | N18: 5E8124AB92633814ACDFAF5B9D694D | O18: 5F5584B0B2C30F14C17CE25B64F6001 | P18: F | Q18: F | R18: F | S18: 0 | T18: 0 | U18: 0.03 | AW18: 5E8124AB92633814ACDFAF5B9D694D5F5584B0B2C30F14C17CE25A5CF6118
A19: 그루브조인트식 접합 및 배관 | B19: D100, 옥내일반 | C19: m | D19: 1 | E19: =일위대가목록!E8 -> 0 | F19: =TRUNC(E19*D19,1) -> 0 | G19: =일위대가목록!F8 -> 0 | H19: =TRUNC(G19*D19,1) -> 0 | I19: =일위대가목록!G8 -> 0 | J19: =TRUNC(I19*D19,1) -> 0 | K19: =TRUNC(E19+G19+I19,1) -> 0 | L19: =TRUNC(F19+H19+J19,1) -> 0 | M19: 호표 5 | N19: 5E8124AB92633814ACDFAF5B9D694D | O19: 5E8124AB9273DE14CFAEA0EF026B1D | P19: T | Q19: F | R19: F | AW19: 5E8124AB92633814ACDFAF5B9D694D5E8124AB9273DE14CFAEA0EF026B1D
A20: [ 합 계 ] | F20: =TRUNC(SUMIF(N17:N19, N16, F17:F19),0) -> 0 | H20: =TRUNC(SUMIF(N17:N19, N16, H17:H19),0) -> 0 | J20: =TRUNC(SUMIF(N17:N19, N16, J17:J19),0) -> 0 | L20: =F20+H20+J20 -> 0 | N20: TOTAL | O20: TOTAL
A22: 나사식 접합 및 배관 D25, 옥내일반 m 기계 1-1-3 ( 호표 4 ) | N22: 5E8124AB92633814ACDE8683BD12CE
A23: 배관공 | B23: 일반공사 직종 | C23: 인 | D23: 0.06 | E23: =단가대비표!O50 -> 0 | F23: =TRUNC(E23*D23,1) -> 0 | H23: =TRUNC(G23*D23,1) -> 0 | I23: =단가대비표!V50 -> 0 | J23: =TRUNC(I23*D23,1) -> 0 | K23: =TRUNC(E23+G23+I23,1) -> 0 | L23: =TRUNC(F23+H23+J23,1) -> 0 | N23: 5E8124AB92633814ACDE8683BD12CE | O23: 5E9074F272D337147E73E87FE92B1A07AED9C5 | P23: F | Q23: F | R23: T | V23: 1 | AW23: 5E8124AB92633814ACDE8683BD12CE5E9074F272D337147E73E87FE92B1A07AED9C5
A24: 보통인부 | B24: 일반공사 직종 | C24: 인 | D24: 0.02 | E24: =단가대비표!O49 -> 0 | F24: =TRUNC(E24*D24,1) -> 0 | H24: =TRUNC(G24*D24,1) -> 0 | I24: =단가대비표!V49 -> 0 | J24: =TRUNC(I24*D24,1) -> 0 | K24: =TRUNC(E24+G24+I24,1) -> 0 | L24: =TRUNC(F24+H24+J24,1) -> 0 | N24: 5E8124AB92633814ACDE8683BD12CE | O24: 5E9074F272D337147E73E87FE92B1A07AEDAD1 | P24: F | Q24: F | R24: T | V24: 1 | AW24: 5E8124AB92633814ACDE8683BD12CE5E9074F272D337147E73E87FE92B1A07AEDAD1
A25: 공구손료및기계경비 | B25: 노무비의 2% | C25: 식 | D25: 1 | E25: =TRUNC(SUMIF(V23:V25, RIGHTB(O25, 1), H23:H25)*U25, 2) -> 0 | F25: =TRUNC(E25*D25,1) -> 0 | G25: 0 | H25: =TRUNC(G25*D25,1) -> 0 | I25: 0 | J25: =TRUNC(I25*D25,1) -> 0 | K25: =TRUNC(E25+G25+I25,1) -> 0 | L25: =TRUNC(F25+H25+J25,1) -> 0 | N25: 5E8124AB92633814ACDE8683BD12CE | O25: 5F5584B0B2C30F14C17CE25B64F6001 | P25: F | Q25: F | R25: F | S25: 1 | T25: 0 | U25: 0.02 | AW25: 5E8124AB92633814ACDE8683BD12CE5F5584B0B2C30F14C17CE25B64F6001
A26: [ 합 계 ] | F26: =TRUNC(SUMIF(N23:N25, N22, F23:F25),0) -> 0 | H26: =TRUNC(SUMIF(N23:N25, N22, H23:H25),0) -> 0 | J26: =TRUNC(SUMIF(N23:N25, N22, J23:J25),0) -> 0 | L26: =F26+H26+J26 -> 0 | N26: TOTAL | O26: TOTAL
A28: 그루브조인트식 접합 및 배관 D100, 옥내일반 m 기계 1-1-4 ( 호표 5 ) | N28: 5E8124AB9273DE14CFAEA0EF026B1D
A29: 배관공 | B29: 일반공사 직종 | C29: 인 | D29: 0.214 | E29: =단가대비표!O50 -> 0 | F29: =TRUNC(E29*D29,1) -> 0 | H29: =TRUNC(G29*D29,1) -> 0 | I29: =단가대비표!V50 -> 0 | J29: =TRUNC(I29*D29,1) -> 0 | K29: =TRUNC(E29+G29+I29,1) -> 0 | L29: =TRUNC(F29+H29+J29,1) -> 0 | N29: 5E8124AB9273DE14CFAEA0EF026B1D | O29: 5E9074F272D337147E73E87FE92B1A07AED9C5 | P29: F | Q29: F | R29: T | V29: 1 | AW29: 5E8124AB9273DE14CFAEA0EF026B1D5E9074F272D337147E73E87FE92B1A07AED9C5
A30: 보통인부 | B30: 일반공사 직종 | C30: 인 | D30: 0.071 | E30: =단가대비표!O49 -> 0 | F30: =TRUNC(E30*D30,1) -> 0 | H30: =TRUNC(G30*D30,1) -> 0 | I30: =단가대비표!V49 -> 0 | J30: =TRUNC(I30*D30,1) -> 0 | K30: =TRUNC(E30+G30+I30,1) -> 0 | L30: =TRUNC(F30+H30+J30,1) -> 0 | N30: 5E8124AB9273DE14CFAEA0EF026B1D | O30: 5E9074F272D337147E73E87FE92B1A07AEDAD1 | P30: F | Q30: F | R30: T | V30: 1 | AW30: 5E8124AB9273DE14CFAEA0EF026B1D5E9074F272D337147E73E87FE92B1A07AEDAD1
A31: 공구손료및기계경비 | B31: 노무비의 2% | C31: 식 | D31: 1 | F31: =TRUNC(E31*D31,1) -> 0 | G31: 0 | H31: =TRUNC(G31*D31,1) -> 0 | I31: 0 | J31: =TRUNC(I31*D31,1) -> 0 | K31: =TRUNC(E31+G31+I31,1) -> 0 | L31: =TRUNC(F31+H31+J31,1) -> 0 | N31: 5E8124AB9273DE14CFAEA0EF026B1D | O31: 5F5584B0B2C30F14C17CE25B64F6001 | P31: F | Q31: F | R31: F | S31: 1 | T31: 0 | U31: 0.02 | AW31: 5E8124AB9273DE14CFAEA0EF026B1D5F5584B0B2C30F14C17CE25B64F6001
A32: [ 합 계 ] | F32: =TRUNC(SUMIF(N29:N31, N28, F29:F31),0) -> 0 | H32: =TRUNC(SUMIF(N29:N31, N28, H29:H31),0) -> 0 | J32: =TRUNC(SUMIF(N29:N31, N28, J29:J31),0) -> 0 | L32: =F32+H32+J32 -> 0 | N32: TOTAL | O32: TOTAL
A34: 관보온/발포폴리에틸렌보온재 D100, 보온두께 50mm 이하, 일반접합, 옥내일반, 매직 m 기계 3-1-1 ( 호표 6 ) | N34: 5E8144F6F213221480BD5613639BBE
A35: 보온공 | B35: 일반공사 직종 | C35: 인 | D35: 0.08 | E35: =단가대비표!O51 -> 0 | F35: =TRUNC(E35*D35,1) -> 0 | H35: =TRUNC(G35*D35,1) -> 0 | I35: =단가대비표!V51 -> 0 | J35: =TRUNC(I35*D35,1) -> 0 | K35: =TRUNC(E35+G35+I35,1) -> 0 | L35: =TRUNC(F35+H35+J35,1) -> 0 | N35: 5E8144F6F213221480BD5613639BBE | O35: 5E9074F272D337147E73E87FE92B1A07AEDE4A | P35: F | Q35: F | R35: T | AW35: 5E8144F6F213221480BD5613639BBE5E9074F272D337147E73E87FE92B1A07AEDE4A
A36: 보통인부 | B36: 일반공사 직종 | C36: 인 | D36: 0.04 | E36: =단가대비표!O49 -> 0 | F36: =TRUNC(E36*D36,1) -> 0 | H36: =TRUNC(G36*D36,1) -> 0 | I36: =단가대비표!V49 -> 0 | J36: =TRUNC(I36*D36,1) -> 0 | K36: =TRUNC(E36+G36+I36,1) -> 0 | L36: =TRUNC(F36+H36+J36,1) -> 0 | N36: 5E8144F6F213221480BD5613639BBE | O36: 5E9074F272D337147E73E87FE92B1A07AEDAD1 | P36: F | Q36: F | R36: T | AW36: 5E8144F6F213221480BD5613639BBE5E9074F272D337147E73E87FE92B1A07AEDAD1
A37: [ 합 계 ] | F37: =TRUNC(SUMIF(N35:N36, N34, F35:F36),0) -> 0 | H37: =TRUNC(SUMIF(N35:N36, N34, H35:H36),0) -> 0 | J37: =TRUNC(SUMIF(N35:N36, N34, J35:J36),0) -> 0 | L37: =F37+H37+J37 -> 0 | N37: TOTAL | O37: TOTAL
A39: 관보온(가교발포+매직) 40TxD100 M 기계 3-1-1 ( 호표 7 ) | N39: 5E8144F5E2B3D61468FE0DB5A2C093
A40: 관보온재 | B40: 가교발포(난연), 40TxD100 | C40: M | D40: 1.05 | F40: =TRUNC(E40*D40,1) -> 0 | G40: =단가대비표!P14 -> 0 | H40: =TRUNC(G40*D40,1) -> 0 | I40: =단가대비표!V14 -> 0 | J40: =TRUNC(I40*D40,1) -> 0 | K40: =TRUNC(E40+G40+I40,1) -> 0 | L40: =TRUNC(F40+H40+J40,1) -> 0 | N40: 5E8144F5E2B3D61468FE0DB5A2C093 | O40: 591D54A5C233601421A5025E871D1BBFE6CB33 | P40: F | Q40: F | R40: T | V40: 1 | AW40: 5E8144F5E2B3D61468FE0DB5A2C093591D54A5C233601421A5025E871D1BBFE6CB33
A41: 잡재료비 | B41: 주재료비의 3% | C41: 식 | D41: 1 | F41: =TRUNC(E41*D41,1) -> 0 | G41: 0 | H41: =TRUNC(G41*D41,1) -> 0 | I41: 0 | J41: =TRUNC(I41*D41,1) -> 0 | K41: =TRUNC(E41+G41+I41,1) -> 0 | L41: =TRUNC(F41+H41+J41,1) -> 0 | N41: 5E8144F5E2B3D61468FE0DB5A2C093 | O41: 5F5584B0B2C30F14C17CE25B64F6001 | P41: F | Q41: F | R41: F | S41: 0 | T41: 0 | U41: 0.03 | AW41: 5E8144F5E2B3D61468FE0DB5A2C0935F5584B0B2C30F14C17CE25A5922148
A42: 슈퍼매직 303 | B42: 0.2t, 100mm*15m | C42: ㎡ | D42: 0.86 | F42: =TRUNC(E42*D42,1) -> 0 | G42: =단가대비표!P16 -> 0 | H42: =TRUNC(G42*D42,1) -> 0 | I42: =단가대비표!V16 -> 0 | J42: =TRUNC(I42*D42,1) -> 0 | K42: =TRUNC(E42+G42+I42,1) -> 0 | L42: =TRUNC(F42+H42+J42,1) -> 0 | N42: 5E8144F5E2B3D61468FE0DB5A2C093 | O42: 591D54A5C233601421A5025E856873E6AEA2C1 | P42: F | Q42: F | R42: T | AW42: 5E8144F5E2B3D61468FE0DB5A2C093591D54A5C233601421A5025E856873E6AEA2C1
A43: AL 밴드 | B43: 0.3*30W | C43: M | D43: 0.74 | F43: =TRUNC(E43*D43,1) -> 0 | G43: =단가대비표!P15 -> 0 | H43: =TRUNC(G43*D43,1) -> 0 | I43: =단가대비표!V15 -> 0 | J43: =TRUNC(I43*D43,1) -> 0 | K43: =TRUNC(E43+G43+I43,1) -> 0 | L43: =TRUNC(F43+H43+J43,1) -> 0 | N43: 5E8144F5E2B3D61468FE0DB5A2C093 | O43: 591D54A5C233601421A5025E856873E6AEA2C0 | P43: F | Q43: F | R43: T | AW43: 5E8144F5E2B3D61468FE0DB5A2C093591D54A5C233601421A5025E856873E6AEA2C0
A44: 관보온/발포폴리에틸렌보온재 | B44: D100, 보온두께 50mm 이하, 일반접합, 옥내일반, 매직 | C44: m | D44: 1 | F44: =TRUNC(E44*D44,1) -> 0 | G44: =일위대가목록!F9 -> 0 | H44: =TRUNC(G44*D44,1) -> 0 | I44: =일위대가목록!G9 -> 0 | J44: =TRUNC(I44*D44,1) -> 0 | K44: =TRUNC(E44+G44+I44,1) -> 0 | L44: =TRUNC(F44+H44+J44,1) -> 0 | M44: 호표 6 | N44: 5E8144F5E2B3D61468FE0DB5A2C093 | O44: 5E8144F6F213221480BD5613639BBE | P44: T | Q44: F | R44: F | AW44: 5E8144F5E2B3D61468FE0DB5A2C0935E8144F6F213221480BD5613639BBE
A45: [ 합 계 ] | F45: =TRUNC(SUMIF(N40:N44, N39, F40:F44),0) -> 0 | H45: =TRUNC(SUMIF(N40:N44, N39, H40:H44),0) -> 0 | J45: =TRUNC(SUMIF(N40:N44, N39, J40:J44),0) -> 0 | L45: =F45+H45+J45 -> 0 | N45: TOTAL | O45: TOTAL
A47: 밸브보온/함석마감 D100 개소 기계 3-2-2 ( 호표 8 ) | N47: 5E8144F4C223001461451F058B3E6C
...

Sheet 단가대비표
A1: 단 가 대 비 표
A2: [ 본관 물탱크 등 기계설비 교체 설계용역(물탱크 교체공사)(소방)(7층저수조실) ]
A3: 코 드 | B3: 품 명 | C3: 규격 | D3: 단위 | E3: 재 료 비 | P3: 노 무 비 | Q3: 경 비 | W3: 번 호 | X3: 비 고 | Y3: 품목구분 | Z3: 노임구분 | AA3: 소수점처리 | AB3: 자재구분
E4: 조달청가격 | F4: PAGE | G4: 물가자료 | H4: PAGE | I4: 유통물가 | J4: PAGE | K4: 거래가격 | L4: PAGE | M4: 조사가격 | N4: PAGE | O4: 적용단가 | Q4: 조달청가격 | R4: 물가자료 | S4: 유통물가 | T4: 거래가격 | U4: 조사가격 | V4: 적용단가
A5: 594AB431B213A314012EE985AE1B448D706315 | B5: 고철 | D5: Kg | E5: 0 | G5: 0 | I5: 423 | J5: 1198 | K5: 0 | M5: 0 | O5: =SMALL(E5:M5,COUNTIF(E5:M5,0)+1) -> 423 | P5: 0 | Q5: 0 | R5: 0 | S5: 0 | T5: 0 | U5: 0 | V5: 0 | W5: 자재 1
A6: 5977D4E062B3C814B65B1541938FCE95A54F7B | B6: 진동방지장치 | C6: 펌프(편흡입) 25㎜ 125HP(90KW) 이하 | D6: 조 | E6: 0 | G6: 0 | I6: 0 | K6: 0 | M6: 1200000 | N6: Ⅰ-1162 | O6: =SMALL(E6:M6,COUNTIF(E6:M6,0)+1) -> 1200000 | P6: 0 | Q6: 0 | R6: 0 | S6: 0 | T6: 0 | U6: 0 | V6: 0 | W6: 자재 2
A7: 596574FF52C3AF14CF34F51567E313A889E245 | B7: 착색아연도강판 | C7: 0.4Tx914x1829 | D7: m2 | E7: 0 | G7: 5269 | H7: 17 | I7: 7002 | J7: 29 | K7: 6575 | L7: 68 | M7: 0 | O7: =SMALL(E7:M7,COUNTIF(E7:M7,0)+1) -> 5269 | P7: 0 | Q7: 0 | R7: 0 | S7: 0 | T7: 0 | U7: 0 | V7: 0 | W7: 자재 3
A8: 596574FF528333141B4E73FA5C5F5F16161874 | B8: 유리면매트 | C8: 유리솜, 밀도40kg/㎥, 50t | D8: ㎡ | E8: 0 | G8: 0 | I8: 7200 | J8: 391 | K8: 0 | M8: 0 | O8: =SMALL(E8:M8,COUNTIF(E8:M8,0)+1) -> 7200 | P8: 0 | Q8: 0 | R8: 0 | S8: 0 | T8: 0 | U8: 0 | V8: 0 | W8: 자재 4
A9: 596564D682238214EFEC0C94C867B95A083A67 | B9: U자형볼트/너트 | C9: 비절연, D100 | D9: EA | E9: 660 | G9: 0 | I9: 1890 | J9: 50,56 | K9: 2686 | L9: 92,96 | M9: 0 | O9: =SMALL(E9:M9,COUNTIF(E9:M9,0)+1) -> 660 | P9: 0 | Q9: 0 | R9: 0 | S9: 0 | T9: 0 | U9: 0 | V9: 0 | W9: 자재 5
A10: 596564D682238214EFEC0290F4FBA8561B4310 | B10: 전산볼트 | C10: 탄소강, M12x1000mm | D10: EA | E10: 1329 | G10: 2136 | H10: 46 | I10: 1723 | J10: 51 | K10: 1700 | L10: 90 | M10: 0 | O10: =SMALL(E10:M10,COUNTIF(E10:M10,0)+1) -> 1329 | P10: 0 | Q10: 0 | R10: 0 | S10: 0 | T10: 0 | U10: 0 | V10: 0 | W10: 자재 6
A11: 596564D682238114C342BF66C27A56A3252058 | B11: 스트롱앵커 | C11: M13(1/2") | D11: EA | E11: 0 | G11: 260 | H11: 52 | I11: 0 | K11: 550 | L11: 93 | M11: 0 | O11: =SMALL(E11:M11,COUNTIF(E11:M11,0)+1) -> 260 | P11: 0 | Q11: 0 | R11: 0 | S11: 0 | T11: 0 | U11: 0 | V11: 0 | W11: 자재 7
A12: 596564D682238114C195EE8AC1932270BD7FDA | B12: 행거 | C12: 파이프행거(일반) 100A | D12: EA | E12: 1150 | G12: 1350 | H12: 711 | I12: 1350 | J12: 622 | K12: 1150 | L12: 827 | M12: 0 | O12: =SMALL(E12:M12,COUNTIF(E12:M12,0)+1) -> 1150 | P12: 0 | Q12: 0 | R12: 0 | S12: 0 | T12: 0 | U12: 0 | V12: 0 | W12: 자재 8
A13: 5965E42CB2F39614BAD245A6B6174A84680FFE | B13: 연결송수가압펌프(다단터빈) | C13: 2600LPMx120Mx125HP | D13: 대 | E13: 0 | G13: 0 | I13: 0 | K13: 0 | M13: 27540000 | O13: =SMALL(E13:M13,COUNTIF(E13:M13,0)+1) -> 27540000 | P13: 0 | Q13: 0 | R13: 0 | S13: 0 | T13: 0 | U13: 0 | V13: 0 | W13: 자재 9
A14: 591D54A5C233601421A5025E871D1BBFE6CB33 | B14: 관보온재 | C14: 가교발포(난연), 40TxD100 | D14: M | E14: 7390 | G14: 0 | I14: 0 | K14: 9230 | L14: 990 | M14: 9230 | N14: Ⅰ-899 | O14: =SMALL(E14:M14,COUNTIF(E14:M14,0)+1) -> 7390 | P14: 0 | Q14: 0 | R14: 0 | S14: 0 | T14: 0 | U14: 0 | V14: 0 | W14: 자재 10
A15: 591D54A5C233601421A5025E856873E6AEA2C0 | B15: AL 밴드 | C15: 0.3*30W | D15: M | E15: 310 | G15: 0 | I15: 360 | J15: 683 | K15: 360 | L15: 991 | M15: 0 | O15: =SMALL(E15:M15,COUNTIF(E15:M15,0)+1) -> 310 | P15: 0 | Q15: 0 | R15: 0 | S15: 0 | T15: 0 | U15: 0 | V15: 0 | W15: 자재 11
A16: 591D54A5C233601421A5025E856873E6AEA2C1 | B16: 슈퍼매직 303 | C16: 0.2t, 100mm*15m | D16: ㎡ | E16: 1660 | G16: 0 | I16: 1279 | J16: 683 | K16: 1279 | L16: 991 | M16: 0 | O16: =SMALL(E16:M16,COUNTIF(E16:M16,0)+1) -> 1279 | P16: 0 | Q16: 0 | R16: 0 | S16: 0 | T16: 0 | U16: 0 | V16: 0 | W16: 자재 12
A17: 591D54A5C273DD14F97CB32F88D123480AE165 | B17: 글로브 밸브 | C17: 주강,20kg,D100 | D17: EA | E17: 753860 | G17: 886880 | H17: 850 | I17: 917350 | J17: 593 | K17: 940090 | L17: 831 | M17: 0 | O17: =SMALL(E17:M17,COUNTIF(E17:M17,0)+1) -> 753860 | P17: 0 | Q17: 0 | R17: 0 | S17: 0 | T17: 0 | U17: 0 | V17: 0 | W17: 자재 13
A18: 591D54A5C273DD14F97CB17DB13E4AE9E76C87 | B18: 게이트 밸브 | C18: 청동,10kg,D25 | D18: EA | E18: 30090 | G18: 43164 | H18: 822 | I18: 37230 | J18: 595 | K18: 41190 | L18: 828 | M18: 0 | O18: =SMALL(E18:M18,COUNTIF(E18:M18,0)+1) -> 30090 | P18: 0 | Q18: 0 | R18: 0 | S18: 0 | T18: 0 | U18: 0 | V18: 0 | W18: 자재 14
A19: 591D54A5C273DD14F97CB17DB13E4AE8D9C342 | B19: 게이트 밸브 | C19: OS&Y밸브(W/템퍼스위치) D100 | D19: EA | E19: 0 | G19: 238300 | H19: 850 | I19: 192500 | J19: 592 | K19: 215470 | L19: 831 | M19: 0 | O19: =SMALL(E19:M19,COUNTIF(E19:M19,0)+1) -> 192500 | P19: 0 | Q19: 0 | R19: 0 | S19: 0 | T19: 0 | U19: 0 | V19: 0 | W19: 자재 15
A20: 591D54A5C273DD14F97CB17DB13E4AE8D9C195 | B20: 게이트 밸브 | C20: OS&Y밸브, 20kg*D100 | D20: EA | E20: 0 | G20: 0 | I20: 0 | K20: 0 | M20: 560400 | O20: =SMALL(E20:M20,COUNTIF(E20:M20,0)+1) -> 560400 | P20: 0 | Q20: 0 | R20: 0 | S20: 0 | T20: 0 | U20: 0 | V20: 0 | W20: 자재 16
A21: 591D54A5C273DD14F97CB17DB13E4AE8D9C72D | B21: 게이트 밸브 | C21: OS&Y밸브(템퍼스위치)20kg*D100 | D21: EA | E21: 0 | G21: 0 | I21: 0 | K21: 0 | M21: 590400 | O21: =SMALL(E21:M21,COUNTIF(E21:M21,0)+1) -> 590400 | P21: 0 | Q21: 0 | R21: 0 | S21: 0 | T21: 0 | U21: 0 | V21: 0 | W21: 자재 17
A22: 591D54A5C273DD14F9750B6CC15C4B116BD198 | B22: 체크 밸브 | C22: 스모렌스키,D100 | D22: EA | E22: 86730 | G22: 0 | I22: 87430 | J22: 592 | K22: 0 | M22: 95040 | N22: Ⅰ-763 | O22: =SMALL(E22:M22,COUNTIF(E22:M22,0)+1) -> 86730 | P22: 0 | Q22: 0 | R22: 0 | S22: 0 | T22: 0 | U22: 0 | V22: 0 | W22: 자재 18
A23: 591D54A5C273DD14F9750B6CC15C4B116BD0F3 | B23: 체크 밸브 | C23: 스모렌스키,주강,20kg,D100 | D23: EA | E23: 0 | G23: 0 | I23: 0 | K23: 0 | M23: 528000 | O23: =SMALL(E23:M23,COUNTIF(E23:M23,0)+1) -> 528000 | P23: 0 | Q23: 0 | R23: 0 | S23: 0 | T23: 0 | U23: 0 | V23: 0 | W23: 자재 19
A24: 591D54A5C273DD14F9750A4536458112B2A8C7 | B24: 게이지콕크 | C24: D15 | D24: EA | E24: 3000 | G24: 0 | I24: 0 | K24: 0 | M24: 0 | O24: =SMALL(E24:M24,COUNTIF(E24:M24,0)+1) -> 3000 | P24: 0 | Q24: 0 | R24: 0 | S24: 0 | T24: 0 | U24: 0 | V24: 0 | W24: 자재 20
A25: 591D54A5C273DD14F85FACF2DA9034780BB2B5 | B25: 수격방지기 | C25: W.H.C D100 | D25: EA | E25: 0 | G25: 0 | I25: 49590 | J25: 620 | K25: 49600 | L25: 832 | M25: 49590 | N25: Ⅰ-713 | O25: =SMALL(E25:M25,COUNTIF(E25:M25,0)+1) -> 49590 | P25: 0 | Q25: 0 | R25: 0 | S25: 0 | T25: 0 | U25: 0 | V25: 0 | W25: 자재 21
A26: 591D54A5C273DE1484AA29B344E6C43BEDD99B | B26: 배관용 탄소강관 | C26: 백관 (SPP), D25, 반제품 | D26: M | E26: 3670 | G26: 4010 | H26: 706 | I26: 4332 | J26: 522 | K26: 4699 | L26: 753 | M26: 0 | O26: =SMALL(E26:M26,COUNTIF(E26:M26,0)+1) -> 3670 | P26: 0 | Q26: 0 | R26: 0 | S26: 0 | T26: 0 | U26: 0 | V26: 0 | W26: 자재 22
A27: 591D54A5C273DE1484AA29B344E6C43BEDDE1C | B27: 배관용 탄소강관 | C27: 백관 (SPP), D100, 반제품 | D27: M | E27: 18170 | G27: 19910 | H27: 706 | I27: 21436 | J27: 522 | K27: 23226 | L27: 753 | M27: 0 | O27: =SMALL(E27:M27,COUNTIF(E27:M27,0)+1) -> 18170 | P27: 0 | Q27: 0 | R27: 0 | S27: 0 | T27: 0 | U27: 0 | V27: 0 | W27: 자재 23
A28: 591D54A5C273DE14865F356DF66B6556571B13 | B28: 무용접엘보(아연도) | C28: D100 | D28: EA | E28: 0 | G28: 0 | I28: 0 | K28: 20500 | L28: 760 | M28: 20500 | N28: Ⅰ-674 | O28: =SMALL(E28:M28,COUNTIF(E28:M28,0)+1) -> 20500 | P28: 0 | Q28: 0 | R28: 0 | S28: 0 | T28: 0 | U28: 0 | V28: 0 | W28: 자재 24
A29: 591D54A5C273DE14865F356DF66B6556571FF8 | B29: 무용접티이(아연도) | C29: D100 | D29: EA | E29: 0 | G29: 0 | I29: 0 | K29: 37000 | L29: 760 | M29: 37000 | N29: Ⅰ-674 | O29: =SMALL(E29:M29,COUNTIF(E29:M29,0)+1) -> 37000 | P29: 0 | Q29: 0 | R29: 0 | S29: 0 | T29: 0 | U29: 0 | V29: 0 | W29: 자재 25
A30: 591D54A5C273DE14865F356DF66B65565BF6AD | B30: 무용접후렌지아답타니플 | C30: D100 | D30: EA | E30: 0 | G30: 0 | I30: 0 | K30: 0 | M30: 55540 | N30: Ⅰ-677 | O30: =SMALL(E30:M30,COUNTIF(E30:M30,0)+1) -> 55540 | P30: 0 | Q30: 0 | R30: 0 | S30: 0 | T30: 0 | U30: 0 | V30: 0 | W30: 자재 26
A31: 591D54A5C273DE14865F356DF66B65565BF01B | B31: 무용접고정식커플링(아연도) | C31: D100 | D31: EA | E31: 0 | G31: 0 | I31: 0 | K31: 14100 | L31: 759 | M31: 14100 | N31: Ⅰ-674 | O31: =SMALL(E31:M31,COUNTIF(E31:M31,0)+1) -> 14100 | P31: 0 | Q31: 0 | R31: 0 | S31: 0 | T31: 0 | U31: 0 | V31: 0 | W31: 자재 27
A32: 591D54A5C273DE14865F356DF66B65554BA703 | B32: 무용접후렉시블커플링(아연도) | C32: D100 | D32: EA | E32: 0 | G32: 0 | I32: 0 | K32: 14700 | L32: 759 | M32: 14700 | N32: Ⅰ-674 | O32: =SMALL(E32:M32,COUNTIF(E32:M32,0)+1) -> 14700 | P32: 0 | Q32: 0 | R32: 0 | S32: 0 | T32: 0 | U32: 0 | V32: 0 | W32: 자재 28
A33: 591D54A5C273DE14865E29F9E4B49787B9433D | B33: 플랙시블 조인트 | C33: 벨로즈형, D100*10k | D33: EA | E33: 58670 | G33: 0 | I33: 72000 | J33: 590 | K33: 72000 | L33: 826 | M33: 0 | O33: =SMALL(E33:M33,COUNTIF(E33:M33,0)+1) -> 58670 | P33: 0 | Q33: 0 | R33: 0 | S33: 0 | T33: 0 | U33: 0 | V33: 0 | W33: 자재 29
A34: 591D54A5C273DE14865E29F9E4B49787B9406D | B34: 플랙시블 조인트 | C34: 벨로즈형, D100*20k | D34: EA | E34: 107550 | G34: 0 | I34: 132000 | J34: 590 | K34: 132000 | L34: 826 | M34: 0 | O34: =SMALL(E34:M34,COUNTIF(E34:M34,0)+1) -> 107550 | P34: 0 | Q34: 0 | R34: 0 | S34: 0 | T34: 0 | U34: 0 | V34: 0 | W34: 자재 30
A35: 591D54A5C273DE14865E247B455575DC2FAF38 | B35: 나사식 강관제 관이음쇠 | C35: 백엘보 (나사) D15 | D35: EA | E35: 700 | G35: 880 | H35: 721 | I35: 910 | J35: 528 | K35: 910 | L35: 762 | M35: 0 | O35: =SMALL(E35:M35,COUNTIF(E35:M35,0)+1) -> 700 | P35: 0 | Q35: 0 | R35: 0 | S35: 0 | T35: 0 | U35: 0 | V35: 0 | W35: 자재 31
A36: 591D54A5C273DE14865E247B455575DC2FAF3A | B36: 나사식 강관제 관이음쇠 | C36: 백엘보 (나사) D25 | D36: EA | E36: 1640 | G36: 2050 | H36: 721 | I36: 2132 | J36: 528 | K36: 2140 | L36: 762 | M36: 0 | O36: =SMALL(E36:M36,COUNTIF(E36:M36,0)+1) -> 1640 | P36: 0 | Q36: 0 | R36: 0 | S36: 0 | T36: 0 | U36: 0 | V36: 0 | W36: 자재 32
A37: 591D54A5C273DE14865E247B455575DC20246A | B37: 나사식 강관제 관이음쇠 | C37: 백니플 (나사) D25 | D37: EA | E37: 1510 | G37: 1880 | H37: 721 | I37: 1992 | J37: 528 | K37: 2140 | L37: 762 | M37: 0 | O37: =SMALL(E37:M37,COUNTIF(E37:M37,0)+1) -> 1510 | P37: 0 | Q37: 0 | R37: 0 | S37: 0 | T37: 0 | U37: 0 | V37: 0 | W37: 자재 33
A38: 591D54A5C273DE14865E247B455575DC202615 | B38: 나사식 강관제 관이음쇠 | C38: 백유니온 (나사) D25 | D38: EA | E38: 5230 | G38: 6540 | H38: 721 | I38: 6796 | J38: 528 | K38: 7440 | L38: 762 | M38: 0 | O38: =SMALL(E38:M38,COUNTIF(E38:M38,0)+1) -> 5230 | P38: 0 | Q38: 0 | R38: 0 | S38: 0 | T38: 0 | U38: 0 | V38: 0 | W38: 자재 34
A39: 591D54A5C273DE14865E247B455575DC202197 | B39: 나사식 강관제 관이음쇠 | C39: 백소켓 (나사) D15 | D39: EA | E39: 770 | G39: 940 | H39: 721 | I39: 998 | J39: 528 | K39: 1070 | L39: 762 | M39: 0 | O39: =SMALL(E39:M39,COUNTIF(E39:M39,0)+1) -> 770 | P39: 0 | Q39: 0 | R39: 0 | S39: 0 | T39: 0 | U39: 0 | V39: 0 | W39: 자재 35
A40: 591D54A5C273DE1480CF59E2E3AAD6D9515291 | B40: 스트레이너 | C40: 후랜지, 10kg, D100 | D40: EA | E40: 170240 | G40: 293000 | H40: 837 | I40: 0 | K40: 0 | M40: 0 | O40: =SMALL(E40:M40,COUNTIF(E40:M40,0)+1) -> 170240 | P40: 0 | Q40: 0 | R40: 0 | S40: 0 | T40: 0 | U40: 0 | V40: 0 | W40: 자재 36
...

Sheet  공사설정 
A1: 이 Sheet는 수정하지 마십시요
A2: 공사구분 | B2: C | C2: 타이틀
A3: 확정내역 | B3: 원내역
A4: 자재단가적용 | B4: 5
A5: 경비단가적용 | B5: 5
A6: 품목코드형식 | B6: XXXX-XXXX-XXXXXXXXX
A7: 내역금액소수점처리 | B7: C | C7: 1
A8: 일위대가내역소수점처리 | B8: C | C8: 2
A9: 단가명 | B9: 조달청가격 | C9: 물가자료 | D9: 유통물가 | E9: 거래가격 | F9: 조사가격 | G9: TTTTT
A10: 환율 | B10: 1185 | C10: 0 | D10: 0
A11: 시간당작업량 | B11: R | C11: 3
A12: 1회 사이클시간 | B12: R | C12: 3
A13: 시간당 작업사이클 | B13: R | C13: 3
A14: 일반변수 | B14: R | C14: 3
A15: 시간당 노임산출 계수 | B15: A | C15: 1/8*16/12*25/20 | D15: 1/8*16/12*25/20 | E15: 1/8*16/12*25/20 | F15: 1/8*16/12*25/20
A16: 재료비 할증 계수 | B16: 1.11 | C16: 1.12
A17: 노무비 할증 계수 | B17: 1 | C17: 1.5 | D17: 1.16 | E17: 1.6 | F17: 1.6 | G17: 1.6 | H17: 1.94 | I17: 1.94 | J17: 1.94 | K17: 1 | L17: 1 | M17: 1
A18: 경비 할증 계수 | B18: 1.25 | C18: 1.071
A19: 내역,일위대가 품명,규격,단위 따로적용
A20: 내역단가 소수점처리 | B20: C | C20: 1
A21: 코드 | B21: 공종구분명 | C21: 원가비목코드
A22: 1 | B22: 작 업 부 산 물 | C22: A3
A23: 2 | B23: 운 반 비 | C23: C1
A24: 3 | B24: 관 급 자 재 비 | C24: DJ
A25: 4 | B25: 사 급 자 재 비 | C25: D3
A26: 5 | B26: 외 자 재
A27: 6 | B27: 가 설 비
A28: 7 | B28: 완 제 품
A29: 8 | B29: 폐기물처리비
A30: 9 | B30: ...
A43: 단가 순서 | B43: 1234

Sheet Sheet1
