Workbook

Sheet 원가계산서
B1: 공 사 원 가 계 산 서
B2: 공사명 : 성남외국어고등학교 기숙사 전면보수공사
B3: 비 목 | E3: 금 액 | F3: 구 성 비 | G3: 비 고
A4: A1 | B4: 순 공 사 원 가 | C4: 재 료 비 | D4: 직 접 재 료 비 | E4: =TRUNC(공종별집계표!F6+공종별집계표!F16,0) -> 0
A5: A2 | D5: 간 접 재 료 비 | E5: 0
A6: A3 | D6: 작업설, 부산물(△) | E6: 0
A7: AS | D7: [ 소 계 ] | E7: =TRUNC(E4+E5-E6,0) -> 0
A8: B1 | C8: 노 무 비 | D8: 직 접 노 무 비 | E8: =TRUNC(공종별집계표!H6+공종별집계표!H16,0) -> 0
A9: B2 | D9: 간 접 노 무 비 | E9: =TRUNC(E8*0.174,0) -> 0 | F9: 직접노무비 * 17.4%
A10: BS | D10: [ 소 계 ] | E10: =TRUNC(E8+E9,0) -> 0
A11: C2 | C11: 경 비 | D11: 경 비 | E11: =TRUNC(공종별집계표!J6+공종별집계표!J16,0) -> 0
A12: C4 | D12: 산 재 보 험 료 | E12: =TRUNC(E10*0.0356,0) -> 0 | F12: 노무비 * 3.56%
A13: C5 | D13: 고 용 보 험 료 | E13: =TRUNC(E10*0.0101,0) -> 0 | F13: 노무비 * 1.01%
A14: C6 | D14: 국민 건강 보험료 | E14: =TRUNC(E8*0.03595,0) -> 0 | F14: 직접노무비 * 3.595%
A15: C7 | D15: 국민 연금 보험료 | E15: =TRUNC(E8*0.0475,0) -> 0 | F15: 직접노무비 * 4.75%
A16: C8 | D16: 퇴직 공제 부금비 | E16: =TRUNC(E8*0.023,0) -> 0 | F16: 직접노무비 * 2.3%
A17: CA | D17: 산업안전보건관리비 | E17: =TRUNC((E7+E8)*0.0228,0) -> 0 | F17: (재료비+직노) * 2.28%
A18: CB | D18: 노인장기요양보험료 | E18: =TRUNC(E14*0.1314,0) -> 0 | F18: 건강보험료 * 13.14%
A19: CD | D19: 석면분담금 | E19: =TRUNC(E10*0.00006,0) -> 0 | F19: 노무비 * 0.006%
A20: CC | D20: 임금채권부담금 | E20: =TRUNC(E10*0.0009,0) -> 0 | F20: 노무비 * 0.09%
A21: CE | D21: 폐기물상차비 | E21: =TRUNC(공종별집계표!T17,0) -> 0
A22: CG | D22: 기 타 경 비 | E22: =TRUNC((E7+E10)*0.052,0) -> 0 | F22: (재료비+노무비) * 5.2%
A23: CH | D23: 환 경 보 전 비 | E23: =TRUNC((E7+E8+E11+E21)*0.005,0) -> 0 | F23: (재료비+직노+직접경비) * 0.5%
A24: CK | D24: 하도급지급보증수수료 | E24: =TRUNC((E7+E8+E11+E21)*0.00081,0) -> 0 | F24: (재료비+직노+직접경비) * 0.081%
A25: CL | D25: 건설기계대여금지급보증서발급수수료 | E25: =TRUNC((E7+E8+E11+E21)*0.0007,0) -> 0 | F25: (재료비+직노+직접경비) * 0.07%
A26: CS | D26: [ 소 계 ] | E26: =TRUNC(E11+E12+E13+E14+E15+E16+E17+E18+E20+E19+E21+E22+E23+E24+E25,0) -> 0
A27: S1 | B27: 계 | E27: =TRUNC(E7+E10+E26,0) -> 0
A28: D1 | B28: 일 반 관 리 비 | E28: =TRUNC(E27*0.08,0) -> 0 | F28: 계 * 8%
A29: D2 | B29: 이 윤 | F29: (노무비+경비+일반관리비) * 15%
A30: D4 | B30: 고자재비 | E30: =TRUNC(공종별집계표!T18,0) -> 0
A31: D9 | B31: 공 급 가 액 | E31: =TRUNC(E27+E28+E29+E30,0) -> 0
A32: DB | B32: 부 가 가 치 세 | E32: =TRUNC((E31)*0.1,0) -> 0 | F32: 공급가액 * 10%
A33: DH | B33: 도 급 액 | E33: =TRUNC(E31+E32,0) -> 0
A34: DJ | B34: 관급자재비
A35: S2 | B35: 총 공 사 비 | E35: =TRUNC(E33+E34,0) -> 0

Sheet 공종별집계표
A1: 공 종 별 집 계 표
A2: [ 성남외국어고등학교 기숙사 전면보수공사 ]
A3: 품 명 | B3: 규 격 | C3: 단위 | D3: 수량 | E3: 재 료 비 | G3: 노 무 비 | I3: 경 비 | K3: 합 계 | M3: 비 고 | N3: 공종코드 | O3: 변수 | P3: 상위공종 | Q3: 공종구분 | R3: 공종레벨 | S3: 공종소계 | T3: 원가계산서 연결금액
E4: 단 가 | F4: 금 액 | G4: 단 가 | H4: 금 액 | I4: 단 가 | J4: 금 액 | K4: 단 가 | L4: 금 액
A5: 01 성남외국어고등학교 기숙사 전면보수공사 | D5: 1 | E5: =F6+F16+F17+F18+F19 -> 0 | F5: =E5*D5 -> 0 | G5: =H6+H16+H17+H18+H19 -> 0 | H5: =G5*D5 -> 0 | I5: =J6+J16+J17+J18+J19 -> 0 | J5: =I5*D5 -> 0 | K5: =E5+G5+I5 -> 0 | L5: =F5+H5+J5 -> 0 | N5: 01 | R5: 1
A6: 0101 신설공사 | D6: 1 | E6: =F7+F8+F9+F10+F14+F15 -> 0 | F6: =E6*D6 -> 0 | G6: =H7+H8+H9+H10+H14+H15 -> 0 | H6: =G6*D6 -> 0 | I6: =J7+J8+J9+J10+J14+J15 -> 0 | J6: =I6*D6 -> 0 | K6: =E6+G6+I6 -> 0 | L6: =F6+H6+J6 -> 0 | N6: 0101 | P6: 01 | R6: 2
A7: 010101 장비설치공사 | D7: 1 | E7: =공종별내역서!F27 -> 0 | F7: =E7*D7 -> 0 | G7: =공종별내역서!H27 -> 0 | H7: =G7*D7 -> 0 | I7: =공종별내역서!J27 -> 0 | J7: =I7*D7 -> 0 | K7: =E7+G7+I7 -> 0 | L7: =F7+H7+J7 -> 0 | N7: 010101 | P7: 0101 | R7: 3
A8: 010102 난방배관공사 | D8: 1 | E8: =공종별내역서!F51 -> 0 | F8: =E8*D8 -> 0 | G8: =공종별내역서!H51 -> 0 | H8: =G8*D8 -> 0 | I8: =공종별내역서!J51 -> 0 | J8: =I8*D8 -> 0 | K8: =E8+G8+I8 -> 0 | L8: =F8+H8+J8 -> 0 | N8: 010102 | P8: 0101 | R8: 3
A9: 010103 환기덕트설치공사 | D9: 1 | E9: =공종별내역서!F75 -> 0 | F9: =E9*D9 -> 0 | G9: =공종별내역서!H75 -> 0 | H9: =G9*D9 -> 0 | I9: =공종별내역서!J75 -> 0 | J9: =I9*D9 -> 0 | K9: =E9+G9+I9 -> 0 | L9: =F9+H9+J9 -> 0 | N9: 010103 | P9: 0101 | R9: 3
A10: 010104 위생설비공사 | D10: 1 | E10: =F11+F12+F13 -> 0 | F10: =E10*D10 -> 0 | G10: =H11+H12+H13 -> 0 | H10: =G10*D10 -> 0 | I10: =J11+J12+J13 -> 0 | J10: =I10*D10 -> 0 | K10: =E10+G10+I10 -> 0 | L10: =F10+H10+J10 -> 0 | N10: 010104 | P10: 0101 | R10: 3
A11: 01010401 위생기구설치공사 | D11: 1 | E11: =공종별내역서!F99 -> 0 | F11: =E11*D11 -> 0 | G11: =공종별내역서!H99 -> 0 | H11: =G11*D11 -> 0 | I11: =공종별내역서!J99 -> 0 | J11: =I11*D11 -> 0 | K11: =E11+G11+I11 -> 0 | L11: =F11+H11+J11 -> 0 | N11: 01010401 | P11: 010104 | R11: 4
A12: 01010402 급수급탕배관공사 | D12: 1 | E12: =공종별내역서!F166 -> 0 | F12: =E12*D12 -> 0 | G12: =공종별내역서!H166 -> 0 | H12: =G12*D12 -> 0 | I12: =공종별내역서!J166 -> 0 | J12: =I12*D12 -> 0 | K12: =E12+G12+I12 -> 0 | L12: =F12+H12+J12 -> 0 | N12: 01010402 | P12: 010104 | R12: 4
A13: 01010403 오배수배관공사 | D13: 1 | E13: =공종별내역서!F238 -> 0 | F13: =E13*D13 -> 0 | G13: =공종별내역서!H238 -> 0 | H13: =G13*D13 -> 0 | I13: =공종별내역서!J238 -> 0 | J13: =I13*D13 -> 0 | K13: =E13+G13+I13 -> 0 | L13: =F13+H13+J13 -> 0 | N13: 01010403 | P13: 010104 | R13: 4
A14: 010105 초절전복사난방설치공사 | D14: 1 | E14: =공종별내역서!F262 -> 0 | F14: =E14*D14 -> 0 | G14: =공종별내역서!H262 -> 0 | H14: =G14*D14 -> 0 | I14: =공종별내역서!J262 -> 0 | J14: =I14*D14 -> 0 | K14: =E14+G14+I14 -> 0 | L14: =F14+H14+J14 -> 0 | N14: 010105 | P14: 0101 | R14: 3
A15: 010106 바닥난방설치공사 | D15: 1 | E15: =공종별내역서!F286 -> 0 | F15: =E15*D15 -> 0 | G15: =공종별내역서!H286 -> 0 | H15: =G15*D15 -> 0 | I15: =공종별내역서!J286 -> 0 | J15: =I15*D15 -> 0 | K15: =E15+G15+I15 -> 0 | L15: =F15+H15+J15 -> 0 | N15: 010106 | P15: 0101 | R15: 3
A16: 0102 철거공사 | D16: 1 | E16: =공종별내역서!F334 -> 0 | F16: =E16*D16 -> 0 | G16: =공종별내역서!H334 -> 0 | H16: =G16*D16 -> 0 | I16: =공종별내역서!J334 -> 0 | J16: =I16*D16 -> 0 | K16: =E16+G16+I16 -> 0 | L16: =F16+H16+J16 -> 0 | N16: 0102 | P16: 01 | R16: 2
A17: 0103 폐기물상차비 | D17: 1 | E17: =공종별내역서!F358 -> 0 | F17: =E17*D17 -> 0 | G17: =공종별내역서!H358 -> 0 | H17: =G17*D17 -> 0 | I17: =공종별내역서!J358 -> 0 | J17: =I17*D17 -> 0 | K17: =E17+G17+I17 -> 0 | L17: =F17+H17+J17 -> 0 | N17: 0103 | Q17: 5 | R17: 2 | T17: =L17*1 -> 0
A18: 0104 고자재비 | D18: 1 | E18: =공종별내역서!F382 -> 0 | F18: =E18*D18 -> 0 | G18: =공종별내역서!H382 -> 0 | H18: =G18*D18 -> 0 | I18: =공종별내역서!J382 -> 0 | J18: =I18*D18 -> 0 | K18: =E18+G18+I18 -> 0 | L18: =F18+H18+J18 -> 0 | N18: 0104 | Q18: 6 | R18: 2 | T18: =L18*1 -> 0
A19: 0105 관급공사 | D19: 1 | E19: =F20+F33 -> 0 | F19: =E19*D19 -> 0 | G19: =H20+H33 -> 0 | H19: =G19*D19 -> 0 | I19: =J20+J33 -> 0 | J19: =I19*D19 -> 0 | K19: =E19+G19+I19 -> 0 | L19: =F19+H19+J19 -> 0 | N19: 0105 | Q19: 3 | R19: 2 | T19: =L19*1 -> 0
A20: 010501 냉난방기설치공사 | D20: 1 | E20: =F21+F27+F31+F32 -> 0 | F20: =E20*D20 -> 0 | G20: =H21+H27+H31+H32 -> 0 | H20: =G20*D20 -> 0 | I20: =J21+J27+J31+J32 -> 0 | J20: =I20*D20 -> 0 | K20: =E20+G20+I20 -> 0 | L20: =F20+H20+J20 -> 0 | N20: 010501 | P20: 0105 | R20: 3
A21: 01050101 냉난방기구매설치 | D21: 1 | E21: =F22+F23+F24+F25+F26 -> 0 | F21: =E21*D21 -> 0 | G21: =H22+H23+H24+H25+H26 -> 0 | H21: =G21*D21 -> 0 | I21: =J22+J23+J24+J25+J26 -> 0 | J21: =I21*D21 -> 0 | K21: =E21+G21+I21 -> 0 | L21: =F21+H21+J21 -> 0 | N21: 01050101 | P21: 010501 | R21: 4
A22: 0105010101 장비설치공사 | D22: 1 | E22: =공종별내역서!F430 -> 0 | F22: =E22*D22 -> 0 | G22: =공종별내역서!H430 -> 0 | H22: =G22*D22 -> 0 | I22: =공종별내역서!J430 -> 0 | J22: =I22*D22 -> 0 | K22: =E22+G22+I22 -> 0 | L22: =F22+H22+J22 -> 0 | N22: 0105010101 | P22: 01050101 | R22: 5
A23: 0105010102 냉매배관공사 | D23: 1 | E23: =공종별내역서!F478 -> 0 | F23: =E23*D23 -> 0 | G23: =공종별내역서!H478 -> 0 | H23: =G23*D23 -> 0 | I23: =공종별내역서!J478 -> 0 | J23: =I23*D23 -> 0 | K23: =E23+G23+I23 -> 0 | L23: =F23+H23+J23 -> 0 | N23: 0105010102 | P23: 01050101 | R23: 5
A24: 0105010103 드레인배관공사 | D24: 1 | E24: =공종별내역서!F502 -> 0 | F24: =E24*D24 -> 0 | G24: =공종별내역서!H502 -> 0 | H24: =G24*D24 -> 0 | I24: =공종별내역서!J502 -> 0 | J24: =I24*D24 -> 0 | K24: =E24+G24+I24 -> 0 | L24: =F24+H24+J24 -> 0 | N24: 0105010103 | P24: 01050101 | R24: 5
A25: 0105010104 제어기및제어선설치공사 | D25: 1 | E25: =공종별내역서!F526 -> 0 | F25: =E25*D25 -> 0 | G25: =공종별내역서!H526 -> 0 | H25: =G25*D25 -> 0 | I25: =공종별내역서!J526 -> 0 | J25: =I25*D25 -> 0 | K25: =E25+G25+I25 -> 0 | L25: =F25+H25+J25 -> 0 | N25: 0105010104 | P25: 01050101 | R25: 5
A26: 0105010105 배관커버및트레이설치공사 | D26: 1 | E26: =공종별내역서!F550 -> 0 | F26: =E26*D26 -> 0 | G26: =공종별내역서!H550 -> 0 | H26: =G26*D26 -> 0 | I26: =공종별내역서!J550 -> 0 | J26: =I26*D26 -> 0 | K26: =E26+G26+I26 -> 0 | L26: =F26+H26+J26 -> 0 | N26: 0105010105 | P26: 01050101 | R26: 5
A27: 01050102 철거공사 | D27: 1 | E27: =F28+F29+F30 -> 0 | F27: =E27*D27 -> 0 | G27: =H28+H29+H30 -> 0 | H27: =G27*D27 -> 0 | I27: =J28+J29+J30 -> 0 | J27: =I27*D27 -> 0 | K27: =E27+G27+I27 -> 0 | L27: =F27+H27+J27 -> 0 | N27: 01050102 | P27: 010501 | R27: 4
A28: 0105010201 장비철거공사 | D28: 1 | E28: =공종별내역서!F574 -> 0 | F28: =E28*D28 -> 0 | G28: =공종별내역서!H574 -> 0 | H28: =G28*D28 -> 0 | I28: =공종별내역서!J574 -> 0 | J28: =I28*D28 -> 0 | K28: =E28+G28+I28 -> 0 | L28: =F28+H28+J28 -> 0 | N28: 0105010201 | P28: 01050102 | R28: 5
A29: 0105010202 배관철거공사 | D29: 1 | E29: =공종별내역서!F598 -> 0 | F29: =E29*D29 -> 0 | G29: =공종별내역서!H598 -> 0 | H29: =G29*D29 -> 0 | I29: =공종별내역서!J598 -> 0 | J29: =I29*D29 -> 0 | K29: =E29+G29+I29 -> 0 | L29: =F29+H29+J29 -> 0 | N29: 0105010202 | P29: 01050102 | R29: 5
A30: 0105010203 제어선철거공사 | D30: 1 | E30: =공종별내역서!F622 -> 0 | F30: =E30*D30 -> 0 | G30: =공종별내역서!H622 -> 0 | H30: =G30*D30 -> 0 | I30: =공종별내역서!J622 -> 0 | J30: =I30*D30 -> 0 | K30: =E30+G30+I30 -> 0 | L30: =F30+H30+J30 -> 0 | N30: 0105010203 | P30: 01050102 | R30: 5
A31: 01050103 부대공사 | D31: 1 | E31: =공종별내역서!F646 -> 0 | F31: =E31*D31 -> 0 | G31: =공종별내역서!H646 -> 0 | H31: =G31*D31 -> 0 | I31: =공종별내역서!J646 -> 0 | J31: =I31*D31 -> 0 | K31: =E31+G31+I31 -> 0 | L31: =F31+H31+J31 -> 0 | N31: 01050103 | P31: 010501 | R31: 4
A32: 01050104 보험료 및 부가가치세 | D32: 1 | E32: =공종별내역서!F670 -> 0 | F32: =E32*D32 -> 0 | G32: =공종별내역서!H670 -> 0 | H32: =G32*D32 -> 0 | I32: =공종별내역서!J670 -> 0 | J32: =I32*D32 -> 0 | K32: =E32+G32+I32 -> 0 | L32: =F32+H32+J32 -> 0 | N32: 01050104 | P32: 010501 | R32: 4
A33: 010502 전열교환기설치공사 | D33: 1 | E33: =공종별내역서!F694 -> 0 | F33: =E33*D33 -> 0 | G33: =공종별내역서!H694 -> 0 | H33: =G33*D33 -> 0 | I33: =공종별내역서!J694 -> 0 | J33: =I33*D33 -> 0 | K33: =E33+G33+I33 -> 0 | L33: =F33+H33+J33 -> 0 | N33: 010502 | P33: 0105 | R33: 3
A48: [ 합 계 ] | F48: =F5 -> 0 | H48: =H5 -> 0 | J48: =J5 -> 0 | L48: =L5 -> 0

Sheet 공종별내역서
A1: [ 성남외국어고등학교 기숙사 전면보수공사 ]
A2: 품 명 | B2: 규 격 | C2: 단위 | D2: 수량 | E2: 재 료 비 | G2: 노 무 비 | I2: 경 비 | K2: 합 계 | M2: 비 고 | N2: 품목코드 | O2: 변수 | P2: 설정 | Q2: 공종코드 | R2: 일위 | S2: 단산 | T2: 자재 | U2: 손료적용 | V2: 손료저장 | W2: 적용율 | X2: JUK1 | Y2: JUK2 | Z2: JUK3 | AA2: JUK4 | AB2: JUK5 | AC2: JUK6 | AD2: JUK7 | AE2: JUK8 | AF2: JUK9 | AG2: JUK10 | AH2: JUK11 | AI2: JUK12 | AJ2: JUK13 | AK2: JUK14 | AL2: JUK15 | AM2: JUK16 | AN2: JUK17 | AO2: JUK18 | AP2: JUK19 | AQ2: JUK20 | AR2: 자재구분 | AS2: 공종구분 | AT2: 공종레벨 | AU2: 공종+자재 | AV2: 고유번호
E3: 단 가 | F3: 금 액 | G3: 단 가 | H3: 금 액 | I3: 단 가 | J3: 금 액 | K3: 단 가 | L3: 금 액
A4: 010101 장비설치공사 | Q4: 010101
A5: EF-1 배기휀(천정형)ㅁ270,HV3-80X | B5: 91CMH*3MMAQ*0.037KW | C5: 대 | D5: 27 | K5: =TRUNC(E5+G5+I5,0) -> 0 | L5: =TRUNC(F5+H5+J5,0) -> 0 | M5: 호표 66 | N5: 41548F63F28231A2D10088DBD1B | Q5: 010101 | R5: T | S5: F | T5: F | AU5: 01010141548F63F28231A2D10088DBD1B | AV5: 4
A6: EF-2 배기휀(천정형)ㅁ278,FZA-110S | B6: 119CMH*3MMAQ*0.045KW | C6: 대 | D6: 6 | K6: =TRUNC(E6+G6+I6,0) -> 0 | L6: =TRUNC(F6+H6+J6,0) -> 0 | M6: 호표 67 | N6: 41548F63F28231A2D10088DBD18 | Q6: 010101 | R6: T | S6: F | T6: F | AU6: 01010141548F63F28231A2D10088DBD18 | AV6: 5
Q7: 010101
Q8: 010101
Q9: 010101
Q10: 010101
Q11: 010101
Q12: 010101
Q13: 010101
Q14: 010101
Q15: 010101
Q16: 010101
Q17: 010101
Q18: 010101
... Q26: 010101
A27: [ 합 계 ] | F27: =SUM(F5:F26) -> 0 | H27: =SUM(H5:H26) -> 0 | J27: =SUM(J5:J26) -> 0 | L27: =SUM(L5:L26) -> 0 | N27: TOTAL
A28: 010102 난방배관공사 | Q28: 010102
A29: 가교발포보온재(매직) | B29: 25TxD20 | C29: M | D29: 27 | K29: =TRUNC(E29+G29+I29,0) -> 0 | L29: =TRUNC(F29+H29+J29,0) -> 0 | M29: 호표 19 | N29: 41548F63F28137B2B187485F700 | Q29: 010102 | R29: T | S29: F | T29: F | AU29: 01010241548F63F28137B2B187485F700 | AV29: 7
A30: 동관이음쇠 | B30: 동유니온 (C*M) D20 | C30: EA | D30: 54 | K30: =TRUNC(E30+G30+I30,0) -> 0 | L30: =TRUNC(F30+H30+J30,0) -> 0 | N30: 414A8528DBFA31C2D11D5ED8DD1 | Q30: 010102 | R30: F | S30: F | T30: T | AU30: 010102414A8528DBFA31C2D11D5ED8DD1 | AV30: 8
A31: 동관이음쇠 | B31: 황동아답타 (C*M) D20 | C31: EA | D31: 54 | K31: =TRUNC(E31+G31+I31,0) -> 0 | L31: =TRUNC(F31+H31+J31,0) -> 0 | N31: 414A8528DBFA31C2D11DA689368 | Q31: 010102 | R31: F | S31: F | T31: T | AU31: 010102414A8528DBFA31C2D11DA689368 | AV31: 9
A32: 동관이음쇠 | B32: 동캡 D15 | C32: EA | D32: 20 | K32: =TRUNC(E32+G32+I32,0) -> 0 | L32: =TRUNC(F32+H32+J32,0) -> 0 | N32: 414A8528DBFA31C2D11D5ED8003 | Q32: 010102 | R32: F | S32: F | T32: T | AU32: 010102414A8528DBFA31C2D11D5ED8003 | AV32: 10
A33: 동관용접 | B33: D15 | C33: 개소 | D33: 20 | K33: =TRUNC(E33+G33+I33,0) -> 0 | L33: =TRUNC(F33+H33+J33,0) -> 0 | M33: 호표 1 | N33: 41548F63F281372251BAABDFDBB | Q33: 010102 | R33: T | S33: F | T33: F | AU33: 01010241548F63F281372251BAABDFDBB | AV33: 11
A34: 동관용접 | B34: D20 | C34: 개소 | D34: 108 | K34: =TRUNC(E34+G34+I34,0) -> 0 | L34: =TRUNC(F34+H34+J34,0) -> 0 | M34: 호표 2 | N34: 41548F63F281372251BAABDFE42 | Q34: 010102 | R34: T | S34: F | T34: F | AU34: 01010241548F63F281372251BAABDFE42 | AV34: 12
A35: 볼밸브(XL) | B35: D 15 | C35: EA | D35: 55 | K35: =TRUNC(E35+G35+I35,0) -> 0 | L35: =TRUNC(F35+H35+J35,0) -> 0 | M35: 호표 46 | N35: 41548F63F2803652C11940C6B2B | Q35: 010102 | R35: T | S35: F | T35: F | AU35: 01010241548F63F2803652C11940C6B2B | AV35: 13
A36: 볼밸브(황동) | B36: D 20 | C36: EA | D36: 54 | K36: =TRUNC(E36+G36+I36,0) -> 0 | L36: =TRUNC(F36+H36+J36,0) -> 0 | M36: 호표 41 | N36: 41548F63F2803652C1196395FB0 | Q36: 010102 | R36: T | S36: F | T36: F | AU36: 01010241548F63F2803652C1196395FB0 | AV36: 14
A37: 코아드릴(벽체,150mm) | B37: D80 | C37: 개소 | D37: 29 | K37: =TRUNC(E37+G37+I37,0) -> 0 | L37: =TRUNC(F37+H37+J37,0) -> 0 | M37: 호표 59 | N37: 41548F63F2833212C12DFF2CBBC | Q37: 010102 | R37: T | S37: F | T37: F | AU37: 01010241548F63F2833212C12DFF2CBBC | AV37: 15
A38: 내화채움구조(강관,벽체) | B38: D80 | C38: 개소 | D38: 1 | K38: =TRUNC(E38+G38+I38,0) -> 0 | L38: =TRUNC(F38+H38+J38,0) -> 0 | M38: 호표 65 | N38: 41548F63F283320231B4E4ECAEE | Q38: 010102 | R38: T | S38: F | T38: F | AU38: 01010241548F63F283320231B4E4ECAEE | AV38: 16
A39: Zone정유량조절밸브 | B39: D15 | C39: EA | D39: 55 | K39: =TRUNC(E39+G39+I39,0) -> 0 | L39: =TRUNC(F39+H39+J39,0) -> 0 | M39: 호표 47 | N39: 41548F63F2803652C11940C6854 | Q39: 010102 | R39: T | S39: F | T39: F | AU39: 01010241548F63F2803652C11940C6854 | AV39: 17
A40: 온도조절기(구동기) | C40: EA | D40: 55 | K40: =TRUNC(E40+G40+I40,0) -> 0 | L40: =TRUNC(F40+H40+J40,0) -> 0 | N40: 46D886F90F8232F2B1B1B7A2471 | Q40: 010102 | R40: F | S40: F | T40: T | AU40: 01010246D886F90F8232F2B1B1B7A2471 | AV40: 18
A41: 온도조절기 | C41: EA | D41: 27 | K41: =TRUNC(E41+G41+I41,0) -> 0 | L41: =TRUNC(F41+H41+J41,0) -> 0 | N41: 46D886F90F8232F2B1B1B7A2472 | Q41: 010102 | R41: F | S41: F | T41: T | AU41: 01010246D886F90F8232F2B1B1B7A2472 | AV41: 19
A42: 밸브제어함 | C42: EA | D42: 27 | K42: =TRUNC(E42+G42+I42,0) -> 0 | L42: =TRUNC(F42+H42+J42,0) -> 0 | N42: 46D886F90F8232F2B1B1B7A2473 | Q42: 010102 | R42: F | S42: F | T42: T | AU42: 01010246D886F90F8232F2B1B1B7A2473 | AV42: 20
A43: 컨버터 | C43: EA | D43: 1 | K43: =TRUNC(E43+G43+I43,0) -> 0 | L43: =TRUNC(F43+H43+J43,0) -> 0 | N43: 46D886F90F8232F2B1B1B7A2474 | Q43: 010102 | R43: F | S43: F | T43: T | AU43: 01010246D886F90F8232F2B1B1B7A2474 | AV43: 21
A44: 숙소제어프로그램 | C44: 식 | D44: 1 | K44: =TRUNC(E44+G44+I44,0) -> 0 | L44: =TRUNC(F44+H44+J44,0) -> 0 | N44: 46D886F90F8232F2B1B1B7A2475 | Q44: 010102 | R44: F | S44: F | T44: T | AU44: 01010246D886F90F8232F2B1B1B7A2475 | AV44: 22
A45: 결선 및 시운전비 | C45: 개소 | D45: 55 | K45: =TRUNC(E45+G45+I45,0) -> 0 | L45: =TRUNC(F45+H45+J45,0) -> 0 | N45: 46D886F90F8232F2B1B1B7A2476 | Q45: 010102 | R45: F | S45: F | T45: T | AU45: 01010246D886F90F8232F2B1B1B7A2476 | AV45: 23
Q46: 010102
Q47: 010102
...

Sheet  공사설정 
A1: 이 Sheet는 수정하지 마십시요
A2: 공사구분 | B2: C | C2: 타이틀
A3: 확정내역 | B3: 원내역
A4: 자재단가적용 | B4: 5
A5: 경비단가적용 | B5: 5
A6: 품목코드형식 | B6: XXXX-XXX-XXXX
A7: 내역금액소수점처리 | B7: C | C7: 1
A8: 일위대가내역소수점처리 | B8: C | C8: 2
A9: 단가명 | B9: 조달청가격 | C9: 물가자료 | D9: 물가정보 | E9: 거래가격 | F9: 조사가격 | G9: TTTTT
A10: 환율 | B10: 0 | C10: 0 | D10: 0
A11: 시간당작업량 | B11: R | C11: 3
A12: 1회 사이클시간 | B12: R | C12: 3
A13: 시간당 작업사이클 | B13: R | C13: 3
A14: 일반변수 | B14: C | C14: 5
A15: 시간당 노임산출 계수 | B15: A | C15: 1/8*16/12*25/20 | D15: 1/8*16/12*25/20 | E15: 1/8*16/12*25/20 | F15: 1/8*16/12*25/20
A16: 재료비 할증 계수 | B16: 0 | C16: 0
A17: 노무비 할증 계수 | B17: 0 | C17: 0 | D17: 0 | E17: 0 | F17: 0 | G17: 0 | H17: 0 | I17: 0 | J17: 0 | K17: 0 | L17: 0 | M17: 0
A18: 경비 할증 계수 | B18: 0 | C18: 0
A19: 내역,일위대가 품명,규격,단위 따로적용
A20: 내역단가 소수점처리 | B20: C | C20: 1
A21: 코드 | B21: 공종구분명 | C21: 원가비목코드
A22: 1 | B22: 작업부산물 | C22: A3
A23: 2 | B23: 운반비 | C23: C1
A24: 3 | B24: 관급자재비 | C24: DJ
A25: 4 | B25: 사급자재비 | C25: D3
A26: 5 | B26: 폐기물상차비 | C26: CE
A27: 6 | B27: 고자재비 | C27: D4
A28: 7
A29: 8
A30: 9
A31: A | B31: ....
A32: B | B32: .....
A33: C | B33: ....
A34: D | B34: ....
A35: E | B35: ....
A36: F | B36: ....
A37: G | B37: ....
A38: H | B38: ....
A39: I | B39: ....
A40: J | B40: ....
...

Sheet Sheet1
