Workbook
Name _A: #REF!
Name _bar10: #REF!
Name _bar13: #REF!
Name _bar16: #REF!
Name _bar19: #REF!
Name _bar22: #REF!
Name _bar25: #REF!
Name _bar29: #REF!
Name _bar32: #REF!
Name \c: #REF!
Name \d: #N/A
Name \i: #REF!
Name a: 0.84
Name aa: '[2]토공(우물통,기타) '!$V$2:$AG$22
Name aaa: #REF!
Name ALPA: [3]하중계산!#REF!
Name ALPHA: [3]안정성검토!#REF!
Name AS: #REF!
Name ASA: #REF!
Name ASE: #REF!
Name b: 0.88
Name back: #REF!
Name BB: #REF!
Name BETA: [3]안정성검토!#REF!
Name BP: #REF!
Name BPP: #REF!
Name BS: #REF!
Name conc단위중량: [3]설계기준!#REF!
Name d: 0.84
Name DA: #REF!
Name dd: '[2]토공(우물통,기타) '!$V$2:$AG$22
Name DDD: #REF!
Name DE: #REF!
Name E: [3]하중계산!#REF!
Name Ec: [3]설계기준!#REF!
Name END: #REF!
Name ff: '[2]토공(우물통,기타) '!$A$52:$K$66
Name front: #REF!
Name GF: #REF!
Name GFD: #REF!
Name gg: '[2]토공(우물통,기타) '!$V$52:$AG$67
Name H: #REF!
Name h6a: #REF!
Name hh: '[2]토공(우물통,기타) '!$M$8:$U$25
Name HP: #REF!
Name HS: #REF!
Name il: #REF!
Name ja: #REF!
Name k: #REF!
Name KA: #REF!
Name KJHGHGGTG: #REF!
Name KK: #REF!
Name lab: 1.005583
Name LE: #REF!
Name LKLKL: #REF!
Name MA: 0.8
Name mat: 1.0058
Name MDA: #REF!
Name MDE: #REF!
Name ME: #REF!

Sheet 원가계산서
A1: 공 사 원 가 계 산 서
A2: 과업명 : 경부선 왜관-신동간 299.010km부근 옹벽보도 설치공사
A3: 비 목 | D3: 금 액 | E3: 적 용 기 준 | H3: 비 고
A4: 직접공사비 | D4: =D5+D8+D11 -> 264443469
A5: 순 공 사 원 가 | B5: 재 료 비 | C5: 직 접 재 료 비 | D5: 100629472
C6: 간 접 재 료 비 | D6: 0 | E6: 지급자재비 | F6: : | G6: =D38 -> 0 | H6: 도급자관급
C7: [ 소 계 ] | D7: =D5+D6 -> 100629472
B8: 노 무 비 | C8: 직 접 노 무 비 | D8: 148891714
C9: 간 접 노 무 비 | D9: =INT(D8*G9) -> 28438317 | E9: 직접노무비 | F9: × | G9: 0.191
C10: [ 소 계 ] | D10: =D8+D9 -> 177330031
B11: 경 비 | C11: 기 계 경 비 | D11: 14922283
C12: 산 재 보 험 료 | D12: =INT(D10*G12) -> 6312949 | E12: 노무비 | F12: × | G12: 0.0356
C13: 고 용 보 험 료 | D13: =INT(D10*G13) -> 1791033 | E13: 노무비 | F13: × | G13: 0.0101
C14: 건 강 보 험 료 | D14: =INT(D8*G14) -> 5352657 | E14: 직접노무비 | F14: × | G14: 0.03595
C15: 연 금 보 험 료 | D15: =INT(D8*G15) -> 7072356 | E15: 직접노무비 | F15: × | G15: 0.0475
C16: 노인장기요양보험료 | D16: =INT(D14*G16) -> 703339 | E16: 건강보험료 | F16: × | G16: 0.1314
C17: 퇴 직 공 제 부 금 비 | D17: =INT(D8*G17) -> 3424509 | E17: 직접노무비 | F17: × | G17: 0.023
C18: 산업안전보건관리비 | D18: =I18 -> 7859917 | E18: (재료비+직노) | F18: × | G18: 0.0315 | I18: =MIN(J18) -> 7859917 | J18: =INT((D5+D8)*G18) -> 7859917 | K18: =INT(((D5+D8)*G18))*1.2 -> 9431900.4
C19: 기 타 경 비 | D19: =INT((D5+D10)*G19) -> 15287772 | E19: (재료비+노무비) | F19: × | G19: 0.055
C20: 건설하도급대금지급보증서발급수수료 | D20: =INT(D4*G20) -> 214199 | E20: 직접공사비 | F20: × | G20: 0.00081
C21: 환 경 보 전 비 | D21: =INT(D4*G21) -> 2115547 | E21: 직접공사비 | F21: × | G21: 0.008
C22: 건설기계대여대금지금보증서발급수수료 | D22: =INT(D4*G22) -> 1057773 | E22: 직접공사비 | F22: × | G22: 0.004
C23: 석 면 분 담 금 | D23: =INT(D10*G23) -> 10639 | E23: 노무비 | F23: × | G23: 6e-05
C24: 임 금 채 권 부 담 금 | D24: =INT(D10*G24) -> 159597 | E24: 노무비 | F24: × | G24: 0.0009
C25: 안 전 관 리 자 | D25: 0
C26: 시 민 안 전 관 리 비 | D26: =INT((D5+D8)*G26) -> 623802 | E26: (재료비+직접노무비) | F26: × | G26: 0.0025
C27: 품 질 관 리 비 | D27: 855050
C28: 안 전 관 리 비 | D28: 9486525
C29: [ 소 계 ] | D29: =SUM(D11:D28) -> 77249947
A30: 계 | D30: =D7+D10+D29 -> 355209450
A31: 일 반 관 리 비 | D31: =INT(D30*G31) -> 28416756 | E31: 계 | F31: × | G31: 0.08
A32: 이 윤 | D32: =INT((D10+D29+D31)*G32)-799/1.1 -> 42448784 | E32: (노무비+경비+일관) | F32: × | G32: 0.15
A33: 열차접근경보앱 및 장치 | D33: 435276
A34: 폐 기 물 처 리 비 | D34: 1532462
A35: 공 급 가 액 | D35: =SUM(D30:D34) -> 4.2804273e+08
A36: 부 가 가 치 세 | D36: =INT(SUM(D30:D34)*G36) -> 42804272 | E36: (공급가액) | F36: × | G36: 0.1
A37: 도 급 금 액 | D37: =D30+D31+D32+D33+D34+D36 -> 4.70847e+08
A38: 지 급 자 재 비 | D38: 0
A39: 총 공 사 비 | D39: =D37+D38 -> 4.70847e+08
A40: 건 설 폐 기 물 처 리 비 | D40: 0
...

Sheet 내역서
A1: 내역서
A2: 공 종 명 | B2: 규 격 | C2: 수량 | D2: 단위 | E2: 합 계 | G2: 재 료 비 | I2: 노 무 비 | K2: 경 비 | M2: 비 고
E3: 단 가 | F3: 금 액 | G3: 단 가 | H3: 금 액 | I3: 단 가 | J3: 금 액 | K3: 단 가 | L3: 금 액 | S3: 할 증 | T3: 화폐변환 | U3: OP값 | V3: EQ | W3: LA | X3: MA | Y3: 금액계상
A4: ▨ 경부선 왜관~신동간 작업자 이동통로 | B4: 확보 실시설계 | C4: 1 | D4: 식 | F4: =H4+J4+L4 -> 470847000 | H4: =TRUNC(H6+H7+H8+H9+H10+H11+H12+H13+H14+H15+H16+H17+H18+H19+H20+H21+H22+H23+H24+H25+H26+H27+H28+H30,0) -> 100629472 | J4: =TRUNC(J6+J7+J8+J9+J10+J11+J12+J13+J14+J15+J16+J17+J18+J19+J20+J21+J22+J23+J24+J25+J26+J27+J28+J30,0) -> 182637931 | L4: =TRUNC(L6+L7+L8+L9+L10+L11+L12+L13+L14+L15+L16+L17+L18+L19+L20+L21+L22+L23+L24+L25+L26+L27+L28+L30,0) -> 187579597 | N4: 대구3구간(260902작업) | O4: ASY30
A5: Ⅰ. 순 공 사 비 | D5: 식 | E5: =G5+I5+K5 -> 0 | F5: =H5+J5+L5 -> 355209450 | H5: =TRUNC(H6+H7+H8+H9+H10+H11+H12+H13+H14+H15+H16+H17+H18+H19+H20+H21+H22+H23+H24,0) -> 100629472 | J5: =TRUNC(J6+J7+J8+J9+J10+J11+J12+J13+J14+J15+J16+J17+J18+J19+J20+J21+J22+J23+J24,0) -> 182637931 | L5: =TRUNC(L6+L7+L8+L9+L10+L11+L12+L13+L14+L15+L16+L17+L18+L19+L20+L21+L22+L23+L24,0) -> 71942047 | P5: 10 | CC5: .
A6: 가. 직접공사비 | C6: 1 | D6: 식 | E6: =G6+I6+K6 -> 264443469 | F6: =H6+J6+L6 -> 264443469 | G6: =H33 -> 100629472 | H6: =TRUNC(G6*C6,0) -> 100629472 | I6: =J33 -> 148891714 | J6: =TRUNC(I6*C6,0) -> 148891714 | K6: =L33 -> 14922283 | L6: =TRUNC(K6*C6,0) -> 14922283 | P6: 20 | R6: ASY30-10 | AA6: LA+ = | AB6: =내역서!J6*19.1/100 -> 28438317 | AC6: LA = | AD6: =$AB6 -> 28438317 | BJ6: =HYPERLINK("#내역서!A33","ASY30-10 →") -> ASY30-10 → | CC6: ..
A7: 나. 간접노무비 | B7: 직노×19.1% | C7: 1 | D7: 식 | E7: =G7+I7+K7 -> 0 | F7: =H7+J7+L7 -> 28438317 | H7: 0 | J7: =TRUNC((J6*19.1/100),0) -> 28438317 | L7: 0 | N7: ◇직공10억미만6개월이하 | P7: 30 | R7: F | X7: .LA=LA(20)*19.1/100_x000D_ | AA7: EQ+ = | AB7: =(내역서!J6+내역서!J7)*3.56/100 -> 6312949.1 | AC7: EQ = | AD7: =$AB7 -> 6312949.1 | CC7: ..
A8: 다. 산재보험료 | B8: 노무비×3.56% | C8: 1 | D8: 식 | E8: =G8+I8+K8 -> 0 | F8: =H8+J8+L8 -> 6312949 | H8: 0 | J8: 0 | L8: =TRUNC(((J6+J7)*3.56/100),0) -> 6312949 | P8: 40 | R8: F | X8: .EQ=LA(20,30)*3.56/100_x000D_ | AA8: EQ+ = | AB8: =(내역서!J6+내역서!J7)*1.01/100 -> 1791033.3 | AC8: EQ = | AD8: =$AB8 -> 1791033.3 | CC8: ..
A9: 라. 고용보험료 | B9: 노무비×1.01% | C9: 1 | D9: 식 | E9: =G9+I9+K9 -> 0 | F9: =H9+J9+L9 -> 1791033 | H9: 0 | J9: 0 | L9: =TRUNC(((J6+J7)*1.01/100),0) -> 1791033 | N9: ◇7등급(추정금액(총공사비) | P9: 50 | R9: F | X9: .EQ=LA(20,30)*1.01/100_x000D_ | AA9: EQ+ = | AB9: =내역서!J6*3.595/100 -> 5352657.1 | AC9: EQ = | AD9: =$AB9 -> 5352657.1 | CC9: ..
A10: 마. 건강보험료 | B10: 직노×3.595% | C10: 1 | D10: 식 | E10: =G10+I10+K10 -> 0 | F10: =H10+J10+L10 -> 5352657 | H10: 0 | J10: 0 | L10: =TRUNC((J6*3.595/100),0) -> 5352657 | P10: 60 | R10: F | X10: .EQ=LA(20)*3.595/100_x000D_ | AA10: EQ+ = | AB10: =내역서!J6*4.75/100 -> 7072356.4 | AC10: EQ = | AD10: =$AB10 -> 7072356.4 | CC10: ..
A11: 바. 연금보험료 | B11: 직노×4.75% | C11: 1 | D11: 식 | E11: =G11+I11+K11 -> 0 | F11: =H11+J11+L11 -> 7072356 | H11: 0 | J11: 0 | L11: =TRUNC((J6*4.75/100),0) -> 7072356 | P11: 70 | R11: F | X11: .EQ=LA(20)*4.75/100_x000D_ | AA11: EQ+ = | AB11: =내역서!L10*13.14/100 -> 703339.13 | AC11: EQ = | AD11: =$AB11 -> 703339.13 | CC11: ..
A12: 사. 노인장기요양보험료 | B12: 건보×13.14% | C12: 1 | D12: 식 | E12: =G12+I12+K12 -> 0 | F12: =H12+J12+L12 -> 703339 | H12: 0 | J12: 0 | L12: =TRUNC((L10*13.14/100),0) -> 703339 | P12: 80 | R12: F | X12: .EQ=EQ(60)*13.14/100_x000D_ | AA12: EQ+ = | AB12: =내역서!J6*2.3/100 -> 3424509.4 | AC12: EQ = | AD12: =$AB12 -> 3424509.4 | CC12: ..
A13: 아. 퇴직공제부금비 | B13: 직노×2.3% | C13: 1 | D13: 식 | E13: =G13+I13+K13 -> 0 | F13: =H13+J13+L13 -> 3424509 | H13: 0 | J13: 0 | L13: =TRUNC((J6*2.3/100),0) -> 3424509 | P13: 90 | R13: F | X13: .EQ=LA(20)*2.3/100_x000D_ | AA13: EQ+ = | AB13: =ROUND((내역서!J6+내역서!H6)*3.15/100,3) -> 7859917.4 | AC13: EQ = | AD13: =$AB13 -> 7859917.4 | AE13: 13_1_1+ = | AF13: =ROUND(ROUND((내역서!J6+내역서!H6)*3.15/100,3),3) -> 7859917.4 | AG13: 13_1_1 = | AH13: =$AF13 -> 7859917.4 | CC13: ..
A14: 자. 산업안전보건관리비 | B14: (재+직노)×3.15% | C14: 1 | D14: 식 | E14: =G14+I14+K14 -> 0 | F14: =H14+J14+L14 -> 7859917 | H14: 0 | J14: 0 | L14: =TRUNC((ROUND((J6+H6)*3.15/100,3)),0) -> 7859917 | N14: ◇토목(재+노5억미만) | P14: 100 | R14: F | X14: .EQ=(LA(20)+MA(20))*3.15/100={?,'9.99R'}_x000D_ | AA14: EQ+ = | AB14: =(내역서!H6+(내역서!J6+내역서!J7))*5.5/100 -> 15287773 | AC14: EQ = | AD14: =$AB14 -> 15287773 | CC14: ..
A15: 차. 기타 경비 | B15: (재+노)×5.5% | C15: 1 | D15: 식 | E15: =G15+I15+K15 -> 0 | F15: =H15+J15+L15 -> 15287772 | H15: 0 | J15: 0 | L15: =TRUNC(((H6+(J6+J7))*5.5/100),0) -> 15287772 | N15: ◇직공10억미만6개월이하 | P15: 110 | R15: F | X15: .EQ=(MA(20)+LA(20,30))*5.5/100_x000D_ | AA15: EQ+ = | AB15: =(내역서!H6+내역서!J6+내역서!L6)*0.081/100 -> 214199.21 | AC15: EQ = | AD15: =$AB15 -> 214199.21 | CC15: ..
A16: 카. 건설하도급대금지급보증서발급수수료 | B16: 직접공사비×0.081% | C16: 1 | D16: 식 | E16: =G16+I16+K16 -> 0 | F16: =H16+J16+L16 -> 214199 | H16: 0 | J16: 0 | L16: =TRUNC(((H6+J6+L6)*0.081/100),0) -> 214199 | N16: ★추정가격 50억미만 | P16: 120 | R16: F | X16: .EQ=TOT(20)*0.081/100_x000D_ | CC16: ..
A17: 타. 환경보전비 | B17: 직접공사비×0.8% | C17: 1 | D17: 식 | E17: =G17+I17+K17 -> 0 | F17: =H17+J17+L17 -> 2115547 | H17: 0 | J17: 0 | L17: =TRUNC(((H6+J6+L6)*0.8/100),0) -> 2115547 | N17: △토목그외 | P17: 130 | R17: F | X17: '토목,그외'_x000D_ .EQ=TOT(20)*0.8/100_x000D_ | AA17: EQ+ = | AB17: =(내역서!H6+내역서!J6+내역서!L6)*0.4/100 -> 1057773.9 | AC17: EQ = | AD17: =$AB17 -> 1057773.9 | CC17: ..
A18: 파. 건설기계대여대금지급보증서발급금액 | B18: 직접공사비×0.4% | C18: 1 | D18: 식 | E18: =G18+I18+K18 -> 0 | F18: =H18+J18+L18 -> 1057773 | H18: 0 | J18: 0 | L18: =TRUNC(((H6+J6+L6)*0.4/100),0) -> 1057773 | N18: ◇종합(토목) | P18: 140 | R18: F | X18: .EQ=TOT(20)*0.4/100_x000D_ | AA18: EQ+ = | AB18: =(내역서!J6+내역서!J7)*0.006/100 -> 10639.802 | AC18: EQ = | AD18: =$AB18 -> 10639.802 | CC18: ..
A19: 하. 석면분담금 | B19: 노무비×0.006% | C19: 1 | D19: 식 | E19: =G19+I19+K19 -> 0 | F19: =H19+J19+L19 -> 10639 | H19: 0 | J19: 0 | L19: =TRUNC(((J6+J7)*0.006/100),0) -> 10639 | P19: 150 | R19: F | X19: .EQ=LA(20,30)*0.006/100_x000D_ | AA19: EQ+ = | AB19: =(내역서!J6+내역서!J7)*0.09/100 -> 159597.03 | AC19: EQ = | AD19: =$AB19 -> 159597.03 | CC19: ..
A20: 거. 임금채권부담금 | B20: 노무비×0.09% | C20: 1 | D20: 식 | E20: =G20+I20+K20 -> 0 | F20: =H20+J20+L20 -> 159597 | H20: 0 | J20: 0 | L20: =TRUNC(((J6+J7)*0.09/100),0) -> 159597 | P20: 160 | R20: F | X20: .EQ=LA(20,30)*0.09/100_x000D_ | CC20: ..
A21: 너. 안전관리자 | C21: 1 | D21: 식 | E21: =G21+I21+K21 -> 0 | F21: =H21+J21+L21 -> 0 | G21: =H95 -> 0 | H21: =TRUNC(G21*C21,0) -> 0 | I21: =J95 -> 0 | J21: =TRUNC(I21*C21,0) -> 0 | K21: =L95 -> 0 | L21: =TRUNC(K21*C21,0) -> 0 | P21: 170 | R21: ASY30-10-B5 | AA21: EQ+ = | AB21: =(내역서!J6+내역서!H6)*0.25/100 -> 623802.96 | AC21: EQ = | AD21: =$AB21 -> 623802.96 | BJ21: =HYPERLINK("#내역서!A95","ASY30-10-B5 →") -> ASY30-10-B5 → | CC21: ..
A22: 더. 시민안전관리비 | B22: (재+직노)×0.25% | C22: 1 | D22: 식 | E22: =G22+I22+K22 -> 0 | F22: =H22+J22+L22 -> 623802 | H22: 0 | J22: 0 | L22: =TRUNC(((J6+H6)*0.25/100),0) -> 623802 | P22: 180 | R22: F | X22: .EQ=(LA(20)+MA(20))*0.25/100_x000D_ | CC22: ..
A23: 러. 품질관리비 | C23: 1 | D23: 식 | E23: =G23+I23+K23 -> 855050 | F23: =H23+J23+L23 -> 855050 | G23: =H98 -> 0 | H23: =TRUNC(G23*C23,0) -> 0 | I23: =J98 -> 0 | J23: =TRUNC(I23*C23,0) -> 0 | K23: =L98 -> 855050 | L23: =TRUNC(K23*C23,0) -> 855050 | P23: 190 | R23: ASY30-10-B6 | BJ23: =HYPERLINK("#내역서!A98","ASY30-10-B6 →") -> ASY30-10-B6 → | CC23: ..
A24: 머. 안전관리비 | C24: 1 | D24: 식 | E24: =G24+I24+K24 -> 9486525 | F24: =H24+J24+L24 -> 9486525 | G24: =H116 -> 0 | H24: =TRUNC(G24*C24,0) -> 0 | I24: =J116 -> 5307900 | J24: =TRUNC(I24*C24,0) -> 5307900 | K24: =L116 -> 4178625 | L24: =TRUNC(K24*C24,0) -> 4178625 | P24: 200 | R24: ASY30-10-B61 | AA24: EQ+ = | AB24: =(내역서!H5+내역서!J5+내역서!L5)*8/100 -> 28416756 | AC24: EQ = | AD24: =$AB24 -> 28416756 | BJ24: =HYPERLINK("#내역서!A116","ASY30-10-B61 →") -> ASY30-10-B61 → | CC24: ..
A25: Ⅱ. 일반 관리비 | B25: (재+노+경)×8.0% | C25: 1 | D25: 식 | E25: =G25+I25+K25 -> 0 | F25: =H25+J25+L25 -> 28416756 | H25: 0 | J25: 0 | L25: =TRUNC(((H5+J5+L5)*8/100),0) -> 28416756 | N25: ◇추정가격(공급가액)5-30억 | P25: 210 | R25: F | X25: .EQ=TOT(10)*8.0/100_x000D_ | AA25: EQ+ = | AB25: =(내역서!J5+내역서!L5+내역서!L25)*15/100-798/1.1 -> 42448785 | AC25: EQ = | AD25: =$AB25 -> 42448785 | CC25: .
A26: Ⅲ. 이 윤 | B26: (노+경+일반관)×15.0% | C26: 1 | D26: 식 | E26: =G26+I26+K26 -> 0 | F26: =H26+J26+L26 -> 42448784 | H26: 0 | J26: 0 | L26: =TRUNC(((J5+L5+L25)*15/100-798/1.1),0) -> 42448784 | N26: ◇추정가격(공급가액)5-30억 | P26: 220 | R26: F | X26: .EQ=(LA(10)+EQ(10)+EQ(210))*15/100 -798/1.1_x000D_ | CC26: .
A27: Ⅳ. 열차접근경보앱 및 장치 | C27: 1 | D27: 식 | E27: =G27+I27+K27 -> 435276 | F27: =H27+J27+L27 -> 435276 | G27: =H121 -> 0 | H27: =TRUNC(G27*C27,0) -> 0 | I27: =J121 -> 0 | J27: =TRUNC(I27*C27,0) -> 0 | K27: =L121 -> 435276 | L27: =TRUNC(K27*C27,0) -> 435276 | P27: 230 | R27: ASY30-10-B7 | BJ27: =HYPERLINK("#내역서!A121","ASY30-10-B7 →") -> ASY30-10-B7 → | CC27: .
A28: Ⅴ. 폐기물처리비 | C28: 1 | D28: 식 | E28: =G28+I28+K28 -> 1532462 | F28: =H28+J28+L28 -> 1532462 | G28: =H124 -> 0 | H28: =TRUNC(G28*C28,0) -> 0 | I28: =J124 -> 0 | J28: =TRUNC(I28*C28,0) -> 0 | K28: =L124 -> 1532462 | L28: =TRUNC(K28*C28,0) -> 1532462 | P28: 240 | R28: ASY30-10-B8 | AA28: LA+ = | AB28: =내역서!J5+(내역서!J25+내역서!J26+내역서!J27+내역서!J28) -> 182637931 | AC28: LA = | AD28: =$AB28 -> 182637931 | BJ28: =HYPERLINK("#내역서!A124","ASY30-10-B8 →") -> ASY30-10-B8 → | CC28: .
A29: Ⅵ. 공 급 가 액 | C29: 1 | D29: 식 | E29: =G29+I29+K29 -> 0 | F29: =H29+J29+L29 -> 428042728 | H29: =TRUNC((H5+(H25+H26+H27+H28)),0) -> 100629472 | J29: =TRUNC((J5+(J25+J26+J27+J28)),0) -> 182637931 | L29: =TRUNC((L5+(L25+L26+L27+L28)),0) -> 144775325 | N29: ◇추정가격 | P29: 250 | Q29: * | R29: F | X29: .LA=LA(10)+LA(210,0,240)_x000D_ .MA=MA(10)+MA(210,0,240)_x000D_ .EQ=EQ(10)+EQ(210,0,240)_x000D_ | AA29: EQ+ = | AB29: =(내역서!H29+내역서!J29+내역서!L29)*10/100 -> 42804273 | AC29: EQ = | AD29: =$AB29 -> 42804273 | CC29: .
A30: Ⅶ. 부가 가치세 | B30: 10% | C30: 1 | D30: 식 | E30: =G30+I30+K30 -> 0 | F30: =H30+J30+L30 -> 42804272 | H30: 0 | J30: 0 | L30: =TRUNC(((H29+J29+L29)*10/100),0) -> 42804272 | P30: 260 | R30: F | X30: .EQ=TOT(250,0,250)*10/100_x000D_ | AA30: MA+ = | AB30: =(내역서!H29+내역서!H30) -> 100629472 | AC30: MA = | AD30: =$AB30 -> 100629472 | CC30: .
A31: Ⅷ. 도 급 금 액 | C31: 1 | D31: 식 | E31: =G31+I31+K31 -> 0 | F31: =H31+J31+L31 -> 470847000 | H31: =TRUNC((H29+H30),0) -> 100629472 | J31: =TRUNC((J29+J30),0) -> 182637931 | L31: =TRUNC((L29+L30),0) -> 187579597 | P31: 270 | Q31: * | R31: F | X31: .MA=MA(250,0,260)_x000D_ .LA=LA(250,0,260)_x000D_ .EQ=EQ(250,0,260)_x000D_ | AA31: LA+ = | AB31: =(내역서!J29+내역서!J30) -> 182637931 | AC31: LA = | AD31: =$AB31 -> 182637931 | CC31: .
E32: =G32+I32+K32 -> 0 | F32: =H32+J32+L32 -> 0 | H32: 0 | J32: 0 | L32: 0 | P32: 280 | Q32: S | AA32: EQ+ = | AB32: =(내역서!L29+내역서!L30) -> 187579597 | AC32: EQ = | AD32: =$AB32 -> 187579597
A33: 가. 직접공사비 | C33: 1 | D33: 식 | F33: =H33+J33+L33 -> 264443469 | H33: =TRUNC(H34,0) -> 100629472 | J33: =TRUNC(J34,0) -> 148891714 | L33: =TRUNC(L34,0) -> 14922283 | O33: ASY30-10
A34: 1. 경부선 왜관~신동 | C34: 1 | D34: 식 | E34: =G34+I34+K34 -> 264443469 | F34: =H34+J34+L34 -> 264443469 | G34: =H36 -> 100629472 | H34: =TRUNC(G34*C34,0) -> 100629472 | I34: =J36 -> 148891714 | J34: =TRUNC(I34*C34,0) -> 148891714 | K34: =L36 -> 14922283 | L34: =TRUNC(K34*C34,0) -> 14922283 | P34: 10 | R34: ASY30-10-10 | BJ34: =HYPERLINK("#내역서!A36","ASY30-10-10 →") -> ASY30-10-10 →
E35: =G35+I35+K35 -> 0 | F35: =H35+J35+L35 -> 0 | H35: 0 | J35: 0 | L35: 0 | P35: 70 | Q35: S
A36: 1. 경부선 왜관~신동 | C36: 1 | D36: 식 | F36: =H36+J36+L36 -> 264443469 | H36: =TRUNC(SUM(Z36:Z37),0) -> 100629472 | J36: =TRUNC(SUM(AA36:AA37),0) -> 148891714 | L36: =TRUNC(SUM(AB36:AB37),0) -> 14922283 | O36: ASY30-10-10 | Z36: =H38+H39+H40+H41+H42+H43+H45+H46+H47+H48+H49+H50+H51+H52+H53+H54+H56+H57+H58+H59+H60+H62+H63+H64+H65+H66+H68+H69+H70+H71+H72+H73+H76+H77+H78+H80+H81 -> 89711776 | AA36: =J38+J39+J40+J41+J42+J43+J45+J46+J47+J48+J49+J50+J51+J52+J53+J54+J56+J57+J58+J59+J60+J62+J63+J64+J65+J66+J68+J69+J70+J71+J72+J73+J76+J77+J78+J80+J81 -> 141460424 | AB36: =L38+L39+L40+L41+L42+L43+L45+L46+L47+L48+L49+L50+L51+L52+L53+L54+L56+L57+L58+L59+L60+L62+L63+L64+L65+L66+L68+L69+L70+L71+L72+L73+L76+L77+L78+L80+L81 -> 9470280
A37: 1-1. 토공 | E37: =G37+I37+K37 -> 0 | F37: =H37+J37+L37 -> 2183115 | H37: =TRUNC(H38+H39+H40+H41+H42+H43,0) -> 495597 | J37: =TRUNC(J38+J39+J40+J41+J42+J43,0) -> 1304827 | L37: =TRUNC(L38+L39+L40+L41+L42+L43,0) -> 382691 | P37: 10 | Z37: =H82+H83+H85+H86+H87+H88+H90+H92+H93 -> 10917696 | AA37: =J82+J83+J85+J86+J87+J88+J90+J92+J93 -> 7431290 | AB37: =L82+L83+L85+L86+L87+L88+L90+L92+L93 -> 5452003 | CC37: .
A38: 기계터파기 | B38: 보통토사,H=5m이하,Type-Ⅲ | C38: 43 | D38: m3 | E38: =G38+I38+K38 -> 4339 | F38: =H38+J38+L38 -> 186577 | G38: =일위대가목록!F24 -> 868 | H38: =TRUNC(G38*C38,0) -> 37324 | I38: =일위대가목록!G24 -> 2485 | J38: =TRUNC(I38*C38,0) -> 106855 | K38: =일위대가목록!H24 -> 986 | L38: =TRUNC(K38*C38,0) -> 42398 | M38: #.22 | N38: ●25상_품셈신설 | P38: 32 | R38: K0120101R3 | T38: F | BJ38: =HYPERLINK("#일위대가목록!A24","K0120101R3 →") -> K0120101R3 → | CC38: ....
A39: 되메우기 및 다짐 | B39: 토사,플레이트콤팩터1.5Ton | C39: 15 | D39: m3 | E39: =G39+I39+K39 -> 34032 | F39: =H39+J39+L39 -> 510480 | G39: =일위대가목록!F25 -> 764 | H39: =TRUNC(G39*C39,0) -> 11460 | I39: =일위대가목록!G25 -> 33033 | J39: =TRUNC(I39*C39,0) -> 495495 | K39: =일위대가목록!H25 -> 235 | L39: =TRUNC(K39*C39,0) -> 3525 | M39: #.23 | N39: ◇25품셈 | P39: 44 | R39: K0120102A1 | T39: F | BJ39: =HYPERLINK("#일위대가목록!A25","K0120102A1 →") -> K0120102A1 → | CC39: ....
A40: 제초 | C40: 73 | D40: m2 | E40: =G40+I40+K40 -> 1099 | F40: =H40+J40+L40 -> 80227 | G40: =일위대가목록!F26 -> 0 | H40: =TRUNC(G40*C40,0) -> 0 | I40: =일위대가목록!G26 -> 1099 | J40: =TRUNC(I40*C40,0) -> 80227 | K40: =일위대가목록!H26 -> 0 | L40: =TRUNC(K40*C40,0) -> 0 | M40: #.24 | N40: ◇22품셈 | P40: 65 | R40: PJ2A060320 | T40: F | BJ40: =HYPERLINK("#일위대가목록!A26","PJ2A060320 →") -> PJ2A060320 → | CC40: ....
...

Sheet 일위대가목록
A1: 일위대가목록
A2: 공 종 명 | B2: 규 격 | C2: 수 량 | D2: 단 위 | E2: 합 계 | F2: 재 료 비 | G2: 노 무 비 | H2: 경 비 | I2: 비 고 | T2: 재료비 | U2: 노무비 | V2: 경 비 | W2: 합 계 | Y2: 비교검토
A3: #1 전기철도안전관리자 | B3: 야간(초급기술자(전기분야)) | C3: 1 | D3: 인 | E3: =F3+G3+H3 -> 372648 | F3: =[1]일위대가_산근!C4 -> 0 | G3: =[1]일위대가_산근!D4 -> 0 | H3: =[1]일위대가_산근!E4 -> 372648 | J3: ◐단가수정(대구심사) | K3: K09503A261 | L3: F | T3: 0 | U3: 0 | V3: 372648 | W3: 372648 | Y3: =EXACT($E3,$W3) -> TRUE | AA3: =HYPERLINK("#일위대가_산근!A4","K09503A261 →") -> K09503A261 →
A4: #2 품질시험비 | B4: 토공사및기초공사,성토용흙,함수비 | C4: 1 | D4: 회 | E4: =F4+G4+H4 -> 8506 | F4: =[1]일위대가_산근!C20 -> 0 | G4: =[1]일위대가_산근!D20 -> 0 | H4: =[1]일위대가_산근!E20 -> 8506 | J4: KS F 2306 | K4: K095096A011 | L4: F | T4: 0 | U4: 0 | V4: 8506 | W4: 8506 | Y4: =EXACT($E4,$W4) -> TRUE | AA4: =HYPERLINK("#일위대가_산근!A20","K095096A011 →") -> K095096A011 →
A5: #3 품질시험비 | B5: 토공사및기초공사,성토용흙,입도 | C5: 1 | D5: 회 | E5: =F5+G5+H5 -> 222587 | F5: =[1]일위대가_산근!C83 -> 0 | G5: =[1]일위대가_산근!D83 -> 0 | H5: =[1]일위대가_산근!E83 -> 222587 | J5: KS F 2302 | K5: K095096A012 | L5: F | T5: 0 | U5: 0 | V5: 222587 | W5: 222587 | Y5: =EXACT($E5,$W5) -> TRUE | AA5: =HYPERLINK("#일위대가_산근!A83","K095096A012 →") -> K095096A012 →
A6: #4 품질시험비 | B6: 토공사및기초공사,성토용흙,세립토비율 | C6: 1 | D6: 회 | E6: =F6+G6+H6 -> 35814 | F6: =[1]일위대가_산근!C146 -> 0 | G6: =[1]일위대가_산근!D146 -> 0 | H6: =[1]일위대가_산근!E146 -> 35814 | J6: KS F 2309 | K6: K095096A013 | L6: F | T6: 0 | U6: 0 | V6: 35814 | W6: 35814 | Y6: =EXACT($E6,$W6) -> TRUE | AA6: =HYPERLINK("#일위대가_산근!A146","K095096A013 →") -> K095096A013 →
A7: #5 품질시험비 | B7: 토공사및기초공사,성토용흙,밀도 | C7: 1 | D7: 회 | E7: =F7+G7+H7 -> 56833 | F7: =[1]일위대가_산근!C209 -> 0 | G7: =[1]일위대가_산근!D209 -> 0 | H7: =[1]일위대가_산근!E209 -> 56833 | J7: KS F 2308 | K7: K095096A014 | L7: F | T7: 0 | U7: 0 | V7: 56833 | W7: 56833 | Y7: =EXACT($E7,$W7) -> TRUE | AA7: =HYPERLINK("#일위대가_산근!A209","K095096A014 →") -> K095096A014 →
A8: #6 품질시험비 | B8: 토공사및기초공사,성토용흙,액성한계 | C8: 1 | D8: 회 | E8: =F8+G8+H8 -> 51991 | F8: =[1]일위대가_산근!C272 -> 0 | G8: =[1]일위대가_산근!D272 -> 0 | H8: =[1]일위대가_산근!E272 -> 51991 | J8: KS F 2303 | K8: K095096A015 | L8: F | T8: 0 | U8: 0 | V8: 51991 | W8: 51991 | Y8: =EXACT($E8,$W8) -> TRUE | AA8: =HYPERLINK("#일위대가_산근!A272","K095096A015 →") -> K095096A015 →
A9: #7 품질시험비 | B9: 토공사및기초공사,성토용흙,소성한계 | C9: 1 | D9: 회 | E9: =F9+G9+H9 -> 27008 | F9: =[1]일위대가_산근!C335 -> 0 | G9: =[1]일위대가_산근!D335 -> 0 | H9: =[1]일위대가_산근!E335 -> 27008 | J9: KS F 2303 | K9: K095096A016 | L9: F | T9: 0 | U9: 0 | V9: 27008 | W9: 27008 | Y9: =EXACT($E9,$W9) -> TRUE | AA9: =HYPERLINK("#일위대가_산근!A335","K095096A016 →") -> K095096A016 →
A10: #8 품질시험비 | B10: 토공사및기초공사,성토용흙,노상토지지력비(CBR) | C10: 1 | D10: 회 | E10: =F10+G10+H10 -> 387992 | F10: =[1]일위대가_산근!C398 -> 0 | G10: =[1]일위대가_산근!D398 -> 0 | H10: =[1]일위대가_산근!E398 -> 387992 | J10: KS F 2320 | K10: K095096A017 | L10: F | T10: 0 | U10: 0 | V10: 387992 | W10: 387992 | Y10: =EXACT($E10,$W10) -> TRUE | AA10: =HYPERLINK("#일위대가_산근!A398","K095096A017 →") -> K095096A017 →
A11: #9 품질시험비 | B11: 토공사및기초공사,성토용흙,다짐 | C11: 1 | D11: 회 | E11: =F11+G11+H11 -> 208059 | F11: =[1]일위대가_산근!C461 -> 0 | G11: =[1]일위대가_산근!D461 -> 0 | H11: =[1]일위대가_산근!E461 -> 208059 | J11: KS F 2312 | K11: K095096A018 | L11: F | T11: 0 | U11: 0 | V11: 208059 | W11: 208059 | Y11: =EXACT($E11,$W11) -> TRUE | AA11: =HYPERLINK("#일위대가_산근!A461","K095096A018 →") -> K095096A018 →
A12: #10 품질시험비 | B12: 철근콘크리트공사,굳지아니한콘크리트(레미콘포함),온도 | C12: 1 | D12: 회 | E12: =F12+G12+H12 -> 9853 | F12: =[1]일위대가_산근!C524 -> 0 | G12: =[1]일위대가_산근!D524 -> 0 | H12: =[1]일위대가_산근!E524 -> 9853 | J12: 온도계에 의함 | K12: K095097E013 | L12: F | T12: 0 | U12: 0 | V12: 9853 | W12: 9853 | Y12: =EXACT($E12,$W12) -> TRUE | AA12: =HYPERLINK("#일위대가_산근!A524","K095097E013 →") -> K095097E013 →
A13: #11 품질시험비 | B13: 철근콘크리트공사,굳지아니한콘크리트(레미콘포함),슬럼프 | C13: 1 | D13: 회 | E13: =F13+G13+H13 -> 2188 | F13: =[1]일위대가_산근!C587 -> 0 | G13: =[1]일위대가_산근!D587 -> 0 | H13: =[1]일위대가_산근!E587 -> 2188 | J13: KS F 2402 _x000D_ 또는 KS F 2594 | K13: K095097E014 | L13: F | T13: 0 | U13: 0 | V13: 2188 | W13: 2188 | Y13: =EXACT($E13,$W13) -> TRUE | AA13: =HYPERLINK("#일위대가_산근!A587","K095097E014 →") -> K095097E014 →
A14: #12 품질시험비 | B14: 철근콘크리트공사,굳지아니한콘크리트(레미콘포함),공기량 | C14: 1 | D14: 회 | E14: =F14+G14+H14 -> 11430 | F14: =[1]일위대가_산근!C654 -> 0 | G14: =[1]일위대가_산근!D654 -> 0 | H14: =[1]일위대가_산근!E654 -> 11430 | J14: KS F 2421 _x000D_ 또는 KS F 2409 또는 KS F 2 | K14: K095097E015 | L14: F | T14: 0 | U14: 0 | V14: 11430 | W14: 11430 | Y14: =EXACT($E14,$W14) -> TRUE | AA14: =HYPERLINK("#일위대가_산근!A654","K095097E015 →") -> K095097E015 →
A15: #13 품질시험비 | B15: 철근콘크리트공사,굳지아니한콘크리트(레미콘포함),염화물함유량 | C15: 1 | D15: 회 | E15: =F15+G15+H15 -> 10562 | F15: =[1]일위대가_산근!C721 -> 0 | G15: =[1]일위대가_산근!D721 -> 0 | H15: =[1]일위대가_산근!E721 -> 10562 | J15: KS F 4009 부속서 A | K15: K095097E017 | L15: F | T15: 0 | U15: 0 | V15: 10562 | W15: 10562 | Y15: =EXACT($E15,$W15) -> TRUE | AA15: =HYPERLINK("#일위대가_산근!A721","K095097E017 →") -> K095097E017 →
A16: #14 품질시험비 | B16: 철근콘크리트공사,굳은콘크리트(레미콘포함),압축강도(3개한조) | C16: 1 | D16: 회 | E16: =F16+G16+H16 -> 8255 | F16: =[1]일위대가_산근!C788 -> 0 | G16: =[1]일위대가_산근!D788 -> 0 | H16: =[1]일위대가_산근!E788 -> 8255 | J16: KS F 2403, KS F 2405 | K16: K095097F011 | L16: F | T16: 0 | U16: 0 | V16: 8255 | W16: 8255 | Y16: =EXACT($E16,$W16) -> TRUE | AA16: =HYPERLINK("#일위대가_산근!A788","K095097F011 →") -> K095097F011 →
A17: #15 품질시험비 | B17: 철근콘크리트공사,굳은콘크리트(레미콘포함),공시체제작 | C17: 1 | D17: 회 | E17: =F17+G17+H17 -> 43217 | F17: =[1]일위대가_산근!C853 -> 0 | G17: =[1]일위대가_산근!D853 -> 0 | H17: =[1]일위대가_산근!E853 -> 43217 | K17: K095097F012 | L17: F | T17: 0 | U17: 0 | V17: 43217 | W17: 43217 | Y17: =EXACT($E17,$W17) -> TRUE | AA17: =HYPERLINK("#일위대가_산근!A853","K095097F012 →") -> K095097F012 →
A18: #16 안전점검비 | B18: 정기안전점검비(옹벽) | C18: 1 | D18: PS | E18: =F18+G18+H18 -> 4178625 | F18: =[1]일위대가_산근!C918 -> 0 | G18: =[1]일위대가_산근!D918 -> 0 | H18: =[1]일위대가_산근!E918 -> 4178625 | J18: 왜관~신동 | K18: K09600A230 | L18: F | T18: 0 | U18: 0 | V18: 4178625 | W18: 4178625 | Y18: =EXACT($E18,$W18) -> TRUE | AA18: =HYPERLINK("#일위대가_산근!A918","K09600A230 →") -> K09600A230 →
A19: #17 장비유도원 | B19: 주간 | C19: 1 | D19: 인 | E19: =F19+G19+H19 -> 172698 | F19: =[1]일위대가_산근!C950 -> 0 | G19: =[1]일위대가_산근!D950 -> 172698 | H19: =[1]일위대가_산근!E950 -> 0 | K19: K09503B30 | L19: F | T19: 0 | U19: 172698 | V19: 0 | W19: 172698 | Y19: =EXACT($E19,$W19) -> TRUE | AA19: =HYPERLINK("#일위대가_산근!A950","K09503B30 →") -> K09503B30 →
A20: #18 교통통제원 | B20: 주간 | C20: 1 | D20: 인 | E20: =F20+G20+H20 -> 176930 | F20: =[1]일위대가_산근!C963 -> 0 | G20: =[1]일위대가_산근!D963 -> 176930 | H20: =[1]일위대가_산근!E963 -> 0 | J20: ☞ | K20: K09503B10 | L20: F | T20: 0 | U20: 176930 | V20: 0 | W20: 176930 | Y20: =EXACT($E20,$W20) -> TRUE | AA20: =HYPERLINK("#일위대가_산근!A963","K09503B10 →") -> K09503B10 →
A21: #19 열차접근경보앱 | B21: 임대,6개월이상(4대) | C21: 1 | D21: 개월 | E21: =F21+G21+H21 -> 145092 | F21: =[1]일위대가_산근!C976 -> 0 | G21: =[1]일위대가_산근!D976 -> 0 | H21: =[1]일위대가_산근!E976 -> 145092 | J21: ◇견적 | K21: PJAC020102 | L21: F | T21: 0 | U21: 0 | V21: 145092 | W21: 145092 | Y21: =EXACT($E21,$W21) -> TRUE | AA21: =HYPERLINK("#일위대가_산근!A976","PJAC020102 →") -> PJAC020102 →
A22: #20 건설폐기물운반비 | B22: 30km이하(상차비제외) | C22: 1 | D22: ton | E22: =F22+G22+H22 -> 16450 | F22: =[1]일위대가_산근!C990 -> 0 | G22: =[1]일위대가_산근!D990 -> 0 | H22: =[1]일위대가_산근!E990 -> 16450 | J22: ◇KR21 | K22: ZZA0180121 | L22: F | T22: 0 | U22: 0 | V22: 16450 | W22: 16450 | Y22: =EXACT($E22,$W22) -> TRUE | AA22: =HYPERLINK("#일위대가_산근!A990","ZZA0180121 →") -> ZZA0180121 →
A23: #21 건설폐기물처리비 | B23: 폐콘크리트 | C23: 1 | D23: ton | E23: =F23+G23+H23 -> 31142 | F23: =[1]일위대가_산근!C1002 -> 0 | G23: =[1]일위대가_산근!D1002 -> 0 | H23: =[1]일위대가_산근!E1002 -> 31142 | J23: ◇KR21 | K23: ZZA0180101 | L23: F | T23: 0 | U23: 0 | V23: 31142 | W23: 31142 | Y23: =EXACT($E23,$W23) -> TRUE | AA23: =HYPERLINK("#일위대가_산근!A1002","ZZA0180101 →") -> ZZA0180101 →
A24: #22 기계터파기 | B24: 보통토사,H=5m이하,Type-Ⅲ | C24: 1 | D24: m3 | E24: =F24+G24+H24 -> 4339 | F24: =[1]일위대가_산근!C1016 -> 868 | G24: =[1]일위대가_산근!D1016 -> 2485 | H24: =[1]일위대가_산근!E1016 -> 986 | J24: ●25상_품셈신설 | K24: K0120101R3 | L24: F | T24: 868 | U24: 2485 | V24: 986 | W24: 4339 | Y24: =EXACT($E24,$W24) -> TRUE | AA24: =HYPERLINK("#일위대가_산근!A1016","K0120101R3 →") -> K0120101R3 →
A25: #23 되메우기 및 다짐 | B25: 토사,플레이트콤팩터1.5Ton | C25: 1 | D25: m3 | E25: =F25+G25+H25 -> 34032 | F25: =[1]일위대가_산근!C1048 -> 764 | G25: =[1]일위대가_산근!D1048 -> 33033 | H25: =[1]일위대가_산근!E1048 -> 235 | J25: ◇25품셈 | K25: K0120102A1 | L25: F | T25: 764 | U25: 33033 | V25: 235 | W25: 34032 | Y25: =EXACT($E25,$W25) -> TRUE | AA25: =HYPERLINK("#일위대가_산근!A1048","K0120102A1 →") -> K0120102A1 →
A26: #24 제초 | C26: 1 | D26: m2 | E26: =F26+G26+H26 -> 1099 | F26: =[1]일위대가_산근!C1082 -> 0 | G26: =[1]일위대가_산근!D1082 -> 1099 | H26: =[1]일위대가_산근!E1082 -> 0 | J26: ◇22품셈 | K26: PJ2A060320 | L26: F | T26: 0 | U26: 1099 | V26: 0 | W26: 1099 | Y26: =EXACT($E26,$W26) -> TRUE | AA26: =HYPERLINK("#일위대가_산근!A1082","PJ2A060320 →") -> PJ2A060320 →
A27: #25 벌개제근 | B27: 입목본수도,50∼60% | C27: 1 | D27: m2 | E27: =F27+G27+H27 -> 506 | F27: =[1]일위대가_산근!C1102 -> 37 | G27: =[1]일위대가_산근!D1102 -> 404 | H27: =[1]일위대가_산근!E1102 -> 65 | J27: ◇KR21 | K27: K0110101A0 | L27: F | T27: 37 | U27: 404 | V27: 65 | W27: 506 | Y27: =EXACT($E27,$W27) -> TRUE | AA27: =HYPERLINK("#일위대가_산근!A1102","K0110101A0 →") -> K0110101A0 →
A28: #26 순성토운반(굴삭기0.7㎥) | B28: 토사,ℓ=30.0km,덤프트럭24ton | C28: 1 | D28: m3 | E28: =F28+G28+H28 -> 23536 | F28: =[1]일위대가_산근!C1136 -> 7550 | G28: =[1]일위대가_산근!D1136 -> 10309 | H28: =[1]일위대가_산근!E1136 -> 5677 | J28: ◇KR21-★운반거리 | K28: K0110107C23 | L28: F | T28: 7550 | U28: 10309 | V28: 5677 | W28: 23536 | Y28: =EXACT($E28,$W28) -> TRUE | AA28: =HYPERLINK("#일위대가_산근!A1136","K0110107C23 →") -> K0110107C23 →
A29: #27 사토처리(터파기-굴삭기0.7㎥) | B29: 토사,ℓ=30km,덤프트럭24ton | C29: 1 | D29: m3 | E29: =F29+G29+H29 -> 23489 | F29: =[1]일위대가_산근!C1207 -> 7549 | G29: =[1]일위대가_산근!D1207 -> 10278 | H29: =[1]일위대가_산근!E1207 -> 5662 | J29: ◇KR21-★운반거리 | K29: K0110108F2 | L29: F | T29: 7549 | U29: 10278 | V29: 5662 | W29: 23489 | Y29: =EXACT($E29,$W29) -> TRUE | AA29: =HYPERLINK("#일위대가_산근!A1207","K0110108F2 →") -> K0110108F2 →
A30: #28 콘크리트포장 | B30: 표층,인력포설,B-Type,T=20cm | C30: 1 | D30: m3 | E30: =F30+G30+H30 -> 30395 | F30: =[1]일위대가_산근!C1274 -> 54 | G30: =[1]일위대가_산근!D1274 -> 28897 | H30: =[1]일위대가_산근!E1274 -> 1444 | J30: ▣24상품셈개정 | K30: K01504010A11 | L30: F | T30: 54 | U30: 28897 | V30: 1444 | W30: 30395 | Y30: =EXACT($E30,$W30) -> TRUE | AA30: =HYPERLINK("#일위대가_산근!A1274","K01504010A11 →") -> K01504010A11 →
A31: #29 유로폼 | B31: 3회,보통,H=0∼7m이하 | C31: 1 | D31: m2 | E31: =F31+G31+H31 -> 42137 | F31: =[1]일위대가_산근!C1315 -> 4639 | G31: =[1]일위대가_산근!D1315 -> 36406 | H31: =[1]일위대가_산근!E1315 -> 1092 | J31: ▣26상_품셈보완 | K31: K01203062B | L31: F | T31: 4639 | U31: 36406 | V31: 1092 | W31: 42137 | Y31: =EXACT($E31,$W31) -> TRUE | AA31: =HYPERLINK("#일위대가_산근!A1315","K01203062B →") -> K01203062B →
A32: #30 와이어메시깔기 | B32: #8-150×150(콘크리트포장용) | C32: 1 | D32: m2 | E32: =F32+G32+H32 -> 2302 | F32: =[1]일위대가_산근!C1373 -> 2302 | G32: =[1]일위대가_산근!D1373 -> 0 | H32: =[1]일위대가_산근!E1373 -> 0 | J32: ◇KR21 | K32: K0150401CA | L32: F | T32: 2302 | U32: 0 | V32: 0 | W32: 2302 | Y32: =EXACT($E32,$W32) -> TRUE | AA32: =HYPERLINK("#일위대가_산근!A1373","K0150401CA →") -> K0150401CA →
A33: #31 비닐시트깔기 | B33: P.E 필름,T=0.1mm(콘크리트포장) | C33: 1 | D33: m2 | E33: =F33+G33+H33 -> 647 | F33: =[1]일위대가_산근!C1401 -> 647 | G33: =[1]일위대가_산근!D1401 -> 0 | H33: =[1]일위대가_산근!E1401 -> 0 | J33: ◇KR21 | K33: K0410303A51 | L33: F | T33: 647 | U33: 0 | V33: 0 | W33: 647 | Y33: =EXACT($E33,$W33) -> TRUE | AA33: =HYPERLINK("#일위대가_산근!A1401","K0410303A51 →") -> K0410303A51 →
A34: #32 비닐양생 | B34: P.E 필름,T=0.1mm(콘크리트포장용) | C34: 1 | D34: m2 | E34: =F34+G34+H34 -> 647 | F34: =[1]일위대가_산근!C1420 -> 647 | G34: =[1]일위대가_산근!D1420 -> 0 | H34: =[1]일위대가_산근!E1420 -> 0 | J34: ◇KR21 | K34: K0150401D1 | L34: F | T34: 647 | U34: 0 | V34: 0 | W34: 647 | Y34: =EXACT($E34,$W34) -> TRUE | AA34: =HYPERLINK("#일위대가_산근!A1420","K0150401D1 →") -> K0150401D1 →
A35: #33 신축이음설치 | B35: 합판,T=12mm | C35: 1 | D35: m2 | E35: =F35+G35+H35 -> 15751 | F35: =[1]일위대가_산근!C1439 -> 11348 | G35: =[1]일위대가_산근!D1439 -> 4317 | H35: =[1]일위대가_산근!E1439 -> 86 | J35: ◇24품셈 | K35: K013001A12 | L35: F | T35: 11348 | U35: 4317 | V35: 86 | W35: 15751 | Y35: =EXACT($E35,$W35) -> TRUE | AA35: =HYPERLINK("#일위대가_산근!A1439","K013001A12 →") -> K013001A12 →
A36: #34 충진재채움 | B36: 실런트,12×12mm | C36: 1 | D36: m | E36: =F36+G36+H36 -> 6562 | F36: =[1]일위대가_산근!C1465 -> 975 | G36: =[1]일위대가_산근!D1465 -> 5587 | H36: =[1]일위대가_산근!E1465 -> 0 | J36: ◇KR21 | K36: K013005A20 | L36: F | T36: 975 | U36: 5587 | V36: 0 | W36: 6562 | Y36: =EXACT($E36,$W36) -> TRUE | AA36: =HYPERLINK("#일위대가_산근!A1465","K013005A20 →") -> K013005A20 →
A37: #35 보조기층포설 | B37: 소규모,인력 | C37: 1 | D37: m3 | E37: =F37+G37+H37 -> 48788 | F37: =[1]일위대가_산근!C1495 -> 35284 | G37: =[1]일위대가_산근!D1495 -> 11687 | H37: =[1]일위대가_산근!E1495 -> 1817 | J37: 대구 | K37: K0150401F13 | L37: F | T37: 35284 | U37: 11687 | V37: 1817 | W37: 48788 | Y37: =EXACT($E37,$W37) -> TRUE | AA37: =HYPERLINK("#일위대가_산근!A1495","K0150401F13 →") -> K0150401F13 →
A38: #36 수축줄눈 | B38: 콘크리트포장 | C38: 1 | D38: m | E38: =F38+G38+H38 -> 6282 | F38: =[1]일위대가_산근!C1557 -> 3122 | G38: =[1]일위대가_산근!D1557 -> 3113 | H38: =[1]일위대가_산근!E1557 -> 47 | J38: ◇24품셈 | K38: K0150401E2 | L38: F | T38: 3122 | U38: 3113 | V38: 47 | W38: 6282 | Y38: =EXACT($E38,$W38) -> TRUE | AA38: =HYPERLINK("#일위대가_산근!A1557","K0150401E2 →") -> K0150401E2 →
A39: #37 스틸그레이팅설치 | B39: 2100×1300×50mm | C39: 1 | D39: ea | E39: =F39+G39+H39 -> 497249 | F39: =[1]일위대가_산근!C1631 -> 473571 | G39: =[1]일위대가_산근!D1631 -> 23678 | H39: =[1]일위대가_산근!E1631 -> 0 | K39: KTT01S10 | L39: F | T39: 473571 | U39: 23678 | V39: 0 | W39: 497249 | Y39: =EXACT($E39,$W39) -> TRUE | AA39: =HYPERLINK("#일위대가_산근!A1631","KTT01S10 →") -> KTT01S10 →
A40: #38 바닥콘크리트타설 | B40: Type-Ⅰ,펌프차,무근구조물,슬럼프15cm,양생포함 | C40: 1 | D40: m3 | E40: =F40+G40+H40 -> 20398 | F40: =[1]일위대가_산근!C1651 -> 1675 | G40: =[1]일위대가_산근!D1651 -> 12824 | H40: =[1]일위대가_산근!E1651 -> 5899 | J40: ◐25하_품셈개정 | K40: K01202020A30 | L40: F | T40: 1675 | U40: 12824 | V40: 5899 | W40: 20398 | Y40: =EXACT($E40,$W40) -> TRUE | AA40: =HYPERLINK("#일위대가_산근!A1651","K01202020A30 →") -> K01202020A30 →
...
