Workbook

Sheet 원가
A1: 공 사 원 가 계 산 서
A2: 공 사 명 : | C2: 부천부안초 체육관 옥상방수공사
A3: 비 목 | D3: 금 액 | E3: 구 성 비 | H3: 비 고
B4: 재 료 비 | C4: 직 접 재 료 비
A5: 순 | C5: 간 접 재 료 비
C6: 작업설,부산물(△)
C7: [ 소 계 ]
A8: 공 | B8: 노 | C8: 직 접 노 무 비
B9: 무 | C9: 간 접 노 무 비 | E9: 직접노무비 * | F9: 0.175
B10: 비 | C10: [ 소 계 ]
C11: 운 반 비
C12: 안전관리비 | H12: 안전관리계획 작성 및 가설구조 검토비
E13: 순공사비[일반,이윤,부가가치세제외]+지급자재* | H13: 안전점검비
A14: 사 | B14: 경 | C14: 기 계 경 비
C15: 산 재 보 험 료 | E15: 노무비 * | F15: 0.0356
C16: 고 용 보 험 료 | E16: 노무비 * | F16: 0.0101
C17: 석면분담금 | E17: 노무비 * | F17: 6e-05
C18: 임금채권부담금 | E18: 노무비 * | F18: 0.0009
C19: 건설폐기물처리비
C20: 퇴직 공제 부금비 | E20: 직접노무비 * | F20: 0 | H20: 공사금액 1억원이상 건설공사
C21: 건강보험료 | E21: 직접노무비 * | F21: 0 | H21: 1개월이상공사적용
C22: 노인장기요양보험료 | E22: 건강보험료 * | F22: 0 | H22: 1개월이상공사적용
A23: 원 | C23: 연금보험료 | E23: 직접노무비 * | F23: 0 | H23: 1개월이상공사적용
C24: 품질시험비
C25: 공사이행보증수수료
C26: 건설하도급대금 지급보증서발급수수료 | E26: 직접공사비 * | F26: 0.00081 | H26: 직접공사비(재료비+직접노무비+경비(기계경비,폐기물처리비,안전관리비,품질관리비포함))
C27: 건설기계대여대금 지급보증서발급수수료 | E27: 직접공사비 * | F27: 0.001 | H27: 직접공사비(재료비+직접노무비+경비(기계경비,폐기물처리비,안전관리비,품질관리비포함))
C28: 산업안전보건관리비 | E28: (재료비+직접노무비) * | F28: 0.0311
E29: b경우:(재료비+직접노무비) * | F29: 0.0311 | G29: *1.2
A30: 가 | B30: 비 | C30: 기 타 경 비 | E30: (재료비+노무비) * | F30: 0.05
C31: 환경보전비 | E31: 직접공사비 * | F31: 0.003 | H31: 직접공사비(재료비+직접노무비+경비(기계경비,폐기물처리비,안전관리비,품질관리비포함))
C32: [ 소 계 ]
A33: 계
A34: 일 반 관 리 비 | E34: 계 * | F34: 0.08
A35: 이 윤 | E35: (노무비+경비+일반관리비) * | F35: 0.15 | H35: =-RIGHT(D41,3) -> #VALUE!
A36: 폐기물처리비(100ton미만)
A37: 작업부산물(철거고재)
A39: 공 급 가 액
A40: 부 가 가 치 세 | E40: 공급가액 * | F40: 0.1
A41: 설 계 금 액
A42: 도급자관급자재비 | H42: V.A.T포함,단수정리
A43: 관급자관급자재비 | H43: V.A.T포함,단수정리
H44: 해체계획서 및 감리비
A45: 분담금공사
A46: 총 공 사 비
C48: 순공사비(안전관리비) | D48: =SUM(D7,D10,D11,D12,D14:D27,D28,D30:D31)+D42+D43 -> 0
D50: 연면적 | E50: 1946.87
E51: 5000 | F51: 0.0035
E52: 10000 | F52: 0.0024
D55: 3870745000
D56: =D46 -> 0
D57: =D56-D55 -> -3870745000

Sheet 공종별집계표
A1: 공 종 별 집 계 표
A2: [ 부천부안초 체육관 옥상방수공사 ]
A3: 품 명 | B3: 규 격 | C3: 단위 | D3: 수량 | E3: 재 료 비 | G3: 노 무 비 | I3: 경 비 | K3: 합 계 | M3: 비 고 | N3: 공종코드 | O3: 변수 | P3: 상위공종 | Q3: 공종구분 | R3: 공종레벨 | S3: 공종소계 | T3: 원가계산서 연결금액
E4: 단 가 | F4: 금 액 | G4: 단 가 | H4: 금 액 | I4: 단 가 | J4: 금 액 | K4: 단 가 | L4: 금 액
A5: 부천부안초 체육관 옥상방수공사 | D5: 1 | E5: =F6 -> 0 | F5: =E5*D5 -> 0 | G5: =H6 -> 0 | H5: =G5*D5 -> 0 | I5: =J6 -> 0 | J5: =I5*D5 -> 0 | K5: =E5+G5+I5 -> 0 | L5: =F5+H5+J5 -> 0 | N5: 01 | R5: 1
A6: ▣ 건축공사 | D6: 1 | E6: =F7+F8+F9 -> 0 | F6: =E6*D6 -> 0 | G6: =H7+H8+H9 -> 0 | H6: =G6*D6 -> 0 | I6: =J7+J8+J9 -> 0 | J6: =I6*D6 -> 0 | K6: =E6+G6+I6 -> 0 | L6: =F6+H6+J6 -> 0 | N6: 0101 | P6: 01 | R6: 2
A7: 가 설 공 사 | D7: 1 | E7: =공종별내역서!F27 -> 0 | F7: =E7*D7 -> 0 | G7: =공종별내역서!H27 -> 0 | H7: =G7*D7 -> 0 | I7: =공종별내역서!J27 -> 0 | J7: =I7*D7 -> 0 | K7: =E7+G7+I7 -> 0 | L7: =F7+H7+J7 -> 0 | N7: 010101 | P7: 0101 | R7: 3
A8: 방 수 공 사 | D8: 1 | E8: =공종별내역서!F51 -> 0 | F8: =E8*D8 -> 0 | G8: =공종별내역서!H51 -> 0 | H8: =G8*D8 -> 0 | I8: =공종별내역서!J51 -> 0 | J8: =I8*D8 -> 0 | K8: =E8+G8+I8 -> 0 | L8: =F8+H8+J8 -> 0 | N8: 010102 | P8: 0101 | R8: 3
A9: 철 거 공 사 | D9: 1 | E9: =공종별내역서!F75 -> 0 | F9: =E9*D9 -> 0 | G9: =공종별내역서!H75 -> 0 | H9: =G9*D9 -> 0 | I9: =공종별내역서!J75 -> 0 | J9: =I9*D9 -> 0 | K9: =E9+G9+I9 -> 0 | L9: =F9+H9+J9 -> 0 | N9: 010103 | P9: 0101 | R9: 3
A10: ▣ 건설폐기물처리비 | D10: 1 | E10: =공종별내역서!F99 -> 0 | F10: =E10*D10 -> 0 | G10: =공종별내역서!H99 -> 0 | H10: =G10*D10 -> 0 | I10: =공종별내역서!J99 -> 0 | J10: =I10*D10 -> 0 | K10: =E10+G10+I10 -> 0 | L10: =F10+H10+J10 -> 0 | M10: 합계제외 | N10: 0102 | Q10: 7 | R10: 2 | T10: =L10*1 -> 0
A27: [ 합 계 ] | F27: =F5 -> 0 | H27: =H5 -> 0 | J27: =J5 -> 0 | L27: =L5 -> 0

Sheet 공종별내역서
A1: [ 부천부안초 체육관 옥상방수공사 ]
A2: 품 명 | B2: 규 격 | C2: 단위 | D2: 수량 | E2: 재 료 비 | G2: 노 무 비 | I2: 경 비 | K2: 합 계 | M2: 비 고 | N2: 품목코드 | O2: 변수 | P2: 설정 | Q2: 공종코드 | R2: 일위 | S2: 단산 | T2: 자재 | U2: 손료적용 | V2: 손료저장 | W2: 적용율 | X2: JUK1 | Y2: JUK2 | Z2: JUK3 | AA2: JUK4 | AB2: JUK5 | AC2: JUK6 | AD2: JUK7 | AE2: JUK8 | AF2: JUK9 | AG2: JUK10 | AH2: JUK11 | AI2: JUK12 | AJ2: JUK13 | AK2: JUK14 | AL2: JUK15 | AM2: JUK16 | AN2: JUK17 | AO2: JUK18 | AP2: JUK19 | AQ2: JUK20 | AR2: 자재구분 | AS2: 공종구분 | AT2: 공종레벨 | AU2: 공종+자재 | AV2: 고유번호
E3: 단 가 | F3: 금 액 | G3: 단 가 | H3: 금 액 | I3: 단 가 | J3: 금 액 | K3: 단 가 | L3: 금 액
A4: 가 설 공 사 | Q4: 010101
A5: 건축물 현장정리 | B5: 마무리용 | C5: M2 | D5: 496 | M5: 호표 1 | N5: 515BB271585C26A1CC65B3177F888B | Q5: 010101 | R5: T | S5: F | T5: F | AU5: 010101515BB271585C26A1CC65B3177F888B | AV5: 5
A6: 합판보양 | B6: 12mm | C6: M2 | D6: 79 | M6: 호표 2 | N6: 515BB271585FE6154B357613A91541 | Q6: 010101 | R6: T | S6: F | T6: F | AU6: 010101515BB271585FE6154B357613A91541 | AV6: 36
A7: 작업장비 | B7: 고소작업차 3ton | C7: 일 | D7: 5 | M7: 호표 3 | N7: 515BB271585C26A1CC65B3177F888F | Q7: 010101 | R7: T | S7: F | T7: F | AU7: 010101515BB271585C26A1CC65B3177F888F | AV7: 7
Q8: 010101
Q9: 010101
Q10: 010101
Q11: 010101
Q12: 010101
Q13: 010101
Q14: 010101
Q15: 010101
Q16: 010101
Q17: 010101
Q18: 010101
Q19: 010101
... Q26: 010101
A27: [ 합 계 ] | N27: TOTAL
A28: 방 수 공 사 | Q28: 010102
A29: 우레탄도막방수 | B29: 바닥1mm | C29: M2 | D29: 11 | M29: 호표 4 | N29: 515B22515C68B61A5855BAB7E24D0C | Q29: 010102 | R29: T | S29: F | T29: F | AU29: 010102515B22515C68B61A5855BAB7E24D0C | AV29: 9
A30: 우레탄도막방수 | B30: 벽1mm | C30: M2 | D30: 83 | M30: 호표 5 | N30: 515B22515C68B61A5855BAB7E24D0F | Q30: 010102 | R30: T | S30: F | T30: F | AU30: 010102515B22515C68B61A5855BAB7E24D0F | AV30: 10
A31: 복합시트방수(노출) | B31: 바닥2.5mm | C31: M2 | D31: 485 | M31: 호표 6 | N31: 515B22515C68B61A5855BAB7E24D0E | Q31: 010102 | R31: T | S31: F | T31: F | AU31: 010102515B22515C68B61A5855BAB7E24D0E | AV31: 11
A32: 외벽발수제도포 | B32: 2회바름(프라이머) | C32: M2 | D32: 8 | M32: 호표 7 | N32: 515B22515B41A67DB6E5F42E2F8A3F | Q32: 010102 | R32: T | S32: F | T32: F | AU32: 010102515B22515B41A67DB6E5F42E2F8A3F | AV32: 13
A33: 수밀코킹(실리콘) | B33: 삼각, 10mm (보수, 두겁대 포함) | C33: M | D33: 241 | M33: 호표 8 | N33: 515B22515995F68861254DAF48FCAB | Q33: 010102 | R33: T | S33: F | T33: F | AU33: 010102515B22515995F68861254DAF48FCAB | AV33: 14
A34: 수밀코킹(실리콘) | B34: 삼각, 10mm (창호 외부판넬 주위) | C34: M | D34: 687 | M34: 호표 9 | N34: 515B22515995F6B5F7653A12E0EB22 | Q34: 010102 | R34: T | S34: F | T34: F | AU34: 010102515B22515995F6B5F7653A12E0EB22 | AV34: 15
Q35: 010102
Q36: 010102
Q37: 010102
Q38: 010102
Q39: 010102
Q40: 010102
Q41: 010102
Q42: 010102
Q43: 010102
Q44: 010102
Q45: 010102
Q46: 010102
... Q50: 010102
A51: [ 합 계 ] | N51: TOTAL
A52: 철 거 공 사 | Q52: 010103
A53: 철판철거 | B53: 1500*500 | C53: EA | D53: 1 | M53: 호표 10 | N53: 515AB29151F6966900C5D983731C13 | Q53: 010103 | R53: T | S53: F | T53: F | AU53: 010103515AB29151F6966900C5D983731C13 | AV53: 21
A54: 기존방수층 제거 및 바탕처리 | B54: 바닥 | C54: M2 | D54: 496 | M54: 호표 11 | N54: 515AB2915285B6A0D5559A7BB4805E | Q54: 010103 | R54: T | S54: F | T54: F | AU54: 010103515AB2915285B6A0D5559A7BB4805E | AV54: 23
A55: 기존방수층 제거 및 바탕처리 | B55: 수직부 | C55: M2 | D55: 83 | M55: 호표 12 | N55: 515AB2915285B6A0D5559A7BB48312 | Q55: 010103 | R55: T | S55: F | T55: F | AU55: 010103515AB2915285B6A0D5559A7BB48312 | AV55: 24
A56: 코킹철거 | C56: M | D56: 928 | M56: 호표 13 | N56: 515AB2915285B6A0D5559A7BB48314 | Q56: 010103 | R56: T | S56: F | T56: F | AU56: 010103515AB2915285B6A0D5559A7BB48314 | AV56: 25
Q57: 010103
Q58: 010103
Q59: 010103
Q60: 010103
Q61: 010103
Q62: 010103
Q63: 010103
Q64: 010103
Q65: 010103
Q66: 010103
Q67: 010103
Q68: 010103
... Q74: 010103
A75: [ 합 계 ] | N75: TOTAL
A76: ▣ 건설폐기물처리비 | Q76: 0102
A77: 혼합건설폐기물 | B77: 그 밖의 건설폐기물에 가연성 5% 이하 혼합 | C77: TON | D77: 3 | N77: 5116F281518A263C2FC561B9D3D2F79C432139 | Q77: 0102 | R77: F | S77: F | T77: T | AU77: 01025116F281518A263C2FC561B9D3D2F79C432139 | AV77: 28
A78: 혼합건설폐기물 상차비 | C78: TON | D78: 3 | M78: 부천교육청 | N78: 50EEA271583566A0938538B8A8EC0E9CCD5714 | Q78: 0102 | R78: F | S78: F | T78: T | AU78: 010250EEA271583566A0938538B8A8EC0E9CCD5714 | AV78: 39
A79: 혼합건설폐기물 운반비 | B79: 24톤 암롤트럭, 30km | C79: TON | D79: 3 | N79: 5116F281518A263C2FC561B9D3D39D7FC385A1 | Q79: 0102 | R79: F | S79: F | T79: T | AU79: 01025116F281518A263C2FC561B9D3D39D7FC385A1 | AV79: 33
Q80: 0102
Q81: 0102
Q82: 0102
Q83: 0102
Q84: 0102
Q85: 0102
Q86: 0102
Q87: 0102
Q88: 0102
Q89: 0102
Q90: 0102
Q91: 0102
... Q98: 0102
A99: [ 합 계 ] | N99: TOTAL
