Workbook

Sheet 원가계산서
A1: 공 사 원 가 계 산 서
A2: =+"공사명: "&#REF! -> #REF!
A3: 비목 | B3: 구 분 | D3: 구 성 비 | E3: 금 액 | F3: 비 고
A4: 순 공 사 비 | B4: 재료비 | C4: 직접재료비
C5: 간접재료비
C6: 작업부산물
C7: 소 계
B8: 노무비 | C8: 직접노무비 | H8: 2026. 04.
C9: 간접노무비 | H9: 직접노무비 * | I9: 0.175
C10: 소 계
B11: 경 비 | C11: 산 출 경 비
C12: 산 재 보 험 료 | E12: 754884 | H12: 노 무 비 * | I12: 0.0356
C13: 고 용 보 험 료 | E13: 214166 | H13: 노 무 비 * | I13: 0.0101 | K13: 수식적용
C14: 석면분담금 | H14: 노 무 비 * | I14: 6e-05
C15: 임금채권부담금 | H15: 노 무 비 * | I15: 0.0009
C16: 국민건강보험료 | E16: 648771 | F16: [ 1개월 이상공사 적용 ] | H16: 직접노무비 * | I16: 0.03595 | K16: =INT(K8*$I$16) -> 0
C17: 노인장기요양보험료 | E17: 85248 | F17: [ 1개월 이상공사 적용 ] | H17: 국민건강보험료 * | I17: 0.1314 | K17: =INT(K16*$I$17) -> 0
C18: 국민연금보험료 | E18: 857208 | F18: [ 1개월 이상공사 적용 ] | H18: 직접노무비 * | I18: 0.0475 | K18: =INT(K8*$I$18) -> 0
C19: 산업안전보건관리비 | E19: 902198 | F19: [ 2천만원 이상공사 적용 ] | H19: (재료비 + 직접노무비 + 도급자관급자재) * | I19: 0.0311 | K19: =+INT((K7+K8)*$I$19) -> 0
C20: 퇴직공제부금비 | F20: [ 1억 이상공사 적용 ] | H20: 직접노무비 * | I20: 0.023 | K20: =+INT(K8*$I$20) -> 0
C21: 환경보전비 | H21: (재료비 + 직접노무비 + 기계경비) * | I21: 0.003
C22: 기 타 경 비 | H22: (재료비 + 노무비) * | I22: 0.05
C23: 소 계
A24: 합 계
A25: 일반관리비 | H25: 순공사비 * | I25: 0.08
A26: 이 윤 | H26: (노무비 + 경비 + 일반관리비) * | I26: 0.15
A27: 총 원 가
A28: 부가가치세
A29: 총 공 사 비
A30: 결 정 금 액

Sheet 집계
A1: 집 계 표
A2: =+원가계산서!A2 -> #REF!
A3: 품 명 | B3: 규 격 | C3: 단위 | D3: 수량 | E3: 재 료 비 | G3: 노 무 비 | I3: 경 비 | K3: 합 계 | M3: 비 고
E4: 단가 | F4: 금 액 | G4: 단가 | H4: 금 액 | I4: 단가 | J4: 금 액 | K4: 단가 | L4: 금 액
A5: =+내역서!A6 -> 1. 용당8관 환기덕트 및 배관류 이설공사 | C5: 식 | D5: 1 | F5: =+내역서!F42 -> 0 | H5: =+내역서!H42 -> 0 | J5: =+내역서!J42 -> 0 | L5: =F5+H5+J5 -> 0
A6: =+내역서!A44 -> 2. 용당8관 냉매배관 이설공사 | C6: 식 | D6: 1 | F6: =+내역서!F56 -> 0 | H6: =+내역서!H56 -> 0 | J6: =+내역서!J56 -> 0 | L6: =F6+H6+J6 -> 0
A7: =+내역서!A58 -> 3. 용당11관 환기덕트 및 배관류 이설공사 | C7: 식 | D7: 1 | F7: =+내역서!F101 -> 0 | H7: =+내역서!H101 -> 0 | J7: =+내역서!J101 -> 0 | L7: =F7+H7+J7 -> 0
A8: =+내역서!A103 -> 4. 용당11관 냉매배관 이설공사 | C8: 식 | D8: 1 | F8: =+내역서!F115 -> 0 | H8: =+내역서!H115 -> 0 | J8: =+내역서!J115 -> 0 | L8: =F8+H8+J8 -> 0
A9: =+내역서!A117 -> 5. 기타 덕트철거 및 후드캡 교체 등 | C9: 식 | D9: 1 | F9: =+내역서!F124 -> 0 | H9: =+내역서!H124 -> 0 | J9: =+내역서!J124 -> 0 | L9: =F9+H9+J9 -> 0
L10: =F10+H10+J10 -> 0
L11: =F11+H11+J11 -> 0
L12: =F12+H12+J12 -> 0
L13: =F13+H13+J13 -> 0
L14: =F14+H14+J14 -> 0
L15: =F15+H15+J15 -> 0
L16: =F16+H16+J16 -> 0
L17: =F17+H17+J17 -> 0
L18: =F18+H18+J18 -> 0 | O18: 검산
A19: [합 계] | F19: =+SUM(F5:F18) -> 0 | H19: =+SUM(H5:H18) -> 0 | J19: =+SUM(J5:J18) -> 0 | L19: =+SUM(L5:L18) -> 0 | O19: =+IF((F19+H19+J19)-L19,0,"ok") -> ok

Sheet 내역서
A1: 내 역 서
A2: =+원가계산서!A2 -> #REF!
A3: 품 명 | B3: 규 격 | C3: 단위 | D3: 수량 | E3: 재 료 비 | G3: 노 무 비 | I3: 경 비 | K3: 합계 | M3: 비고
E4: 단가 | F4: 금액 | G4: 단가 | H4: 금액 | I4: 단가 | J4: 금액 | K4: 단가 | L4: 금액
D5: =+#REF! -> #REF!
A6: 1. 용당8관 환기덕트 및 배관류 이설공사 | D6: 0
A7: 벽부형환풍기 | B7: D250 | C7: EA | D7: 17
A8: 스파이럴덕트 | B8: D200 | C8: M | D8: 4
A9: 후렉시블덕트 | B9: D200 | C9: 개소 | D9: 14
A10: 후렉시블덕트 | B10: D300 | C10: 개소 | D10: 4
A11: PVC관(Vg1) | B11: D50 | C11: M | D11: 2
A12: PVC관(VG2) | B12: D200 | C12: M | D12: 10
A13: PVC관(VG2) | B13: D300 | C13: M | D13: 4
A14: 강관설치 | B14: D80 | C14: M | D14: 3
A15: PVC관철거(DTS) | B15: D200 | C15: M | D15: 10
A16: PVC관철거(DTS) | B16: D300 | C16: M | D16: 4
A17: 스파이럴덕트철거 | B17: D200 | C17: M | D17: 4
A18: 후렉시블덕트철거 | B18: D200 | C18: 개소 | D18: 14
... A40: 폐기물처리비 | B40: 지정폐기물 | C40: TON | D40: 0.5
D41: 0
A42: [소 계] | D42: 0
D43: 0
A44: 2. 용당8관 냉매배관 이설공사 | D44: 0
A45: 냉매배관 | B45: D10 | C45: M | D45: 10
A46: 냉매배관철거 | B46: D10 | C46: M | D46: 10
A47: 냉매배관보온 | B47: D10*19T | C47: M | D47: 10
A48: 코어(벽체) | B48: D100 | C48: 개소 | D48: 2
A49: 드레인호스설치 | B49: D16 | C49: m | D49: 10
A50: 전원, 통신케이블및CD관설치 | C50: m | D50: 10
A51: 배관함석커버 | C51: EA | D51: 11
A52: 링조인트(동) | B52: D10 | C52: EA | D52: 8
A53: 냉매 | B53: R-410 | C53: kg | D53: 10
A54: 발생재고철 | B54: 동관 | C54: kg | D54: 2
D55: 0
A56: [소 계] | D56: 0
D57: 0
A58: 3. 용당11관 환기덕트 및 배관류 이설공사 | D58: 0
A59: 벽부형환풍기 | B59: D250 | C59: EA | D59: 10
A60: 시로코송풍기(재활용)철거후재설치 | B60: 2HP | C60: EA | D60: 1
A61: 스파이럴덕트 | B61: D100 | C61: M | D61: 4
A62: 스파이럴덕트 | B62: D200 | C62: M | D62: 34
A63: 스파이럴덕트 | B63: D250 | C63: M | D63: 2
A64: 후렉시블덕트 | B64: D100 | C64: 개소 | D64: 4
A65: 후렉시블덕트 | B65: D200 | C65: 개소 | D65: 42
A66: 후렉시블덕트 | B66: D250 | C66: 개소 | D66: 2
A67: PVC관(VG2) | B67: D200 | C67: M | D67: 28
A68: PVC관(VG2) | B68: D250 | C68: M | D68: 12
A69: PVC관철거(DTS) | B69: D200 | C69: M | D69: 28
A70: PVC관철거(DTS) | B70: D250 | C70: M | D70: 12
... A99: 폐기물처리비 | B99: 지정폐기물 | C99: TON | D99: 0.5
D100: 0
A101: [소 계] | D101: 0
D102: 0
A103: 4. 용당11관 냉매배관 이설공사 | D103: 0
A104: 냉매배관 | B104: D10 | C104: M | D104: 45
A105: 냉매배관철거 | B105: D10 | C105: M | D105: 45
A106: 냉매배관보온 | B106: D10*19T | C106: M | D106: 45
A107: 코어(벽체) | B107: D100 | C107: 개소 | D107: 9
A108: 드레인호스설치 | B108: D16 | C108: m | D108: 45
A109: 전원, 통신케이블및CD관설치 | C109: m | D109: 45
A110: 배관함석커버 | C110: EA | D110: 35
A111: 링조인트(동) | B111: D10 | C111: EA | D111: 36
A112: 냉매 | B112: R-410 | C112: kg | D112: 45
A113: 발생재고철 | B113: 동관 | C113: kg | D113: 9
D114: 0
A115: [소 계] | D115: 0
D116: 0
A117: 5. 기타 덕트철거 및 후드캡 교체 등 | D117: 0
A118: 후드캡설치 | B118: D200 | C118: 개소 | D118: 4
A119: 후드캡철거 | B119: D200 | C119: 개소 | D119: 4
A120: 함석닥트철거 | B120: 0.5T | C120: ㎡ | D120: 7
A121: 트럭탑재형크레인 | B121: 10TON | C121: H | D121: 8
A122: 발생재고철 | B122: STS | C122: kg | D122: 15
D123: 0
A124: [소 계] | D124: 0
D125: 0
D126: 0
D127: 0
D128: 0
D129: 0
D130: 0
D131: 0
D132: 0
D133: 0
D134: 0
D135: 0
A137: 삭제금지
