Workbook

Sheet 원가계산서
B1: 원가계산서
B3: 비 목 | E3: 구분 | F3: 금 액 | G3: 요율 | H3: 산 출 근 거
C4: 재 | D4: 직 접 재 료 비 | E4: 1
C5: 료 | D5: 간 접 재 료 비 | E5: 2 | F5: =내역서!L36 -> 0
C6: 비 | D6: 작업설.부산물등(△) | E6: 3
D7: 소 계 | E7: A | F7: =TRUNC((F4+F5+F6),0) -> 0 | H7: (1 + 2 + 3 )
C8: 노 | D8: 직 접 노 무 비 | E8: 4 | F8: =내역서!J36 -> 0
B9: 순 | C9: 무 | D9: 간 접 노 무 비 | E9: 5 | F9: =TRUNC(F8*0.191,0) -> 0 | G9: 19.1% | H9: 4 × 0.191
C10: 비 | D10: 소 계 | E10: B | F10: =TRUNC((F8+F9),0) -> 0 | H10: ( 4 + 5 )
B11: 공 | D11: 산 출 경 비 | E11: 6 | F11: =내역서!N36 -> 0
D12: 산 재 보 험 료 | E12: 7 | F12: =TRUNC(F10*0.0356,0) -> 0 | G12: 3.56% | H12: B × 0.0356
B13: 사 | D13: 고 용 보 험 료 | E13: 8 | F13: =TRUNC(F10*0.0101,0) -> 0 | G13: 1.01% | H13: B × 0.0101
C14: 경 | D14: 건 강 보 험 료 | E14: 9
B15: 원 | D15: 연 금 보 험 료 | E15: 10
D16: 노인장기요양 보 험 료 | E16: 11
B17: 가 | D17: 퇴 직 공 제 부 금 비 | E17: 12
D18: 건설기계대여금지급보증서발급액 | E18: 13 | F18: =TRUNC((F7+F8+F11)*0.0032,0) -> 0 | G18: 0.32% | H18: (A + 4 + 6) × 0.0032
D19: 산 업 안 전 보건관리비 | E19: 14 | F19: =TRUNC((F7+F8)*0.0315*1.2,0) -> 0 | G19: 3.15% | H19: (A + 4) × 0.0315 × 1.2
D20: 산 업 안 전 보건관리비 | E20: 15 | F20: =TRUNC(((F7+F8)+(F35-M35)/1.1)*0.0315,0) -> 0 | G20: 3.15% | H20: ((A + 4) + K/1.1) × 0.0315
D21: 환 경 보 전 비 | E21: 16 | F21: =TRUNC((F7+F8+F11)*0.008,0) -> 0 | G21: 0.8% | H21: (A + 4 + 6) ×0.008
D22: 공 사 이 행 보증수수료 | E22: 17
C23: 비 | D23: 하도급대금지급보증수수료 | E23: 18 | F23: =TRUNC((F7+F8+F11)*0,0) -> 0 | G23: 0% | H23: (A + 4 + 6) ×0.0
D24: 석 면 분 담 금 | E24: 19 | F24: =TRUNC(F10*0.00006,0) -> 0 | G24: 0.006% | H24: B × 0.00006
D25: 임 금 채 권 부 담 금 | E25: 20 | F25: =TRUNC(F10*0.0009,0) -> 0 | G25: 0.09% | H25: B × 0.0009
D26: 기 타 경 비 | E26: 21 | F26: =TRUNC((F7+F10)*0.055,0) -> 0 | G26: 5.5% | H26: (A + B) × 0.055
D27: 소 계 | E27: C | F27: =TRUNC((F11+F12+F13+F14+F15+F16+F17+F18+F19+F21+F22+F23+F24+F25+F26),0) -> 0 | H27: (6:21)
D28: 순 공 사 원 가 | E28: D | F28: =TRUNC((F7+F10+F27),0) -> 0 | H28: (A + B + C)
D29: 일 반 관 리 비 | E29: E | F29: =TRUNC(F28*0.08,0) -> 0 | G29: 8% | H29: D × 0.08
D30: 이 윤 | E30: F | F30: =TRUNC((F10+F27+F29)*0.1497,0)-428 -> -428 | G30: 14.97% | H30: (B + C + E) ×0.1497
D31: 폐 기 물 처 리 비 | E31: G | F31: =내역서!H62 -> 0 | L31: =내역서!H62 -> 0
D32: 총 원 가 | E32: H | F32: =TRUNC((F28+F29+F30+F31),0) -> -428 | H32: (D + E + F + G)
D33: 부 가 가 치 세 | E33: I | F33: =IF(L52<> "0.9",TRUNC(F32*0.1,0),TRUNC(F32*0.1,0)+1) -> -42 | G33: 10% | H33: H × 0.1
D34: 도 급 액 | E34: J | F34: =TRUNC((F32+F33),4) -> -470 | H34: (H + I)
D35: 관 급 자 재 대 | E35: K | F35: =내역서!H57 -> 0 | L35: =내역서!H57 -> 0 | M35: =내역서!H60 -> 0
D36: 총 공 사 비 | E36: L | F36: =TRUNC((F34+F35),0) -> -470 | H36: (J + K)
L52: =RIGHT(F32*0.1,3) -> 2.8

Sheet 내역서
B1: 내역서
B3: 공종 | C3: 품 명 | D3: 규 격 | E3: 수 량 | F3: 단위 | G3: 합 계 | I3: 노 무 비 | K3: 재 료 비 | M3: 경 비 | O3: 비 고
G4: 단 가 | H4: 금 액 | I4: 단 가 | J4: 금 액 | K4: 단 가 | L4: 금 액 | M4: 단 가 | N4: 금 액
B5: A. | C5: 순 공 사 비
B6: 1. | C6: 토 공
B7: 1.1 | C7: 기존구조물철거
B8: a | C8: 무근콘크리트깨기 | D8: T=30cm미만(대형브레이커+0.2㎥) | E8: 11 | F8: ㎥
B9: b | C9: 돌붙임헐기 | D9: T=35cm이하 | E9: 101 | F9: ㎡
B10: c | C10: 폐기물상차 | D10: 백호0.2㎥ | E10: 11 | F10: ㎥
B11: 1.2 | C11: 터파기 | D11: 백호0.2㎥(100%) | E11: 51 | F11: ㎥
B12: 1.3 | C12: 되메우기및다짐(진동롤러) | D12: 백호0.2㎥(100%) | E12: 11 | F12: ㎥
B13: 1.4 | C13: 물푸기 | D13: 펌프+발전기 | E13: 26 | F13: hr
B14: 1.5 | C14: 사토운반(토사) | D14: 덤프15톤+백호0.2㎥(L=3.0km) | E14: 40 | F14: ㎥
B16: 2. | C16: 호안공
B17: 2.1 | C17: 돌붙임
B18: a | C18: 돌붙임 | D18: 찰붙임, T=35cm이하 | E18: 101 | F18: ㎡
B19: b | C19: 레미콘타설(장비사용타설) | D19: 무근구조물(뒷채움) | E19: 14 | F19: ㎥
B20: c | C20: 뒷채움및다짐 | D20: 소형장비 | E20: 10 | F20: ㎥
B21: d | C21: 모르타르 | D21: 1:3(재료비포함) | E21: 1 | F21: ㎥
B22: e | C22: 부직포설치 | E22: 101 | F22: ㎡
B23: f | C23: PVC 배수파이프 | D23: Φ50mm | E23: 91 | F23: M
B24: g | C24: 레미콘타설(장비사용타설) | D24: 무근구조물 | E24: 11 | F24: ㎥
B25: h | C25: 유로폼 | D25: 6회, 간단,0~7m | E25: 27 | F25: ㎡
B26: 2.2 | C26: 채움콘크리트
B27: a | C27: 레미콘타설(장비사용타설) | D27: 무근구조물 | E27: 50 | F27: ㎥
B29: 3. | C29: 부대공
B30: 3.1 | C30: 중기운반
B31: a | C31: 중기운반 | D31: L=28.3km | E31: 1 | F31: 식
B33: 4. | C33: 사급자재대
B34: a | C34: 혼합골재, 청주, 도착도 | D34: D=75mm(보조기층용) | E34: 10 | F34: ㎥
C36: 순 공 사 비
C37: 간접노무비 | E37: 19.1 | F37: %
C38: 산재보험료 | E38: 3.56 | F38: %
C39: 고용보험료 | E39: 1.01 | F39: %
C40: 건설기계대여금지급보증서발급액 | E40: 0.32 | F40: %
C41: 산업안전보건관리비 | E41: 3.15 | F41: %
C42: 환경보전비 | E42: 0.8 | F42: %
C43: 하도급대금지급보증수수료 | F43: %
C44: 석면분담금 | E44: 0.006 | F44: %
C45: 임금채권부담금 | E45: 0.09 | F45: %
C46: 기타경비 | E46: 5.5 | F46: %
C47: 순공사원가
C48: 일반관리비 | E48: 8 | F48: %
C49: 이윤 | E49: 14.97 | F49: %
C50: 폐기물처리비
C51: 총원가
C52: 부가가치세 | E52: 10 | F52: %
C53: 도급액
C54: 관급자재대
C55: 총공사비
B57: B. | C57: 관급자재대
B58: 1.1 | C58: 레미콘
B59: a | C59: 레미콘(관급)-충청북도(청주시) | D59: 조합공통품목, 25-18-080 | E59: 77 | F59: ㎥
B60: b | C60: 조달수수료 | D60: 재료비의 0.54% | E60: 0.54 | F60: %
B62: C. | C62: 폐기물처리비
B63: 1.1 | C63: 폐기물처리
B64: a | C64: 폐기물처리비 | D64: 폐콘크리트 | E64: 26 | F64: Ton
B65: b | C65: 폐기물운반(콘크리트) | D65: 덤프15톤 | E65: 26 | F65: Ton
