Workbook

Sheet 원가계산서
A1: 공 사 원 가 계 산 서
A2: 과업명 : 경부선 신시가도교 및 괴동선 상도1가도교 교측보도 설치공사 실시설계
A3: 비 목 | D3: 금 액 | E3: 적 용 기 준 | H3: 비 고
A4: 직접공사비 | D4: =D5+D8+D11 -> 467960645
A5: 순 공 사 원 가 | B5: 재 료 비 | C5: 직 접 재 료 비 | D5: 84010504
C6: 간 접 재 료 비 | D6: 0 | E6: 지급자재비 | F6: : | G6: =D38 -> 0 | H6: 도급자관급
C7: [ 소 계 ] | D7: =D5+D6 -> 84010504
B8: 노 무 비 | C8: 직 접 노 무 비 | D8: 335162178
C9: 간 접 노 무 비 | D9: =INT(D8*G9) -> 64015975 | E9: 직접노무비 | F9: × | G9: 0.191
C10: [ 소 계 ] | D10: =D8+D9 -> 399178153
B11: 경 비 | C11: 기 계 경 비 | D11: 48787963
C12: 산 재 보 험 료 | D12: =INT(D10*G12) -> 14210742 | E12: 노무비 | F12: × | G12: 0.0356
C13: 고 용 보 험 료 | D13: =INT(D10*G13) -> 4031699 | E13: 노무비 | F13: × | G13: 0.0101
C14: 건 강 보 험 료 | D14: =INT(D8*G14) -> 12049080 | E14: 직접노무비 | F14: × | G14: 0.03595
C15: 연 금 보 험 료 | D15: =INT(D8*G15) -> 15920203 | E15: 직접노무비 | F15: × | G15: 0.0475
C16: 노인장기요양보험료 | D16: =INT(D14*G16) -> 1583249 | E16: 건강보험료 | F16: × | G16: 0.1314
C17: 퇴 직 공 제 부 금 비 | D17: =INT(D8*G17) -> 7708730 | E17: 직접노무비 | F17: × | G17: 0.023
C18: 산업안전보건관리비 | D18: =I18 -> 13203939 | E18: (재료비+직노) | F18: × | G18: 0.0315 | I18: =MIN(J18) -> 13203939 | J18: =INT((D5+D8)*G18) -> 13203939 | K18: =INT(((D5+D8)*G18))*1.2 -> 15844727
C19: 기 타 경 비 | D19: =INT((D5+D10)*G19) -> 26575376 | E19: (재료비+노무비) | F19: × | G19: 0.055
C20: 건설하도급대금지급보증서발급수수료 | D20: =INT(D4*G20) -> 379048 | E20: 직접공사비 | F20: × | G20: 0.00081
C21: 환 경 보 전 비 | D21: =INT(D4*G21) -> 3743685 | E21: 직접공사비 | F21: × | G21: 0.008
C22: 건설기계대여대금지금보증서발급수수료 | D22: =INT(D4*G22) -> 1497474 | E22: 직접공사비 | F22: × | G22: 0.0032
C23: 석 면 분 담 금 | D23: =INT(D10*G23) -> 23950 | E23: 노무비 | F23: × | G23: 6e-05
C24: 임 금 채 권 부 담 금 | D24: =INT(D10*G24) -> 359260 | E24: 노무비 | F24: × | G24: 0.0009
C25: 전 기 철 도 안 전 관 리 자 | D25: 22358880
C26: 시 민 안 전 관 리 비 | D26: =INT((D5+D8)*G26) -> 1047931 | E26: (재료비+직접노무비) | F26: × | G26: 0.0025
C27: 품 질 관 리 비 | D27: 6886000
C28: 건 설 공 사 안 전 관 리 비 | D28: 31645458
C29: [ 소 계 ] | D29: =SUM(D11:D28) -> 212012667
A30: 계 | D30: =D7+D10+D29 -> 695201324
A31: 일 반 관 리 비 | D31: =INT(D30*G31) -> 45188086 | E31: 계 | F31: × | G31: 0.065
A32: 이 윤 | D32: =INT((D10+D29+D31)*G32)-476/1.1 -> 98456402 | E32: (노무비+경비+일관) | F32: × | G32: 0.15
A33: 열차접근경보앱 및 장치 | D33: 870552
A34: 폐 기 물 처 리 비 | D34: 0
C35: 공 급 가 액 | D35: =SUM(D30:D34) -> 8.3971636e+08
A36: 부 가 가 치 세 | D36: =INT(SUM(D30:D34)*G36) -> 83971636 | E36: (공급가액) | F36: × | G36: 0.1
A37: 도 급 금 액 | D37: =D30+D31+D32+D33+D34+D36 -> 9.23688e+08
A38: 지 급 자 재 비 | D38: 0
A39: 총 공 사 비 | D39: =D37+D38 -> 9.23688e+08
A40: 건 설 폐 기 물 처 리 비 | D40: 0
...

Sheet 내역서
A1: 내역서
A2: 공 종 명 | B2: 규 격 | C2: 수량 | D2: 단위 | E2: 합 계 | G2: 재 료 비 | I2: 노 무 비 | K2: 경 비 | M2: 비 고
E3: 단 가 | F3: 금 액 | G3: 단 가 | H3: 금 액 | I3: 단 가 | J3: 금 액 | K3: 단 가 | L3: 금 액 | S3: 할 증 | T3: 화폐변환 | U3: OP값 | V3: EQ | W3: LA | X3: MA | Y3: 금액계상
A4: ▨ 경부선 신시가도교 및 괴동선 상도1가도교 교측보도 설치공사 | B4: 확보 실시설계 | C4: 1 | D4: 식 | F4: =H4+J4+L4 -> 923688000 | H4: =TRUNC(H6+H7+H8+H9+H10+H11+H12+H13+H14+H15+H16+H17+H18+H19+H20+H21+H22+H23+H24+H25+H26+H27+H29,0) -> 84010504 | J4: =TRUNC(J6+J7+J8+J9+J10+J11+J12+J13+J14+J15+J16+J17+J18+J19+J20+J21+J22+J23+J24+J25+J26+J27+J29,0) -> 399178153 | L4: =TRUNC(L6+L7+L8+L9+L10+L11+L12+L13+L14+L15+L16+L17+L18+L19+L20+L21+L22+L23+L24+L25+L26+L27+L29,0) -> 440499343 | N4: 대구4,5구간(260831작업) | O4: ASY60
A5: Ⅰ. 순 공 사 비 | D5: 식 | E5: =G5+I5+K5 -> 0 | F5: =H5+J5+L5 -> 695201324 | H5: =TRUNC(H6+H7+H8+H9+H10+H11+H12+H13+H14+H15+H16+H17+H18+H19+H20+H21+H22+H23+H24,0) -> 84010504 | J5: =TRUNC(J6+J7+J8+J9+J10+J11+J12+J13+J14+J15+J16+J17+J18+J19+J20+J21+J22+J23+J24,0) -> 399178153 | L5: =TRUNC(L6+L7+L8+L9+L10+L11+L12+L13+L14+L15+L16+L17+L18+L19+L20+L21+L22+L23+L24,0) -> 212012667 | P5: 10 | CC5: .
A6: 가. 공 사 비 | C6: 1 | D6: 식 | E6: =G6+I6+K6 -> 467960645 | F6: =H6+J6+L6 -> 467960645 | G6: =H32 -> 84010504 | H6: =TRUNC(G6*C6,0) -> 84010504 | I6: =J32 -> 335162178 | J6: =TRUNC(I6*C6,0) -> 335162178 | K6: =L32 -> 48787963 | L6: =TRUNC(K6*C6,0) -> 48787963 | P6: 20 | R6: ASY60-10 | AA6: LA+ = | AB6: =내역서!J6*19.1/100 -> 64015976 | AC6: LA = | AD6: =$AB6 -> 64015976 | BJ6: =HYPERLINK("#내역서!A32","ASY60-10 →") -> ASY60-10 → | CC6: ..
A7: 나. 간접노무비 | B7: 직노×19.1% | C7: 1 | D7: 식 | E7: =G7+I7+K7 -> 0 | F7: =H7+J7+L7 -> 64015975 | H7: 0 | J7: =TRUNC((J6*19.1/100),0) -> 64015975 | L7: 0 | N7: ◇직공10억미만6개월이하 | P7: 30 | R7: F | X7: .LA=LA(20)*19.1/100 | AA7: EQ+ = | AB7: =(내역서!J6+내역서!J7)*3.56/100 -> 14210742 | AC7: EQ = | AD7: =$AB7 -> 14210742 | CC7: ..
A8: 다. 산재보험료 | B8: 노무비×3.56% | C8: 1 | D8: 식 | E8: =G8+I8+K8 -> 0 | F8: =H8+J8+L8 -> 14210742 | H8: 0 | J8: 0 | L8: =TRUNC(((J6+J7)*3.56/100),0) -> 14210742 | P8: 40 | R8: F | X8: .EQ=LA(20,30)*3.56/100 | AA8: EQ+ = | AB8: =(내역서!J6+내역서!J7)*1.01/100 -> 4031699.3 | AC8: EQ = | AD8: =$AB8 -> 4031699.3 | CC8: ..
A9: 라. 고용보험료 | B9: 노무비×1.01% | C9: 1 | D9: 식 | E9: =G9+I9+K9 -> 0 | F9: =H9+J9+L9 -> 4031699 | H9: 0 | J9: 0 | L9: =TRUNC(((J6+J7)*1.01/100),0) -> 4031699 | N9: ◇7등급(추정금액(총공사비) | P9: 50 | R9: F | X9: .EQ=LA(20,30)*1.01/100 | AA9: EQ+ = | AB9: =내역서!J6*3.595/100 -> 12049080 | AC9: EQ = | AD9: =$AB9 -> 12049080 | CC9: ..
A10: 마. 건강보험료 | B10: 직노×3.595% | C10: 1 | D10: 식 | E10: =G10+I10+K10 -> 0 | F10: =H10+J10+L10 -> 12049080 | H10: 0 | J10: 0 | L10: =TRUNC((J6*3.595/100),0) -> 12049080 | P10: 60 | R10: F | X10: .EQ=LA(20)*3.595/100 | AA10: EQ+ = | AB10: =내역서!J6*4.75/100 -> 15920203 | AC10: EQ = | AD10: =$AB10 -> 15920203 | CC10: ..
A11: 바. 연금보험료 | B11: 직노×4.75% | C11: 1 | D11: 식 | E11: =G11+I11+K11 -> 0 | F11: =H11+J11+L11 -> 15920203 | H11: 0 | J11: 0 | L11: =TRUNC((J6*4.75/100),0) -> 15920203 | P11: 70 | R11: F | X11: .EQ=LA(20)*4.75/100 | AA11: EQ+ = | AB11: =내역서!L10*13.14/100 -> 1583249.1 | AC11: EQ = | AD11: =$AB11 -> 1583249.1 | CC11: ..
A12: 사. 노인장기요양보험료 | B12: 건보×13.14% | C12: 1 | D12: 식 | E12: =G12+I12+K12 -> 0 | F12: =H12+J12+L12 -> 1583249 | H12: 0 | J12: 0 | L12: =TRUNC((L10*13.14/100),0) -> 1583249 | P12: 80 | R12: F | X12: .EQ=EQ(60)*13.14/100 | AA12: EQ+ = | AB12: =내역서!J6*2.3/100 -> 7708730.1 | AC12: EQ = | AD12: =$AB12 -> 7708730.1 | CC12: ..
A13: 아. 퇴직공제부금비 | B13: 직노×2.3% | C13: 1 | D13: 식 | E13: =G13+I13+K13 -> 0 | F13: =H13+J13+L13 -> 7708730 | H13: 0 | J13: 0 | L13: =TRUNC((J6*2.3/100),0) -> 7708730 | P13: 90 | R13: F | X13: .EQ=LA(20)*2.3/100 | AA13: EQ+ = | AB13: =ROUND((내역서!J6+내역서!H6)*3.15/100,3) -> 13203939 | AC13: EQ = | AD13: =$AB13 -> 13203939 | AE13: 13_1_1+ = | AF13: =ROUND(ROUND((내역서!J6+내역서!H6)*3.15/100,3),3) -> 13203939 | AG13: 13_1_1 = | AH13: =$AF13 -> 13203939 | CC13: ..
A14: 자. 산업안전보건관리비 | B14: (재+직노)×3.15% | C14: 1 | D14: 식 | E14: =G14+I14+K14 -> 0 | F14: =H14+J14+L14 -> 13203939 | H14: 0 | J14: 0 | L14: =TRUNC((ROUND((J6+H6)*3.15/100,3)),0) -> 13203939 | N14: ◇토목(재+노5억미만) | P14: 100 | R14: F | X14: .EQ=(LA(20)+MA(20))*3.15/100={?,'9.99R'} | AA14: EQ+ = | AB14: =(내역서!H6+(내역서!J6+내역서!J7))*5.5/100 -> 26575376 | AC14: EQ = | AD14: =$AB14 -> 26575376 | CC14: ..
A15: 차. 기타 경비 | B15: (재+노)×5.5% | C15: 1 | D15: 식 | E15: =G15+I15+K15 -> 0 | F15: =H15+J15+L15 -> 26575376 | H15: 0 | J15: 0 | L15: =TRUNC(((H6+(J6+J7))*5.5/100),0) -> 26575376 | N15: ◇직공10억미만6개월이하 | P15: 110 | R15: F | X15: .EQ=(MA(20)+LA(20,30))*5.5/100 | AA15: EQ+ = | AB15: =(내역서!H6+내역서!J6+내역서!L6)*0.081/100 -> 379048.12 | AC15: EQ = | AD15: =$AB15 -> 379048.12 | CC15: ..
A16: 카. 건설하도급대금지급보증서발급수수료 | B16: 직접공사비×0.081% | C16: 1 | D16: 식 | E16: =G16+I16+K16 -> 0 | F16: =H16+J16+L16 -> 379048 | H16: 0 | J16: 0 | L16: =TRUNC(((H6+J6+L6)*0.081/100),0) -> 379048 | N16: ★추정가격 50억미만 | P16: 120 | R16: F | X16: .EQ=TOT(20)*0.081/100 | CC16: ..
A17: 타. 환경보전비 | B17: 직접공사비×0.8% | C17: 1 | D17: 식 | E17: =G17+I17+K17 -> 0 | F17: =H17+J17+L17 -> 3743685 | H17: 0 | J17: 0 | L17: =TRUNC(((H6+J6+L6)*0.8/100),0) -> 3743685 | N17: △토목그외 | P17: 130 | R17: F | X17: '토목,그외'_x000D_ .EQ=TOT(20)*0.8/100 | AA17: EQ+ = | AB17: =(내역서!H6+내역서!J6+내역서!L6)*0.32/100 -> 1497474.1 | AC17: EQ = | AD17: =$AB17 -> 1497474.1 | CC17: ..
A18: 파. 건설기계대여대금지급보증서발급금액 | B18: 직접공사비×0.32% | C18: 1 | D18: 식 | E18: =G18+I18+K18 -> 0 | F18: =H18+J18+L18 -> 1497474 | H18: 0 | J18: 0 | L18: =TRUNC(((H6+J6+L6)*0.32/100),0) -> 1497474 | N18: ◇전문건설업(석공사,콘크리트) | P18: 140 | R18: F | X18: .EQ=TOT(20)*0.32/100 | AA18: EQ+ = | AB18: =(내역서!J6+내역서!J7)*0.006/100 -> 23950.689 | AC18: EQ = | AD18: =$AB18 -> 23950.689 | CC18: ..
A19: 하. 석면분담금 | B19: 노무비×0.006% | C19: 1 | D19: 식 | E19: =G19+I19+K19 -> 0 | F19: =H19+J19+L19 -> 23950 | H19: 0 | J19: 0 | L19: =TRUNC(((J6+J7)*0.006/100),0) -> 23950 | P19: 150 | R19: F | X19: .EQ=LA(20,30)*0.006/100 | AA19: EQ+ = | AB19: =(내역서!J6+내역서!J7)*0.09/100 -> 359260.34 | AC19: EQ = | AD19: =$AB19 -> 359260.34 | CC19: ..
A20: 거. 임금채권부담금 | B20: 노무비×0.09% | C20: 1 | D20: 식 | E20: =G20+I20+K20 -> 0 | F20: =H20+J20+L20 -> 359260 | H20: 0 | J20: 0 | L20: =TRUNC(((J6+J7)*0.09/100),0) -> 359260 | P20: 160 | R20: F | X20: .EQ=LA(20,30)*0.09/100 | CC20: ..
A21: 너. 안전관리자 | C21: 1 | D21: 식 | E21: =G21+I21+K21 -> 22358880 | F21: =H21+J21+L21 -> 22358880 | G21: =H106 -> 0 | H21: =TRUNC(G21*C21,0) -> 0 | I21: =J106 -> 0 | J21: =TRUNC(I21*C21,0) -> 0 | K21: =L106 -> 22358880 | L21: =TRUNC(K21*C21,0) -> 22358880 | P21: 170 | R21: ASY60-10-B5 | AA21: EQ+ = | AB21: =(내역서!J6+내역서!H6)*0.25/100 -> 1047931.7 | AC21: EQ = | AD21: =$AB21 -> 1047931.7 | BJ21: =HYPERLINK("#내역서!A106","ASY60-10-B5 →") -> ASY60-10-B5 → | CC21: ..
A22: 더. 시민안전관리비 | B22: (재+직노)×0.25% | C22: 1 | D22: 식 | E22: =G22+I22+K22 -> 0 | F22: =H22+J22+L22 -> 1047931 | H22: 0 | J22: 0 | L22: =TRUNC(((J6+H6)*0.25/100),0) -> 1047931 | P22: 180 | R22: F | X22: .EQ=(LA(20)+MA(20))*0.25/100 | CC22: ..
A23: 러. 품질관리비 | C23: 1 | D23: 식 | E23: =G23+I23+K23 -> 6886000 | F23: =H23+J23+L23 -> 6886000 | G23: =H112 -> 0 | H23: =TRUNC(G23*C23,0) -> 0 | I23: =J112 -> 0 | J23: =TRUNC(I23*C23,0) -> 0 | K23: =L112 -> 6886000 | L23: =TRUNC(K23*C23,0) -> 6886000 | P23: 185 | R23: ASY60-10-B6 | BJ23: =HYPERLINK("#내역서!A112","ASY60-10-B6 →") -> ASY60-10-B6 → | CC23: ..
A24: 머. 건설공사안전관리비 | C24: 1 | D24: 식 | E24: =G24+I24+K24 -> 31645458 | F24: =H24+J24+L24 -> 31645458 | G24: =H124 -> 0 | H24: =TRUNC(G24*C24,0) -> 0 | I24: =J124 -> 0 | J24: =TRUNC(I24*C24,0) -> 0 | K24: =L124 -> 31645458 | L24: =TRUNC(K24*C24,0) -> 31645458 | P24: 190 | R24: ASY60-10-B61 | AA24: EQ+ = | AB24: =(내역서!H5+내역서!J5+내역서!L5)*6.5/100 -> 45188086 | AC24: EQ = | AD24: =$AB24 -> 45188086 | BJ24: =HYPERLINK("#내역서!A124","ASY60-10-B61 →") -> ASY60-10-B61 → | CC24: ..
A25: Ⅱ. 일반 관리비 | B25: (재+노+경)×6.5% | C25: 1 | D25: 식 | E25: =G25+I25+K25 -> 0 | F25: =H25+J25+L25 -> 45188086 | H25: 0 | J25: 0 | L25: =TRUNC(((H5+J5+L5)*6.5/100),0) -> 45188086 | N25: ◇추정가격(공급가액)5-30억 | P25: 200 | R25: F | X25: .EQ=TOT(10)*6.5/100 | AA25: EQ+ = | AB25: =(내역서!J5+내역서!L5+내역서!L25)*15/100-973/1.1 -> 98455951 | AC25: EQ = | AD25: =$AB25 -> 98455951 | CC25: .
A26: Ⅲ. 이 윤 | B26: (노+경+일반관)×15.0% | C26: 1 | D26: 식 | E26: =G26+I26+K26 -> 0 | F26: =H26+J26+L26 -> 98456402 | H26: 0 | J26: 0 | L26: =TRUNC(((J5+L5+L25)*15/100-477/1.1),0) -> 98456402 | N26: ◇추정가격(공급가액)5-30억 | P26: 210 | R26: F | X26: .EQ=(LA(10)+EQ(10)+EQ(200))*15/100 -973/1.1 | CC26: .
A27: Ⅳ. 열차접근경보앱 및 장치 | C27: 1 | D27: 식 | E27: =G27+I27+K27 -> 870552 | F27: =H27+J27+L27 -> 870552 | G27: =H132 -> 0 | H27: =TRUNC(G27*C27,0) -> 0 | I27: =J132 -> 0 | J27: =TRUNC(I27*C27,0) -> 0 | K27: =L132 -> 870552 | L27: =TRUNC(K27*C27,0) -> 870552 | P27: 220 | R27: ASY60-10-B7 | AA27: LA+ = | AB27: =내역서!J5+(내역서!J25+내역서!J26+내역서!J27) -> 399178153 | AC27: LA = | AD27: =$AB27 -> 399178153 | BJ27: =HYPERLINK("#내역서!A132","ASY60-10-B7 →") -> ASY60-10-B7 → | CC27: .
A28: Ⅴ. 공 급 가 액 | C28: 1 | D28: 식 | E28: =G28+I28+K28 -> 0 | F28: =H28+J28+L28 -> 839716364 | H28: =TRUNC((H5+(H25+H26+H27)),0) -> 84010504 | J28: =TRUNC((J5+(J25+J26+J27)),0) -> 399178153 | L28: =TRUNC((L5+(L25+L26+L27)),0) -> 356527707 | N28: ◇추정가격 | P28: 240 | Q28: * | R28: F | X28: .LA=LA(10)+LA(200,0,230)_x000D_ .MA=MA(10)+MA(200,0,230)_x000D_ .EQ=EQ(10)+EQ(200,0,230) | AA28: EQ+ = | AB28: =(내역서!H28+내역서!J28+내역서!L28)*10/100 -> 83971636 | AC28: EQ = | AD28: =$AB28 -> 83971636 | CC28: .
A29: Ⅵ. 부가 가치세 | B29: 10% | C29: 1 | D29: 식 | E29: =G29+I29+K29 -> 0 | F29: =H29+J29+L29 -> 83971636 | H29: 0 | J29: 0 | L29: =TRUNC(((H28+J28+L28)*10/100),0) -> 83971636 | P29: 250 | R29: F | X29: .EQ=TOT(240,0,240)*10/100 | AA29: MA+ = | AB29: =(내역서!H28+내역서!H29) -> 84010504 | AC29: MA = | AD29: =$AB29 -> 84010504 | CC29: .
A30: Ⅶ. 도 급 금 액 | C30: 1 | D30: 식 | E30: =G30+I30+K30 -> 0 | F30: =H30+J30+L30 -> 923688000 | H30: =TRUNC((H28+H29),0) -> 84010504 | J30: =TRUNC((J28+J29),0) -> 399178153 | L30: =TRUNC((L28+L29),0) -> 440499343 | P30: 260 | Q30: * | R30: F | X30: .MA=MA(240,0,250)_x000D_ .LA=LA(240,0,250)_x000D_ .EQ=EQ(240,0,250) | AA30: LA+ = | AB30: =(내역서!J28+내역서!J29) -> 399178153 | AC30: LA = | AD30: =$AB30 -> 399178153 | CC30: .
E31: =G31+I31+K31 -> 0 | F31: =H31+J31+L31 -> 0 | H31: 0 | J31: 0 | L31: 0 | P31: 270 | Q31: S | AA31: EQ+ = | AB31: =(내역서!L28+내역서!L29) -> 440499343 | AC31: EQ = | AD31: =$AB31 -> 440499343
A32: 가. 직접공사비 | C32: 1 | D32: 식 | F32: =H32+J32+L32 -> 467960645 | H32: =TRUNC(H33+H34,0) -> 84010504 | J32: =TRUNC(J33+J34,0) -> 335162178 | L32: =TRUNC(L33+L34,0) -> 48787963 | O32: ASY60-10
A33: 1. 경부선 구미~사곡 | B33: 신시가도교 | C33: 1 | D33: 식 | E33: =G33+I33+K33 -> 223550572 | F33: =H33+J33+L33 -> 223550572 | G33: =H36 -> 51612399 | H33: =TRUNC(G33*C33,0) -> 51612399 | I33: =J36 -> 150266939 | J33: =TRUNC(I33*C33,0) -> 150266939 | K33: =L36 -> 21671234 | L33: =TRUNC(K33*C33,0) -> 21671234 | P33: 10 | R33: ASY60-10-10 | BJ33: =HYPERLINK("#내역서!A36","ASY60-10-10 →") -> ASY60-10-10 →
A34: 2. 괴동선 포항구간 | B34: 상도1가도교 | C34: 1 | D34: 식 | E34: =G34+I34+K34 -> 244410073 | F34: =H34+J34+L34 -> 244410073 | G34: =H77 -> 32398105 | H34: =TRUNC(G34*C34,0) -> 32398105 | I34: =J77 -> 184895239 | J34: =TRUNC(I34*C34,0) -> 184895239 | K34: =L77 -> 27116729 | L34: =TRUNC(K34*C34,0) -> 27116729 | P34: 20 | R34: ASY60-10-20 | BJ34: =HYPERLINK("#내역서!A77","ASY60-10-20 →") -> ASY60-10-20 →
E35: =G35+I35+K35 -> 0 | F35: =H35+J35+L35 -> 0 | H35: 0 | J35: 0 | L35: 0 | P35: 90 | Q35: S
A36: 1. 경부선 구미~사곡 | B36: 신시가도교 | C36: 1 | D36: 식 | F36: =H36+J36+L36 -> 223550572 | H36: =TRUNC(H38+H39+H40+H42+H43+H44+H45+H46+H47+H48+H51+H52+H53+H54+H55+H56+H58+H59+H60+H62+H65+H66+H67+H69+H71+H72+H73+H74+H75,0) -> 51612399 | J36: =TRUNC(J38+J39+J40+J42+J43+J44+J45+J46+J47+J48+J51+J52+J53+J54+J55+J56+J58+J59+J60+J62+J65+J66+J67+J69+J71+J72+J73+J74+J75,0) -> 150266939 | L36: =TRUNC(L38+L39+L40+L42+L43+L44+L45+L46+L47+L48+L51+L52+L53+L54+L55+L56+L58+L59+L60+L62+L65+L66+L67+L69+L71+L72+L73+L74+L75,0) -> 21671234 | O36: ASY60-10-10
A37: 1-1. 토공 | E37: =G37+I37+K37 -> 0 | F37: =H37+J37+L37 -> 12709849 | H37: =TRUNC(H38+H39+H40,0) -> 11486278 | J37: =TRUNC(J38+J39+J40,0) -> 1162079 | L37: =TRUNC(L38+L39+L40,0) -> 61492 | P37: 10 | CC37: .
A38: 벌개제근 | B38: 입목본수도,50∼60%(야간) | C38: 421 | D38: m2 | E38: =G38+I38+K38 -> 861 | F38: =H38+J38+L38 -> 362481 | G38: =일위대가목록!F7 -> 37 | H38: =TRUNC(G38*C38,0) -> 15577 | I38: =일위대가목록!G7 -> 759 | J38: =TRUNC(I38*C38,0) -> 319539 | K38: =일위대가목록!H7 -> 65 | L38: =TRUNC(K38*C38,0) -> 27365 | M38: #.5 | N38: ◇KR21 | P38: 65 | R38: K0110101A0N4 | T38: F | BJ38: =HYPERLINK("#일위대가목록!A7","K0110101A0N4 →") -> K0110101A0N4 → | CC38: ....
A39: 예초 | B39: (야간) | C39: 421 | D39: m2 | E39: =G39+I39+K39 -> 949 | F39: =H39+J39+L39 -> 399529 | G39: =일위대가목록!F8 -> 0 | H39: =TRUNC(G39*C39,0) -> 0 | I39: =일위대가목록!G8 -> 920 | J39: =TRUNC(I39*C39,0) -> 387320 | K39: =일위대가목록!H8 -> 29 | L39: =TRUNC(K39*C39,0) -> 12209 | M39: #.6 | N39: ◇22품셈 | P39: 75 | R39: PJ2A060310N4 | T39: F | BJ39: =HYPERLINK("#일위대가목록!A8","PJ2A060310N4 →") -> PJ2A060310N4 → | CC39: ....
A40: 방초매트설치 | B40: 부속자재포함(야간) | C40: 843 | D40: m2 | E40: =G40+I40+K40 -> 14173 | F40: =H40+J40+L40 -> 11947839 | G40: =일위대가목록!F9 -> 13607 | H40: =TRUNC(G40*C40,0) -> 11470701 | I40: =일위대가목록!G9 -> 540 | J40: =TRUNC(I40*C40,0) -> 455220 | K40: =일위대가목록!H9 -> 26 | L40: =TRUNC(K40*C40,0) -> 21918 | M40: #.7 | N40: ◐사전의견반영 | P40: 100 | R40: K0110112CN4 | T40: F | BJ40: =HYPERLINK("#일위대가목록!A9","K0110112CN4 →") -> K0110112CN4 → | CC40: ....
...

Sheet 일위대가목록
A1: 일위대가목록
A2: 공 종 명 | B2: 규 격 | C2: 수 량 | D2: 단 위 | E2: 합 계 | F2: 재 료 비 | G2: 노 무 비 | H2: 경 비 | I2: 비 고 | T2: 재료비 | U2: 노무비 | V2: 경 비 | W2: 합 계 | Y2: 비교검토
A3: #1 전기철도안전관리자 | B3: 야간(초급기술자(전기분야)) | C3: 1 | D3: 인 | E3: =F3+G3+H3 -> 372648 | F3: =[1]일위대가_산근!C4 -> 0 | G3: =[1]일위대가_산근!D4 -> 0 | H3: =[1]일위대가_산근!E4 -> 372648 | J3: ◐단가수정(대구심사) | K3: K09503A261 | L3: F | T3: 0 | U3: 0 | V3: 372648 | W3: 372648 | Y3: =EXACT($E3,$W3) -> TRUE | AA3: =HYPERLINK("#일위대가_산근!A4","K09503A261 →") -> K09503A261 →
A4: #2 교통통제원 | B4: 야간 | C4: 1 | D4: 인 | E4: =F4+G4+H4 -> 265395 | F4: =[1]일위대가_산근!C20 -> 0 | G4: =[1]일위대가_산근!D20 -> 265395 | H4: =[1]일위대가_산근!E20 -> 0 | J4: ☞ | K4: K09503B10N | L4: F | T4: 0 | U4: 260676 | V4: 0 | W4: 260676 | Y4: =EXACT($E4,$W4) -> FALSE | AA4: =HYPERLINK("#일위대가_산근!A20","K09503B10N →") -> K09503B10N →
A5: #3 장비유도원 | B5: 야간 | C5: 1 | D5: 인 | E5: =F5+G5+H5 -> 259047 | F5: =[1]일위대가_산근!C48 -> 0 | G5: =[1]일위대가_산근!D48 -> 259047 | H5: =[1]일위대가_산근!E48 -> 0 | K5: K09503B30C | L5: F | T5: 0 | U5: 258102 | V5: 0 | W5: 258102 | Y5: =EXACT($E5,$W5) -> FALSE | AA5: =HYPERLINK("#일위대가_산근!A48","K09503B30C →") -> K09503B30C →
A6: #4 열차접근경보앱 | B6: 임대,6개월이상(4대) | C6: 1 | D6: 개월 | E6: =F6+G6+H6 -> 145092 | F6: =[1]일위대가_산근!C65 -> 0 | G6: =[1]일위대가_산근!D65 -> 0 | H6: =[1]일위대가_산근!E65 -> 145092 | J6: ◇견적 | K6: PJAC020102 | L6: F | T6: 0 | U6: 0 | V6: 145092 | W6: 145092 | Y6: =EXACT($E6,$W6) -> TRUE | AA6: =HYPERLINK("#일위대가_산근!A65","PJAC020102 →") -> PJAC020102 →
A7: #5 벌개제근 | B7: 입목본수도,50∼60%(야간) | C7: 1 | D7: m2 | E7: =F7+G7+H7 -> 861 | F7: =[1]일위대가_산근!C79 -> 37 | G7: =[1]일위대가_산근!D79 -> 759 | H7: =[1]일위대가_산근!E79 -> 65 | J7: ◇KR21 | K7: K0110101A0N4 | L7: F | T7: 37 | U7: 757 | V7: 65 | W7: 859 | Y7: =EXACT($E7,$W7) -> FALSE | AA7: =HYPERLINK("#일위대가_산근!A79","K0110101A0N4 →") -> K0110101A0N4 →
A8: #6 예초 | B8: (야간) | C8: 1 | D8: m2 | E8: =F8+G8+H8 -> 949 | F8: =[1]일위대가_산근!C122 -> 0 | G8: =[1]일위대가_산근!D122 -> 920 | H8: =[1]일위대가_산근!E122 -> 29 | J8: ◇22품셈 | K8: PJ2A060310N4 | L8: F | T8: 0 | U8: 911 | V8: 29 | W8: 940 | Y8: =EXACT($E8,$W8) -> FALSE | AA8: =HYPERLINK("#일위대가_산근!A122","PJ2A060310N4 →") -> PJ2A060310N4 →
A9: #7 방초매트설치 | B9: 부속자재포함(야간) | C9: 1 | D9: m2 | E9: =F9+G9+H9 -> 14173 | F9: =[1]일위대가_산근!C158 -> 13607 | G9: =[1]일위대가_산근!D158 -> 540 | H9: =[1]일위대가_산근!E158 -> 26 | J9: ◐사전의견반영 | K9: K0110112CN4 | L9: F | T9: 13607 | U9: 536 | V9: 26 | W9: 14169 | Y9: =EXACT($E9,$W9) -> FALSE | AA9: =HYPERLINK("#일위대가_산근!A158","K0110112CN4 →") -> K0110112CN4 →
A10: #8 기계터파기 | B10: 보통토사,H=5m이하,Type-Ⅲ(야간) | C10: 1 | D10: m3 | E10: =F10+G10+H10 -> 6513 | F10: =[1]일위대가_산근!C203 -> 868 | G10: =[1]일위대가_산근!D203 -> 4659 | H10: =[1]일위대가_산근!E203 -> 986 | J10: ●25상_품셈신설 | K10: K0120101R3N4 | L10: F | T10: 868 | U10: 4659 | V10: 986 | W10: 6513 | Y10: =EXACT($E10,$W10) -> TRUE | AA10: =HYPERLINK("#일위대가_산근!A203","K0120101R3N4 →") -> K0120101R3N4 →
A11: #9 되메우기 및 다짐 | B11: 토사,플레이트콤팩터1.5Ton(야간) | C11: 1 | D11: m3 | E11: =F11+G11+H11 -> 62681 | F11: =[1]일위대가_산근!C243 -> 764 | G11: =[1]일위대가_산근!D243 -> 61682 | H11: =[1]일위대가_산근!E243 -> 235 | J11: ◇25품셈 | K11: K0120102A1N4 | L11: F | T11: 764 | U11: 61394 | V11: 235 | W11: 62393 | Y11: =EXACT($E11,$W11) -> FALSE | AA11: =HYPERLINK("#일위대가_산근!A243","K0120102A1N4 →") -> K0120102A1N4 →
A12: #10 잔토처리 | B12: 인력(야간) | C12: 1 | D12: m3 | E12: =F12+G12+H12 -> 64761 | F12: =[1]일위대가_산근!C285 -> 0 | G12: =[1]일위대가_산근!D285 -> 64761 | H12: =[1]일위대가_산근!E285 -> 0 | J12: ◇25품셈 | K12: K0120101AZN4 | L12: F | T12: 0 | U12: 64525 | V12: 0 | W12: 64525 | Y12: =EXACT($E12,$W12) -> FALSE | AA12: =HYPERLINK("#일위대가_산근!A285","K0120101AZN4 →") -> K0120101AZN4 →
A13: #11 인력비빔콘크리트타설 | B13: 무근(자재포함)(야간) | C13: 1 | D13: m3 | E13: =F13+G13+H13 -> 914299 | F13: =[1]일위대가_산근!C307 -> 100445 | G13: =[1]일위대가_산근!D307 -> 806786 | H13: =[1]일위대가_산근!E307 -> 7068 | J13: 대구 | K13: K0120210A03N4 | L13: F | T13: 100441 | U13: 801390 | V13: 7068 | W13: 908899 | Y13: =EXACT($E13,$W13) -> FALSE | AA13: =HYPERLINK("#일위대가_산근!A307","K0120210A03N4 →") -> K0120210A03N4 →
A14: #12 합판거푸집 | B14: 6회,H=0∼7m(야간) | C14: 1 | D14: m2 | E14: =F14+G14+H14 -> 77265 | F14: =[1]일위대가_산근!C436 -> 12336 | G14: =[1]일위대가_산근!D436 -> 64585 | H14: =[1]일위대가_산근!E436 -> 344 | J14: ◇24품셈 | K14: K0120301D3N4 | L14: F | T14: 12336 | U14: 64615 | V14: 344 | W14: 77295 | Y14: =EXACT($E14,$W14) -> FALSE | AA14: =HYPERLINK("#일위대가_산근!A436","K0120301D3N4 →") -> K0120301D3N4 →
A15: #13 차단벽 설치 | B15: H1.2m×W2.0m,기초형,EX-메탈라스 완자형(야간) | C15: 1 | D15: m | E15: =F15+G15+H15 -> 143551 | F15: =[1]일위대가_산근!C477 -> 77178 | G15: =[1]일위대가_산근!D477 -> 62391 | H15: =[1]일위대가_산근!E477 -> 3982 | J15: ◐사전검토반영 | K15: K013065EX1N4 | L15: F | T15: 77178 | U15: 61996 | V15: 3970 | W15: 143144 | Y15: =EXACT($E15,$W15) -> FALSE | AA15: =HYPERLINK("#일위대가_산근!A477","K013065EX1N4 →") -> K013065EX1N4 →
A16: #14 메탈라스 울타리출입문 | B16: H1.2m×W1.0m(야간) | C16: 1 | D16: 개소 | E16: =F16+G16+H16 -> 1069821 | F16: =[1]일위대가_산근!C541 -> 654500 | G16: =[1]일위대가_산근!D541 -> 415321 | H16: =[1]일위대가_산근!E541 -> 0 | J16: ★견적 | K16: K01306E20N4 | L16: F | T16: 654500 | U16: 415321 | V16: 0 | W16: 1069821 | Y16: =EXACT($E16,$W16) -> TRUE | AA16: =HYPERLINK("#일위대가_산근!A541","K01306E20N4 →") -> K01306E20N4 →
A17: #15 강재운반 | B17: 소형형강,가공장→현장(=30km) | C17: 1 | D17: Ton | E17: =F17+G17+H17 -> 37725 | F17: =[1]일위대가_산근!C566 -> 5590 | G17: =[1]일위대가_산근!D566 -> 26551 | H17: =[1]일위대가_산근!E566 -> 5584 | J17: 22년KRQP확인 | K17: K093020C | L17: F | T17: 5590 | U17: 26516 | V17: 5584 | W17: 37690 | Y17: =EXACT($E17,$W17) -> FALSE | AA17: =HYPERLINK("#일위대가_산근!A566","K093020C →") -> K093020C →
A18: #16 난간설치 | B18: STS,H=1.2m | C18: 1 | D18: m | E18: =F18+G18+H18 -> 232044 | F18: =[1]일위대가_산근!C647 -> 70794 | G18: =[1]일위대가_산근!D647 -> 158089 | H18: =[1]일위대가_산근!E647 -> 3161 | J18: ◇상세도확인 | K18: ZZC0215 | L18: F | T18: 70752 | U18: 155994 | V18: 3119 | W18: 229865 | Y18: =EXACT($E18,$W18) -> FALSE | AA18: =HYPERLINK("#일위대가_산근!A647","ZZC0215 →") -> ZZC0215 →
A19: #17 난간매설접지선부설 | B19: CU35㎟ | C19: 1 | D19: m | E19: =F19+G19+H19 -> 9085 | F19: =[1]일위대가_산근!C724 -> 6139 | G19: =[1]일위대가_산근!D724 -> 2946 | H19: =[1]일위대가_산근!E724 -> 0 | J19: 22년KRQP확인 | K19: K04208080C2 | L19: F | T19: 6139 | U19: 2904 | V19: 0 | W19: 9043 | Y19: =EXACT($E19,$W19) -> FALSE | AA19: =HYPERLINK("#일위대가_산근!A724","K04208080C2 →") -> K04208080C2 →
A20: #18 접지단자연결 | B20: F-GV70㎟ | C20: 1 | D20: m | E20: =F20+G20+H20 -> 15806 | F20: =[1]일위대가_산근!C747 -> 12439 | G20: =[1]일위대가_산근!D747 -> 3367 | H20: =[1]일위대가_산근!E747 -> 0 | J20: 22년KRQP확인 | K20: K04208080B2 | L20: F | T20: 12439 | U20: 3319 | V20: 0 | W20: 15758 | Y20: =EXACT($E20,$W20) -> FALSE | AA20: =HYPERLINK("#일위대가_산근!A747","K04208080B2 →") -> K04208080B2 →
A21: #19 낙하물방지망설치및해체 | B21: 강관,합판 | C21: 1 | D21: m2 | E21: =F21+G21+H21 -> 13165 | F21: =[1]일위대가_산근!C770 -> 2700 | G21: =[1]일위대가_산근!D770 -> 10260 | H21: =[1]일위대가_산근!E770 -> 205 | J21: ◇21품셈 | K21: K0250116B | L21: F | T21: 2700 | U21: 10178 | V21: 203 | W21: 13081 | Y21: =EXACT($E21,$W21) -> FALSE | AA21: =HYPERLINK("#일위대가_산근!A770","K0250116B →") -> K0250116B →
A22: #20 컨테이너박스설치및철거 | B22: 사무실용,L6.0×B3.0×H2.6m,4개월 | C22: 1 | D22: 개 | E22: =F22+G22+H22 -> 1048970 | F22: =[1]일위대가_산근!C806 -> 0 | G22: =[1]일위대가_산근!D806 -> 0 | H22: =[1]일위대가_산근!E806 -> 1048970 | J22: ■22품셈 | K22: K091010FB04 | L22: F | T22: 0 | U22: 0 | V22: 1046638 | W22: 1046638 | Y22: =EXACT($E22,$W22) -> FALSE | AA22: =HYPERLINK("#일위대가_산근!A806","K091010FB04 →") -> K091010FB04 →
A23: #21 컨테이너박스설치및철거 | B23: 창고용,L6.0×B3.0×H2.6m,4개월 | C23: 1 | D23: 개 | E23: =F23+G23+H23 -> 972970 | F23: =[1]일위대가_산근!C846 -> 0 | G23: =[1]일위대가_산근!D846 -> 0 | H23: =[1]일위대가_산근!E846 -> 972970 | J23: ■22품셈 | K23: K091010GB04 | L23: F | T23: 0 | U23: 0 | V23: 970638 | W23: 970638 | Y23: =EXACT($E23,$W23) -> FALSE | AA23: =HYPERLINK("#일위대가_산근!A846","K091010GB04 →") -> K091010GB04 →
A24: #22 부지사용임대료 | B24: 구미~사곡,4개월 | C24: 1 | D24: m2 | E24: =F24+G24+H24 -> 3864 | F24: =[1]일위대가_산근!C886 -> 0 | G24: =[1]일위대가_산근!D886 -> 0 | H24: =[1]일위대가_산근!E886 -> 3864 | J24: ◇KR21-★공사기간,공시지가 | K24: K0950600340 | L24: F | T24: 0 | U24: 0 | V24: 3864 | W24: 3864 | Y24: =EXACT($E24,$W24) -> TRUE | AA24: =HYPERLINK("#일위대가_산근!A886","K0950600340 →") -> K0950600340 →
A25: #23 자재소운반 | B25: 인력트롤리운반,L=50m(야간) | C25: 1 | D25: ton | E25: =F25+G25+H25 -> 46060 | F25: =[1]일위대가_산근!C904 -> 0 | G25: =[1]일위대가_산근!D904 -> 46060 | H25: =[1]일위대가_산근!E904 -> 0 | J25: ■◇KR21-★운반 | K25: K09503A594 | L25: F | T25: 0 | U25: 45892 | V25: 0 | W25: 45892 | Y25: =EXACT($E25,$W25) -> FALSE | AA25: =HYPERLINK("#일위대가_산근!A904","K09503A594 →") -> K09503A594 →
A26: #24 열차감시원 | B26: 주간 | C26: 1 | D26: 인 | E26: =F26+G26+H26 -> 172698 | F26: =[1]일위대가_산근!C939 -> 0 | G26: =[1]일위대가_산근!D939 -> 172698 | H26: =[1]일위대가_산근!E939 -> 0 | J26: ◇KR21 | K26: K09503 | L26: F | T26: 0 | U26: 172068 | V26: 0 | W26: 172068 | Y26: =EXACT($E26,$W26) -> FALSE | AA26: =HYPERLINK("#일위대가_산근!A939","K09503 →") -> K09503 →
A27: #25 열차감시원 | B27: 야간 | C27: 1 | D27: 인 | E27: =F27+G27+H27 -> 259047 | F27: =[1]일위대가_산근!C953 -> 0 | G27: =[1]일위대가_산근!D953 -> 259047 | H27: =[1]일위대가_산근!E953 -> 0 | J27: ◇KR21 | K27: K09503A | L27: F | T27: 0 | U27: 258102 | V27: 0 | W27: 258102 | Y27: =EXACT($E27,$W27) -> FALSE | AA27: =HYPERLINK("#일위대가_산근!A953","K09503A →") -> K09503A →
A28: #26 공사용조명설치 및 철거 | B28: LED투광기(충전식),일4시간사용(야간) | C28: 1 | D28: 일 | E28: =F28+G28+H28 -> 52265 | F28: =[1]일위대가_산근!C971 -> 236 | G28: =[1]일위대가_산근!D971 -> 52029 | H28: =[1]일위대가_산근!E971 -> 0 | J28: LED투광기적용 | K28: K0420810CRN4 | L28: F | T28: 236 | U28: 51570 | V28: 0 | W28: 51806 | Y28: =EXACT($E28,$W28) -> FALSE | AA28: =HYPERLINK("#일위대가_산근!A971","K0420810CRN4 →") -> K0420810CRN4 →
A29: #27 공사중안내표지판 설치 및 철거 | B29: A형,900×1800 | C29: 1 | D29: 개소 | E29: =F29+G29+H29 -> 160600 | F29: =[1]일위대가_산근!C1014 -> 146000 | G29: =[1]일위대가_산근!D1014 -> 14600 | H29: =[1]일위대가_산근!E1014 -> 0 | J29: ◇기타21 | K29: K09505EA2 | L29: F | T29: 146000 | U29: 14600 | V29: 0 | W29: 160600 | Y29: =EXACT($E29,$W29) -> TRUE | AA29: =HYPERLINK("#일위대가_산근!A1014","K09505EA2 →") -> K09505EA2 →
A30: #28 선로작업표설치및철거 | B30: 토공용,야간 | C30: 1 | D30: 개 | E30: =F30+G30+H30 -> 209183 | F30: =[1]일위대가_산근!C1032 -> 150931 | G30: =[1]일위대가_산근!D1032 -> 58252 | H30: =[1]일위대가_산근!E1032 -> 0 | J30: ◇KR22 | K30: PJE1600210N4 | L30: F | T30: 150926 | U30: 57887 | V30: 0 | W30: 208813 | Y30: =EXACT($E30,$W30) -> FALSE | AA30: =HYPERLINK("#일위대가_산근!A1032","PJE1600210N4 →") -> PJE1600210N4 →
A31: #29 컨테이너박스설치및철거 | B31: 사무실용,L6.0×B3.0×H2.6m,5개월 | C31: 1 | D31: 개 | E31: =F31+G31+H31 -> 1079370 | F31: =[1]일위대가_산근!C1080 -> 0 | G31: =[1]일위대가_산근!D1080 -> 0 | H31: =[1]일위대가_산근!E1080 -> 1079370 | J31: ■22품셈 | K31: K091010FB05 | L31: F | T31: 0 | U31: 0 | V31: 1077038 | W31: 1077038 | Y31: =EXACT($E31,$W31) -> FALSE | AA31: =HYPERLINK("#일위대가_산근!A1080","K091010FB05 →") -> K091010FB05 →
A32: #30 컨테이너박스설치및철거 | B32: 창고용,L6.0×B3.0×H2.6m,5개월 | C32: 1 | D32: 개 | E32: =F32+G32+H32 -> 999570 | F32: =[1]일위대가_산근!C1120 -> 0 | G32: =[1]일위대가_산근!D1120 -> 0 | H32: =[1]일위대가_산근!E1120 -> 999570 | J32: ■22품셈 | K32: K091010GB05 | L32: F | T32: 0 | U32: 0 | V32: 997238 | W32: 997238 | Y32: =EXACT($E32,$W32) -> FALSE | AA32: =HYPERLINK("#일위대가_산근!A1120","K091010GB05 →") -> K091010GB05 →
A33: #31 부지사용임대료 | B33: 포항구간,5개월 | C33: 1 | D33: m2 | E33: =F33+G33+H33 -> 6589 | F33: =[1]일위대가_산근!C1160 -> 0 | G33: =[1]일위대가_산근!D1160 -> 0 | H33: =[1]일위대가_산근!E1160 -> 6589 | J33: ◇KR21-★공사기간,공시지가 | K33: K0950600350 | L33: F | T33: 0 | U33: 0 | V33: 6589 | W33: 6589 | Y33: =EXACT($E33,$W33) -> TRUE | AA33: =HYPERLINK("#일위대가_산근!A1160","K0950600350 →") -> K0950600350 →
A34: #32 공사중안내표지판 설치 및 철거 | B34: A형,900×1800(설치비만) | C34: 1 | D34: 개소 | E34: =F34+G34+H34 -> 14600 | F34: =[1]일위대가_산근!C1178 -> 0 | G34: =[1]일위대가_산근!D1178 -> 14600 | H34: =[1]일위대가_산근!E1178 -> 0 | J34: ◇기타21 | K34: K09505EA2R | L34: F | T34: 0 | U34: 14600 | V34: 0 | W34: 14600 | Y34: =EXACT($E34,$W34) -> TRUE | AA34: =HYPERLINK("#일위대가_산근!A1178","K09505EA2R →") -> K09505EA2R →
A35: #33 선로작업표설치및철거 | B35: 토공용,야간(설치비만) | C35: 1 | D35: 개 | E35: =F35+G35+H35 -> 59183 | F35: =[1]일위대가_산근!C1196 -> 931 | G35: =[1]일위대가_산근!D1196 -> 58252 | H35: =[1]일위대가_산근!E1196 -> 0 | J35: ◇KR22 | K35: PJE160021RN4 | L35: F | T35: 926 | U35: 57887 | V35: 0 | W35: 58813 | Y35: =EXACT($E35,$W35) -> FALSE | AA35: =HYPERLINK("#일위대가_산근!A1196","PJE160021RN4 →") -> PJE160021RN4 →
A36: #34 모래구입및운반 | C36: 1 | D36: m3 | E36: =F36+G36+H36 -> 33000 | F36: =[1]일위대가_산근!C1244 -> 33000 | G36: =[1]일위대가_산근!D1244 -> 0 | H36: =[1]일위대가_산근!E1244 -> 0 | J36: 대구 | K36: K093010A03 | L36: F | T36: 33000 | U36: 0 | V36: 0 | W36: 33000 | Y36: =EXACT($E36,$W36) -> TRUE | AA36: =HYPERLINK("#일위대가_산근!A1244","K093010A03 →") -> K093010A03 →
A37: #35 자갈구입및운반 | B37: D25mm | C37: 1 | D37: m3 | E37: =F37+G37+H37 -> 30000 | F37: =[1]일위대가_산근!C1262 -> 30000 | G37: =[1]일위대가_산근!D1262 -> 0 | H37: =[1]일위대가_산근!E1262 -> 0 | J37: 대구 | K37: K093010E023 | L37: F | T37: 30000 | U37: 0 | V37: 0 | W37: 30000 | Y37: =EXACT($E37,$W37) -> TRUE | AA37: =HYPERLINK("#일위대가_산근!A1262","K093010E023 →") -> K093010E023 →
A38: #36 시멘트운반 | B38: 40㎏/드리 | C38: 1 | D38: 포 | E38: =F38+G38+H38 -> 1734 | F38: =[1]일위대가_산근!C1280 -> 139 | G38: =[1]일위대가_산근!D1280 -> 1437 | H38: =[1]일위대가_산근!E1280 -> 158 | J38: ◇KR21-★운반 | K38: K093040A01 | L38: F | T38: 139 | U38: 1434 | V38: 158 | W38: 1731 | Y38: =EXACT($E38,$W38) -> FALSE | AA38: =HYPERLINK("#일위대가_산근!A1280","K093040A01 →") -> K093040A01 →
A39: #37 교측보도상부 제작 및 설치 | B39: 구미~사곡간,L=27m(야간) | C39: 1 | D39: 식 | E39: =F39+G39+H39 -> 42037380 | F39: =[1]일위대가_산근!C1352 -> 7406674 | G39: =[1]일위대가_산근!D1352 -> 29355484 | H39: =[1]일위대가_산근!E1352 -> 5275222 | J39: ◑적용단가수정(발주처요청) | K39: ZZC0117N4 | L39: F | T39: 7400010 | U39: 28939219 | V39: 5264121 | W39: 41603350 | Y39: =EXACT($E39,$W39) -> FALSE | AA39: =HYPERLINK("#일위대가_산근!A1352","ZZC0117N4 →") -> ZZC0117N4 →
A40: #38 앵커볼트설치 | B40: 셋트앵커,Φ20×250(야간) | C40: 1 | D40: 개 | E40: =F40+G40+H40 -> 40383 | F40: =[1]일위대가_산근!C1461 -> 8930 | G40: =[1]일위대가_산근!D1461 -> 30958 | H40: =[1]일위대가_산근!E1461 -> 495 | J40: ◇KR21 | K40: ZZC00551AN4 | L40: F | T40: 8930 | U40: 30547 | V40: 488 | W40: 39965 | Y40: =EXACT($E40,$W40) -> FALSE | AA40: =HYPERLINK("#일위대가_산근!A1461","ZZC00551AN4 →") -> ZZC00551AN4 →
...
