Workbook

Sheet 갑지
A1: 과 장 | D1: 심 사 | G1: 설계자 | J1: 설계 2026. 9 . . | L1: 결 재
J2: 심사 2026. 9 . . | L2: 2026년 월 일
A4: 설 계 서
B6: ='공사원가계산서 (가로)'!A3 -> ○ 공 사 명 : 2026년 중앙버스전용차로 고강성 콘크리트 포장 공사(강서)
B8: 구 분 | E8: 금 액 | L8: 비 고
B9: 총 공 사 비
B10: 도급비 | C10: 공 급 가 액
C11: 부가가치세
C12: 계
B13: 관 급 비
B14: 이 전 비
B16: ※ 공사개요 : 버스정류장 PC패널 설치 (4개소, A=890.40㎡)

Sheet 공사원가계산서 (가로)
A1: 공 사 원 가 계 산 서
A3: ○ 공 사 명 : 2026년 중앙버스전용차로 고강성 콘크리트 포장 공사(강서)
A4: ○ 공사기간 : 착공일로부터 2026년 월 일까지
A5: 구 분 | D5: 금 액 (원) | E5: 구 성 비 | F5: 비 고
A6: 순 공 사 원 가 | B6: 재 료 비 | C6: 직접재료비 | D6: =내역서!F9 -> 0
C7: 간접재료비
C8: 소 계 | D8: =D6+D7 -> 0
B9: 노 무 비 | C9: 직접노무비 | D9: =내역서!H9 -> 0
C10: 간접노무비 | D10: =내역서!H10 -> 0
C11: 소 계 | D11: =D9+D10 -> 0
B12: 경 비 | C12: 산출경비 | D12: =내역서!J9 -> 0
C13: 보험료 (산재) | D13: =내역서!L11 -> 0
C14: 보험료 (고용) | D14: =내역서!L12 -> 0
C15: 보험료 (건강) | D15: =내역서!L13 -> 0
C16: 보험료 (노인장기요양) | D16: =내역서!L14 -> 0
C17: 보험료 (연금) | D17: =내역서!L15 -> 0
C18: 근로자퇴직공제부금비 | D18: =내역서!L16 -> 0
C19: 산업안전보건관리비 | D19: =내역서!L17 -> 0
C20: 안전관리비 | D20: =내역서!L18 -> 0
C21: 품질관리비 | D21: =내역서!L19 -> 0
C22: 환경보전비 | D22: =내역서!L20 -> 0
C23: 건설기계대여대금지급보증서 | D23: =내역서!L21 -> 0
C24: 기타경비 | D24: =내역서!L22 -> 0
... C27: 기술사용료 | D27: =내역서!L25 -> 0
C28: 폐기물처리비
C29: 소 계 | D29: =SUM(D12:D28) -> 0
A30: 일반관리비 | D30: =내역서!L27 -> 0
A31: 이윤 | D31: =내역서!L28 -> 0
A32: 고 용 개 선 지 원 비 ( P S 단 가 ) | D32: =내역서!L29 -> 0
A33: 공급가액 | D33: =D8+D11+D29+D30+D31+D32 -> 0
A34: 부가가치세 | D34: =D33*0.1 -> 0
A35: 도급액 | D35: =SUM(D33:D34) -> 0

Sheet 내역서
A1: 내역서
A2: 공 종 명 | B2: 규 격 | C2: 수량 | D2: 단위 | E2: 재 료 비 | G2: 노 무 비 | I2: 경 비 | K2: 합 계
E3: 단 가 | F3: 금 액 | G3: 단 가 | H3: 금 액 | I3: 단 가 | J3: 금 액 | K3: 단 가 | L3: 금 액 | S3: 할 증 | T3: 화폐변환 | U3: OP값 | V3: EQ | W3: LA | X3: MA | Y3: 금액계상
A4: ■ 2026년 중앙버스전용차로 고강성 콘크리트 포장 공사(강서) | C4: 1 | D4: 식 | O4: C00
A5: 1. 문래동남성아파트 (시내 방면) 버스정류장 | C5: 1 | D5: 식 | P5: 10 | R5: C01
A6: 2. 구일역, 중앙유통상가 (시외 방면) 버스정류장 | C6: 1 | D6: 식 | P6: 20 | R6: C02
A7: 3. 동양미래대학.구로성심병원 (시내 방면) 버스정류장 | C7: 1 | D7: 식 | P7: 30 | R7: C03
A8: 4. 동양미래대학.구로성심병원 (시외 방면) 버스정류장 | C8: 1 | D8: 식 | P8: 40 | R8: C04 | AA8: MA+ = | AB8: =(내역서!F5+내역서!F6+내역서!F7+내역서!F8) -> 0 | AC8: MA = | AD8: =$AB8 -> 0
A9: 1) 직접공사비 | C9: 1 | D9: 식 | P9: 50 | Q9: * | R9: F | X9: MA = MA(10,0,40)_x000D_ LA = LA(10,0,40)_x000D_ EQ = EQ(10,0,40)_x000D_ | AA9: LA+ = | AB9: =내역서!H9*(19.1/100) -> 0 | AC9: LA = | AD9: =$AB9 -> 0
A10: 2) 간접노무비 | B10: 직노×19.1% | C10: 1 | D10: 식 | N10: ZZA000200000 | P10: 60 | R10: F | X10: LA = LA(50) * ( 19.1 / 100 )_x000D_ | AA10: EQ+ = | AB10: =(내역서!H9+내역서!H10)*(3.56/100) -> 0 | AC10: EQ = | AD10: =$AB10 -> 0
A11: 3) 산재보험료 | B11: 노무비×3.56% | C11: 1 | D11: 식 | N11: ZZB110100000 | P11: 70 | R11: F | X11: EQ = ( LA(50) + LA(60) ) * ( 3.56 / 100 )_x000D_ | AA11: EQ+ = | AB11: =(내역서!H9+내역서!H10)*(1.01/100) -> 0 | AC11: EQ = | AD11: =$AB11 -> 0
A12: 4) 고용보험료 | B12: 노무비×1.01% | C12: 1 | D12: 식 | N12: ZZB120100000 | P12: 80 | R12: F | X12: EQ = ( LA(50) + LA(60) ) * ( 1.01 / 100 )_x000D_ | AA12: EQ+ = | AB12: =내역서!H9*(3.595/100) -> 0 | AC12: EQ = | AD12: =$AB12 -> 0
A13: 5) 건강보험료 | B13: 직노×3.595% | C13: 1 | D13: 식 | N13: ZZB130100000 | P13: 90 | R13: F | X13: EQ = LA(50) * ( 3.595 / 100 )_x000D_ | AA13: EQ+ = | AB13: =내역서!J13*(13.14/100) -> 0 | AC13: EQ = | AD13: =$AB13 -> 0
A14: 6) 노인장기요양보험료 | B14: 건보×13.14% | C14: 1 | D14: 식 | N14: ZZB130200000 | P14: 100 | R14: F | X14: EQ = EQ(90) * ( 13.14 / 100 )_x000D_ | AA14: EQ+ = | AB14: =내역서!H9*(4.75/100) -> 0 | AC14: EQ = | AD14: =$AB14 -> 0
A15: 7) 연금보험료 | B15: 직노×4.75% | C15: 1 | D15: 식 | N15: ZZB140100000 | P15: 110 | R15: F | X15: EQ = LA(50) * ( 4.75 / 100 )_x000D_ | AA15: EQ+ = | AB15: =내역서!H9*(2.3/100) -> 0 | AC15: EQ = | AD15: =$AB15 -> 0
A16: 8) 퇴직공제부금비 | B16: 직노×2.3% | C16: 1 | D16: 식 | N16: ZZB200100000 | P16: 120 | R16: F | X16: EQ = LA(50) * ( 2.3 / 100 )_x000D_ | AA16: EQ+ = | AB16: =((내역서!F9+내역서!H9)*3.15/100)+0 -> 0 | AC16: EQ = | AD16: =$AB16 -> 0
A17: 9) 산업안전보건관리비 | B17: (재＋직노)×3.15% | C17: 1 | D17: 식 | N17: ZZB300100000 | P17: 130 | R17: F | X17: .EQ = ( (MA(50) + LA(50) ) * 3.15 / 100 ) + 0_x000D_
A18: 10) 안전관리비 | C18: 1 | D18: 식 | P18: 140 | R18: C10
A19: 11) 품질관리비 | C19: 1 | D19: 식 | P19: 150 | R19: C11 | AA19: EQ+ = | AB19: =(내역서!F9+내역서!H9+내역서!J9)*(0.9/100) -> 0 | AC19: EQ = | AD19: =$AB19 -> 0
A20: 12) 환경보전비 | B20: 직접공사비×0.9% | C20: 1 | D20: 식 | N20: ZZB700100000 | P20: 160 | R20: F | X20: EQ = TOT(50) * ( 0.9 / 100 )_x000D_ | AA20: EQ+ = | AB20: =(내역서!F9+내역서!H9+내역서!J9)*(0.68/100) -> 0 | AC20: EQ = | AD20: =$AB20 -> 0
A21: 13) 건설기계대여대금지급보증서 | B21: 직접공사비×0.68% | C21: 1 | D21: 식 | N21: ZZB800100000 | P21: 170 | R21: F | X21: EQ = TOT(50) * ( 0.68 / 100 )_x000D_ | AA21: EQ+ = | AB21: =(내역서!F9+내역서!H9+내역서!H10)*(5.5/100) -> 0 | AC21: EQ = | AD21: =$AB21 -> 0
A22: 14) 기타경비 | B22: (재＋노)×5.5% | C22: 1 | D22: 식 | N22: ZZB400100000 | P22: 180 | R22: F | X22: EQ = ( MA(50) + LA(50) + LA(60) ) * ( 5.5 / 100 )_x000D_ | AA22: EQ+ = | AB22: =(내역서!H9+내역서!H10)*(0.006/100) -> 0 | AC22: EQ = | AD22: =$AB22 -> 0
A23: 15) 석면분담금 | B23: 노무비×0.006% | C23: 1 | D23: 식 | P23: 190 | R23: F | X23: EQ = ( LA(50) + LA(60) ) * ( 0.006 / 100 )_x000D_ | AA23: EQ+ = | AB23: =(내역서!H9+내역서!H10)*(0.09/100) -> 0 | AC23: EQ = | AD23: =$AB23 -> 0
A24: 16) 임금채권분담금 | B24: 노무비×0.09% | C24: 1 | D24: 식 | P24: 200 | R24: F | X24: EQ = ( LA(50) + LA(60) ) * ( 0.09 / 100 )_x000D_ | AA24: EQ+ = | AB24: =INT(0*(7.97/100)/1000000)*1000000 -> 0 | AC24: EQ = | AD24: =$AB24 -> 0
A25: 17) 기술사용료 | B25: PC패널 공종×7.96% | C25: 1 | D25: 식 | P25: 210 | R25: F | X25: EQ = int ( ~C12.T~ * ( 7.97 / 100 ) / 1000000 ) * 1000000_x000D_ | AA25: MA+ = | AB25: =ROUND((내역서!F9+내역서!F10+내역서!F11+내역서!F12+내역서!F13+내역서!F14+내역서!F15+내역서!F16+내역서!F17+내역서!F18+내역서!F19+내역서!F20+내역서!F21+내역서!F22+내역서!F23+내역서!F24+내역서!F25),2) -> 0 | AC25: MA = | AD25: =$AB25 -> 0 | AE25: LA+ = | AF25: =ROUND((내역서!H9+내역서!H10+내역서!H11+내역서!H12+내역서!H13+내역서!H14+내역서!H15+내역서!H16+내역서!H17+내역서!H18+내역서!H19+내역서!H20+내역서!H21+내역서!H22+내역서!H23+내역서!H24+내역서!H25),2) -> 0 | AG25: LA = | AH25: =$AF25 -> 0 | AI25: EQ+ = | AJ25: =ROUND((내역서!J9+내역서!J10+내역서!J11+내역서!J12+내역서!J13+내역서!J14+내역서!J15+내역서!J16+내역서!J17+내역서!J18+내역서!J19+내역서!J20+내역서!J21+내역서!J22+내역서!J23+내역서!J24+내역서!J25),2) -> 0 | AK25: EQ = | AL25: =$AJ25 -> 0
A26: 18) 순공사원가 | C26: 1 | D26: 식 | P26: 220 | Q26: * | R26: F | X26: [] = TOT(50,0,210)_x000D_ | AA26: EQ+ = | AB26: =(내역서!F26+내역서!H26+내역서!J26)*(6.5/100) -> 0 | AC26: EQ = | AD26: =$AB26 -> 0
A27: 19) 일반관리비 | B27: 순공사비×6.5% | C27: 1 | D27: 식 | N27: ZZC000100000 | P27: 230 | R27: F | X27: EQ = TOT(220) * ( 6.5 / 100 )_x000D_ | AA27: EQ+ = | AB27: =(내역서!H26+내역서!J26+내역서!J27-내역서!J25)*(15/100)-(162239) -> -162239 | AC27: EQ = | AD27: =$AB27 -> -162239
A28: 20) 이윤 | B28: (노＋경＋일관-기술료)×15% | C28: 1 | D28: 식 | N28: ZZD000100000 | P28: 240 | R28: F | X28: EQ = ( LA(220) + EQ(220) + EQ(230) - EQ(210) ) * ( 15 / 100 ) - ( 162239 )_x000D_ | AA28: EQ+ = | AB28: =(내역서!F30+내역서!H30+내역서!J30)+(내역서!F31+내역서!H31+내역서!J31)+(내역서!F32+내역서!H32+내역서!J32) -> 0 | AC28: EQ = | AD28: =$AB28 -> 0
A29: 21) 고용개선지원비 (PS단가) | C29: 1 | D29: 식 | P29: 250 | Q29: * | R29: F | X29: EQ = TOT(260) + TOT(270) + TOT(280)_x000D_ | AA29: EQ+ = | AB29: =내역서!H9*(11/100)*(50/100)*1.4 -> 0 | AC29: EQ = | AD29: =$AB29 -> 0
A30: 21-1) 지원비 (주휴수당) | B30: 직노×11%×50%×1.4 | C30: 1 | D30: 식 | P30: 260 | R30: F | X30: EQ = LA(50) * ( 11 / 100 ) * ( 50 / 100 ) * 1.4_x000D_ | AA30: EQ+ = | AB30: =내역서!H9*(8.345/100)*(20/100) -> 0 | AC30: EQ = | AD30: =$AB30 -> 0
A31: 21-2) 지원비 (연금, 건강) | B31: 직노×8.345%×20% | C31: 1 | D31: 식 | P31: 270 | R31: F | X31: EQ = LA(50) * ( 8.345 / 100 ) * ( 20 / 100 )_x000D_ | AA31: EQ+ = | AB31: =내역서!H9*(11/100)*(50/10/100) -> 0 | AC31: EQ = | AD31: =$AB31 -> 0
A32: 21-3) 지원비 (고용장려금) | B32: 직노×11%×50%×10% | C32: 1 | D32: 식 | P32: 280 | R32: F | X32: EQ = LA(50) * ( 11 / 100 ) * ( 50 / 10 / 100 )_x000D_ | AA32: MA+ = | AB32: =ROUND((내역서!F26+내역서!F27+내역서!F28+내역서!F29),2) -> 0 | AC32: MA = | AD32: =$AB32 -> 0 | AE32: LA+ = | AF32: =ROUND((내역서!H26+내역서!H27+내역서!H28+내역서!H29),2) -> 0 | AG32: LA = | AH32: =$AF32 -> 0 | AI32: EQ+ = | AJ32: =ROUND((내역서!J26+내역서!J27+내역서!J28+내역서!J29),2) -> 0 | AK32: EQ = | AL32: =$AJ32 -> 0
A33: 22) 공급가액 | C33: 1 | D33: 식 | N33: * | P33: 290 | Q33: * | R33: F | X33: [] = TOT(220,0,250)_x000D_ | AA33: EQ+ = | AB33: =(내역서!F33+내역서!H33+내역서!J33)*10/100 -> 0 | AC33: EQ = | AD33: =$AB33 -> 0
A34: 23) 부가가치세 | B34: 공급가액×10% | C34: 1 | D34: 식 | N34: ZZF000100000 | P34: 300 | R34: F | X34: EQ = TOT(290) * 10 / 100_x000D_ | AA34: MA+ = | AB34: =ROUND((내역서!F33+내역서!F34),2) -> 0 | AC34: MA = | AD34: =$AB34 -> 0 | AE34: LA+ = | AF34: =ROUND((내역서!H33+내역서!H34),2) -> 0 | AG34: LA = | AH34: =$AF34 -> 0 | AI34: EQ+ = | AJ34: =ROUND((내역서!J33+내역서!J34),2) -> 0 | AK34: EQ = | AL34: =$AJ34 -> 0
A35: 24) 도급금액 | C35: 1 | D35: 식 | P35: 310 | Q35: * | R35: F | X35: [] = TOT(290,0,300)_x000D_
A36: 25) 이전비 | C36: 1 | D36: 식 | P36: 320 | R36: C16 | AA36: MA+ = | AB36: =ROUND((내역서!F35+내역서!F36),2) -> 0 | AC36: MA = | AD36: =$AB36 -> 0 | AE36: LA+ = | AF36: =ROUND((내역서!H35+내역서!H36),2) -> 0 | AG36: LA = | AH36: =$AF36 -> 0 | AI36: EQ+ = | AJ36: =ROUND((내역서!J35+내역서!J36),2) -> 0 | AK36: EQ = | AL36: =$AJ36 -> 0
A37: ○ 총공사비 | C37: 1 | D37: 식 | N37: * | P37: 330 | Q37: * | R37: F | X37: [] = TOT(310,0,320)_x000D_
P38: 340 | Q38: S
A39: 1. 문래동남성아파트 (시내 방면) 버스정류장 | C39: 1 | D39: 식 | O39: C01
A40: 1.01. 프리캐스트 패널 제작 | D40: 식 | P40: 10
A41: a. 프리캐스트 패널 제작 | B41: 3.20×6.00, TYPE-A | C41: 9 | D41: 패널 | P41: 20 | R41: PC0140 | T41: T
A42: b. 프리캐스트 패널 제작 | B42: 3.20×6.00, TYPE-C | C42: 1 | D42: 패널 | P42: 30 | R42: PC0150 | T42: T
A43: c. 프리캐스트 패널 제작 | B43: 3.20×3.00, TYPE-AP | C43: 2 | D43: 패널 | P43: 40 | R43: PC0160 | T43: T
A44: 1.02. 프리캐스트 패널 운반 | D44: 식 | P44: 50
A45: a. 프리캐스트 패널 운반 | B45: TYPE-A∼C | C45: 10 | D45: 패널 | P45: 60 | R45: PC1110 | T45: F
A46: b. 프리캐스트 패널 운반 | B46: TYPE-AP | C46: 2 | D46: 패널 | P46: 70 | R46: PC1120 | T46: F
A47: 1.03. 아스팔트 포장 절삭 | D47: 식 | P47: 80
A48: a. 아스팔트 절삭 | B48: T=5~10cm, 야간 | C48: 724 | D48: M2 | P48: 90 | R48: PC1219 | T48: F
A49: b. 아스팔트 절삭 (소규모 할증) | B49: Q = B/2 = 1,450의 잉여값 | C49: =1450-C48 -> 726 | D49: M2 | P49: 100 | R49: PC1229 | T49: F
A50: c. 폐기물 소운반 및 상차 | B50: 덤프 및 굴착기, 야간 | C50: 35 | D50: M3 | P50: 110 | R50: PC5219 | T50: F
A51: 1.04. 프리캐스트 패널 설치 | D51: 식 | P51: 120
A52: a. 비닐 깔기 | B52: T=0.1mm, 야간 | C52: 232 | D52: M2 | P52: 130 | R52: PC1310 | T52: F
A53: b. 높이 조절 | B53: M22×450L, 야간 | C53: 40 | D53: EA | P53: 140 | R53: PC1410 | T53: F
A54: c. 프리캐스트 패널 설치 | B54: 크레인 시공, 야간 | C54: 211.2 | D54: M2 | P54: 150 | R54: PC1519 | T54: F
A55: d. 그라우트 주입 | B55: 초속경, 야간 | C55: 12.4 | D55: M3 | P55: 160 | R55: PC1619 | T55: F
A56: 1.05. 아스팔트 포장 | D56: 식 | P56: 170
A57: a. 택코팅 살포 | B57: 인력식, 야간 | C57: 107 | D57: M2 | P57: 180 | R57: PC1719 | T57: F
A58: b. 택코팅 살포 (소규모 할증) | B58: Q = B/2 = 4,000의 잉여값 | C58: =4000-C57 -> 3893 | D58: M2 | P58: 190 | R58: PC1729 | T58: F
A59: c. 아스팔트 표층 포설 | B59: 소규모 포설, 야간 | C59: 107 | D59: M2 | P59: 200 | R59: PC1819 | T59: F
A60: d. 아스팔트 표층 포설 (소규모 할증) | B60: Q = B/2 = 150의 잉여값 | C60: =150-C59 -> 43 | D60: M2 | P60: 210 | R60: PC1829 | T60: F
A61: e. 아스팔트 운반 | B61: 덤프 15ton, 야간 | C61: 6 | D61: M3 | P61: 220 | R61: PC1919 | T61: F
A62: f. 아스팔트 콘크리트 | B62: #78, 표층용 | C62: 14 | D62: TON | N62: 56100707213 | P62: 230 | R62: M1155009
A63: g. 아스팔트 보강재 설치 | B63: 60/60kN, 야간 | C63: 34 | D63: M2 | P63: 240 | R63: PC2010 | T63: F
A64: 1.06. 신축줄눈 | D64: 식 | P64: 250
A65: a. 줄눈 절단 | B65: 신축조인트, 야간 | C65: 29 | D65: M | P65: 260 | R65: PC2119 | T65: F
A66: b. 줄눈 절단 (소규모 할증) | B66: Q = B/2 = 300의 잉여값 | C66: =300-C65 -> 271 | D66: M | P66: 270 | R66: PC2129 | T66: F
A67: c. 줄눈 설치 | B67: 신축조인트, 야간 | C67: 29 | D67: M | P67: 280 | R67: PC2139 | T67: F
A68: d. 줄눈 설치 (소규모 할증) | B68: Q = B/2 = 450의 잉여값 | C68: =450-C67 -> 421 | D68: M | P68: 290 | R68: PC2149 | T68: F
A69: 1.07. 건식 그루빙 (콘크리트) | B69: 종방향, 9×4×51, 야간 | C69: 177 | D69: M2 | P69: 300 | R69: PC2219 | T69: F
A70: 1.08. 중기운반비 | C70: 1 | D70: 식 | P70: 310 | R70: PC5419 | T70: F
A71: 1.09. 건설공사 동영상 편집 | B71: 공종별 | C71: 7 | D71: 건 | P71: 320 | R71: PC6019 | T71: F
P72: 330
A73: 2. 구일역, 중앙유통상가 (시외 방면) 버스정류장 | C73: 1 | D73: 식 | O73: C02
A74: 2.01. 프리캐스트 패널 제작 | D74: 식 | P74: 10
A75: a. 프리캐스트 패널 제작 | B75: 3.20×6.00, TYPE-A | C75: 9 | D75: 패널 | P75: 20 | R75: PC0140 | T75: T
A76: b. 프리캐스트 패널 제작 | B76: 3.20×6.00, TYPE-C | C76: 1 | D76: 패널 | P76: 30 | R76: PC0150 | T76: T
A77: c. 프리캐스트 패널 제작 | B77: 3.20×3.00, TYPE-AP | C77: 2 | D77: 패널 | P77: 40 | R77: PC0160 | T77: T
A78: 2.02. 프리캐스트 패널 운반 | D78: 식 | P78: 50
A79: a. 프리캐스트 패널 운반 | B79: TYPE-A∼C | C79: 10 | D79: 패널 | P79: 60 | R79: PC1110 | T79: F
A80: b. 프리캐스트 패널 운반 | B80: TYPE-AP | C80: 2 | D80: 패널 | P80: 70 | R80: PC1120 | T80: F
A81: 2.03. 아스팔트 포장 절삭 | D81: 식 | P81: 80
A82: a. 아스팔트 절삭 | B82: T=5~10cm, 야간 | C82: 724 | D82: M2 | P82: 90 | R82: PC1219 | T82: F
A83: b. 아스팔트 절삭 (소규모 할증) | B83: Q = B/2 = 1,450의 잉여값 | C83: =1450-C82 -> 726 | D83: M2 | P83: 100 | R83: PC1229 | T83: F
A84: c. 폐기물 소운반 및 상차 | B84: 덤프 및 굴착기, 야간 | C84: 35 | D84: M3 | P84: 110 | R84: PC5219 | T84: F
A85: 2.04. 프리캐스트 패널 설치 | D85: 식 | P85: 120
A86: a. 비닐 깔기 | B86: T=0.1mm, 야간 | C86: 232 | D86: M2 | P86: 130 | R86: PC1310 | T86: F
A87: b. 높이 조절 | B87: M22×450L, 야간 | C87: 40 | D87: EA | P87: 140 | R87: PC1410 | T87: F
A88: c. 프리캐스트 패널 설치 | B88: 크레인 시공, 야간 | C88: 211.2 | D88: M2 | P88: 150 | R88: PC1519 | T88: F
A89: d.. 그라우트 주입 | B89: 초속경, 야간 | C89: 12.4 | D89: M3 | P89: 160 | R89: PC1619 | T89: F
A90: 2.05. 아스팔트 포장 | D90: 식 | P90: 170
A91: a. 택코팅 살포 | B91: 인력식, 야간 | C91: 107 | D91: M2 | P91: 180 | R91: PC1719 | T91: F
A92: b. 택코팅 살포 (소규모 할증) | B92: Q = B/2 = 4,000의 잉여값 | C92: =4000-C91 -> 3893 | D92: M2 | P92: 190 | R92: PC1729 | T92: F
A93: c. 아스팔트 표층 포설 | B93: 소규모 포설, 야간 | C93: 107 | D93: M2 | P93: 200 | R93: PC1819 | T93: F
A94: d. 아스팔트 표층 포설 (소규모 할증) | B94: Q = B/2 = 150의 잉여값 | C94: =150-C93 -> 43 | D94: M2 | P94: 210 | R94: PC1829 | T94: F
A95: e. 아스팔트 운반 | B95: 덤프 15ton, 야간 | C95: 6 | D95: M3 | P95: 220 | R95: PC1919 | T95: F
A96: f. 아스팔트 콘크리트 | B96: #78, 표층용 | C96: 14 | D96: TON | N96: 56100707213 | P96: 230 | R96: M1155009
A97: g. 아스팔트 보강재 설치 | B97: 60/60kN, 야간 | C97: 34 | D97: M2 | P97: 240 | R97: PC2010 | T97: F
A98: 2.06. 신축줄눈 | D98: 식 | P98: 250
A99: a. 줄눈 절단 | B99: 신축조인트, 야간 | C99: 29 | D99: M | P99: 260 | R99: PC2119 | T99: F
A100: b. 줄눈 절단 (소규모 할증) | B100: Q = B/2 = 300의 잉여값 | C100: =300-C99 -> 271 | D100: M | P100: 270 | R100: PC2129 | T100: F
...
