Workbook

Sheet 갑지
A1: 과 장 | D1: 심 사 | G1: 설계자 | J1: 설계 2026. 9 . . | L1: 결 재
J2: 심사 2026. 9 . . | L2: 2026년 월 일
A4: 설 계 서
B6: ='공사원가계산서 (가로)'!A3 -> ○ 공 사 명 : 2026년 중앙버스전용차로 고강성 콘크리트 포장 공사(강서)
B8: 구 분 | E8: 금 액 | L8: 비 고
B9: 총 공 사 비
B10: 도급비 | C10: 공 급 가 액
C11: 부가가치세
C12: 계
B13: 관 급 비
B14: 이 전 비
B16: ※ 공사개요 : 버스정류장 PC패널 설치 (4개소, A=890.40㎡)

Sheet 공사원가계산서 (가로)
A1: 공 사 원 가 계 산 서
A3: ○ 공 사 명 : 2026년 중앙버스전용차로 고강성 콘크리트 포장 공사(강서)
A4: ○ 공사기간 : 착공일로부터 2026년 월 일까지
A5: 구 분 | D5: 금 액 (원) | E5: 구 성 비 | F5: 비 고
A6: 순 공 사 원 가 | B6: 재 료 비 | C6: 직접재료비 | D6: =내역서!F9 -> 0
C7: 간접재료비
C8: 소 계 | D8: =D6+D7 -> 0
B9: 노 무 비 | C9: 직접노무비 | D9: =내역서!H9 -> 0
C10: 간접노무비 | D10: =내역서!H10 -> 0
C11: 소 계 | D11: =D9+D10 -> 0
B12: 경 비 | C12: 산출경비 | D12: =내역서!J9 -> 0
C13: 보험료 (산재) | D13: =내역서!L11 -> 0
C14: 보험료 (고용) | D14: =내역서!L12 -> 0
C15: 보험료 (건강) | D15: =내역서!L13 -> 0
C16: 보험료 (노인장기요양) | D16: =내역서!L14 -> 0
C17: 보험료 (연금) | D17: =내역서!L15 -> 0
C18: 근로자퇴직공제부금비 | D18: =내역서!L16 -> 0
C19: 산업안전보건관리비 | D19: =내역서!L17 -> 0
C20: 안전관리비 | D20: =내역서!L18 -> 0
C21: 품질관리비 | D21: =내역서!L19 -> 0
C22: 환경보전비 | D22: =내역서!L20 -> 0
C23: 건설기계대여대금지급보증서 | D23: =내역서!L21 -> 0
C24: 기타경비 | D24: =내역서!L22 -> 0
... C27: 기술사용료 | D27: =내역서!L25 -> 0
C28: 폐기물처리비
C29: 소 계 | D29: =SUM(D12:D28) -> 0
A30: 일반관리비 | D30: =내역서!L27 -> 0
A31: 이윤 | D31: =내역서!L28 -> 0
A32: 고 용 개 선 지 원 비 ( P S 단 가 ) | D32: =내역서!L29 -> 0
A33: 공급가액 | D33: =D8+D11+D29+D30+D31+D32 -> 0
A34: 부가가치세 | D34: =D33*0.1 -> 0
A35: 도급액 | D35: =SUM(D33:D34) -> 0

Sheet 내역서
A1: 내역서
A2: 공 종 명 | B2: 규 격 | C2: 수량 | D2: 단위 | E2: 재 료 비 | G2: 노 무 비 | I2: 경 비 | K2: 합 계
E3: 단 가 | F3: 금 액 | G3: 단 가 | H3: 금 액 | I3: 단 가 | J3: 금 액 | K3: 단 가 | L3: 금 액 | S3: 할 증 | T3: 화폐변환 | U3: OP값 | V3: EQ | W3: LA | X3: MA | Y3: 금액계상
A4: ■ 2026년 중앙버스전용차로 고강성 콘크리트 포장 공사(강서) | C4: 1 | D4: 식 | O4: C00
A5: 1. 문래동남성아파트 (시내 방면) 버스정류장 | C5: 1 | D5: 식 | P5: 10 | R5: C01
A6: 2. 구일역, 중앙유통상가 (시외 방면) 버스정류장 | C6: 1 | D6: 식 | P6: 20 | R6: C02
A7: 3. 동양미래대학.구로성심병원 (시내 방면) 버스정류장 | C7: 1 | D7: 식 | P7: 30 | R7: C03
A8: 4. 동양미래대학.구로성심병원 (시외 방면) 버스정류장 | C8: 1 | D8: 식 | P8: 40 | R8: C04 | AA8: MA+ = | AB8: =(내역서!F5+내역서!F6+내역서!F7+내역서!F8) -> 0 | AC8: MA = | AD8: =$AB8 -> 0
A9: 1) 직접공사비 | C9: 1 | D9: 식 | P9: 50 | Q9: * | R9: F | X9: MA = MA(10,0,40)_x000D_ LA = LA(10,0,40)_x000D_ EQ = EQ(10,0,40)_x000D_ | AA9: LA+ = | AB9: =내역서!H9*(19.1/100) -> 0 | AC9: LA = | AD9: =$AB9 -> 0
A10: 2) 간접노무비 | B10: 직노×19.1% | C10: 1 | D10: 식 | N10: ZZA000200000 | P10: 60 | R10: F | X10: LA = LA(50) * ( 19.1 / 100 )_x000D_ | AA10: EQ+ = | AB10: =(내역서!H9+내역서!H10)*(3.56/100) -> 0 | AC10: EQ = | AD10: =$AB10 -> 0
A11: 3) 산재보험료 | B11: 노무비×3.56% | C11: 1 | D11: 식 | N11: ZZB110100000 | P11: 70 | R11: F | X11: EQ = ( LA(50) + LA(60) ) * ( 3.56 / 100 )_x000D_ | AA11: EQ+ = | AB11: =(내역서!H9+내역서!H10)*(1.01/100) -> 0 | AC11: EQ = | AD11: =$AB11 -> 0
A12: 4) 고용보험료 | B12: 노무비×1.01% | C12: 1 | D12: 식 | N12: ZZB120100000 | P12: 80 | R12: F | X12: EQ = ( LA(50) + LA(60) ) * ( 1.01 / 100 )_x000D_ | AA12: EQ+ = | AB12: =내역서!H9*(3.595/100) -> 0 | AC12: EQ = | AD12: =$AB12 -> 0
A13: 5) 건강보험료 | B13: 직노×3.595% | C13: 1 | D13: 식 | N13: ZZB130100000 | P13: 90 | R13: F | X13: EQ = LA(50) * ( 3.595 / 100 )_x000D_ | AA13: EQ+ = | AB13: =내역서!J13*(13.14/100) -> 0 | AC13: EQ = | AD13: =$AB13 -> 0
A14: 6) 노인장기요양보험료 | B14: 건보×13.14% | C14: 1 | D14: 식 | N14: ZZB130200000 | P14: 100 | R14: F | X14: EQ = EQ(90) * ( 13.14 / 100 )_x000D_ | AA14: EQ+ = | AB14: =내역서!H9*(4.75/100) -> 0 | AC14: EQ = | AD14: =$AB14 -> 0
A15: 7) 연금보험료 | B15: 직노×4.75% | C15: 1 | D15: 식 | N15: ZZB140100000 | P15: 110 | R15: F | X15: EQ = LA(50) * ( 4.75 / 100 )_x000D_ | AA15: EQ+ = | AB15: =내역서!H9*(2.3/100) -> 0 | AC15: EQ = | AD15: =$AB15 -> 0
A16: 8) 퇴직공제부금비 | B16: 직노×2.3% | C16: 1 | D16: 식 | N16: ZZB200100000 | P16: 120 | R16: F | X16: EQ = LA(50) * ( 2.3 / 100 )_x000D_ | AA16: EQ+ = | AB16: =((내역서!F9+내역서!H9)*3.15/100)+0 -> 0 | AC16: EQ = | AD16: =$AB16 -> 0
A17: 9) 산업안전보건관리비 | B17: (재＋직노)×3.15% | C17: 1 | D17: 식 | N17: ZZB300100000 | P17: 130 | R17: F | X17: .EQ = ( (MA(50) + LA(50) ) * 3.15 / 100 ) + 0_x000D_
A18: 10) 안전관리비 | C18: 1 | D18: 식 | P18: 140 | R18: C10
A19: 11) 품질관리비 | C19: 1 | D19: 식 | P19: 150 | R19: C11 | AA19: EQ+ = | AB19: =(내역서!F9+내역서!H9+내역서!J9)*(0.9/100) -> 0 | AC19: EQ = | AD19: =$AB19 -> 0
A20: 12) 환경보전비 | B20: 직접공사비×0.9% | C20: 1 | D20: 식 | N20: ZZB700100000 | P20: 160 | R20: F | X20: EQ = TOT(50) * ( 0.9 / 100 )_x000D_ | AA20: EQ+ = | AB20: =(내역서!F9+내역서!H9+내역서!J9)*(0.68/100) -> 0 | AC20: EQ = | AD20: =$AB20 -> 0
A21: 13) 건설기계대여대금지급보증서 | B21: 직접공사비×0.68% | C21: 1 | D21: 식 | N21: ZZB800100000 | P21: 170 | R21: F | X21: EQ = TOT(50) * ( 0.68 / 100 )_x000D_ | AA21: EQ+ = | AB21: =(내역서!F9+내역서!H9+내역서!H10)*(5.5/100) -> 0 | AC21: EQ = | AD21: =$AB21 -> 0
A22: 14) 기타경비 | B22: (재＋노)×5.5% | C22: 1 | D22: 식 | N22: ZZB400100000 | P22: 180 | R22: F | X22: EQ = ( MA(50) + LA(50) + LA(60) ) * ( 5.5 / 100 )_x000D_ | AA22: EQ+ = | AB22: =(내역서!H9+내역서!H10)*(0.006/100) -> 0 | AC22: EQ = | AD22: =$AB22 -> 0
A23: 15) 석면분담금 | B23: 노무비×0.006% | C23: 1 | D23: 식 | P23: 190 | R23: F | X23: EQ = ( LA(50) + LA(60) ) * ( 0.006 / 100 )_x000D_ | AA23: EQ+ = | AB23: =(내역서!H9+내역서!H10)*(0.09/100) -> 0 | AC23: EQ = | AD23: =$AB23 -> 0
A24: 16) 임금채권분담금 | B24: 노무비×0.09% | C24: 1 | D24: 식 | P24: 200 | R24: F | X24: EQ = ( LA(50) + LA(60) ) * ( 0.09 / 100 )_x000D_ | AA24: EQ+ = | AB24: =INT(0*(7.97/100)/1000000)*1000000 -> 0 | AC24: EQ = | AD24: =$AB24 -> 0
A25: 17) 기술사용료 | B25: PC패널 공종×7.96% | C25: 1 | D25: 식 | P25: 210 | R25: F | X25: EQ = int ( ~C12.T~ * ( 7.97 / 100 ) / 1000000 ) * 1000000_x000D_ | AA25: MA+ = | AB25: =ROUND((내역서!F9+내역서!F10+내역서!F11+내역서!F12+내역서!F13+내역서!F14+내역서!F15+내역서!F16+내역서!F17+내역서!F18+내역서!F19+내역서!F20+내역서!F21+내역서!F22+내역서!F23+내역서!F24+내역서!F25),2) -> 0 | AC25: MA = | AD25: =$AB25 -> 0 | AE25: LA+ = | AF25: =ROUND((내역서!H9+내역서!H10+내역서!H11+내역서!H12+내역서!H13+내역서!H14+내역서!H15+내역서!H16+내역서!H17+내역서!H18+내역서!H19+내역서!H20+내역서!H21+내역서!H22+내역서!H23+내역서!H24+내역서!H25),2) -> 0 | AG25: LA = | AH25: =$AF25 -> 0 | AI25: EQ+ = | AJ25: =ROUND((내역서!J9+내역서!J10+내역서!J11+내역서!J12+내역서!J13+내역서!J14+내역서!J15+내역서!J16+내역서!J17+내역서!J18+내역서!J19+내역서!J20+내역서!J21+내역서!J22+내역서!J23+내역서!J24+내역서!J25),2) -> 0 | AK25: EQ = | AL25: =$AJ25 -> 0
A26: 18) 순공사원가 | C26: 1 | D26: 식 | P26: 220 | Q26: * | R26: F | X26: [] = TOT(50,0,210)_x000D_ | AA26: EQ+ = | AB26: =(내역서!F26+내역서!H26+내역서!J26)*(6.5/100) -> 0 | AC26: EQ = | AD26: =$AB26 -> 0
A27: 19) 일반관리비 | B27: 순공사비×6.5% | C27: 1 | D27: 식 | N27: ZZC000100000 | P27: 230 | R27: F | X27: EQ = TOT(220) * ( 6.5 / 100 )_x000D_ | AA27: EQ+ = | AB27: =(내역서!H26+내역서!J26+내역서!J27-내역서!J25)*(15/100)-(162239) -> -162239 | AC27: EQ = | AD27: =$AB27 -> -162239
A28: 20) 이윤 | B28: (노＋경＋일관-기술료)×15% | C28: 1 | D28: 식 | N28: ZZD000100000 | P28: 240 | R28: F | X28: EQ = ( LA(220) + EQ(220) + EQ(230) - EQ(210) ) * ( 15 / 100 ) - ( 162239 )_x000D_ | AA28: EQ+ = | AB28: =(내역서!F30+내역서!H30+내역서!J30)+(내역서!F31+내역서!H31+내역서!J31)+(내역서!F32+내역서!H32+내역서!J32) -> 0 | AC28: EQ = | AD28: =$AB28 -> 0
A29: 21) 고용개선지원비 (PS단가) | C29: 1 | D29: 식 | P29: 250 | Q29: * | R29: F | X29: EQ = TOT(260) + TOT(270) + TOT(280)_x000D_ | AA29: EQ+ = | AB29: =내역서!H9*(11/100)*(50/100)*1.4 -> 0 | AC29: EQ = | AD29: =$AB29 -> 0
A30: 21-1) 지원비 (주휴수당) | B30: 직노×11%×50%×1.4 | C30: 1 | D30: 식 | P30: 260 | R30: F | X30: EQ = LA(50) * ( 11 / 100 ) * ( 50 / 100 ) * 1.4_x000D_ | AA30: EQ+ = | AB30: =내역서!H9*(8.345/100)*(20/100) -> 0 | AC30: EQ = | AD30: =$AB30 -> 0
A31: 21-2) 지원비 (연금, 건강) | B31: 직노×8.345%×20% | C31: 1 | D31: 식 | P31: 270 | R31: F | X31: EQ = LA(50) * ( 8.345 / 100 ) * ( 20 / 100 )_x000D_ | AA31: EQ+ = | AB31: =내역서!H9*(11/100)*(50/10/100) -> 0 | AC31: EQ = | AD31: =$AB31 -> 0
A32: 21-3) 지원비 (고용장려금) | B32: 직노×11%×50%×10% | C32: 1 | D32: 식 | P32: 280 | R32: F | X32: EQ = LA(50) * ( 11 / 100 ) * ( 50 / 10 / 100 )_x000D_ | AA32: MA+ = | AB32: =ROUND((내역서!F26+내역서!F27+내역서!F28+내역서!F29),2) -> 0 | AC32: MA = | AD32: =$AB32 -> 0 | AE32: LA+ = | AF32: =ROUND((내역서!H26+내역서!H27+내역서!H28+내역서!H29),2) -> 0 | AG32: LA = | AH32: =$AF32 -> 0 | AI32: EQ+ = | AJ32: =ROUND((내역서!J26+내역서!J27+내역서!J28+내역서!J29),2) -> 0 | AK32: EQ = | AL32: =$AJ32 -> 0
A33: 22) 공급가액 | C33: 1 | D33: 식 | N33: * | P33: 290 | Q33: * | R33: F | X33: [] = TOT(220,0,250)_x000D_ | AA33: EQ+ = | AB33: =(내역서!F33+내역서!H33+내역서!J33)*10/100 -> 0 | AC33: EQ = | AD33: =$AB33 -> 0
A34: 23) 부가가치세 | B34: 공급가액×10% | C34: 1 | D34: 식 | N34: ZZF000100000 | P34: 300 | R34: F | X34: EQ = TOT(290) * 10 / 100_x000D_ | AA34: MA+ = | AB34: =ROUND((내역서!F33+내역서!F34),2) -> 0 | AC34: MA = | AD34: =$AB34 -> 0 | AE34: LA+ = | AF34: =ROUND((내역서!H33+내역서!H34),2) -> 0 | AG34: LA = | AH34: =$AF34 -> 0 | AI34: EQ+ = | AJ34: =ROUND((내역서!J33+내역서!J34),2) -> 0 | AK34: EQ = | AL34: =$AJ34 -> 0
A35: 24) 도급금액 | C35: 1 | D35: 식 | P35: 310 | Q35: * | R35: F | X35: [] = TOT(290,0,300)_x000D_
A36: 25) 이전비 | C36: 1 | D36: 식 | P36: 320 | R36: C16 | AA36: MA+ = | AB36: =ROUND((내역서!F35+내역서!F36),2) -> 0 | AC36: MA = | AD36: =$AB36 -> 0 | AE36: LA+ = | AF36: =ROUND((내역서!H35+내역서!H36),2) -> 0 | AG36: LA = | AH36: =$AF36 -> 0 | AI36: EQ+ = | AJ36: =ROUND((내역서!J35+내역서!J36),2) -> 0 | AK36: EQ = | AL36: =$AJ36 -> 0
A37: ○ 총공사비 | C37: 1 | D37: 식 | N37: * | P37: 330 | Q37: * | R37: F | X37: [] = TOT(310,0,320)_x000D_
P38: 340 | Q38: S
A39: 1. 문래동남성아파트 (시내 방면) 버스정류장 | C39: 1 | D39: 식 | O39: C01
A40: 1.01. 프리캐스트 패널 제작 | D40: 식 | P40: 10
...
