Workbook

Sheet 갑지

Sheet 원가
B1: 시트명 | M1: 공종별집계표
B2: 행 | M2: 5 | AQ2: 추정금액 | AR2: =AR4+AR5+AR6 -> 0
B4: =공종별집계표!A2 -> [ 북원도서관신축사업설계용역-통신 ] | R4: 금액: | T4: =NUMBERSTRING(AG4,1) -> 영 | AC4: 원 정 | AE4: ( | AF4: W | AG4: =M37 -> 0 | AL4: ) | AQ4: 추정가격 | AR4: =M33/1.1 -> 0
A5: 열 | B5: 비목 | D5: 구분 | M5: 금액 | N5: 구성비 | X5: 비고 | AQ5: 부가세 | AR5: =M33-AR4 -> 0
A6: F | B6: 순공사비원가 | D6: 재료비 | F6: 직접재료비 | M6: =공종별집계표!F5 -> 0 | AN6: 순공사비 | AO6: =M9+M10+M13 -> 0 | AQ6: 도급자설치관급 | AR6: =M36 -> 0
F7: 간접재료비 | AN7: 관급총액 | AO7: =M35+M36 -> 0 | AQ7: 관급자설치관급 | AR7: =M35 -> 0
F8: 작업부산물 | AN8: 한전비 | AO8: =M34 -> 0 | AQ8: 기초금액 | AR8: =AR4+AR5 -> 0
F9: 소계 | M9: =SUM(M6:M8) -> 0 | AQ9: 순공사원가 | AR9: =M26 -> 0
A10: H | D10: 노무비 | F10: 직접노무비(가) | M10: =공종별집계표!H5 -> 0 | AQ10: A값 | AR10: =M17+M19+M18+M16+M21 -> 0
F11: 간접노무비(나) | M11: =INT(M10*R11) -> 0 | N11: 직접노무비의 | R11: 0.182
F12: 소계 | M12: =SUM(M10:M11) -> 0
A13: J | D13: 경비 | F13: 기계경비 | M13: =공종별집계표!J5 -> 0 | AN13: 퇴직공제비 | AO13: =IF(M33+M36>=100000000, "☜ 적용(2.3%)","☜ 삭제") -> ☜ 삭제
F14: 고용보험료 | M14: =INT(M12*Q14) -> 0 | N14: 노무비의 | Q14: 0.0101
F15: 산재보험료 | M15: =INT(M12*Q15) -> 0 | N15: 노무비의 | Q15: 0.0356 | AN15: 안전관리비 | AO15: =IF(M33+M36-M16<20000000,"☜ 삭제",IF(M9+M10+M36<=499999999,"☜ 적용(3.11%)",IF(M9+M10+M36<=4999999999,"☜ 교체(2.28%+4,325천원)",IF(M9+M10+M36>=5000000000,"☜ 교체(2.37%)")))) -> ☜ 삭제
F16: 산업안전보건관리비 | M16: =INT(MIN(AO17,AO18)) -> 0 | N16: =IF(M33+M36>=20000000,IF(AO17>AO18,AO20,AO19),"") | AO16: 5억미만 | AP16: 5억이상 50억미만 | AQ16: 50억이상
F17: 건강보험료 | M17: =INT(M10*R17) -> 0 | N17: 직접노무비의 | R17: 0.03595 | AN17: a. | AO17: =INT((($M$9+$M$10)+($M$36/1.1))*3.11%) -> 0 | AP17: =INT((($M$9+$M$10)+($M$36/1.1))*2.28%)+4325000 -> 4325000 | AQ17: =INT((($M$9+$M$10)+($M$36/1.1))*2.37%) -> 0
F18: 연금보험료 | M18: =INT(M10*R18) -> 0 | N18: 직접노무비의 | R18: 0.0475 | AN18: b. | AO18: =INT((($M$9+$M$10)*3.11%)*1.2) -> 0 | AP18: =INT((($M$9+$M$10)*2.28%)+4325000)*1.2 -> 5190000 | AQ18: =INT((($M$9+$M$10)*2.37%)*1.2) -> 0
F19: 노인장기요양보험료 | M19: =INT(M17*R19) -> 0 | N19: 건강보험료의 | R19: 0.1314 | AO19: (재+직노+도급자관급)의 3.11% | AP19: (재+직노+도급자관급)의 2.28%+4,325천원 | AQ19: (재+직노+도급자관급)의 2.37%
F20: 기타경비 | M20: =INT((M9+M12)*Q20) -> 0 | N20: (재+노)의 | Q20: 0.055 | AO20: (재+직노)의 3.11% *1.2 | AP20: ((재+직노)의 2.28%+4,325천원)*1.2 | AQ20: (재+직노)의 2.37% *1.2
F21: 퇴직공제부금비 | M21: =INT(M10*2.3%) -> 0 | N21: =IF(M33+M36>=100000000, "직접노무비의 2.3%","")
F22: 공사이행보증수수료
F23: 석면분담금 | M23: =INT(M12*Q23) -> 0 | N23: 노무비의 | Q23: 6e-05
F24: 임금채권부담금 | M24: =INT(M12*Q24) -> 0 | N24: 노무비의 | Q24: 0.0009
F25: 소계 | M25: =SUM(M13:M24) -> 0
D26: 계 | M26: =M9+M12+M25 -> 0
B27: 일반관리비 | M27: =INT(M26*P27) -> 0 | N27: 계의 | P27: 0.08 | X27: 5억미만 8% / 5~30억미만 6.5% / 30~100억미만 5% (공급가액 기준)
B28: 이윤 | M28: =INT((M12+M25+M27)*S28)-53/1.1+1 -> -47.181818 | N28: (노+경비+일.관)의 | S28: 0.15 | X28: 50억미만 15% / 50~300억미만 12% (공급가액 기준)
B29: 사급자재비
B30: 배상책임공제료 | M30: =INT(AO30*N30) -> 0 | AN30: 순계약금액 : | AO30: =INT(M26+M27+M28+M29+$AN$36) -> -48
B31: 공급가액 | M31: =SUM(M26:M30) -> -47.181818
B32: 부가가치세 | M32: =INT(M31*R32) -> -5 | N32: 공급가액의 | R32: 0.1
B33: 도급액 | M33: =ROUNDDOWN(M31+M32,-3) -> 0 | X33: 천단위절사
B34: 한전인입비/사용전검사비 | M34: 0 | X34: 천단위절상
B35: 관급자설치 관급자재 | M35: =ROUNDUP(공종별집계표!L15, -3) -> 0 | X35: 천단위절상
B36: 도급자설치 관급자재 | M36: 0 | X36: 천단위절상 | AO36: ☜ 도급자관급 입력(부가가치세제외+조달수수료포함) 입력 [배상공제료계상용]
B37: 총공사비 | M37: =SUM(M33:M36) -> 0 | AN37: 배상책임공제료 = 순계약금액 x 요율(%)
AN38: 순계약금액 = 공급가액+(도급자관급-부가가치세)-배상책임공제료

Sheet 공종별집계표
A1: 공 종 별 집 계 표
A2: [ 북원도서관신축사업설계용역-통신 ]
A3: 품 명 | B3: 규 격 | C3: 단위 | D3: 수량 | E3: 재 료 비 | G3: 노 무 비 | I3: 경 비 | K3: 합 계 | M3: 비 고 | N3: 공종코드 | O3: 변수 | P3: 상위공종 | Q3: 공종구분 | R3: 공종레벨 | S3: 공종소계 | T3: 원가계산서 연결금액
E4: 단 가 | F4: 금 액 | G4: 단 가 | H4: 금 액 | I4: 단 가 | J4: 금 액 | K4: 단 가 | L4: 금 액
A5: 01 북원도서관신축사업설계용역-통신 | D5: 1 | N5: 01 | R5: 1
A6: 0101 통신공사 | D6: 1 | N6: 0101 | P6: 01 | R6: 2
A7: 010101 옥외통신설비공사 | D7: 1 | N7: 010101 | P7: 0101 | R7: 3
A8: 010102 전화및LAN설비공사 | D8: 1 | N8: 010102 | P8: 0101 | R8: 3
A9: 010103 TV설비공사 | D9: 1 | N9: 010103 | P9: 0101 | R9: 3
A10: 010104 방송설비공사 | D10: 1 | N10: 010104 | P10: 0101 | R10: 3
A11: 010105 AV설비공사 | D11: 1 | N11: 010105 | P11: 0101 | R11: 3
A12: 010106 CCTV설비공사 | D12: 1 | N12: 010106 | P12: 0101 | R12: 3
A13: 010107 주차관제설비공사 | D13: 1 | N13: 010107 | P13: 0101 | R13: 3
A14: 010108 CABLE TRAY설비공사 | D14: 1 | N14: 010108 | P14: 0101 | R14: 3
A15: 0102 자 재 구 매 비 | D15: 1 | N15: 0102 | Q15: 3 | R15: 2 | T15: =L15*1 -> 0
A16: 010201 관급자설치 관급자재 | D16: 1 | N16: 010201 | P16: 0102 | R16: 3
A17: 01020101 통합배선 (V.A.T 포함) | D17: 1 | N17: 01020101 | P17: 010201 | R17: 4
A18: 01020102 방송/A,V (V.A.T 포함) | D18: 1 | N18: 01020102 | P18: 010201 | R18: 4
A19: 01020103 CCTV (V.A.T 포함) | D19: 1 | N19: 01020103 | P19: 010201 | R19: 4
A20: 01020104 주차관제 (V.A.T 포함) | D20: 1 | N20: 01020104 | P20: 010201 | R20: 4
A27: [ 합 계 ]

Sheet 공종별내역서
A1: [ 북원도서관신축사업설계용역-통신 ]
A2: 품 명 | B2: 규 격 | C2: 단위 | D2: 수량 | E2: 재 료 비 | G2: 노 무 비 | I2: 경 비 | K2: 합 계 | M2: 비 고 | N2: 품목코드 | O2: 변수 | P2: 설정 | Q2: 공종코드 | R2: 일위 | S2: 단산 | T2: 자재 | U2: 손료적용 | V2: 손료저장 | W2: 적용율 | X2: JUK1 | Y2: JUK2 | Z2: JUK3 | AA2: JUK4 | AB2: JUK5 | AC2: JUK6 | AD2: JUK7 | AE2: JUK8 | AF2: JUK9 | AG2: JUK10 | AH2: JUK11 | AI2: JUK12 | AJ2: JUK13 | AK2: JUK14 | AL2: JUK15 | AM2: JUK16 | AN2: JUK17 | AO2: JUK18 | AP2: JUK19 | AQ2: JUK20 | AR2: 자재구분 | AS2: 공종구분 | AT2: 공종레벨 | AU2: 공종+자재 | AV2: 고유번호
E3: 단 가 | F3: 금 액 | G3: 단 가 | H3: 금 액 | I3: 단 가 | J3: 금 액 | K3: 단 가 | L3: 금 액
A4: 010101 옥외통신설비공사 | B4: 통신공사 | Q4: 010101
A5: 강제전선관(통신노출) | B5: 아연도 36 mm | C5: M | D5: 10 | E5: =TRUNC(일위대가목록!E65,0) -> 8837 | F5: =TRUNC(E5*D5, 0) -> 88370 | G5: =TRUNC(일위대가목록!F65,0) -> 68692 | H5: =TRUNC(G5*D5, 0) -> 686920 | I5: =TRUNC(일위대가목록!G65,0) -> 0 | J5: =TRUNC(I5*D5, 0) -> 0 | K5: =TRUNC(E5+G5+I5, 0) -> 77529 | L5: =TRUNC(F5+H5+J5, 0) -> 775290 | M5: 호표 62 | N5: 5686B116EDCB04D3E7A9420B5A6226 | Q5: 010101 | R5: T | S5: F | T5: F | AU5: 0101015686B116EDCB04D3E7A9420B5A6226 | AV5: 325
A6: 강제전선관(통신노출) | B6: 아연도 54 mm | C6: M | D6: 15 | E6: =TRUNC(일위대가목록!E66,0) -> 15380 | F6: =TRUNC(E6*D6, 0) -> 230700 | G6: =TRUNC(일위대가목록!F66,0) -> 116777 | H6: =TRUNC(G6*D6, 0) -> 1751655 | I6: =TRUNC(일위대가목록!G66,0) -> 0 | J6: =TRUNC(I6*D6, 0) -> 0 | K6: =TRUNC(E6+G6+I6, 0) -> 132157 | L6: =TRUNC(F6+H6+J6, 0) -> 1982355 | M6: 호표 63 | N6: 5686B116EDCB04D3E7A9420B5A6078 | Q6: 010101 | R6: T | S6: F | T6: F | AU6: 0101015686B116EDCB04D3E7A9420B5A6078 | AV6: 326
A7: 경질비닐전선관(통신) | B7: HI 16 mm | C7: M | D7: 73 | E7: =TRUNC(일위대가목록!E57,0) -> 817 | F7: =TRUNC(E7*D7, 0) -> 59641 | G7: =TRUNC(일위대가목록!F57,0) -> 14310 | H7: =TRUNC(G7*D7, 0) -> 1044630 | I7: =TRUNC(일위대가목록!G57,0) -> 0 | J7: =TRUNC(I7*D7, 0) -> 0 | K7: =TRUNC(E7+G7+I7, 0) -> 15127 | L7: =TRUNC(F7+H7+J7, 0) -> 1104271 | M7: 호표 54 | N7: 5686B116EDCB04D3B7D4DBF277C5F1 | Q7: 010101 | R7: T | S7: F | T7: F | AU7: 0101015686B116EDCB04D3B7D4DBF277C5F1 | AV7: 327
A8: 경질비닐전선관(통신) | B8: HI 28 mm | C8: M | D8: 63 | E8: =TRUNC(일위대가목록!E59,0) -> 1610 | F8: =TRUNC(E8*D8, 0) -> 101430 | G8: =TRUNC(일위대가목록!F59,0) -> 22897 | H8: =TRUNC(G8*D8, 0) -> 1442511 | I8: =TRUNC(일위대가목록!G59,0) -> 0 | J8: =TRUNC(I8*D8, 0) -> 0 | K8: =TRUNC(E8+G8+I8, 0) -> 24507 | L8: =TRUNC(F8+H8+J8, 0) -> 1543941 | M8: 호표 56 | N8: 5686B116EDCB04D3B7D4DBF277C3C4 | Q8: 010101 | R8: T | S8: F | T8: F | AU8: 0101015686B116EDCB04D3B7D4DBF277C3C4 | AV8: 328
A9: 경질비닐전선관(통신) | B9: HI 36 mm | C9: M | D9: 188 | E9: =TRUNC(일위대가목록!E60,0) -> 2187 | F9: =TRUNC(E9*D9, 0) -> 411156 | G9: =TRUNC(일위대가목록!F60,0) -> 28621 | H9: =TRUNC(G9*D9, 0) -> 5380748 | I9: =TRUNC(일위대가목록!G60,0) -> 0 | J9: =TRUNC(I9*D9, 0) -> 0 | K9: =TRUNC(E9+G9+I9, 0) -> 30808 | L9: =TRUNC(F9+H9+J9, 0) -> 5791904 | M9: 호표 57 | N9: 5686B116EDCB04D3B7D4DBF277C23D | Q9: 010101 | R9: T | S9: F | T9: F | AU9: 0101015686B116EDCB04D3B7D4DBF277C23D | AV9: 329
A10: 경질비닐전선관(통신) | B10: HI 54 mm | C10: M | D10: 282 | E10: =TRUNC(일위대가목록!E61,0) -> 4076 | F10: =TRUNC(E10*D10, 0) -> 1149432 | G10: =TRUNC(일위대가목록!F61,0) -> 54381 | H10: =TRUNC(G10*D10, 0) -> 15335442 | I10: =TRUNC(일위대가목록!G61,0) -> 0 | J10: =TRUNC(I10*D10, 0) -> 0 | K10: =TRUNC(E10+G10+I10, 0) -> 58457 | L10: =TRUNC(F10+H10+J10, 0) -> 16484874 | M10: 호표 58 | N10: 5686B116EDCB04D3B7D4DBF277C00F | Q10: 010101 | R10: T | S10: F | T10: F | AU10: 0101015686B116EDCB04D3B7D4DBF277C00F | AV10: 330
A11: 난연성 비닐절연 접지용전선(통신) | B11: 0.6/1kV F-GV 6㎟ | C11: M | D11: 10 | E11: =TRUNC(일위대가목록!E75,0) -> 1670 | F11: =TRUNC(E11*D11, 0) -> 16700 | G11: =TRUNC(일위대가목록!F75,0) -> 4293 | H11: =TRUNC(G11*D11, 0) -> 42930 | I11: =TRUNC(일위대가목록!G75,0) -> 0 | J11: =TRUNC(I11*D11, 0) -> 0 | K11: =TRUNC(E11+G11+I11, 0) -> 5963 | L11: =TRUNC(F11+H11+J11, 0) -> 59630 | M11: 호표 72 | N11: 5686B116EDC8B49FF7010034BC1C8A | Q11: 010101 | R11: T | S11: F | T11: F | AU11: 0101015686B116EDC8B49FF7010034BC1C8A | AV11: 331
A12: UTP 케이블 | B12: CAT 6. 4P-0.5mm | C12: M | D12: 63 | E12: =TRUNC(일위대가목록!E74,0) -> 821 | F12: =TRUNC(E12*D12, 0) -> 51723 | G12: =TRUNC(일위대가목록!F74,0) -> 6571 | H12: =TRUNC(G12*D12, 0) -> 413973 | I12: =TRUNC(일위대가목록!G74,0) -> 0 | J12: =TRUNC(I12*D12, 0) -> 0 | K12: =TRUNC(E12+G12+I12, 0) -> 7392 | L12: =TRUNC(F12+H12+J12, 0) -> 465696 | M12: 호표 71 | N12: 5686B116EDC8B49FB7A6D2A9099DDE | Q12: 010101 | R12: T | S12: F | T12: F | AU12: 0101015686B116EDC8B49FB7A6D2A9099DDE | AV12: 332
A13: 통신맨홀 (사각수공 1호) | B13: 450x950x700 | C13: 개소 | D13: 3 | E13: =TRUNC(일위대가목록!E49,0) -> 683773 | F13: =TRUNC(E13*D13, 0) -> 2051319 | G13: =TRUNC(일위대가목록!F49,0) -> 532730 | H13: =TRUNC(G13*D13, 0) -> 1598190 | I13: =TRUNC(일위대가목록!G49,0) -> 32678 | J13: =TRUNC(I13*D13, 0) -> 98034 | K13: =TRUNC(E13+G13+I13, 0) -> 1249181 | L13: =TRUNC(F13+H13+J13, 0) -> 3747543 | M13: 호표 46 | N13: 5686B116EFF2D49A67B55F97D70F9A | Q13: 010101 | R13: T | S13: F | T13: F | AU13: 0101015686B116EFF2D49A67B55F97D70F9A | AV13: 333
A14: 관로구방수(통신) | B14: D 30 | C14: 개소 | D14: 2 | E14: =TRUNC(일위대가목록!E50,0) -> 38022 | F14: =TRUNC(E14*D14, 0) -> 76044 | G14: =TRUNC(일위대가목록!F50,0) -> 75774 | H14: =TRUNC(G14*D14, 0) -> 151548 | I14: =TRUNC(일위대가목록!G50,0) -> 0 | J14: =TRUNC(I14*D14, 0) -> 0 | K14: =TRUNC(E14+G14+I14, 0) -> 113796 | L14: =TRUNC(F14+H14+J14, 0) -> 227592 | M14: 호표 47 | N14: 5686B116EFF2D49A17334673466554 | Q14: 010101 | R14: T | S14: F | T14: F | AU14: 0101015686B116EFF2D49A17334673466554 | AV14: 334
A15: 관로구방수(통신) | B15: D 50 | C15: 개소 | D15: 3 | E15: =TRUNC(일위대가목록!E51,0) -> 41567 | F15: =TRUNC(E15*D15, 0) -> 124701 | G15: =TRUNC(일위대가목록!F51,0) -> 75774 | H15: =TRUNC(G15*D15, 0) -> 227322 | I15: =TRUNC(일위대가목록!G51,0) -> 0 | J15: =TRUNC(I15*D15, 0) -> 0 | K15: =TRUNC(E15+G15+I15, 0) -> 117341 | L15: =TRUNC(F15+H15+J15, 0) -> 352023 | M15: 호표 48 | N15: 5686B116EFF2D49A1733467346667B | Q15: 010101 | R15: T | S15: F | T15: F | AU15: 0101015686B116EFF2D49A1733467346667B | AV15: 335
A16: 관로구방수(통신) | B16: D 65 | C16: 개소 | D16: 3 | E16: =TRUNC(일위대가목록!E52,0) -> 43607 | F16: =TRUNC(E16*D16, 0) -> 130821 | G16: =TRUNC(일위대가목록!F52,0) -> 75774 | H16: =TRUNC(G16*D16, 0) -> 227322 | I16: =TRUNC(일위대가목록!G52,0) -> 0 | J16: =TRUNC(I16*D16, 0) -> 0 | K16: =TRUNC(E16+G16+I16, 0) -> 119381 | L16: =TRUNC(F16+H16+J16, 0) -> 358143 | M16: 호표 49 | N16: 5686B116EFF2D49A17334673466702 | Q16: 010101 | R16: T | S16: F | T16: F | AU16: 0101015686B116EFF2D49A17334673466702 | AV16: 336
A17: 관로구방수(통신,동일장소) | B17: D 30 | C17: 개소 | D17: 4 | E17: =TRUNC(일위대가목록!E53,0) -> 37567 | F17: =TRUNC(E17*D17, 0) -> 150268 | G17: =TRUNC(일위대가목록!F53,0) -> 60619 | H17: =TRUNC(G17*D17, 0) -> 242476 | I17: =TRUNC(일위대가목록!G53,0) -> 0 | J17: =TRUNC(I17*D17, 0) -> 0 | K17: =TRUNC(E17+G17+I17, 0) -> 98186 | L17: =TRUNC(F17+H17+J17, 0) -> 392744 | M17: 호표 50 | N17: 5686B116EFF2D49A17334673470A11 | Q17: 010101 | R17: T | S17: F | T17: F | AU17: 0101015686B116EFF2D49A17334673470A11 | AV17: 337
A18: 관로구방수(통신,동일장소) | B18: D 50 | C18: 개소 | D18: 7 | E18: =TRUNC(일위대가목록!E54,0) -> 41112 | F18: =TRUNC(E18*D18, 0) -> 287784 | G18: =TRUNC(일위대가목록!F54,0) -> 60619 | H18: =TRUNC(G18*D18, 0) -> 424333 | I18: =TRUNC(일위대가목록!G54,0) -> 0 | J18: =TRUNC(I18*D18, 0) -> 0 | K18: =TRUNC(E18+G18+I18, 0) -> 101731 | L18: =TRUNC(F18+H18+J18, 0) -> 712117 | M18: 호표 51 | N18: 5686B116EFF2D49A1733467347090A | Q18: 010101 | R18: T | S18: F | T18: F | AU18: 0101015686B116EFF2D49A1733467347090A | AV18: 338
A19: 관로구방수(통신,동일장소) | B19: D 65 | C19: 개소 | D19: 12 | E19: =TRUNC(일위대가목록!E55,0) -> 43152 | F19: =TRUNC(E19*D19, 0) -> 517824 | G19: =TRUNC(일위대가목록!F55,0) -> 60619 | H19: =TRUNC(G19*D19, 0) -> 727428 | I19: =TRUNC(일위대가목록!G55,0) -> 0 | J19: =TRUNC(I19*D19, 0) -> 0 | K19: =TRUNC(E19+G19+I19, 0) -> 103771 | L19: =TRUNC(F19+H19+J19, 0) -> 1245252 | M19: 호표 52 | N19: 5686B116EFF2D49A17334673470863 | Q19: 010101 | R19: T | S19: F | T19: F | AU19: 0101015686B116EFF2D49A17334673470863 | AV19: 339
A20: 경고 테이프(통신용) | B20: 200*250 | C20: M | D20: 104 | E20: =TRUNC(일위대가목록!E56,0) -> 208 | F20: =TRUNC(E20*D20, 0) -> 21632 | G20: =TRUNC(일위대가목록!F56,0) -> 224 | H20: =TRUNC(G20*D20, 0) -> 23296 | I20: =TRUNC(일위대가목록!G56,0) -> 0 | J20: =TRUNC(I20*D20, 0) -> 0 | K20: =TRUNC(E20+G20+I20, 0) -> 432 | L20: =TRUNC(F20+H20+J20, 0) -> 44928 | M20: 호표 53 | N20: 5686B116EFF2D49A1733471BD4496A | Q20: 010101 | R20: T | S20: F | T20: F | AU20: 0101015686B116EFF2D49A1733471BD4496A | AV20: 340
A21: 접지봉 (통신) | B21: 18Φ×2400 mm | C21: 개 | D21: 3 | E21: =TRUNC(일위대가목록!E94,0) -> 11691 | F21: =TRUNC(E21*D21, 0) -> 35073 | G21: =TRUNC(일위대가목록!F94,0) -> 99306 | H21: =TRUNC(G21*D21, 0) -> 297918 | I21: =TRUNC(일위대가목록!G94,0) -> 0 | J21: =TRUNC(I21*D21, 0) -> 0 | K21: =TRUNC(E21+G21+I21, 0) -> 110997 | L21: =TRUNC(F21+H21+J21, 0) -> 332991 | M21: 호표 91 | N21: 5686B116EDCEC41B97760586BFFF17 | Q21: 010101 | R21: T | S21: F | T21: F | AU21: 0101015686B116EDCEC41B97760586BFFF17 | AV21: 341
A22: 강제전선관용 부품 (통신) | B22: 위샤캡, 36 C | C22: 개 | D22: 2 | E22: =TRUNC(일위대가목록!E11,0) -> 4618 | F22: =TRUNC(E22*D22, 0) -> 9236 | G22: =TRUNC(일위대가목록!F11,0) -> 8586 | H22: =TRUNC(G22*D22, 0) -> 17172 | I22: =TRUNC(일위대가목록!G11,0) -> 0 | J22: =TRUNC(I22*D22, 0) -> 0 | K22: =TRUNC(E22+G22+I22, 0) -> 13204 | L22: =TRUNC(F22+H22+J22, 0) -> 26408 | M22: 호표 8 | N22: 51825116F74F648AB7BE75363431AC | Q22: 010101 | R22: T | S22: F | T22: F | AU22: 01010151825116F74F648AB7BE75363431AC | AV22: 342
A23: 강제전선관용 부품 (통신) | B23: 위샤캡, 54 C | C23: 개 | D23: 3 | E23: =TRUNC(일위대가목록!E12,0) -> 6527 | F23: =TRUNC(E23*D23, 0) -> 19581 | G23: =TRUNC(일위대가목록!F12,0) -> 8586 | H23: =TRUNC(G23*D23, 0) -> 25758 | I23: =TRUNC(일위대가목록!G12,0) -> 0 | J23: =TRUNC(I23*D23, 0) -> 0 | K23: =TRUNC(E23+G23+I23, 0) -> 15113 | L23: =TRUNC(F23+H23+J23, 0) -> 45339 | M23: 호표 9 | N23: 51825116F74F648AB7BE753635C220 | Q23: 010101 | R23: T | S23: F | T23: F | AU23: 01010151825116F74F648AB7BE753635C220 | AV23: 343
A24: 터파기(기계90%,인력10%) | B24: 보통토사 | C24: ㎥ | D24: 140 | E24: =TRUNC(일위대가목록!E36,0) -> 357 | F24: =TRUNC(E24*D24, 0) -> 49980 | G24: =TRUNC(일위대가목록!F36,0) -> 7304 | H24: =TRUNC(G24*D24, 0) -> 1022560 | I24: =TRUNC(일위대가목록!G36,0) -> 374 | J24: =TRUNC(I24*D24, 0) -> 52360 | K24: =TRUNC(E24+G24+I24, 0) -> 8035 | L24: =TRUNC(F24+H24+J24, 0) -> 1124900 | M24: 호표 33 | N24: 56C8B116D23404B037C110CF1D309D | Q24: 010101 | R24: T | S24: F | T24: F | AU24: 01010156C8B116D23404B037C110CF1D309D | AV24: 344
A25: 되메우기(기계90%,인력10%) | B25: 보통토사 | C25: ㎥ | D25: 140 | E25: =TRUNC(일위대가목록!E37,0) -> 754 | F25: =TRUNC(E25*D25, 0) -> 105560 | G25: =TRUNC(일위대가목록!F37,0) -> 12504 | H25: =TRUNC(G25*D25, 0) -> 1750560 | I25: =TRUNC(일위대가목록!G37,0) -> 566 | J25: =TRUNC(I25*D25, 0) -> 79240 | K25: =TRUNC(E25+G25+I25, 0) -> 13824 | L25: =TRUNC(F25+H25+J25, 0) -> 1935360 | M25: 호표 34 | N25: 56C8B116D23404B037C110CF1C2AB2 | Q25: 010101 | R25: T | S25: F | T25: F | AU25: 01010156C8B116D23404B037C110CF1C2AB2 | AV25: 345
A26: 볼트형콘넥터 | B26: U 볼트형, Φ19 | C26: 개 | D26: 3 | E26: =TRUNC(단가대비표!O57,0) -> 3873 | F26: =TRUNC(E26*D26, 0) -> 11619 | G26: =TRUNC(단가대비표!P57,0) -> 0 | H26: =TRUNC(G26*D26, 0) -> 0 | I26: =TRUNC(단가대비표!V57,0) -> 0 | J26: =TRUNC(I26*D26, 0) -> 0 | K26: =TRUNC(E26+G26+I26, 0) -> 3873 | L26: =TRUNC(F26+H26+J26, 0) -> 11619 | N26: 51E42116B0AC6427C7793C5453EAFFA2E78AAF | Q26: 010101 | R26: F | S26: F | T26: T | AU26: 01010151E42116B0AC6427C7793C5453EAFFA2E78AAF | AV26: 346
A27: 스틸밴드 | B27: 파이프용 320D | C27: EA | D27: 3 | E27: =TRUNC(단가대비표!O62,0) -> 2500 | F27: =TRUNC(E27*D27, 0) -> 7500 | G27: =TRUNC(단가대비표!P62,0) -> 0 | H27: =TRUNC(G27*D27, 0) -> 0 | I27: =TRUNC(단가대비표!V62,0) -> 0 | J27: =TRUNC(I27*D27, 0) -> 0 | K27: =TRUNC(E27+G27+I27, 0) -> 2500 | L27: =TRUNC(F27+H27+J27, 0) -> 7500 | N27: 51E42116B0AC641507E5CCF27352CDD1CF5E23 | Q27: 010101 | R27: F | S27: F | T27: T | AU27: 01010151E42116B0AC641507E5CCF27352CDD1CF5E23 | AV27: 347
Q28: 010101
Q29: 010101
Q30: 010101
Q31: 010101
Q32: 010101
Q33: 010101
Q34: 010101
Q35: 010101
Q36: 010101
Q37: 010101
Q38: 010101
Q39: 010101
... Q50: 010101
...

Sheet 일위대가목록
B1: 일 위 대 가 목 록
B2: [ 북원도서관신축사업설계용역-통신 ]
A3: 코 드 | B3: 품 명 | C3: 규 격 | D3: 단위 | E3: 재 료 비 | F3: 노 무 비 | G3: 경 비 | H3: 합 계 | I3: 번 호 | J3: 비 고 | K3: 노임계수 | L3: 할증 | M3: 품셈개요 | N3: 장비일위
A4: 51DA411623C75434A7165627D8D2B6E674D6EA17 | B4: 굴삭기(무한궤도) | C4: 0.2㎥ | D4: HR | E4: =일위대가!F9 -> 10018 | F4: =일위대가!H9 -> 59025 | G4: =일위대가!J9 -> 13873 | H4: =E4+F4+G4 -> 82916 | I4: 호표 1 | K4: A | M4: 공통 8-3,4(0201) | N4: T
A5: 51DA411623C75434A7165627D8D73820164E3225 | B5: 굴삭기(무한궤도) | C5: 0.7㎥ | D5: HR | E5: =일위대가!F16 -> 23435 | F5: =일위대가!H16 -> 59025 | G5: =일위대가!J16 -> 24554 | H5: =E5+F5+G5 -> 107014 | I5: 호표 2 | K5: A | M5: 공통 8-3,4(0201) | N5: T
A6: 51DA411623C7542A17FEAF711539E74429B60E12 | B6: 진동 롤러(핸드가이드식) | C6: 0.7ton | D6: HR | E6: =일위대가!F23 -> 4116 | F6: =일위대가!H23 -> 36248 | G6: =일위대가!J23 -> 1967 | H6: =E6+F6+G6 -> 42331 | I6: 호표 3 | K6: A | M6: 공통 8-3,4(1305) | N6: T
A7: 51DA411623C7542A47B0A30A04D9499F607FC17B | B7: 래머 | C7: 80kg | D7: HR | E7: =일위대가!F30 -> 1342 | F7: =일위대가!H30 -> 36248 | G7: =일위대가!J30 -> 525 | H7: =E7+F7+G7 -> 38115 | I7: 호표 4 | K7: A | M7: 공통 8-3,4(1630) | N7: T
A8: 51DA411623C75419A78D5DAA234071EFB522429E | B8: 크레인(타이어) | C8: 10톤 | D8: HR | E8: =일위대가!F37 -> 8746 | F8: =일위대가!H37 -> 59025 | G8: =일위대가!J37 -> 31344 | H8: =E8+F8+G8 -> 99115 | I8: 호표 5 | K8: A | M8: 공통 8-3,4(2104) | N8: T
A9: 51825116F74F648AA792EBD8016AD2 | B9: 비닐코드선 | C9: VCTF, 3C 1.5 ㎟ | D9: M | E9: =일위대가!F45 -> 1423 | F9: =일위대가!H45 -> 5819 | G9: =일위대가!J45 -> 0 | H9: =E9+F9+G9 -> 7242 | I9: 호표 6 | M9: 전기 5-13
A10: 51825116F74F648AA792EBD8016BFD | B10: 비닐코드선 | C10: VCTF, 3C 2.5 ㎟ | D10: M | E10: =일위대가!F53 -> 2213 | F10: =일위대가!H53 -> 5819 | G10: =일위대가!J53 -> 0 | H10: =E10+F10+G10 -> 8032 | I10: 호표 7 | M10: 전기 5-13
A11: 51825116F74F648AB7BE75363431AC | B11: 강제전선관용 부품 (통신) | C11: 위샤캡, 36 C | D11: 개 | E11: =일위대가!F59 -> 4618 | F11: =일위대가!H59 -> 8586 | G11: =일위대가!J59 -> 0 | H11: =E11+F11+G11 -> 13204 | I11: 호표 8 | M11: 통신 3-7-1
A12: 51825116F74F648AB7BE753635C220 | B12: 강제전선관용 부품 (통신) | C12: 위샤캡, 54 C | D12: 개 | E12: =일위대가!F65 -> 6527 | F12: =일위대가!H65 -> 8586 | G12: =일위대가!J65 -> 0 | H12: =E12+F12+G12 -> 15113 | I12: 호표 9 | M12: 통신 3-7-1
A13: 51825116F74F648AB7B51868763B28 | B13: 케이블트레이지지대(통신) | C13: W300 | D13: 개소 | E13: =일위대가!F76 -> 7476 | F13: =일위대가!H76 -> 42932 | G13: =일위대가!J76 -> 0 | H13: =E13+F13+G13 -> 50408 | I13: 호표 10 | M13: 통신 3-7-1
A14: 51825116F74F648AB7B51A1A4DEC8A | B14: 트레이,덕트지지대-벽체or바닥(통신) | C14: W300 | D14: 개소 | E14: =일위대가!F86 -> 4546 | F14: =일위대가!H86 -> 22897 | G14: =일위대가!J86 -> 0 | H14: =E14+F14+G14 -> 27443 | I14: 호표 11 | M14: 통신 3-7-1
A15: 51825116F74F648AC742733DB416F9 | B15: 관통구 방화폼 (TRAY) | C15: 300mm | D15: 개소 | E15: =일위대가!F96 -> 90084 | F15: =일위대가!H96 -> 82539 | G15: =일위대가!J96 -> 0 | H15: =E15+F15+G15 -> 172623 | I15: 호표 12 | M15: A사
A16: 51825116F74C944CB7F1C90EC42AEA | B16: 광섬유 케이블 | C16: 2Core (S/M) | D16: M | E16: =일위대가!F105 -> 1585 | F16: =일위대가!H105 -> 5393 | G16: =일위대가!J105 -> 0 | H16: =E16+F16+G16 -> 6978 | I16: 호표 13 | M16: 통신 4-1-3
A17: 51825116F74C944CB7F1C90EC420E6 | B17: 광섬유 케이블 | C17: 12Core (S/M) | D17: M | E17: =일위대가!F114 -> 1541 | F17: =일위대가!H114 -> 5393 | G17: =일위대가!J114 -> 0 | H17: =E17+F17+G17 -> 6934 | I17: 호표 14 | M17: 통신 4-1-3
A18: 51825116F74C944CB7F1C902150AE9 | B18: TV용 고발포동축케이블 | C18: 5C-HFBT | D18: M | E18: =일위대가!F122 -> 791 | F18: =일위대가!H122 -> 7447 | G18: =일위대가!J122 -> 0 | H18: =E18+F18+G18 -> 8238 | I18: 호표 15 | M18: 통신 4-2-1
A19: 51825116F74C944CB7F1C90215060E | B19: TV용 고발포동축케이블 | C19: 7C-HFBT | D19: M | E19: =일위대가!F130 -> 1344 | F19: =일위대가!H130 -> 9637 | G19: =일위대가!J130 -> 0 | H19: =E19+F19+G19 -> 10981 | I19: 호표 16 | M19: 통신 4-2-1
A20: 51825116F74C944CB7F1CF92B164B0 | B20: MIC CABLE | C20: L-2E5 | D20: M | E20: =일위대가!F138 -> 2711 | F20: =일위대가!H138 -> 10075 | G20: =일위대가!J138 -> 0 | H20: =E20+F20+G20 -> 12786 | I20: 호표 17 | M20: 통신 4-8-1
A21: 51825116F74C944CB7F1CF92B7FC24 | B21: 비디오 케이블 | C21: RG-58 | D21: M | E21: =일위대가!F146 -> 6162 | F21: =일위대가!H146 -> 8323 | G21: =일위대가!J146 -> 0 | H21: =E21+F21+G21 -> 14485 | I21: 호표 18 | M21: 통신 4-8-1
A22: 51825116F74C944CB7F1CF92B89C7B | B22: HDMI 케이블 | D22: M | E22: =일위대가!F154 -> 12255 | F22: =일위대가!H154 -> 7009 | G22: =일위대가!J154 -> 0 | H22: =E22+F22+G22 -> 19264 | I22: 호표 19 | M22: 통신 4-8-1
A23: 51825116F74C944CB7F1CF91AA7801 | B23: Speaker Cable | C23: 2S9F | D23: M | E23: =일위대가!F162 -> 7379 | F23: =일위대가!H162 -> 4007 | G23: =일위대가!J162 -> 0 | H23: =E23+F23+G23 -> 11386 | I23: 호표 20 | M23: 통신 4-8-1
A24: 51825116F74C944CB7FFA70CA064DD | B24: 전화및LAN용포트 | C24: MODULAR JACK 8P 1구 | D24: 개 | E24: =일위대가!F170 -> 4787 | F24: =일위대가!H170 -> 8014 | G24: =일위대가!J170 -> 0 | H24: =E24+F24+G24 -> 12801 | I24: 호표 21 | M24: 통신 4-3-2
A25: 51825116F74C944CB7FFA70CA0622F | B25: 전화및LAN용포트 | C25: MODULAR JACK 8P 2구 | D25: 개 | E25: =일위대가!F178 -> 6715 | F25: =일위대가!H178 -> 9616 | G25: =일위대가!J178 -> 0 | H25: =E25+F25+G25 -> 16331 | I25: 호표 22 | M25: 통신 4-3-2
A26: 51825116F74C944CB7FFA70CA10AA0 | B26: 전화및LAN용포트 | C26: SYSTEM BOX용, 8P 3구 | D26: 개 | E26: =일위대가!F185 -> 11088 | F26: =일위대가!H185 -> 17631 | G26: =일위대가!J185 -> 0 | H26: =E26+F26+G26 -> 28719 | I26: 호표 23 | M26: 통신 4-3-2
A27: 51825116F74C944CB7FFA70E6CCC00 | B27: TV 콘센트 | C27: 1방 | D27: 개 | E27: =일위대가!F194 -> 4758 | F27: =일위대가!H194 -> 24822 | G27: =일위대가!J194 -> 0 | H27: =E27+F27+G27 -> 29580 | I27: 호표 24 | M27: 통신 4-2-2
A28: 51825116F74C944CB7FFA70F74C5C9 | B28: 광인출구 | C28: 2CORE | D28: 개 | E28: =일위대가!F200 -> 9154 | F28: =일위대가!H200 -> 8494 | G28: =일위대가!J200 -> 0 | H28: =E28+F28+G28 -> 17648 | I28: 호표 25 | M28: 통신 4-1-3
A29: 51825116F74C944CA7EF5D69119C05 | B29: 스피커단자함 | C29: 10 P, SUS | D29: 개 | E29: =일위대가!F207 -> 28349 | F29: =일위대가!H207 -> 178302 | G29: =일위대가!J207 -> 0 | H29: =E29+F29+G29 -> 206651 | I29: 호표 26 | M29: 통신 3-3-2
A30: 51825116F74C944CA7EF5D6A38AA4A | B30: PA용 스피커 | C30: 스피커(S.T), 천정용(3W) | D30: 개 | E30: =일위대가!F213 -> 18479 | F30: =일위대가!H213 -> 66543 | G30: =일위대가!J213 -> 0 | H30: =E30+F30+G30 -> 85022 | I30: 호표 27 | M30: 통신 7-11-5
A31: 51825116F74C944CA7EF5D6A3A5551 | B31: PA용 스피커 | C31: 벽부형(3W) | D31: 개 | E31: =일위대가!F219 -> 35197 | F31: =일위대가!H219 -> 39926 | G31: =일위대가!J219 -> 0 | H31: =E31+F31+G31 -> 75123 | I31: 호표 28 | M31: 통신 7-11-5
A32: 51825116F74C944CA7EF5D6A3FD76B | B32: 감쇄기 | C32: ATT, 3단(3W) | D32: 개 | E32: =일위대가!F225 -> 18521 | F32: =일위대가!H225 -> 50700 | G32: =일위대가!J225 -> 0 | H32: =E32+F32+G32 -> 69221 | I32: 호표 29 | M32: 통신 7-11-5
A33: 51825116F74C944CD7A426E472A120 | B33: T.V분배기함 | C33: 4D+AMP+서지 | D33: 개소 | E33: =일위대가!F238 -> 268430 | F33: =일위대가!H238 -> 526179 | G33: =일위대가!J238 -> 0 | H33: =E33+F33+G33 -> 794609 | I33: 호표 30 | M33: 통신 3-2-1,7-12-3
A34: 56C8B116D23404B047E839AA55C177 | B34: 터파기(기계80%,인력20%) | C34: 보통토사 | D34: ㎥ | E34: =일위대가!F243 -> 317 | F34: =일위대가!H243 -> 13608 | G34: =일위대가!J243 -> 332 | H34: =E34+F34+G34 -> 14257 | I34: 호표 31
A35: 56C8B116D23404B047E839AA543AE6 | B35: 되메우기(기계80%,인력20%) | C35: 보통토사 | D35: ㎥ | E35: =일위대가!F248 -> 670 | F35: =일위대가!H248 -> 13612 | G35: =일위대가!J248 -> 503 | H35: =E35+F35+G35 -> 14785 | I35: 호표 32
A36: 56C8B116D23404B037C110CF1D309D | B36: 터파기(기계90%,인력10%) | C36: 보통토사 | D36: ㎥ | E36: =일위대가!F253 -> 357 | F36: =일위대가!H253 -> 7304 | G36: =일위대가!J253 -> 374 | H36: =E36+F36+G36 -> 8035 | I36: 호표 33
A37: 56C8B116D23404B037C110CF1C2AB2 | B37: 되메우기(기계90%,인력10%) | C37: 보통토사 | D37: ㎥ | E37: =일위대가!F258 -> 754 | F37: =일위대가!H258 -> 12504 | G37: =일위대가!J258 -> 566 | H37: =E37+F37+G37 -> 13824 | I37: 호표 34
A38: 56C8B116D23404A617DA20040A327B | B38: 인력터파기 | C38: 보통토사0∼1m | D38: ㎥ | E38: =일위대가!F262 -> 0 | F38: =일위대가!H262 -> 64040 | G38: =일위대가!J262 -> 0 | H38: =E38+F38+G38 -> 64040 | I38: 호표 35 | M38: 공통 3-2-1
A39: 56C8B116D4E344CFD72E25F84A6DF3 | B39: 인력되메우기 | C39: 보통토사 | D39: ㎥ | E39: =일위대가!F267 -> 0 | F39: =일위대가!H267 -> 22479 | G39: =일위대가!J267 -> 0 | H39: =E39+F39+G39 -> 22479 | I39: 호표 36 | M39: 공통 3-4-3
A40: 56C8B116D4E344CF97B236642B7F67 | B40: 현장내잔토처리 | C40: 소운반.고르기 | D40: ㎥ | E40: =일위대가!F271 -> 0 | F40: =일위대가!H271 -> 34539 | G40: =일위대가!J271 -> 0 | H40: =E40+F40+G40 -> 34539 | I40: 호표 37 | M40: 공통 3-2-1
...

Sheet 일위대가
A1: [ 북원도서관신축사업설계용역-통신 ]
A2: 품 명 | B2: 규 격 | C2: 단위 | D2: 수량 | E2: 재 료 비 | G2: 노 무 비 | I2: 경 비 | K2: 합 계 | M2: 비 고 | N2: 일위대가 | O2: 품목코드 | P2: 일위 | Q2: 단산 | R2: 자재 | S2: 손료적용 | T2: 손료저장 | U2: 적용율 | V2: JUK1 | W2: JUK2 | X2: JUK3 | Y2: JUK4 | Z2: JUK5 | AA2: JUK6 | AB2: JUK7 | AC2: JUK8 | AD2: JUK9 | AE2: JUK10 | AF2: JUK11 | AG2: JUK12 | AH2: JUK13 | AI2: JUK14 | AJ2: JUK15 | AK2: JUK16 | AL2: JUK17 | AM2: JUK18 | AN2: JUK19 | AO2: JUK20 | AP2: 할증적용 | AQ2: 할증저장 | AR2: 할증율 | AS2: HAL1 | AT2: HAL2 | AU2: HAL3 | AV2: 자재구분 | AW2: 일위대가+자재 | AX2: 장비일위 | AY2: 설정 | AZ2: 할증체크
E3: 단 가 | F3: 금 액 | G3: 단 가 | H3: 금 액 | I3: 단 가 | J3: 금 액 | K3: 단 가 | L3: 금 액
A4: 굴삭기(무한궤도) 0.2㎥ HR 공통 8-3,4(0201) ( 호표 1 ) | N4: 51DA411623C75434A7165627D8D2B6E674D6EA17
A5: 굴삭기(무한궤도) | B5: 0.2㎥ | C5: 대 | D5: 0.2085 | E5: =단가대비표!O5 -> 0 | F5: =TRUNC(E5*D5,1) -> 0 | G5: =단가대비표!P5 -> 0 | H5: =TRUNC(G5*D5,1) -> 0 | I5: =단가대비표!V5 -> 66538 | J5: =TRUNC(I5*D5,1) -> 13873.1 | K5: =TRUNC(E5+G5+I5,1) -> 66538 | L5: =TRUNC(F5+H5+J5,1) -> 13873.1 | M5: 천원 | N5: 51DA411623C75434A7165627D8D2B6E674D6EA17 | O5: 51DA411623C75434A7165627D8D2B6E674D6EA | P5: F | Q5: F | R5: T | AW5: 51DA411623C75434A7165627D8D2B6E674D6EA1751DA411623C75434A7165627D8D2B6E674D6EA
A6: 경유 | B6: 저유황 | C6: L | D6: 5 | E6: =단가대비표!O11 -> 1656 | F6: =TRUNC(E6*D6,1) -> 8280 | G6: =단가대비표!P11 -> 0 | H6: =TRUNC(G6*D6,1) -> 0 | I6: =단가대비표!V11 -> 0 | J6: =TRUNC(I6*D6,1) -> 0 | K6: =TRUNC(E6+G6+I6,1) -> 1656 | L6: =TRUNC(F6+H6+J6,1) -> 8280 | N6: 51DA411623C75434A7165627D8D2B6E674D6EA17 | O6: 51C9B1160522C45BB7E496B31A601AC3F77C9C | P6: F | Q6: F | R6: T | V6: 1 | AW6: 51DA411623C75434A7165627D8D2B6E674D6EA1751C9B1160522C45BB7E496B31A601AC3F77C9C
A7: 건설기계운전사 | B7: 일반공사직종 | C7: 인 | D7: 1 | E7: =TRUNC(단가대비표!O123*1/8*16/12*25/20, 1) -> 0 | F7: =TRUNC(E7*D7,1) -> 0 | G7: =TRUNC(단가대비표!P123*1/8*16/12*25/20, 1) -> 59025.6 | H7: =TRUNC(G7*D7,1) -> 59025.6 | I7: =TRUNC(단가대비표!V123*1/8*16/12*25/20, 1) -> 0 | J7: =TRUNC(I7*D7,1) -> 0 | K7: =TRUNC(E7+G7+I7,1) -> 59025.6 | L7: =TRUNC(F7+H7+J7,1) -> 59025.6 | N7: 51DA411623C75434A7165627D8D2B6E674D6EA17 | O7: 561EF116676E5481B7A1B8BD6E32D64ED3E637 | P7: F | Q7: F | R7: T | AW7: 51DA411623C75434A7165627D8D2B6E674D6EA17561EF116676E5481B7A1B8BD6E32D64ED3E637 | AX7: T
A8: 잡재료 | B8: 주연료비의 21% | C8: 식 | D8: 1 | E8: =TRUNC(SUMIF(V5:V8, RIGHTB(O8, 1), F5:F8)*U8, 2) -> 1738.8 | F8: =TRUNC(E8*D8,1) -> 1738.8 | G8: 0 | H8: =TRUNC(G8*D8,1) -> 0 | I8: 0 | J8: =TRUNC(I8*D8,1) -> 0 | K8: =TRUNC(E8+G8+I8,1) -> 1738.8 | L8: =TRUNC(F8+H8+J8,1) -> 1738.8 | N8: 51DA411623C75434A7165627D8D2B6E674D6EA17 | O8: 57D4C116E1C564CA27EBFFF5323F001 | P8: F | Q8: F | R8: F | S8: 0 | T8: 0 | U8: 0.21 | AW8: 51DA411623C75434A7165627D8D2B6E674D6EA1757D4C116E1C564CA27EBFFF5323F001
A9: [ 합 계 ] | F9: =TRUNC(SUMIF(N5:N8, N4, F5:F8),0) -> 10018 | H9: =TRUNC(SUMIF(N5:N8, N4, H5:H8),0) -> 59025 | J9: =TRUNC(SUMIF(N5:N8, N4, J5:J8),0) -> 13873 | L9: =F9+H9+J9 -> 82916 | N9: TOTAL | O9: TOTAL
A11: 굴삭기(무한궤도) 0.7㎥ HR 공통 8-3,4(0201) ( 호표 2 ) | N11: 51DA411623C75434A7165627D8D73820164E3225
A12: 굴삭기(유압식백호) | B12: 0.7 M3 | C12: 대 | D12: 0.2085 | E12: =단가대비표!O6 -> 0 | F12: =TRUNC(E12*D12,1) -> 0 | G12: =단가대비표!P6 -> 0 | H12: =TRUNC(G12*D12,1) -> 0 | I12: =단가대비표!V6 -> 117766 | J12: =TRUNC(I12*D12,1) -> 24554.2 | K12: =TRUNC(E12+G12+I12,1) -> 117766 | L12: =TRUNC(F12+H12+J12,1) -> 24554.2 | M12: 천원 | N12: 51DA411623C75434A7165627D8D73820164E3225 | O12: 51DA411623C75434A7165627D8D73820164E32 | P12: F | Q12: F | R12: T | AW12: 51DA411623C75434A7165627D8D73820164E322551DA411623C75434A7165627D8D73820164E32
A13: 건설기계운전사 | B13: 일반공사직종 | C13: 인 | D13: 1 | E13: =TRUNC(단가대비표!O123*1/8*16/12*25/20, 1) -> 0 | F13: =TRUNC(E13*D13,1) -> 0 | G13: =TRUNC(단가대비표!P123*1/8*16/12*25/20, 1) -> 59025.6 | H13: =TRUNC(G13*D13,1) -> 59025.6 | I13: =TRUNC(단가대비표!V123*1/8*16/12*25/20, 1) -> 0 | J13: =TRUNC(I13*D13,1) -> 0 | K13: =TRUNC(E13+G13+I13,1) -> 59025.6 | L13: =TRUNC(F13+H13+J13,1) -> 59025.6 | N13: 51DA411623C75434A7165627D8D73820164E3225 | O13: 561EF116676E5481B7A1B8BD6E32D64ED3E637 | P13: F | Q13: F | R13: T | AW13: 51DA411623C75434A7165627D8D73820164E3225561EF116676E5481B7A1B8BD6E32D64ED3E637 | AX13: T
A14: 경유 | B14: 저유황 | C14: L | D14: 11.6 | E14: =단가대비표!O11 -> 1656 | F14: =TRUNC(E14*D14,1) -> 19209.6 | G14: =단가대비표!P11 -> 0 | H14: =TRUNC(G14*D14,1) -> 0 | I14: =단가대비표!V11 -> 0 | J14: =TRUNC(I14*D14,1) -> 0 | K14: =TRUNC(E14+G14+I14,1) -> 1656 | L14: =TRUNC(F14+H14+J14,1) -> 19209.6 | N14: 51DA411623C75434A7165627D8D73820164E3225 | O14: 51C9B1160522C45BB7E496B31A601AC3F77C9C | P14: F | Q14: F | R14: T | V14: 1 | AW14: 51DA411623C75434A7165627D8D73820164E322551C9B1160522C45BB7E496B31A601AC3F77C9C
A15: 잡재료 | B15: 주연료비의 22% | C15: 식 | D15: 1 | E15: =TRUNC(SUMIF(V12:V15, RIGHTB(O15, 1), F12:F15)*U15, 2) -> 4226.11 | F15: =TRUNC(E15*D15,1) -> 4226.1 | G15: 0 | H15: =TRUNC(G15*D15,1) -> 0 | I15: 0 | J15: =TRUNC(I15*D15,1) -> 0 | K15: =TRUNC(E15+G15+I15,1) -> 4226.1 | L15: =TRUNC(F15+H15+J15,1) -> 4226.1 | N15: 51DA411623C75434A7165627D8D73820164E3225 | O15: 57D4C116E1C564CA27EBFFF5323F001 | P15: F | Q15: F | R15: F | S15: 0 | T15: 0 | U15: 0.22 | AW15: 51DA411623C75434A7165627D8D73820164E322557D4C116E1C564CA27EBFFF5323F001
A16: [ 합 계 ] | F16: =TRUNC(SUMIF(N12:N15, N11, F12:F15),0) -> 23435 | H16: =TRUNC(SUMIF(N12:N15, N11, H12:H15),0) -> 59025 | J16: =TRUNC(SUMIF(N12:N15, N11, J12:J15),0) -> 24554 | L16: =F16+H16+J16 -> 107014 | N16: TOTAL | O16: TOTAL
A18: 진동 롤러(핸드가이드식) 0.7ton HR 공통 8-3,4(1305) ( 호표 3 ) | N18: 51DA411623C7542A17FEAF711539E74429B60E12
A19: 진동 롤러(핸드가이드식) | B19: 0.7톤 | C19: 대 | D19: 0.2825 | E19: =단가대비표!O7 -> 0 | F19: =TRUNC(E19*D19,1) -> 0 | G19: =단가대비표!P7 -> 0 | H19: =TRUNC(G19*D19,1) -> 0 | I19: =단가대비표!V7 -> 6966 | J19: =TRUNC(I19*D19,1) -> 1967.8 | K19: =TRUNC(E19+G19+I19,1) -> 6966 | L19: =TRUNC(F19+H19+J19,1) -> 1967.8 | M19: 천원 | N19: 51DA411623C7542A17FEAF711539E74429B60E12 | O19: 51DA411623C7542A17FEAF711539E74429B60E | P19: F | Q19: F | R19: T | AW19: 51DA411623C7542A17FEAF711539E74429B60E1251DA411623C7542A17FEAF711539E74429B60E
A20: 일반기계운전사 | B20: 일반공사직종 | C20: 인 | D20: 1 | E20: =TRUNC(단가대비표!O124*1/8*16/12*25/20, 1) -> 0 | F20: =TRUNC(E20*D20,1) -> 0 | G20: =TRUNC(단가대비표!P124*1/8*16/12*25/20, 1) -> 36248.9 | H20: =TRUNC(G20*D20,1) -> 36248.9 | I20: =TRUNC(단가대비표!V124*1/8*16/12*25/20, 1) -> 0 | J20: =TRUNC(I20*D20,1) -> 0 | K20: =TRUNC(E20+G20+I20,1) -> 36248.9 | L20: =TRUNC(F20+H20+J20,1) -> 36248.9 | N20: 51DA411623C7542A17FEAF711539E74429B60E12 | O20: 561EF116676E5481B7A1B8BD6E32D64ED3E7C6 | P20: F | Q20: F | R20: T | AW20: 51DA411623C7542A17FEAF711539E74429B60E12561EF116676E5481B7A1B8BD6E32D64ED3E7C6 | AX20: T
A21: 경유 | B21: 저유황 | C21: L | D21: 2.2 | E21: =단가대비표!O11 -> 1656 | F21: =TRUNC(E21*D21,1) -> 3643.2 | G21: =단가대비표!P11 -> 0 | H21: =TRUNC(G21*D21,1) -> 0 | I21: =단가대비표!V11 -> 0 | J21: =TRUNC(I21*D21,1) -> 0 | K21: =TRUNC(E21+G21+I21,1) -> 1656 | L21: =TRUNC(F21+H21+J21,1) -> 3643.2 | N21: 51DA411623C7542A17FEAF711539E74429B60E12 | O21: 51C9B1160522C45BB7E496B31A601AC3F77C9C | P21: F | Q21: F | R21: T | V21: 1 | AW21: 51DA411623C7542A17FEAF711539E74429B60E1251C9B1160522C45BB7E496B31A601AC3F77C9C
A22: 잡재료 | B22: 주연료비의 13% | C22: 식 | D22: 1 | E22: =TRUNC(SUMIF(V19:V22, RIGHTB(O22, 1), F19:F22)*U22, 2) -> 473.61 | F22: =TRUNC(E22*D22,1) -> 473.6 | G22: 0 | H22: =TRUNC(G22*D22,1) -> 0 | I22: 0 | J22: =TRUNC(I22*D22,1) -> 0 | K22: =TRUNC(E22+G22+I22,1) -> 473.6 | L22: =TRUNC(F22+H22+J22,1) -> 473.6 | N22: 51DA411623C7542A17FEAF711539E74429B60E12 | O22: 57D4C116E1C564CA27EBFFF5323F001 | P22: F | Q22: F | R22: F | S22: 0 | T22: 0 | U22: 0.13 | AW22: 51DA411623C7542A17FEAF711539E74429B60E1257D4C116E1C564CA27EBFFF5323F001
A23: [ 합 계 ] | F23: =TRUNC(SUMIF(N19:N22, N18, F19:F22),0) -> 4116 | H23: =TRUNC(SUMIF(N19:N22, N18, H19:H22),0) -> 36248 | J23: =TRUNC(SUMIF(N19:N22, N18, J19:J22),0) -> 1967 | L23: =F23+H23+J23 -> 42331 | N23: TOTAL | O23: TOTAL
A25: 래머 80kg HR 공통 8-3,4(1630) ( 호표 4 ) | N25: 51DA411623C7542A47B0A30A04D9499F607FC17B
A26: 래머 | B26: 80kg | C26: 대 | D26: 0.3708 | E26: =단가대비표!O8 -> 0 | F26: =TRUNC(E26*D26,1) -> 0 | G26: =단가대비표!P8 -> 0 | H26: =TRUNC(G26*D26,1) -> 0 | I26: =단가대비표!V8 -> 1418 | J26: =TRUNC(I26*D26,1) -> 525.7 | K26: =TRUNC(E26+G26+I26,1) -> 1418 | L26: =TRUNC(F26+H26+J26,1) -> 525.7 | M26: 천원 | N26: 51DA411623C7542A47B0A30A04D9499F607FC17B | O26: 51DA411623C7542A47B0A30A04D9499F607FC1 | P26: F | Q26: F | R26: T | AW26: 51DA411623C7542A47B0A30A04D9499F607FC17B51DA411623C7542A47B0A30A04D9499F607FC1
A27: 휘발유 | B27: 무연 | C27: L | D27: 0.7 | E27: =단가대비표!O12 -> 1743 | F27: =TRUNC(E27*D27,1) -> 1220.1 | G27: =단가대비표!P12 -> 0 | H27: =TRUNC(G27*D27,1) -> 0 | I27: =단가대비표!V12 -> 0 | J27: =TRUNC(I27*D27,1) -> 0 | K27: =TRUNC(E27+G27+I27,1) -> 1743 | L27: =TRUNC(F27+H27+J27,1) -> 1220.1 | N27: 51DA411623C7542A47B0A30A04D9499F607FC17B | O27: 51C9B1160522C45BB7E495A84DD82FB9082E2B | P27: F | Q27: F | R27: T | V27: 1 | AW27: 51DA411623C7542A47B0A30A04D9499F607FC17B51C9B1160522C45BB7E495A84DD82FB9082E2B
A28: 일반기계운전사 | B28: 일반공사직종 | C28: 인 | D28: 1 | E28: =TRUNC(단가대비표!O124*1/8*16/12*25/20, 1) -> 0 | F28: =TRUNC(E28*D28,1) -> 0 | G28: =TRUNC(단가대비표!P124*1/8*16/12*25/20, 1) -> 36248.9 | H28: =TRUNC(G28*D28,1) -> 36248.9 | I28: =TRUNC(단가대비표!V124*1/8*16/12*25/20, 1) -> 0 | J28: =TRUNC(I28*D28,1) -> 0 | K28: =TRUNC(E28+G28+I28,1) -> 36248.9 | L28: =TRUNC(F28+H28+J28,1) -> 36248.9 | N28: 51DA411623C7542A47B0A30A04D9499F607FC17B | O28: 561EF116676E5481B7A1B8BD6E32D64ED3E7C6 | P28: F | Q28: F | R28: T | AW28: 51DA411623C7542A47B0A30A04D9499F607FC17B561EF116676E5481B7A1B8BD6E32D64ED3E7C6 | AX28: T
A29: 잡재료 | B29: 주연료비의 10% | C29: 식 | D29: 1 | E29: =TRUNC(SUMIF(V26:V29, RIGHTB(O29, 1), F26:F29)*U29, 2) -> 122.01 | F29: =TRUNC(E29*D29,1) -> 122 | G29: 0 | H29: =TRUNC(G29*D29,1) -> 0 | I29: 0 | J29: =TRUNC(I29*D29,1) -> 0 | K29: =TRUNC(E29+G29+I29,1) -> 122 | L29: =TRUNC(F29+H29+J29,1) -> 122 | N29: 51DA411623C7542A47B0A30A04D9499F607FC17B | O29: 57D4C116E1C564CA27EBFFF5323F001 | P29: F | Q29: F | R29: F | S29: 0 | T29: 0 | U29: 0.1 | AW29: 51DA411623C7542A47B0A30A04D9499F607FC17B57D4C116E1C564CA27EBFFF5323F001
A30: [ 합 계 ] | F30: =TRUNC(SUMIF(N26:N29, N25, F26:F29),0) -> 1342 | H30: =TRUNC(SUMIF(N26:N29, N25, H26:H29),0) -> 36248 | J30: =TRUNC(SUMIF(N26:N29, N25, J26:J29),0) -> 525 | L30: =F30+H30+J30 -> 38115 | N30: TOTAL | O30: TOTAL
A32: 크레인(타이어) 10톤 HR 공통 8-3,4(2104) ( 호표 5 ) | N32: 51DA411623C75419A78D5DAA234071EFB522429E
A33: 크레인(타이어) | B33: 10톤 | C33: 대 | D33: 0.2298 | E33: =단가대비표!O9 -> 0 | F33: =TRUNC(E33*D33,1) -> 0 | G33: =단가대비표!P9 -> 0 | H33: =TRUNC(G33*D33,1) -> 0 | I33: =단가대비표!V9 -> 136400 | J33: =TRUNC(I33*D33,1) -> 31344.7 | K33: =TRUNC(E33+G33+I33,1) -> 136400 | L33: =TRUNC(F33+H33+J33,1) -> 31344.7 | M33: 천원 | N33: 51DA411623C75419A78D5DAA234071EFB522429E | O33: 51DA411623C75419A78D5DAA234071EFB52242 | P33: F | Q33: F | R33: T | AW33: 51DA411623C75419A78D5DAA234071EFB522429E51DA411623C75419A78D5DAA234071EFB52242
A34: 경유 | B34: 저유황 | C34: L | D34: 3.8 | E34: =단가대비표!O11 -> 1656 | F34: =TRUNC(E34*D34,1) -> 6292.8 | G34: =단가대비표!P11 -> 0 | H34: =TRUNC(G34*D34,1) -> 0 | I34: =단가대비표!V11 -> 0 | J34: =TRUNC(I34*D34,1) -> 0 | K34: =TRUNC(E34+G34+I34,1) -> 1656 | L34: =TRUNC(F34+H34+J34,1) -> 6292.8 | N34: 51DA411623C75419A78D5DAA234071EFB522429E | O34: 51C9B1160522C45BB7E496B31A601AC3F77C9C | P34: F | Q34: F | R34: T | V34: 1 | AW34: 51DA411623C75419A78D5DAA234071EFB522429E51C9B1160522C45BB7E496B31A601AC3F77C9C
A35: 건설기계운전사 | B35: 일반공사직종 | C35: 인 | D35: 1 | E35: =TRUNC(단가대비표!O123*1/8*16/12*25/20, 1) -> 0 | F35: =TRUNC(E35*D35,1) -> 0 | G35: =TRUNC(단가대비표!P123*1/8*16/12*25/20, 1) -> 59025.6 | H35: =TRUNC(G35*D35,1) -> 59025.6 | I35: =TRUNC(단가대비표!V123*1/8*16/12*25/20, 1) -> 0 | J35: =TRUNC(I35*D35,1) -> 0 | K35: =TRUNC(E35+G35+I35,1) -> 59025.6 | L35: =TRUNC(F35+H35+J35,1) -> 59025.6 | N35: 51DA411623C75419A78D5DAA234071EFB522429E | O35: 561EF116676E5481B7A1B8BD6E32D64ED3E637 | P35: F | Q35: F | R35: T | AW35: 51DA411623C75419A78D5DAA234071EFB522429E561EF116676E5481B7A1B8BD6E32D64ED3E637 | AX35: T
A36: 잡재료 | B36: 주연료비의 39% | C36: 식 | D36: 1 | E36: =TRUNC(SUMIF(V33:V36, RIGHTB(O36, 1), F33:F36)*U36, 2) -> 2454.19 | F36: =TRUNC(E36*D36,1) -> 2454.1 | G36: 0 | H36: =TRUNC(G36*D36,1) -> 0 | I36: 0 | J36: =TRUNC(I36*D36,1) -> 0 | K36: =TRUNC(E36+G36+I36,1) -> 2454.1 | L36: =TRUNC(F36+H36+J36,1) -> 2454.1 | N36: 51DA411623C75419A78D5DAA234071EFB522429E | O36: 57D4C116E1C564CA27EBFFF5323F001 | P36: F | Q36: F | R36: F | S36: 0 | T36: 0 | U36: 0.39 | AW36: 51DA411623C75419A78D5DAA234071EFB522429E57D4C116E1C564CA27EBFFF5323F001
A37: [ 합 계 ] | F37: =TRUNC(SUMIF(N33:N36, N32, F33:F36),0) -> 8746 | H37: =TRUNC(SUMIF(N33:N36, N32, H33:H36),0) -> 59025 | J37: =TRUNC(SUMIF(N33:N36, N32, J33:J36),0) -> 31344 | L37: =F37+H37+J37 -> 99115 | N37: TOTAL | O37: TOTAL
A39: 비닐코드선 VCTF, 3C 1.5 ㎟ M 전기 5-13 ( 호표 6 ) | N39: 51825116F74F648AA792EBD8016AD2
A40: 비닐코드선 | B40: VCTF, 3C 1.5 ㎟ | C40: M | D40: 1 | E40: =단가대비표!O20 -> 1167 | F40: =TRUNC(E40*D40,1) -> 1167 | G40: =단가대비표!P20 -> 0 | H40: =TRUNC(G40*D40,1) -> 0 | I40: =단가대비표!V20 -> 0 | J40: =TRUNC(I40*D40,1) -> 0 | K40: =TRUNC(E40+G40+I40,1) -> 1167 | L40: =TRUNC(F40+H40+J40,1) -> 1167 | N40: 51825116F74F648AA792EBD8016AD2 | O40: 51F541164C1E54DC076F0216D284C70C6E46D6 | P40: F | Q40: F | R40: T | V40: 1 | AW40: 51825116F74F648AA792EBD8016AD251F541164C1E54DC076F0216D284C70C6E46D6
A41: 비닐코드선 | B41: VCTF, 3C 1.5 ㎟ | C41: M | D41: 0.05 | E41: =단가대비표!O20 -> 1167 | F41: =TRUNC(E41*D41,1) -> 58.3 | G41: =단가대비표!P20 -> 0 | H41: =TRUNC(G41*D41,1) -> 0 | I41: =단가대비표!V20 -> 0 | J41: =TRUNC(I41*D41,1) -> 0 | K41: =TRUNC(E41+G41+I41,1) -> 1167 | L41: =TRUNC(F41+H41+J41,1) -> 58.3 | N41: 51825116F74F648AA792EBD8016AD2 | O41: 51F541164C1E54DC076F0216D284C70C6E46D6 | P41: F | Q41: F | R41: T | AW41: 51825116F74F648AA792EBD8016AD251F541164C1E54DC076F0216D284C70C6E46D6
A42: 잡재료비 | B42: 배관배선의 2% | C42: 식 | D42: 1 | E42: =TRUNC(SUMIF(V40:V44, RIGHTB(O42, 1), F40:F44)*U42, 2) -> 23.34 | F42: =TRUNC(E42*D42,1) -> 23.3 | G42: 0 | H42: =TRUNC(G42*D42,1) -> 0 | I42: 0 | J42: =TRUNC(I42*D42,1) -> 0 | K42: =TRUNC(E42+G42+I42,1) -> 23.3 | L42: =TRUNC(F42+H42+J42,1) -> 23.3 | N42: 51825116F74F648AA792EBD8016AD2 | O42: 57D4C116E1C564CA27EBFFF5323F001 | P42: F | Q42: F | R42: F | S42: 0 | T42: 0 | U42: 0.02 | AW42: 51825116F74F648AA792EBD8016AD257D4C116E1C564CA27EBFFF5323F001
A43: 저압케이블전공 | B43: 일반공사직종 | C43: 인 | D43: 0.019 | E43: =단가대비표!O126 -> 0 | F43: =TRUNC(E43*D43,1) -> 0 | G43: =단가대비표!P126 -> 306274 | H43: =TRUNC(G43*D43,1) -> 5819.2 | I43: =단가대비표!V126 -> 0 | J43: =TRUNC(I43*D43,1) -> 0 | K43: =TRUNC(E43+G43+I43,1) -> 306274 | L43: =TRUNC(F43+H43+J43,1) -> 5819.2 | N43: 51825116F74F648AA792EBD8016AD2 | O43: 561EF116676E5481B7A1B8BD6E32D64ED3E510 | P43: F | Q43: F | R43: T | W43: 2 | AW43: 51825116F74F648AA792EBD8016AD2561EF116676E5481B7A1B8BD6E32D64ED3E510
A44: 공구손료 | B44: 인력품의 3% | C44: 식 | D44: 1 | E44: =TRUNC(SUMIF(W40:W44, RIGHTB(O44, 1), H40:H44)*U44, 2) -> 174.57 | F44: =TRUNC(E44*D44,1) -> 174.5 | G44: 0 | H44: =TRUNC(G44*D44,1) -> 0 | I44: 0 | J44: =TRUNC(I44*D44,1) -> 0 | K44: =TRUNC(E44+G44+I44,1) -> 174.5 | L44: =TRUNC(F44+H44+J44,1) -> 174.5 | N44: 51825116F74F648AA792EBD8016AD2 | O44: 57D4C116E1C564CA27EBFFF5323C002 | P44: F | Q44: F | R44: F | S44: 1 | T44: 0 | U44: 0.03 | AW44: 51825116F74F648AA792EBD8016AD257D4C116E1C564CA27EBFFF5323F001
A45: [ 합 계 ] | F45: =TRUNC(SUMIF(N40:N44, N39, F40:F44),0) -> 1423 | H45: =TRUNC(SUMIF(N40:N44, N39, H40:H44),0) -> 5819 | J45: =TRUNC(SUMIF(N40:N44, N39, J40:J44),0) -> 0 | L45: =F45+H45+J45 -> 7242 | N45: TOTAL | O45: TOTAL
...

Sheet 단가대비표
A1: 단 가 대 비 표
A2: [ 북원도서관신축사업설계용역-통신 ]
A3: 코 드 | B3: 품 명 | C3: 규격 | D3: 단위 | E3: 재 료 비 | P3: 노 무 비 | Q3: 경 비 | W3: 번 호 | X3: 비 고 | Y3: 품목구분 | Z3: 노임구분 | AA3: 소수점처리 | AB3: 자재구분
E4: 조달청가격 | F4: PAGE | G4: 물가자료 | H4: PAGE | I4: 유통물가 | J4: PAGE | K4: 거래가격 | L4: PAGE | M4: 조사가격 | N4: PAGE | O4: 적용단가 | Q4: 조달청가격 | R4: 물가자료 | S4: 유통물가 | T4: 거래가격 | U4: 조사가격 | V4: 적용단가
A5: 51DA411623C75434A7165627D8D2B6E674D6EA | B5: 굴삭기(무한궤도) | C5: 0.2㎥ | D5: 대 | E5: 0 | G5: 0 | H5: -160 | I5: 0 | K5: 0 | M5: 0 | O5: 0 | P5: 0 | Q5: 0 | R5: 66538 | S5: 0 | T5: 0 | U5: 0 | V5: =SMALL(Q5:U5,COUNTIF(Q5:U5,0)+1) -> 66538 | W5: 자재 1 | X5: 천원
A6: 51DA411623C75434A7165627D8D73820164E32 | B6: 굴삭기(유압식백호) | C6: 0.7 M3 | D6: 대 | E6: 0 | G6: 0 | H6: -160 | I6: 0 | K6: 0 | M6: 0 | O6: 0 | P6: 0 | Q6: 0 | R6: 117766 | S6: 0 | T6: 0 | U6: 0 | V6: =SMALL(Q6:U6,COUNTIF(Q6:U6,0)+1) -> 117766 | W6: 자재 2 | X6: 천원
A7: 51DA411623C7542A17FEAF711539E74429B60E | B7: 진동 롤러(핸드가이드식) | C7: 0.7톤 | D7: 대 | E7: 0 | G7: 0 | H7: -161 | I7: 0 | K7: 0 | M7: 0 | O7: 0 | P7: 0 | Q7: 0 | R7: 6966 | S7: 0 | T7: 0 | U7: 0 | V7: =SMALL(Q7:U7,COUNTIF(Q7:U7,0)+1) -> 6966 | W7: 자재 3 | X7: 천원
A8: 51DA411623C7542A47B0A30A04D9499F607FC1 | B8: 래머 | C8: 80kg | D8: 대 | E8: 0 | G8: 0 | H8: -161 | I8: 0 | K8: 0 | M8: 0 | O8: 0 | P8: 0 | Q8: 0 | R8: 1418 | S8: 0 | T8: 0 | U8: 0 | V8: =SMALL(Q8:U8,COUNTIF(Q8:U8,0)+1) -> 1418 | W8: 자재 4 | X8: 천원
A9: 51DA411623C75419A78D5DAA234071EFB52242 | B9: 크레인(타이어) | C9: 10톤 | D9: 대 | E9: 0 | G9: 0 | H9: -161 | I9: 0 | K9: 0 | M9: 0 | O9: 0 | P9: 0 | Q9: 0 | R9: 136400 | S9: 0 | T9: 0 | U9: 0 | V9: =SMALL(Q9:U9,COUNTIF(Q9:U9,0)+1) -> 136400 | W9: 자재 5 | X9: 천원
A10: 51C9F116FEBDD4B6A70EBBE3B674702EB6F7AD | B10: 자갈 | C10: 도착도, #467 | D10: ㎥ | E10: 0 | G10: 32000 | H10: 62 | I10: 29000 | J10: 60 | K10: 0 | M10: 0 | O10: =SMALL(E10:M10,COUNTIF(E10:M10,0)+1) -> 29000 | P10: 0 | Q10: 0 | R10: 0 | S10: 0 | T10: 0 | U10: 0 | V10: 0 | W10: 자재 6
A11: 51C9B1160522C45BB7E496B31A601AC3F77C9C | B11: 경유 | C11: 저유황 | D11: L | E11: 0 | G11: 1745 | H11: -32 | I11: 1662 | J11: 1189 | K11: 1656 | L11: 1451 | M11: 0 | O11: =SMALL(E11:M11,COUNTIF(E11:M11,0)+1) -> 1656 | P11: 0 | Q11: 0 | R11: 0 | S11: 0 | T11: 0 | U11: 0 | V11: 0 | W11: 자재 7
A12: 51C9B1160522C45BB7E495A84DD82FB9082E2B | B12: 휘발유 | C12: 무연 | D12: L | E12: 0 | G12: 1782 | H12: -32 | I12: 1746 | J12: 1189 | K12: 1743 | L12: 1451 | M12: 0 | O12: =SMALL(E12:M12,COUNTIF(E12:M12,0)+1) -> 1743 | P12: 0 | Q12: 0 | R12: 0 | S12: 0 | T12: 0 | U12: 0 | V12: 0 | W12: 자재 8
A13: 51F541164C1E54DC37207063ED0C9ECF09780F | B13: 난연성 비닐절연 접지용전선(통신) | C13: 0.6/1kV F-GV 6㎟ | D13: m | E13: 1408 | G13: 2207 | H13: 1075 | I13: 1765 | J13: 833 | K13: 1912 | L13: 994 | M13: 0 | O13: =SMALL(E13:M13,COUNTIF(E13:M13,0)+1) -> 1408 | P13: 0 | Q13: 0 | R13: 0 | S13: 0 | T13: 0 | U13: 0 | V13: 0 | W13: 자재 9 | X13: ...
A14: 51F541164C1E54DC37207063ED0C9ECF09780B | B14: 난연성 비닐절연 접지용전선(통신) | C14: 0.6/1kV F-GV 35㎟ | D14: m | E14: 6038 | G14: 9926 | H14: 1075 | I14: 8825 | J14: 833 | K14: 9133 | L14: 994 | M14: 0 | O14: =SMALL(E14:M14,COUNTIF(E14:M14,0)+1) -> 6038 | P14: 0 | Q14: 0 | R14: 0 | S14: 0 | T14: 0 | U14: 0 | V14: 0 | W14: 자재 10 | X14: ...
A15: 51F541164C1E54DC076E7D0D071D4B6A14F498 | B15: TV용 고발포동축케이블 | C15: 5C-HFBT | D15: M | E15: 676 | G15: 983 | H15: 1074 | I15: 1122 | J15: 840 | K15: 519 | L15: 1007 | M15: 0 | O15: =SMALL(E15:M15,COUNTIF(E15:M15,0)+1) -> 519 | P15: 0 | Q15: 0 | R15: 0 | S15: 0 | T15: 0 | U15: 0 | V15: 0 | W15: 자재 11
A16: 51F541164C1E54DC076E7D0D071D4B6A14F496 | B16: TV용 고발포동축케이블 | C16: 7C-HFBT | D16: M | E16: 1006 | G16: 1197 | H16: 1074 | I16: 1995 | J16: 840 | K16: 964 | L16: 1007 | M16: 0 | O16: =SMALL(E16:M16,COUNTIF(E16:M16,0)+1) -> 964 | P16: 0 | Q16: 0 | R16: 0 | S16: 0 | T16: 0 | U16: 0 | V16: 0 | W16: 자재 12
A17: 51F541164C1E54DC076E7267CB3E1BC8F90762 | B17: UTP 케이블 | C17: CAT 5E. 4P-0.5mm | D17: M | E17: 400 | G17: 0 | I17: 790 | J17: 847 | K17: 1150 | L17: 1003 | M17: 0 | O17: =SMALL(E17:M17,COUNTIF(E17:M17,0)+1) -> 400 | P17: 0 | Q17: 0 | R17: 0 | S17: 0 | T17: 0 | U17: 0 | V17: 0 | W17: 자재 13
A18: 51F541164C1E54DC076E7267CB3E1BC8F90761 | B18: UTP 케이블 | C18: CAT 5E. 25P-0.5mm | D18: M | E18: 2831 | G18: 0 | I18: 5550 | J18: 847 | K18: 10050 | L18: 1003 | M18: 0 | O18: =SMALL(E18:M18,COUNTIF(E18:M18,0)+1) -> 2831 | P18: 0 | Q18: 0 | R18: 0 | S18: 0 | T18: 0 | U18: 0 | V18: 0 | W18: 자재 14
A19: 51F541164C1E54DC076E7267CB3E1BC8F90760 | B19: UTP 케이블 | C19: CAT 6. 4P-0.5mm | D19: M | E19: 570 | G19: 0 | I19: 0 | K19: 1370 | L19: 1003 | M19: 0 | O19: =SMALL(E19:M19,COUNTIF(E19:M19,0)+1) -> 570 | P19: 0 | Q19: 0 | R19: 0 | S19: 0 | T19: 0 | U19: 0 | V19: 0 | W19: 자재 15
A20: 51F541164C1E54DC076F0216D284C70C6E46D6 | B20: 비닐코드선 | C20: VCTF, 3C 1.5 ㎟ | D20: M | E20: 0 | G20: 1167 | H20: 1080 | I20: 2587 | J20: 843 | K20: 1224 | L20: 1001 | M20: 0 | O20: =SMALL(E20:M20,COUNTIF(E20:M20,0)+1) -> 1167 | P20: 0 | Q20: 0 | R20: 0 | S20: 0 | T20: 0 | U20: 0 | V20: 0 | W20: 자재 16
A21: 51F541164C1E54DC076F0216D284C70C6E46D3 | B21: 비닐코드선 | C21: VCTF, 3C 2.5 ㎟ | D21: M | E21: 0 | G21: 1906 | H21: 1080 | I21: 0 | K21: 0 | M21: 0 | O21: =SMALL(E21:M21,COUNTIF(E21:M21,0)+1) -> 1906 | P21: 0 | Q21: 0 | R21: 0 | S21: 0 | T21: 0 | U21: 0 | V21: 0 | W21: 자재 17
A22: 51F541164C1E54DC076C446BA9296B37A85620 | B22: 0.6/1kV가교폴리에틸렌(F-CV) 통신 | C22: 3C 4㎟ | D22: M | E22: 3368 | G22: 4352 | H22: 1075 | I22: 3724 | J22: 834 | K22: 3933 | L22: 993 | M22: 0 | O22: =SMALL(E22:M22,COUNTIF(E22:M22,0)+1) -> 3368 | P22: 0 | Q22: 0 | R22: 0 | S22: 0 | T22: 0 | U22: 0 | V22: 0 | W22: 자재 18
A23: 51F541164C1E54DC076C446A820611D25BD4C8 | B23: 저독성폴리올레핀절연전선(HFIX) 통신 | C23: 1.5㎟(1.38㎜) | D23: m | E23: 356 | G23: 441 | H23: 1074 | I23: 559 | J23: 833 | K23: 397 | L23: 993 | M23: 0 | O23: =SMALL(E23:M23,COUNTIF(E23:M23,0)+1) -> 356 | P23: 0 | Q23: 0 | R23: 0 | S23: 0 | T23: 0 | U23: 0 | V23: 0 | W23: 자재 19
A24: 51F541164C1E54DC076C446A820611D25BD4CB | B24: 저독성폴리올레핀절연전선(HFIX) 통신 | C24: 2.5㎟(1.78㎜) | D24: m | E24: 544 | G24: 641 | H24: 1074 | I24: 902 | J24: 833 | K24: 603 | L24: 993 | M24: 0 | O24: =SMALL(E24:M24,COUNTIF(E24:M24,0)+1) -> 544 | P24: 0 | Q24: 0 | R24: 0 | S24: 0 | T24: 0 | U24: 0 | V24: 0 | W24: 자재 20
A25: 51F541164C1E54DC076D539321C2CA9BC6C4A5 | B25: 광섬유 케이블 | C25: 2Core (S/M) | D25: M | E25: 0 | G25: 0 | I25: 0 | K25: 1400 | L25: B사 | M25: 1300 | N25: A사 | O25: =SMALL(E25:M25,COUNTIF(E25:M25,0)+1) -> 1300 | P25: 0 | Q25: 0 | R25: 0 | S25: 0 | T25: 0 | U25: 0 | V25: 0 | W25: 자재 21
A26: 51F541164C1E54DC076D539321C2CA9BC6C54F | B26: 광섬유 케이블 | C26: 12Core (S/M) | D26: M | E26: 1592 | G26: 1260 | H26: 1080 | I26: 2640 | J26: 849 | K26: 2200 | L26: B사 | M26: 2000 | N26: A사 | O26: =SMALL(E26:M26,COUNTIF(E26:M26,0)+1) -> 1260 | P26: 0 | Q26: 0 | R26: 0 | S26: 0 | T26: 0 | U26: 0 | V26: 0 | W26: 자재 22
A27: 51F541164C1E54DC076A80DB2A03E99507A874 | B27: 0.6/1kV 고내화전선 (F-FR-8) 통신 옥내 | C27: 5C 2.5 ㎟ | D27: M | E27: 0 | G27: 0 | I27: 8151 | J27: C사 | K27: 0 | M27: 0 | O27: =SMALL(E27:M27,COUNTIF(E27:M27,0)+1) -> 8151 | P27: 0 | Q27: 0 | R27: 0 | S27: 0 | T27: 0 | U27: 0 | V27: 0 | W27: 자재 23
A28: 51F541164C1E54DC076A80DB2A03E9950845FA | B28: 0.6/1kV 고내화전선 (F-FR-8) 통신 옥내 | C28: 10C 2.5 ㎟ | D28: M | E28: 0 | G28: 0 | I28: 15433 | J28: C사 | K28: 0 | M28: 0 | O28: =SMALL(E28:M28,COUNTIF(E28:M28,0)+1) -> 15433 | P28: 0 | Q28: 0 | R28: 0 | S28: 0 | T28: 0 | U28: 0 | V28: 0 | W28: 자재 24
A29: 51E4B116ACEB049FF79DFF2EDC04BD49F89D03 | B29: 핸드홀(수공1호) | C29: 450x950x700x150 | D29: 조 | E29: 0 | G29: 0 | I29: 95000 | J29: 963 | K29: 0 | M29: 110000 | N29: 물정207 | O29: =SMALL(E29:M29,COUNTIF(E29:M29,0)+1) -> 95000 | P29: 0 | Q29: 0 | R29: 0 | S29: 0 | T29: 0 | U29: 0 | V29: 0 | W29: 자재 25
A30: 51E4B116ACEB049FF79DFF2EDC04BD49F89D07 | B30: 통신수공카바(철개)-1호 | C30: 주철각형 K.S (1120x620x132) | D30: 조 | E30: 0 | G30: 0 | I30: 0 | K30: 470000 | L30: 235 | M30: 0 | O30: =SMALL(E30:M30,COUNTIF(E30:M30,0)+1) -> 470000 | P30: 0 | Q30: 0 | R30: 0 | S30: 0 | T30: 0 | U30: 0 | V30: 0 | W30: 자재 26
A31: 51E4A11686E054BC7719ADF723491708E46D9E | B31: 앵커볼트 | C31: M16×L300 | D31: 개 | E31: 982 | G31: 0 | I31: 0 | K31: 1660 | L31: 94 | M31: 0 | O31: =SMALL(E31:M31,COUNTIF(E31:M31,0)+1) -> 982 | P31: 0 | Q31: 0 | R31: 0 | S31: 0 | T31: 0 | U31: 0 | V31: 0 | W31: 자재 27
A32: 51E4A11686E054BC771047CC9B693573A7FBF6 | B32: 전산볼트(통신) | C32: M10×1000㎜ | D32: 개 | E32: 0 | G32: 1409 | H32: 46 | I32: 1238 | J32: 51 | K32: 1170 | L32: 91 | M32: 0 | O32: =SMALL(E32:M32,COUNTIF(E32:M32,0)+1) -> 1170 | P32: 0 | Q32: 0 | R32: 0 | S32: 0 | T32: 0 | U32: 0 | V32: 0 | W32: 자재 28
A33: 51E4A11686E054BC677073A2207A9BEC0FB82B | B33: 6각너트 | C33: M10 | D33: EA | E33: 0 | G33: 33.2 | H33: 51 | I33: 25.2 | J33: 56 | K33: 30 | L33: 97 | M33: 0 | O33: =SMALL(E33:M33,COUNTIF(E33:M33,0)+1) -> 25.2 | P33: 0 | Q33: 0 | R33: 0 | S33: 0 | T33: 0 | U33: 0 | V33: 0 | W33: 자재 29
A34: 51E4A11686E054BC97C6213CBFA294FB423962 | B34: 스프링 와샤 | C34: 10mm | D34: EA | E34: 0 | G34: 11.53 | H34: 48 | I34: 9.3 | J34: 56 | K34: 9.6 | L34: 94 | M34: 0 | O34: =SMALL(E34:M34,COUNTIF(E34:M34,0)+1) -> 9.3 | P34: 0 | Q34: 0 | R34: 0 | S34: 0 | T34: 0 | U34: 0 | V34: 0 | W34: 자재 30
A35: 51E4A11686E05480C76427A2679E3F3A3FE825 | B35: 셋트앵커(통신) | C35: M10×L75mm | D35: 개 | E35: 0 | G35: 160 | H35: 52 | I35: 160 | J35: 53 | K35: 170 | L35: 94 | M35: 0 | O35: =SMALL(E35:M35,COUNTIF(E35:M35,0)+1) -> 160 | P35: 0 | Q35: 0 | R35: 0 | S35: 0 | T35: 0 | U35: 0 | V35: 0 | W35: 자재 31
A36: 51E4A11686E05480C76427A2679E3F3A3FE9CC | B36: 스트롱앵커(통신) | C36: M10×L50mm | D36: 개 | E36: 0 | G36: 120 | H36: 52 | I36: 0 | K36: 0 | M36: 0 | O36: =SMALL(E36:M36,COUNTIF(E36:M36,0)+1) -> 120 | P36: 0 | Q36: 0 | R36: 0 | S36: 0 | T36: 0 | U36: 0 | V36: 0 | W36: 자재 32
A37: 51E49116E12A44FA073472D5E198494C754B9C | B37: 증폭기 | C37: 양방향, 공청용, VHF/UHF 겸용 옥내 | D37: 조 | E37: 63929 | G37: 0 | I37: 0 | K37: 0 | M37: 107000 | N37: 물정1335 | O37: =SMALL(E37:M37,COUNTIF(E37:M37,0)+1) -> 63929 | P37: 0 | Q37: 0 | R37: 0 | S37: 0 | T37: 0 | U37: 0 | V37: 0 | W37: 자재 33
A38: 51E49116E12A44FA073473FF5EB64007CAE279 | B38: 감쇄기 | C38: ATT, 3단(3W) | D38: 개 | E38: 0 | G38: 0 | I38: 17000 | J38: 1010 | K38: 0 | M38: 0 | O38: =SMALL(E38:M38,COUNTIF(E38:M38,0)+1) -> 17000 | P38: 0 | Q38: 0 | R38: 0 | S38: 0 | T38: 0 | U38: 0 | V38: 0 | W38: 자재 34
A39: 51E42116B0AC6427B7510D93361C9283114406 | B39: 풀박스 (통신) | C39: 100x100x100 | D39: 개 | E39: 2864 | G39: 3370 | H39: 1105 | I39: 3520 | J39: 873 | K39: 5800 | L39: 1028 | M39: 0 | O39: =SMALL(E39:M39,COUNTIF(E39:M39,0)+1) -> 2864 | P39: 0 | Q39: 0 | R39: 0 | S39: 0 | T39: 0 | U39: 0 | V39: 0 | W39: 자재 35
A40: 51E42116B0AC6427B7510D933509FBD58CE476 | B40: 접지단자함(통신) | C40: 4CCT 스텐레스 | D40: SET | E40: 204135 | G40: 327600 | H40: 1198 | I40: 273000 | J40: 925 | K40: 0 | M40: 0 | O40: =SMALL(E40:M40,COUNTIF(E40:M40,0)+1) -> 204135 | P40: 0 | Q40: 0 | R40: 0 | S40: 0 | T40: 0 | U40: 0 | V40: 0 | W40: 자재 36
...

Sheet  공사설정 
A1: 이 Sheet는 수정하지 마십시요
A2: 공사구분 | B2: D | C2: 타이틀
A3: 확정내역 | B3: 원내역
A4: 자재단가적용 | B4: 5
A5: 경비단가적용 | B5: 5
A6: 품목코드형식 | B6: XXXX-XXXX-XXXXXXXXX
A7: 내역금액소수점처리 | B7: C | C7: 1
A8: 일위대가내역소수점처리 | B8: C | C8: 2
A9: 단가명 | B9: 조달청가격 | C9: 물가자료 | D9: 유통물가 | E9: 거래가격 | F9: 조사가격 | G9: TTTTT
A10: 환율 | B10: 1442 | C10: 0 | D10: 0
A11: 시간당작업량 | B11: R | C11: 3
A12: 1회 사이클시간 | B12: R | C12: 3
A13: 시간당 작업사이클 | B13: R | C13: 2
A14: 일반변수 | B14: C | C14: 5
A15: 시간당 노임산출 계수 | B15: A | C15: 1/8*16/12*25/20 | D15: 1/8*16/12*25/20 | E15: 1/8*16/12*25/20 | F15: 1
A16: 재료비 할증 계수 | B16: 11 | C16: 12
A17: 노무비 할증 계수 | B17: 0 | C17: 50 | D17: 16 | E17: 60 | F17: 60 | G17: 60 | H17: 94 | I17: 94 | J17: 94 | K17: 0 | L17: 0 | M17: 0
A18: 경비 할증 계수 | B18: 12.5 | C18: 7.1
A19: 내역,일위대가 품명,규격,단위 따로적용
A20: 내역단가 소수점처리 | B20: C | C20: 1
A21: 코드 | B21: 공종구분명 | C21: 원가비목코드
A22: 1 | B22: 작 업 부 산 물 | C22: A3
A23: 2 | B23: 운 반 비 | C23: C1
A24: 3 | B24: 관 급 자 재 비 | C24: DJ
A25: 4 | B25: 사 급 자 재 비 | C25: D3
A26: 5 | B26: 외 자 재
A27: 6 | B27: 폐기물 처리비
A28: 7 | B28: 한 전 인 입 비
A29: 8 | B29: ...
A30: 9 | B30: ...
A43: 단가 순서 | B43: 1234

Sheet Sheet1
