Workbook

Sheet 갑지

Sheet 원가
B1: 시트명 | M1: 공종별집계표
B2: 행 | M2: 5 | AQ2: 추정금액 | AR2: =AR4+AR5+AR6 -> 0
B4: =공종별집계표!A2 -> [ 북원도서관신축사업설계용역-통신 ] | R4: 금액: | T4: =NUMBERSTRING(AG4,1) -> 영 | AC4: 원 정 | AE4: ( | AF4: W | AG4: =M37 -> 0 | AL4: ) | AQ4: 추정가격 | AR4: =M33/1.1 -> 0
A5: 열 | B5: 비목 | D5: 구분 | M5: 금액 | N5: 구성비 | X5: 비고 | AQ5: 부가세 | AR5: =M33-AR4 -> 0
A6: F | B6: 순공사비원가 | D6: 재료비 | F6: 직접재료비 | M6: =공종별집계표!F5 -> 0 | AN6: 순공사비 | AO6: =M9+M10+M13 -> 0 | AQ6: 도급자설치관급 | AR6: =M36 -> 0
F7: 간접재료비 | AN7: 관급총액 | AO7: =M35+M36 -> 0 | AQ7: 관급자설치관급 | AR7: =M35 -> 0
F8: 작업부산물 | AN8: 한전비 | AO8: =M34 -> 0 | AQ8: 기초금액 | AR8: =AR4+AR5 -> 0
F9: 소계 | M9: =SUM(M6:M8) -> 0 | AQ9: 순공사원가 | AR9: =M26 -> 0
A10: H | D10: 노무비 | F10: 직접노무비(가) | M10: =공종별집계표!H5 -> 0 | AQ10: A값 | AR10: =M17+M19+M18+M16+M21 -> 0
F11: 간접노무비(나) | M11: =INT(M10*R11) -> 0 | N11: 직접노무비의 | R11: 0.182
F12: 소계 | M12: =SUM(M10:M11) -> 0
A13: J | D13: 경비 | F13: 기계경비 | M13: =공종별집계표!J5 -> 0 | AN13: 퇴직공제비 | AO13: =IF(M33+M36>=100000000, "☜ 적용(2.3%)","☜ 삭제") -> ☜ 삭제
F14: 고용보험료 | M14: =INT(M12*Q14) -> 0 | N14: 노무비의 | Q14: 0.0101
F15: 산재보험료 | M15: =INT(M12*Q15) -> 0 | N15: 노무비의 | Q15: 0.0356 | AN15: 안전관리비 | AO15: =IF(M33+M36-M16<20000000,"☜ 삭제",IF(M9+M10+M36<=499999999,"☜ 적용(3.11%)",IF(M9+M10+M36<=4999999999,"☜ 교체(2.28%+4,325천원)",IF(M9+M10+M36>=5000000000,"☜ 교체(2.37%)")))) -> ☜ 삭제
F16: 산업안전보건관리비 | M16: =INT(MIN(AO17,AO18)) -> 0 | N16: =IF(M33+M36>=20000000,IF(AO17>AO18,AO20,AO19),"") | AO16: 5억미만 | AP16: 5억이상 50억미만 | AQ16: 50억이상
F17: 건강보험료 | M17: =INT(M10*R17) -> 0 | N17: 직접노무비의 | R17: 0.03595 | AN17: a. | AO17: =INT((($M$9+$M$10)+($M$36/1.1))*3.11%) -> 0 | AP17: =INT((($M$9+$M$10)+($M$36/1.1))*2.28%)+4325000 -> 4325000 | AQ17: =INT((($M$9+$M$10)+($M$36/1.1))*2.37%) -> 0
F18: 연금보험료 | M18: =INT(M10*R18) -> 0 | N18: 직접노무비의 | R18: 0.0475 | AN18: b. | AO18: =INT((($M$9+$M$10)*3.11%)*1.2) -> 0 | AP18: =INT((($M$9+$M$10)*2.28%)+4325000)*1.2 -> 5190000 | AQ18: =INT((($M$9+$M$10)*2.37%)*1.2) -> 0
F19: 노인장기요양보험료 | M19: =INT(M17*R19) -> 0 | N19: 건강보험료의 | R19: 0.1314 | AO19: (재+직노+도급자관급)의 3.11% | AP19: (재+직노+도급자관급)의 2.28%+4,325천원 | AQ19: (재+직노+도급자관급)의 2.37%
F20: 기타경비 | M20: =INT((M9+M12)*Q20) -> 0 | N20: (재+노)의 | Q20: 0.055 | AO20: (재+직노)의 3.11% *1.2 | AP20: ((재+직노)의 2.28%+4,325천원)*1.2 | AQ20: (재+직노)의 2.37% *1.2
F21: 퇴직공제부금비 | M21: =INT(M10*2.3%) -> 0 | N21: =IF(M33+M36>=100000000, "직접노무비의 2.3%","")
F22: 공사이행보증수수료
F23: 석면분담금 | M23: =INT(M12*Q23) -> 0 | N23: 노무비의 | Q23: 6e-05
F24: 임금채권부담금 | M24: =INT(M12*Q24) -> 0 | N24: 노무비의 | Q24: 0.0009
F25: 소계 | M25: =SUM(M13:M24) -> 0
D26: 계 | M26: =M9+M12+M25 -> 0
B27: 일반관리비 | M27: =INT(M26*P27) -> 0 | N27: 계의 | P27: 0.08 | X27: 5억미만 8% / 5~30억미만 6.5% / 30~100억미만 5% (공급가액 기준)
B28: 이윤 | M28: =INT((M12+M25+M27)*S28)-53/1.1+1 -> -47.181818 | N28: (노+경비+일.관)의 | S28: 0.15 | X28: 50억미만 15% / 50~300억미만 12% (공급가액 기준)
B29: 사급자재비
B30: 배상책임공제료 | M30: =INT(AO30*N30) -> 0 | AN30: 순계약금액 : | AO30: =INT(M26+M27+M28+M29+$AN$36) -> -48
B31: 공급가액 | M31: =SUM(M26:M30) -> -47.181818
B32: 부가가치세 | M32: =INT(M31*R32) -> -5 | N32: 공급가액의 | R32: 0.1
B33: 도급액 | M33: =ROUNDDOWN(M31+M32,-3) -> 0 | X33: 천단위절사
B34: 한전인입비/사용전검사비 | M34: 0 | X34: 천단위절상
B35: 관급자설치 관급자재 | M35: =ROUNDUP(공종별집계표!L15, -3) -> 0 | X35: 천단위절상
B36: 도급자설치 관급자재 | M36: 0 | X36: 천단위절상 | AO36: ☜ 도급자관급 입력(부가가치세제외+조달수수료포함) 입력 [배상공제료계상용]
B37: 총공사비 | M37: =SUM(M33:M36) -> 0 | AN37: 배상책임공제료 = 순계약금액 x 요율(%)
AN38: 순계약금액 = 공급가액+(도급자관급-부가가치세)-배상책임공제료

Sheet 공종별집계표
A1: 공 종 별 집 계 표
A2: [ 북원도서관신축사업설계용역-통신 ]
A3: 품 명 | B3: 규 격 | C3: 단위 | D3: 수량 | E3: 재 료 비 | G3: 노 무 비 | I3: 경 비 | K3: 합 계 | M3: 비 고 | N3: 공종코드 | O3: 변수 | P3: 상위공종 | Q3: 공종구분 | R3: 공종레벨 | S3: 공종소계 | T3: 원가계산서 연결금액
E4: 단 가 | F4: 금 액 | G4: 단 가 | H4: 금 액 | I4: 단 가 | J4: 금 액 | K4: 단 가 | L4: 금 액
A5: 01 북원도서관신축사업설계용역-통신 | D5: 1 | N5: 01 | R5: 1
A6: 0101 통신공사 | D6: 1 | N6: 0101 | P6: 01 | R6: 2
A7: 010101 옥외통신설비공사 | D7: 1 | N7: 010101 | P7: 0101 | R7: 3
A8: 010102 전화및LAN설비공사 | D8: 1 | N8: 010102 | P8: 0101 | R8: 3
A9: 010103 TV설비공사 | D9: 1 | N9: 010103 | P9: 0101 | R9: 3
A10: 010104 방송설비공사 | D10: 1 | N10: 010104 | P10: 0101 | R10: 3
A11: 010105 AV설비공사 | D11: 1 | N11: 010105 | P11: 0101 | R11: 3
A12: 010106 CCTV설비공사 | D12: 1 | N12: 010106 | P12: 0101 | R12: 3
A13: 010107 주차관제설비공사 | D13: 1 | N13: 010107 | P13: 0101 | R13: 3
A14: 010108 CABLE TRAY설비공사 | D14: 1 | N14: 010108 | P14: 0101 | R14: 3
A15: 0102 자 재 구 매 비 | D15: 1 | N15: 0102 | Q15: 3 | R15: 2 | T15: =L15*1 -> 0
A16: 010201 관급자설치 관급자재 | D16: 1 | N16: 010201 | P16: 0102 | R16: 3
A17: 01020101 통합배선 (V.A.T 포함) | D17: 1 | N17: 01020101 | P17: 010201 | R17: 4
A18: 01020102 방송/A,V (V.A.T 포함) | D18: 1 | N18: 01020102 | P18: 010201 | R18: 4
A19: 01020103 CCTV (V.A.T 포함) | D19: 1 | N19: 01020103 | P19: 010201 | R19: 4
A20: 01020104 주차관제 (V.A.T 포함) | D20: 1 | N20: 01020104 | P20: 010201 | R20: 4
A27: [ 합 계 ]

Sheet 공종별내역서
A1: [ 북원도서관신축사업설계용역-통신 ]
A2: 품 명 | B2: 규 격 | C2: 단위 | D2: 수량 | E2: 재 료 비 | G2: 노 무 비 | I2: 경 비 | K2: 합 계 | M2: 비 고 | N2: 품목코드 | O2: 변수 | P2: 설정 | Q2: 공종코드 | R2: 일위 | S2: 단산 | T2: 자재 | U2: 손료적용 | V2: 손료저장 | W2: 적용율 | X2: JUK1 | Y2: JUK2 | Z2: JUK3 | AA2: JUK4 | AB2: JUK5 | AC2: JUK6 | AD2: JUK7 | AE2: JUK8 | AF2: JUK9 | AG2: JUK10 | AH2: JUK11 | AI2: JUK12 | AJ2: JUK13 | AK2: JUK14 | AL2: JUK15 | AM2: JUK16 | AN2: JUK17 | AO2: JUK18 | AP2: JUK19 | AQ2: JUK20 | AR2: 자재구분 | AS2: 공종구분 | AT2: 공종레벨 | AU2: 공종+자재 | AV2: 고유번호
E3: 단 가 | F3: 금 액 | G3: 단 가 | H3: 금 액 | I3: 단 가 | J3: 금 액 | K3: 단 가 | L3: 금 액
A4: 010101 옥외통신설비공사 | B4: 통신공사 | Q4: 010101
A5: 강제전선관(통신노출) | B5: 아연도 36 mm | C5: M | D5: 10 | E5: =TRUNC(일위대가목록!E65,0) -> 8837 | F5: =TRUNC(E5*D5, 0) -> 88370 | G5: =TRUNC(일위대가목록!F65,0) -> 68692 | H5: =TRUNC(G5*D5, 0) -> 686920 | I5: =TRUNC(일위대가목록!G65,0) -> 0 | J5: =TRUNC(I5*D5, 0) -> 0 | K5: =TRUNC(E5+G5+I5, 0) -> 77529 | L5: =TRUNC(F5+H5+J5, 0) -> 775290 | M5: 호표 62 | N5: 5686B116EDCB04D3E7A9420B5A6226 | Q5: 010101 | R5: T | S5: F | T5: F | AU5: 0101015686B116EDCB04D3E7A9420B5A6226 | AV5: 325
A6: 강제전선관(통신노출) | B6: 아연도 54 mm | C6: M | D6: 15 | E6: =TRUNC(일위대가목록!E66,0) -> 15380 | F6: =TRUNC(E6*D6, 0) -> 230700 | G6: =TRUNC(일위대가목록!F66,0) -> 116777 | H6: =TRUNC(G6*D6, 0) -> 1751655 | I6: =TRUNC(일위대가목록!G66,0) -> 0 | J6: =TRUNC(I6*D6, 0) -> 0 | K6: =TRUNC(E6+G6+I6, 0) -> 132157 | L6: =TRUNC(F6+H6+J6, 0) -> 1982355 | M6: 호표 63 | N6: 5686B116EDCB04D3E7A9420B5A6078 | Q6: 010101 | R6: T | S6: F | T6: F | AU6: 0101015686B116EDCB04D3E7A9420B5A6078 | AV6: 326
A7: 경질비닐전선관(통신) | B7: HI 16 mm | C7: M | D7: 73 | E7: =TRUNC(일위대가목록!E57,0) -> 817 | F7: =TRUNC(E7*D7, 0) -> 59641 | G7: =TRUNC(일위대가목록!F57,0) -> 14310 | H7: =TRUNC(G7*D7, 0) -> 1044630 | I7: =TRUNC(일위대가목록!G57,0) -> 0 | J7: =TRUNC(I7*D7, 0) -> 0 | K7: =TRUNC(E7+G7+I7, 0) -> 15127 | L7: =TRUNC(F7+H7+J7, 0) -> 1104271 | M7: 호표 54 | N7: 5686B116EDCB04D3B7D4DBF277C5F1 | Q7: 010101 | R7: T | S7: F | T7: F | AU7: 0101015686B116EDCB04D3B7D4DBF277C5F1 | AV7: 327
A8: 경질비닐전선관(통신) | B8: HI 28 mm | C8: M | D8: 63 | E8: =TRUNC(일위대가목록!E59,0) -> 1610 | F8: =TRUNC(E8*D8, 0) -> 101430 | G8: =TRUNC(일위대가목록!F59,0) -> 22897 | H8: =TRUNC(G8*D8, 0) -> 1442511 | I8: =TRUNC(일위대가목록!G59,0) -> 0 | J8: =TRUNC(I8*D8, 0) -> 0 | K8: =TRUNC(E8+G8+I8, 0) -> 24507 | L8: =TRUNC(F8+H8+J8, 0) -> 1543941 | M8: 호표 56 | N8: 5686B116EDCB04D3B7D4DBF277C3C4 | Q8: 010101 | R8: T | S8: F | T8: F | AU8: 0101015686B116EDCB04D3B7D4DBF277C3C4 | AV8: 328
A9: 경질비닐전선관(통신) | B9: HI 36 mm | C9: M | D9: 188 | E9: =TRUNC(일위대가목록!E60,0) -> 2187 | F9: =TRUNC(E9*D9, 0) -> 411156 | G9: =TRUNC(일위대가목록!F60,0) -> 28621 | H9: =TRUNC(G9*D9, 0) -> 5380748 | I9: =TRUNC(일위대가목록!G60,0) -> 0 | J9: =TRUNC(I9*D9, 0) -> 0 | K9: =TRUNC(E9+G9+I9, 0) -> 30808 | L9: =TRUNC(F9+H9+J9, 0) -> 5791904 | M9: 호표 57 | N9: 5686B116EDCB04D3B7D4DBF277C23D | Q9: 010101 | R9: T | S9: F | T9: F | AU9: 0101015686B116EDCB04D3B7D4DBF277C23D | AV9: 329
A10: 경질비닐전선관(통신) | B10: HI 54 mm | C10: M | D10: 282 | E10: =TRUNC(일위대가목록!E61,0) -> 4076 | F10: =TRUNC(E10*D10, 0) -> 1149432 | G10: =TRUNC(일위대가목록!F61,0) -> 54381 | H10: =TRUNC(G10*D10, 0) -> 15335442 | I10: =TRUNC(일위대가목록!G61,0) -> 0 | J10: =TRUNC(I10*D10, 0) -> 0 | K10: =TRUNC(E10+G10+I10, 0) -> 58457 | L10: =TRUNC(F10+H10+J10, 0) -> 16484874 | M10: 호표 58 | N10: 5686B116EDCB04D3B7D4DBF277C00F | Q10: 010101 | R10: T | S10: F | T10: F | AU10: 0101015686B116EDCB04D3B7D4DBF277C00F | AV10: 330
A11: 난연성 비닐절연 접지용전선(통신) | B11: 0.6/1kV F-GV 6㎟ | C11: M | D11: 10 | E11: =TRUNC(일위대가목록!E75,0) -> 1670 | F11: =TRUNC(E11*D11, 0) -> 16700 | G11: =TRUNC(일위대가목록!F75,0) -> 4293 | H11: =TRUNC(G11*D11, 0) -> 42930 | I11: =TRUNC(일위대가목록!G75,0) -> 0 | J11: =TRUNC(I11*D11, 0) -> 0 | K11: =TRUNC(E11+G11+I11, 0) -> 5963 | L11: =TRUNC(F11+H11+J11, 0) -> 59630 | M11: 호표 72 | N11: 5686B116EDC8B49FF7010034BC1C8A | Q11: 010101 | R11: T | S11: F | T11: F | AU11: 0101015686B116EDC8B49FF7010034BC1C8A | AV11: 331
A12: UTP 케이블 | B12: CAT 6. 4P-0.5mm | C12: M | D12: 63 | E12: =TRUNC(일위대가목록!E74,0) -> 821 | F12: =TRUNC(E12*D12, 0) -> 51723 | G12: =TRUNC(일위대가목록!F74,0) -> 6571 | H12: =TRUNC(G12*D12, 0) -> 413973 | I12: =TRUNC(일위대가목록!G74,0) -> 0 | J12: =TRUNC(I12*D12, 0) -> 0 | K12: =TRUNC(E12+G12+I12, 0) -> 7392 | L12: =TRUNC(F12+H12+J12, 0) -> 465696 | M12: 호표 71 | N12: 5686B116EDC8B49FB7A6D2A9099DDE | Q12: 010101 | R12: T | S12: F | T12: F | AU12: 0101015686B116EDC8B49FB7A6D2A9099DDE | AV12: 332
A13: 통신맨홀 (사각수공 1호) | B13: 450x950x700 | C13: 개소 | D13: 3 | E13: =TRUNC(일위대가목록!E49,0) -> 683773 | F13: =TRUNC(E13*D13, 0) -> 2051319 | G13: =TRUNC(일위대가목록!F49,0) -> 532730 | H13: =TRUNC(G13*D13, 0) -> 1598190 | I13: =TRUNC(일위대가목록!G49,0) -> 32678 | J13: =TRUNC(I13*D13, 0) -> 98034 | K13: =TRUNC(E13+G13+I13, 0) -> 1249181 | L13: =TRUNC(F13+H13+J13, 0) -> 3747543 | M13: 호표 46 | N13: 5686B116EFF2D49A67B55F97D70F9A | Q13: 010101 | R13: T | S13: F | T13: F | AU13: 0101015686B116EFF2D49A67B55F97D70F9A | AV13: 333
A14: 관로구방수(통신) | B14: D 30 | C14: 개소 | D14: 2 | E14: =TRUNC(일위대가목록!E50,0) -> 38022 | F14: =TRUNC(E14*D14, 0) -> 76044 | G14: =TRUNC(일위대가목록!F50,0) -> 75774 | H14: =TRUNC(G14*D14, 0) -> 151548 | I14: =TRUNC(일위대가목록!G50,0) -> 0 | J14: =TRUNC(I14*D14, 0) -> 0 | K14: =TRUNC(E14+G14+I14, 0) -> 113796 | L14: =TRUNC(F14+H14+J14, 0) -> 227592 | M14: 호표 47 | N14: 5686B116EFF2D49A17334673466554 | Q14: 010101 | R14: T | S14: F | T14: F | AU14: 0101015686B116EFF2D49A17334673466554 | AV14: 334
A15: 관로구방수(통신) | B15: D 50 | C15: 개소 | D15: 3 | E15: =TRUNC(일위대가목록!E51,0) -> 41567 | F15: =TRUNC(E15*D15, 0) -> 124701 | G15: =TRUNC(일위대가목록!F51,0) -> 75774 | H15: =TRUNC(G15*D15, 0) -> 227322 | I15: =TRUNC(일위대가목록!G51,0) -> 0 | J15: =TRUNC(I15*D15, 0) -> 0 | K15: =TRUNC(E15+G15+I15, 0) -> 117341 | L15: =TRUNC(F15+H15+J15, 0) -> 352023 | M15: 호표 48 | N15: 5686B116EFF2D49A1733467346667B | Q15: 010101 | R15: T | S15: F | T15: F | AU15: 0101015686B116EFF2D49A1733467346667B | AV15: 335
A16: 관로구방수(통신) | B16: D 65 | C16: 개소 | D16: 3 | E16: =TRUNC(일위대가목록!E52,0) -> 43607 | F16: =TRUNC(E16*D16, 0) -> 130821 | G16: =TRUNC(일위대가목록!F52,0) -> 75774 | H16: =TRUNC(G16*D16, 0) -> 227322 | I16: =TRUNC(일위대가목록!G52,0) -> 0 | J16: =TRUNC(I16*D16, 0) -> 0 | K16: =TRUNC(E16+G16+I16, 0) -> 119381 | L16: =TRUNC(F16+H16+J16, 0) -> 358143 | M16: 호표 49 | N16: 5686B116EFF2D49A17334673466702 | Q16: 010101 | R16: T | S16: F | T16: F | AU16: 0101015686B116EFF2D49A17334673466702 | AV16: 336
A17: 관로구방수(통신,동일장소) | B17: D 30 | C17: 개소 | D17: 4 | E17: =TRUNC(일위대가목록!E53,0) -> 37567 | F17: =TRUNC(E17*D17, 0) -> 150268 | G17: =TRUNC(일위대가목록!F53,0) -> 60619 | H17: =TRUNC(G17*D17, 0) -> 242476 | I17: =TRUNC(일위대가목록!G53,0) -> 0 | J17: =TRUNC(I17*D17, 0) -> 0 | K17: =TRUNC(E17+G17+I17, 0) -> 98186 | L17: =TRUNC(F17+H17+J17, 0) -> 392744 | M17: 호표 50 | N17: 5686B116EFF2D49A17334673470A11 | Q17: 010101 | R17: T | S17: F | T17: F | AU17: 0101015686B116EFF2D49A17334673470A11 | AV17: 337
A18: 관로구방수(통신,동일장소) | B18: D 50 | C18: 개소 | D18: 7 | E18: =TRUNC(일위대가목록!E54,0) -> 41112 | F18: =TRUNC(E18*D18, 0) -> 287784 | G18: =TRUNC(일위대가목록!F54,0) -> 60619 | H18: =TRUNC(G18*D18, 0) -> 424333 | I18: =TRUNC(일위대가목록!G54,0) -> 0 | J18: =TRUNC(I18*D18, 0) -> 0 | K18: =TRUNC(E18+G18+I18, 0) -> 101731 | L18: =TRUNC(F18+H18+J18, 0) -> 712117 | M18: 호표 51 | N18: 5686B116EFF2D49A1733467347090A | Q18: 010101 | R18: T | S18: F | T18: F | AU18: 0101015686B116EFF2D49A1733467347090A | AV18: 338
A19: 관로구방수(통신,동일장소) | B19: D 65 | C19: 개소 | D19: 12 | E19: =TRUNC(일위대가목록!E55,0) -> 43152 | F19: =TRUNC(E19*D19, 0) -> 517824 | G19: =TRUNC(일위대가목록!F55,0) -> 60619 | H19: =TRUNC(G19*D19, 0) -> 727428 | I19: =TRUNC(일위대가목록!G55,0) -> 0 | J19: =TRUNC(I19*D19, 0) -> 0 | K19: =TRUNC(E19+G19+I19, 0) -> 103771 | L19: =TRUNC(F19+H19+J19, 0) -> 1245252 | M19: 호표 52 | N19: 5686B116EFF2D49A17334673470863 | Q19: 010101 | R19: T | S19: F | T19: F | AU19: 0101015686B116EFF2D49A17334673470863 | AV19: 339
A20: 경고 테이프(통신용) | B20: 200*250 | C20: M | D20: 104 | E20: =TRUNC(일위대가목록!E56,0) -> 208 | F20: =TRUNC(E20*D20, 0) -> 21632 | G20: =TRUNC(일위대가목록!F56,0) -> 224 | H20: =TRUNC(G20*D20, 0) -> 23296 | I20: =TRUNC(일위대가목록!G56,0) -> 0 | J20: =TRUNC(I20*D20, 0) -> 0 | K20: =TRUNC(E20+G20+I20, 0) -> 432 | L20: =TRUNC(F20+H20+J20, 0) -> 44928 | M20: 호표 53 | N20: 5686B116EFF2D49A1733471BD4496A | Q20: 010101 | R20: T | S20: F | T20: F | AU20: 0101015686B116EFF2D49A1733471BD4496A | AV20: 340
A21: 접지봉 (통신) | B21: 18Φ×2400 mm | C21: 개 | D21: 3 | E21: =TRUNC(일위대가목록!E94,0) -> 11691 | F21: =TRUNC(E21*D21, 0) -> 35073 | G21: =TRUNC(일위대가목록!F94,0) -> 99306 | H21: =TRUNC(G21*D21, 0) -> 297918 | I21: =TRUNC(일위대가목록!G94,0) -> 0 | J21: =TRUNC(I21*D21, 0) -> 0 | K21: =TRUNC(E21+G21+I21, 0) -> 110997 | L21: =TRUNC(F21+H21+J21, 0) -> 332991 | M21: 호표 91 | N21: 5686B116EDCEC41B97760586BFFF17 | Q21: 010101 | R21: T | S21: F | T21: F | AU21: 0101015686B116EDCEC41B97760586BFFF17 | AV21: 341
A22: 강제전선관용 부품 (통신) | B22: 위샤캡, 36 C | C22: 개 | D22: 2 | E22: =TRUNC(일위대가목록!E11,0) -> 4618 | F22: =TRUNC(E22*D22, 0) -> 9236 | G22: =TRUNC(일위대가목록!F11,0) -> 8586 | H22: =TRUNC(G22*D22, 0) -> 17172 | I22: =TRUNC(일위대가목록!G11,0) -> 0 | J22: =TRUNC(I22*D22, 0) -> 0 | K22: =TRUNC(E22+G22+I22, 0) -> 13204 | L22: =TRUNC(F22+H22+J22, 0) -> 26408 | M22: 호표 8 | N22: 51825116F74F648AB7BE75363431AC | Q22: 010101 | R22: T | S22: F | T22: F | AU22: 01010151825116F74F648AB7BE75363431AC | AV22: 342
A23: 강제전선관용 부품 (통신) | B23: 위샤캡, 54 C | C23: 개 | D23: 3 | E23: =TRUNC(일위대가목록!E12,0) -> 6527 | F23: =TRUNC(E23*D23, 0) -> 19581 | G23: =TRUNC(일위대가목록!F12,0) -> 8586 | H23: =TRUNC(G23*D23, 0) -> 25758 | I23: =TRUNC(일위대가목록!G12,0) -> 0 | J23: =TRUNC(I23*D23, 0) -> 0 | K23: =TRUNC(E23+G23+I23, 0) -> 15113 | L23: =TRUNC(F23+H23+J23, 0) -> 45339 | M23: 호표 9 | N23: 51825116F74F648AB7BE753635C220 | Q23: 010101 | R23: T | S23: F | T23: F | AU23: 01010151825116F74F648AB7BE753635C220 | AV23: 343
A24: 터파기(기계90%,인력10%) | B24: 보통토사 | C24: ㎥ | D24: 140 | E24: =TRUNC(일위대가목록!E36,0) -> 357 | F24: =TRUNC(E24*D24, 0) -> 49980 | G24: =TRUNC(일위대가목록!F36,0) -> 7304 | H24: =TRUNC(G24*D24, 0) -> 1022560 | I24: =TRUNC(일위대가목록!G36,0) -> 374 | J24: =TRUNC(I24*D24, 0) -> 52360 | K24: =TRUNC(E24+G24+I24, 0) -> 8035 | L24: =TRUNC(F24+H24+J24, 0) -> 1124900 | M24: 호표 33 | N24: 56C8B116D23404B037C110CF1D309D | Q24: 010101 | R24: T | S24: F | T24: F | AU24: 01010156C8B116D23404B037C110CF1D309D | AV24: 344
A25: 되메우기(기계90%,인력10%) | B25: 보통토사 | C25: ㎥ | D25: 140 | E25: =TRUNC(일위대가목록!E37,0) -> 754 | F25: =TRUNC(E25*D25, 0) -> 105560 | G25: =TRUNC(일위대가목록!F37,0) -> 12504 | H25: =TRUNC(G25*D25, 0) -> 1750560 | I25: =TRUNC(일위대가목록!G37,0) -> 566 | J25: =TRUNC(I25*D25, 0) -> 79240 | K25: =TRUNC(E25+G25+I25, 0) -> 13824 | L25: =TRUNC(F25+H25+J25, 0) -> 1935360 | M25: 호표 34 | N25: 56C8B116D23404B037C110CF1C2AB2 | Q25: 010101 | R25: T | S25: F | T25: F | AU25: 01010156C8B116D23404B037C110CF1C2AB2 | AV25: 345
A26: 볼트형콘넥터 | B26: U 볼트형, Φ19 | C26: 개 | D26: 3 | E26: =TRUNC(단가대비표!O57,0) -> 3873 | F26: =TRUNC(E26*D26, 0) -> 11619 | G26: =TRUNC(단가대비표!P57,0) -> 0 | H26: =TRUNC(G26*D26, 0) -> 0 | I26: =TRUNC(단가대비표!V57,0) -> 0 | J26: =TRUNC(I26*D26, 0) -> 0 | K26: =TRUNC(E26+G26+I26, 0) -> 3873 | L26: =TRUNC(F26+H26+J26, 0) -> 11619 | N26: 51E42116B0AC6427C7793C5453EAFFA2E78AAF | Q26: 010101 | R26: F | S26: F | T26: T | AU26: 01010151E42116B0AC6427C7793C5453EAFFA2E78AAF | AV26: 346
A27: 스틸밴드 | B27: 파이프용 320D | C27: EA | D27: 3 | E27: =TRUNC(단가대비표!O62,0) -> 2500 | F27: =TRUNC(E27*D27, 0) -> 7500 | G27: =TRUNC(단가대비표!P62,0) -> 0 | H27: =TRUNC(G27*D27, 0) -> 0 | I27: =TRUNC(단가대비표!V62,0) -> 0 | J27: =TRUNC(I27*D27, 0) -> 0 | K27: =TRUNC(E27+G27+I27, 0) -> 2500 | L27: =TRUNC(F27+H27+J27, 0) -> 7500 | N27: 51E42116B0AC641507E5CCF27352CDD1CF5E23 | Q27: 010101 | R27: F | S27: F | T27: T | AU27: 01010151E42116B0AC641507E5CCF27352CDD1CF5E23 | AV27: 347
Q28: 010101
Q29: 010101
Q30: 010101
Q31: 010101
Q32: 010101
Q33: 010101
Q34: 010101
Q35: 010101
Q36: 010101
Q37: 010101
Q38: 010101
Q39: 010101
... Q50: 010101
A51: [ 합 계 ] | F51: =SUMIF(Q5:Q50,"010101",F5:F50) -> 5708094 | H51: =SUMIF(Q5:Q50,"010101",H5:H50) -> 32834692 | J51: =SUMIF(Q5:Q50,"010101",J5:J50) -> 229634 | L51: =SUMIF(Q5:Q50,"010101",L5:L50) -> 38772420 | N51: TOTAL
A52: 010102 전화및LAN설비공사 | B52: 통신공사 | Q52: 010102
A53: 경질비닐전선관(통신) | B53: HI 16 mm | C53: M | D53: 25 | E53: =TRUNC(일위대가목록!E57,0) -> 817 | F53: =TRUNC(E53*D53, 0) -> 20425 | G53: =TRUNC(일위대가목록!F57,0) -> 14310 | H53: =TRUNC(G53*D53, 0) -> 357750 | I53: =TRUNC(일위대가목록!G57,0) -> 0 | J53: =TRUNC(I53*D53, 0) -> 0 | K53: =TRUNC(E53+G53+I53, 0) -> 15127 | L53: =TRUNC(F53+H53+J53, 0) -> 378175 | M53: 호표 54 | N53: 5686B116EDCB04D3B7D4DBF277C5F1 | Q53: 010102 | R53: T | S53: F | T53: F | AU53: 0101025686B116EDCB04D3B7D4DBF277C5F1 | AV53: 349
A54: 경질비닐전선관(통신) | B54: HI 28 mm | C54: M | D54: 28 | E54: =TRUNC(일위대가목록!E59,0) -> 1610 | F54: =TRUNC(E54*D54, 0) -> 45080 | G54: =TRUNC(일위대가목록!F59,0) -> 22897 | H54: =TRUNC(G54*D54, 0) -> 641116 | I54: =TRUNC(일위대가목록!G59,0) -> 0 | J54: =TRUNC(I54*D54, 0) -> 0 | K54: =TRUNC(E54+G54+I54, 0) -> 24507 | L54: =TRUNC(F54+H54+J54, 0) -> 686196 | M54: 호표 56 | N54: 5686B116EDCB04D3B7D4DBF277C3C4 | Q54: 010102 | R54: T | S54: F | T54: F | AU54: 0101025686B116EDCB04D3B7D4DBF277C3C4 | AV54: 350
A55: 합성수지제가요전선관(통신) | B55: CD 난연성 16㎜ | C55: M | D55: 305 | E55: =TRUNC(일위대가목록!E62,0) -> 601 | F55: =TRUNC(E55*D55, 0) -> 183305 | G55: =TRUNC(일위대가목록!F62,0) -> 11448 | H55: =TRUNC(G55*D55, 0) -> 3491640 | I55: =TRUNC(일위대가목록!G62,0) -> 0 | J55: =TRUNC(I55*D55, 0) -> 0 | K55: =TRUNC(E55+G55+I55, 0) -> 12049 | L55: =TRUNC(F55+H55+J55, 0) -> 3674945 | M55: 호표 59 | N55: 5686B116EDCB04D38700BC82C3238B | Q55: 010102 | R55: T | S55: F | T55: F | AU55: 0101025686B116EDCB04D38700BC82C3238B | AV55: 351
A56: 합성수지제가요전선관(통신) | B56: CD 난연성 22㎜ | C56: M | D56: 190 | E56: =TRUNC(일위대가목록!E63,0) -> 799 | F56: =TRUNC(E56*D56, 0) -> 151810 | G56: =TRUNC(일위대가목록!F63,0) -> 13738 | H56: =TRUNC(G56*D56, 0) -> 2610220 | I56: =TRUNC(일위대가목록!G63,0) -> 0 | J56: =TRUNC(I56*D56, 0) -> 0 | K56: =TRUNC(E56+G56+I56, 0) -> 14537 | L56: =TRUNC(F56+H56+J56, 0) -> 2762030 | M56: 호표 60 | N56: 5686B116EDCB04D38700BC82C32037 | Q56: 010102 | R56: T | S56: F | T56: F | AU56: 0101025686B116EDCB04D38700BC82C32037 | AV56: 352
A57: 합성수지제가요전선관(통신) | B57: CD 난연성 28㎜ | C57: M | D57: 260 | E57: =TRUNC(일위대가목록!E64,0) -> 1078 | F57: =TRUNC(E57*D57, 0) -> 280280 | G57: =TRUNC(일위대가목록!F64,0) -> 18318 | H57: =TRUNC(G57*D57, 0) -> 4762680 | I57: =TRUNC(일위대가목록!G64,0) -> 0 | J57: =TRUNC(I57*D57, 0) -> 0 | K57: =TRUNC(E57+G57+I57, 0) -> 19396 | L57: =TRUNC(F57+H57+J57, 0) -> 5042960 | M57: 호표 61 | N57: 5686B116EDCB04D38700BC82C321DE | Q57: 010102 | R57: T | S57: F | T57: F | AU57: 0101025686B116EDCB04D38700BC82C321DE | AV57: 353
A58: 1종금속제가요전선관(통신) | B58: 16 mm 비방수 | C58: M | D58: 24 | E58: =TRUNC(일위대가목록!E68,0) -> 1226 | F58: =TRUNC(E58*D58, 0) -> 29424 | G58: =TRUNC(일위대가목록!F68,0) -> 15112 | H58: =TRUNC(G58*D58, 0) -> 362688 | I58: =TRUNC(일위대가목록!G68,0) -> 0 | J58: =TRUNC(I58*D58, 0) -> 0 | K58: =TRUNC(E58+G58+I58, 0) -> 16338 | L58: =TRUNC(F58+H58+J58, 0) -> 392112 | M58: 호표 65 | N58: 5686B116EDCB04D3F74F211010B309 | Q58: 010102 | R58: T | S58: F | T58: F | AU58: 0101025686B116EDCB04D3F74F211010B309 | AV58: 354
A59: 1종금속제가요전선관(통신) | B59: 22 mm 비방수 | C59: M | D59: 64 | E59: =TRUNC(일위대가목록!E69,0) -> 1671 | F59: =TRUNC(E59*D59, 0) -> 106944 | G59: =TRUNC(일위대가목록!F69,0) -> 20264 | H59: =TRUNC(G59*D59, 0) -> 1296896 | I59: =TRUNC(일위대가목록!G69,0) -> 0 | J59: =TRUNC(I59*D59, 0) -> 0 | K59: =TRUNC(E59+G59+I59, 0) -> 21935 | L59: =TRUNC(F59+H59+J59, 0) -> 1403840 | M59: 호표 66 | N59: 5686B116EDCB04D3F74F211010B0B5 | Q59: 010102 | R59: T | S59: F | T59: F | AU59: 0101025686B116EDCB04D3F74F211010B0B5 | AV59: 355
A60: 파상형경질폴리에틸렌전선관 (통신) | B60: 30㎜ | C60: M | D60: 10 | E60: =TRUNC(일위대가목록!E71,0) -> 517 | F60: =TRUNC(E60*D60, 0) -> 5170 | G60: =TRUNC(일위대가목록!F71,0) -> 5288 | H60: =TRUNC(G60*D60, 0) -> 52880 | I60: =TRUNC(일위대가목록!G71,0) -> 0 | J60: =TRUNC(I60*D60, 0) -> 0 | K60: =TRUNC(E60+G60+I60, 0) -> 5805 | L60: =TRUNC(F60+H60+J60, 0) -> 58050 | M60: 호표 68 | N60: 5686B116EDCB04D3D782B73B1972B9 | Q60: 010102 | R60: T | S60: F | T60: F | AU60: 0101025686B116EDCB04D3D782B73B1972B9 | AV60: 356
A61: 난연성 비닐절연 접지용전선(통신) | B61: 0.6/1kV F-GV 6㎟ | C61: M | D61: 25 | E61: =TRUNC(일위대가목록!E75,0) -> 1670 | F61: =TRUNC(E61*D61, 0) -> 41750 | G61: =TRUNC(일위대가목록!F75,0) -> 4293 | H61: =TRUNC(G61*D61, 0) -> 107325 | I61: =TRUNC(일위대가목록!G75,0) -> 0 | J61: =TRUNC(I61*D61, 0) -> 0 | K61: =TRUNC(E61+G61+I61, 0) -> 5963 | L61: =TRUNC(F61+H61+J61, 0) -> 149075 | M61: 호표 72 | N61: 5686B116EDC8B49FF7010034BC1C8A | Q61: 010102 | R61: T | S61: F | T61: F | AU61: 0101025686B116EDC8B49FF7010034BC1C8A | AV61: 357
A62: UTP 케이블 | B62: CAT 5E. 25P-0.5mm | C62: M | D62: 35 | E62: =TRUNC(일위대가목록!E73,0) -> 3415 | F62: =TRUNC(E62*D62, 0) -> 119525 | G62: =TRUNC(일위대가목록!F73,0) -> 10513 | H62: =TRUNC(G62*D62, 0) -> 367955 | I62: =TRUNC(일위대가목록!G73,0) -> 0 | J62: =TRUNC(I62*D62, 0) -> 0 | K62: =TRUNC(E62+G62+I62, 0) -> 13928 | L62: =TRUNC(F62+H62+J62, 0) -> 487480 | M62: 호표 70 | N62: 5686B116EDC8B49FB7A6D2A9099C37 | Q62: 010102 | R62: T | S62: F | T62: F | AU62: 0101025686B116EDC8B49FB7A6D2A9099C37 | AV62: 358
A63: UTP 케이블 | B63: CAT 6. 4P-0.5mm | C63: M | D63: 2635 | E63: =TRUNC(일위대가목록!E74,0) -> 821 | F63: =TRUNC(E63*D63, 0) -> 2163335 | G63: =TRUNC(일위대가목록!F74,0) -> 6571 | H63: =TRUNC(G63*D63, 0) -> 17314585 | I63: =TRUNC(일위대가목록!G74,0) -> 0 | J63: =TRUNC(I63*D63, 0) -> 0 | K63: =TRUNC(E63+G63+I63, 0) -> 7392 | L63: =TRUNC(F63+H63+J63, 0) -> 19477920 | M63: 호표 71 | N63: 5686B116EDC8B49FB7A6D2A9099DDE | Q63: 010102 | R63: T | S63: F | T63: F | AU63: 0101025686B116EDC8B49FB7A6D2A9099DDE | AV63: 359
A64: 광섬유 케이블 | B64: 2Core (S/M) | C64: M | D64: 46 | E64: =TRUNC(일위대가목록!E16,0) -> 1585 | F64: =TRUNC(E64*D64, 0) -> 72910 | G64: =TRUNC(일위대가목록!F16,0) -> 5393 | H64: =TRUNC(G64*D64, 0) -> 248078 | I64: =TRUNC(일위대가목록!G16,0) -> 0 | J64: =TRUNC(I64*D64, 0) -> 0 | K64: =TRUNC(E64+G64+I64, 0) -> 6978 | L64: =TRUNC(F64+H64+J64, 0) -> 320988 | M64: 호표 13 | N64: 51825116F74C944CB7F1C90EC42AEA | Q64: 010102 | R64: T | S64: F | T64: F | AU64: 01010251825116F74C944CB7F1C90EC42AEA | AV64: 360
A65: 광섬유 케이블 | B65: 12Core (S/M) | C65: M | D65: 35 | E65: =TRUNC(일위대가목록!E17,0) -> 1541 | F65: =TRUNC(E65*D65, 0) -> 53935 | G65: =TRUNC(일위대가목록!F17,0) -> 5393 | H65: =TRUNC(G65*D65, 0) -> 188755 | I65: =TRUNC(일위대가목록!G17,0) -> 0 | J65: =TRUNC(I65*D65, 0) -> 0 | K65: =TRUNC(E65+G65+I65, 0) -> 6934 | L65: =TRUNC(F65+H65+J65, 0) -> 242690 | M65: 호표 14 | N65: 51825116F74C944CB7F1C90EC420E6 | Q65: 010102 | R65: T | S65: F | T65: F | AU65: 01010251825116F74C944CB7F1C90EC420E6 | AV65: 361
A66: UTP 성단+도통 | B66: 4P | C66: 개 | D66: 172 | E66: =TRUNC(일위대가목록!E81,0) -> 732 | F66: =TRUNC(E66*D66, 0) -> 125904 | G66: =TRUNC(일위대가목록!F81,0) -> 24430 | H66: =TRUNC(G66*D66, 0) -> 4201960 | I66: =TRUNC(일위대가목록!G81,0) -> 0 | J66: =TRUNC(I66*D66, 0) -> 0 | K66: =TRUNC(E66+G66+I66, 0) -> 25162 | L66: =TRUNC(F66+H66+J66, 0) -> 4327864 | M66: 호표 78 | N66: 5686B116EDCEC41BE7F801C45C3FAC | Q66: 010102 | R66: T | S66: F | T66: F | AU66: 0101025686B116EDCEC41BE7F801C45C3FAC | AV66: 362
A67: UTP 성단 | B67: 25P | C67: 개 | D67: 4 | E67: =TRUNC(일위대가목록!E82,0) -> 1832 | F67: =TRUNC(E67*D67, 0) -> 7328 | G67: =TRUNC(일위대가목록!F82,0) -> 61076 | H67: =TRUNC(G67*D67, 0) -> 244304 | I67: =TRUNC(일위대가목록!G82,0) -> 0 | J67: =TRUNC(I67*D67, 0) -> 0 | K67: =TRUNC(E67+G67+I67, 0) -> 62908 | L67: =TRUNC(F67+H67+J67, 0) -> 251632 | M67: 호표 79 | N67: 5686B116EDCEC41BE7F801C45C3CD7 | Q67: 010102 | R67: T | S67: F | T67: F | AU67: 0101025686B116EDCEC41BE7F801C45C3CD7 | AV67: 363
A68: UTP 회선시험 | C68: 개 | D68: 166 | E68: =TRUNC(일위대가목록!E83,0) -> 812 | F68: =TRUNC(E68*D68, 0) -> 134792 | G68: =TRUNC(일위대가목록!F83,0) -> 27084 | H68: =TRUNC(G68*D68, 0) -> 4495944 | I68: =TRUNC(일위대가목록!G83,0) -> 0 | J68: =TRUNC(I68*D68, 0) -> 0 | K68: =TRUNC(E68+G68+I68, 0) -> 27896 | L68: =TRUNC(F68+H68+J68, 0) -> 4630736 | M68: 호표 80 | N68: 5686B116EDCEC41BE7F801C45C3CD2 | Q68: 010102 | R68: T | S68: F | T68: F | AU68: 0101025686B116EDCEC41BE7F801C45C3CD2 | AV68: 364
A69: 광섬유케이블 국내성단 | B69: 2코어 | C69: 조 | D69: 3 | E69: =TRUNC(일위대가목록!E84,0) -> 2385 | F69: =TRUNC(E69*D69, 0) -> 7155 | G69: =TRUNC(일위대가목록!F84,0) -> 79503 | H69: =TRUNC(G69*D69, 0) -> 238509 | I69: =TRUNC(일위대가목록!G84,0) -> 0 | J69: =TRUNC(I69*D69, 0) -> 0 | K69: =TRUNC(E69+G69+I69, 0) -> 81888 | L69: =TRUNC(F69+H69+J69, 0) -> 245664 | M69: 호표 81 | N69: 5686B116EDCEC41BE7F801C45C390A | Q69: 010102 | R69: T | S69: F | T69: F | AU69: 0101025686B116EDCEC41BE7F801C45C390A | AV69: 365
A70: 광섬유케이블 국내성단 | B70: 12코어 | C70: 조 | D70: 4 | E70: =TRUNC(일위대가목록!E85,0) -> 14310 | F70: =TRUNC(E70*D70, 0) -> 57240 | G70: =TRUNC(일위대가목록!F85,0) -> 477020 | H70: =TRUNC(G70*D70, 0) -> 1908080 | I70: =TRUNC(일위대가목록!G85,0) -> 0 | J70: =TRUNC(I70*D70, 0) -> 0 | K70: =TRUNC(E70+G70+I70, 0) -> 491330 | L70: =TRUNC(F70+H70+J70, 0) -> 1965320 | M70: 호표 82 | N70: 5686B116EDCEC41BE7F801C45C364B | Q70: 010102 | R70: T | S70: F | T70: F | AU70: 0101025686B116EDCEC41BE7F801C45C364B | AV70: 366
A71: 광섬유케이블 국내성단 시험비 | B71: 코어당 | C71: 조 | D71: 30 | E71: =TRUNC(일위대가목록!E86,0) -> 845 | F71: =TRUNC(E71*D71, 0) -> 25350 | G71: =TRUNC(일위대가목록!F86,0) -> 28170 | H71: =TRUNC(G71*D71, 0) -> 845100 | I71: =TRUNC(일위대가목록!G86,0) -> 0 | J71: =TRUNC(I71*D71, 0) -> 0 | K71: =TRUNC(E71+G71+I71, 0) -> 29015 | L71: =TRUNC(F71+H71+J71, 0) -> 870450 | M71: 호표 83 | N71: 5686B116EDCEC41BE7F801C45DC40A | Q71: 010102 | R71: T | S71: F | T71: F | AU71: 0101025686B116EDCEC41BE7F801C45DC40A | AV71: 367
A72: 아우트렛박스(통신) | B72: 중형4각 54㎜ | C72: 개 | D72: 17 | E72: =TRUNC(일위대가목록!E88,0) -> 1675 | F72: =TRUNC(E72*D72, 0) -> 28475 | G72: =TRUNC(일위대가목록!F88,0) -> 31484 | H72: =TRUNC(G72*D72, 0) -> 535228 | I72: =TRUNC(일위대가목록!G88,0) -> 0 | J72: =TRUNC(I72*D72, 0) -> 0 | K72: =TRUNC(E72+G72+I72, 0) -> 33159 | L72: =TRUNC(F72+H72+J72, 0) -> 563703 | M72: 호표 85 | N72: 5686B116EDCEC41BA71DF2899030E8 | Q72: 010102 | R72: T | S72: F | T72: F | AU72: 0101025686B116EDCEC41BA71DF2899030E8 | AV72: 368
A73: 스위치박스(통신) | B73: 1 개용 54 mm | C73: 개 | D73: 22 | E73: =TRUNC(일위대가목록!E89,0) -> 2148 | F73: =TRUNC(E73*D73, 0) -> 47256 | G73: =TRUNC(일위대가목록!F89,0) -> 51519 | H73: =TRUNC(G73*D73, 0) -> 1133418 | I73: =TRUNC(일위대가목록!G89,0) -> 0 | J73: =TRUNC(I73*D73, 0) -> 0 | K73: =TRUNC(E73+G73+I73, 0) -> 53667 | L73: =TRUNC(F73+H73+J73, 0) -> 1180674 | M73: 호표 86 | N73: 5686B116EDCEC41BA71DF28991C203 | Q73: 010102 | R73: T | S73: F | T73: F | AU73: 0101025686B116EDCEC41BA71DF28991C203 | AV73: 369
A74: 스위치박스(통신) | B74: 2 개용 54 mm | C74: 개 | D74: 5 | E74: =TRUNC(일위대가목록!E90,0) -> 2384 | F74: =TRUNC(E74*D74, 0) -> 11920 | G74: =TRUNC(일위대가목록!F90,0) -> 51519 | H74: =TRUNC(G74*D74, 0) -> 257595 | I74: =TRUNC(일위대가목록!G90,0) -> 0 | J74: =TRUNC(I74*D74, 0) -> 0 | K74: =TRUNC(E74+G74+I74, 0) -> 53903 | L74: =TRUNC(F74+H74+J74, 0) -> 269515 | M74: 호표 87 | N74: 5686B116EDCEC41BA71DF28991C32A | Q74: 010102 | R74: T | S74: F | T74: F | AU74: 0101025686B116EDCEC41BA71DF28991C32A | AV74: 370
A75: 전화및LAN용포트 | B75: MODULAR JACK 8P 1구 | C75: 개 | D75: 8 | E75: =TRUNC(일위대가목록!E24,0) -> 4787 | F75: =TRUNC(E75*D75, 0) -> 38296 | G75: =TRUNC(일위대가목록!F24,0) -> 8014 | H75: =TRUNC(G75*D75, 0) -> 64112 | I75: =TRUNC(일위대가목록!G24,0) -> 0 | J75: =TRUNC(I75*D75, 0) -> 0 | K75: =TRUNC(E75+G75+I75, 0) -> 12801 | L75: =TRUNC(F75+H75+J75, 0) -> 102408 | M75: 호표 21 | N75: 51825116F74C944CB7FFA70CA064DD | Q75: 010102 | R75: T | S75: F | T75: F | AU75: 01010251825116F74C944CB7FFA70CA064DD | AV75: 371
A76: 전화및LAN용포트 | B76: MODULAR JACK 8P 2구 | C76: 개 | D76: 16 | E76: =TRUNC(일위대가목록!E25,0) -> 6715 | F76: =TRUNC(E76*D76, 0) -> 107440 | G76: =TRUNC(일위대가목록!F25,0) -> 9616 | H76: =TRUNC(G76*D76, 0) -> 153856 | I76: =TRUNC(일위대가목록!G25,0) -> 0 | J76: =TRUNC(I76*D76, 0) -> 0 | K76: =TRUNC(E76+G76+I76, 0) -> 16331 | L76: =TRUNC(F76+H76+J76, 0) -> 261296 | M76: 호표 22 | N76: 51825116F74C944CB7FFA70CA0622F | Q76: 010102 | R76: T | S76: F | T76: F | AU76: 01010251825116F74C944CB7FFA70CA0622F | AV76: 372
A77: 광인출구 | B77: 2CORE | C77: 개 | D77: 3 | E77: =TRUNC(일위대가목록!E28,0) -> 9154 | F77: =TRUNC(E77*D77, 0) -> 27462 | G77: =TRUNC(일위대가목록!F28,0) -> 8494 | H77: =TRUNC(G77*D77, 0) -> 25482 | I77: =TRUNC(일위대가목록!G28,0) -> 0 | J77: =TRUNC(I77*D77, 0) -> 0 | K77: =TRUNC(E77+G77+I77, 0) -> 17648 | L77: =TRUNC(F77+H77+J77, 0) -> 52944 | M77: 호표 25 | N77: 51825116F74C944CB7FFA70F74C5C9 | Q77: 010102 | R77: T | S77: F | T77: F | AU77: 01010251825116F74C944CB7FFA70F74C5C9 | AV77: 373
A78: 관로구방수(통신) | B78: D 30 | C78: 개소 | D78: 1 | E78: =TRUNC(일위대가목록!E50,0) -> 38022 | F78: =TRUNC(E78*D78, 0) -> 38022 | G78: =TRUNC(일위대가목록!F50,0) -> 75774 | H78: =TRUNC(G78*D78, 0) -> 75774 | I78: =TRUNC(일위대가목록!G50,0) -> 0 | J78: =TRUNC(I78*D78, 0) -> 0 | K78: =TRUNC(E78+G78+I78, 0) -> 113796 | L78: =TRUNC(F78+H78+J78, 0) -> 113796 | M78: 호표 47 | N78: 5686B116EFF2D49A17334673466554 | Q78: 010102 | R78: T | S78: F | T78: F | AU78: 0101025686B116EFF2D49A17334673466554 | AV78: 374
A79: 경고 테이프(통신용) | B79: 200*250 | C79: M | D79: 10 | E79: =TRUNC(일위대가목록!E56,0) -> 208 | F79: =TRUNC(E79*D79, 0) -> 2080 | G79: =TRUNC(일위대가목록!F56,0) -> 224 | H79: =TRUNC(G79*D79, 0) -> 2240 | I79: =TRUNC(일위대가목록!G56,0) -> 0 | J79: =TRUNC(I79*D79, 0) -> 0 | K79: =TRUNC(E79+G79+I79, 0) -> 432 | L79: =TRUNC(F79+H79+J79, 0) -> 4320 | M79: 호표 53 | N79: 5686B116EFF2D49A1733471BD4496A | Q79: 010102 | R79: T | S79: F | T79: F | AU79: 0101025686B116EFF2D49A1733471BD4496A | AV79: 375
A80: 접지단자함 (통신) | B80: 4CCT 스텐레스 | C80: SET | D80: 1 | E80: =TRUNC(일위대가목록!E92,0) -> 209802 | F80: =TRUNC(E80*D80, 0) -> 209802 | G80: =TRUNC(일위대가목록!F92,0) -> 188904 | H80: =TRUNC(G80*D80, 0) -> 188904 | I80: =TRUNC(일위대가목록!G92,0) -> 0 | J80: =TRUNC(I80*D80, 0) -> 0 | K80: =TRUNC(E80+G80+I80, 0) -> 398706 | L80: =TRUNC(F80+H80+J80, 0) -> 398706 | M80: 호표 89 | N80: 5686B116EDCEC41B9776058598D743 | Q80: 010102 | R80: T | S80: F | T80: F | AU80: 0101025686B116EDCEC41B9776058598D743 | AV80: 376
A81: 통합배선 주자재 | C81: SET | D81: 1 | M81: 관급자재 | N81: 579C8116214E0430A7A3427DC7AFB7 | R81: T | S81: F | T81: F | AR81: 관급자재 | AU81: 010102579C8116214E0430A7A3427DC7AFB7 | AV81: 377
A82: 터파기(기계90%,인력10%) | B82: 보통토사 | C82: ㎥ | D82: 8 | E82: =TRUNC(일위대가목록!E36,0) -> 357 | F82: =TRUNC(E82*D82, 0) -> 2856 | G82: =TRUNC(일위대가목록!F36,0) -> 7304 | H82: =TRUNC(G82*D82, 0) -> 58432 | I82: =TRUNC(일위대가목록!G36,0) -> 374 | J82: =TRUNC(I82*D82, 0) -> 2992 | K82: =TRUNC(E82+G82+I82, 0) -> 8035 | L82: =TRUNC(F82+H82+J82, 0) -> 64280 | M82: 호표 33 | N82: 56C8B116D23404B037C110CF1D309D | Q82: 010102 | R82: T | S82: F | T82: F | AU82: 01010256C8B116D23404B037C110CF1D309D | AV82: 494
A83: 되메우기(기계90%,인력10%) | B83: 보통토사 | C83: ㎥ | D83: 8 | E83: =TRUNC(일위대가목록!E37,0) -> 754 | F83: =TRUNC(E83*D83, 0) -> 6032 | G83: =TRUNC(일위대가목록!F37,0) -> 12504 | H83: =TRUNC(G83*D83, 0) -> 100032 | I83: =TRUNC(일위대가목록!G37,0) -> 566 | J83: =TRUNC(I83*D83, 0) -> 4528 | K83: =TRUNC(E83+G83+I83, 0) -> 13824 | L83: =TRUNC(F83+H83+J83, 0) -> 110592 | M83: 호표 34 | N83: 56C8B116D23404B037C110CF1C2AB2 | Q83: 010102 | R83: T | S83: F | T83: F | AU83: 01010256C8B116D23404B037C110CF1C2AB2 | AV83: 495
A84: 1종금속제가요전선관 | B84: 박스커넥터, 16 mm 비방수 | C84: 개 | D84: 30 | E84: =TRUNC(단가대비표!O71,0) -> 340 | F84: =TRUNC(E84*D84, 0) -> 10200 | G84: =TRUNC(단가대비표!P71,0) -> 0 | H84: =TRUNC(G84*D84, 0) -> 0 | I84: =TRUNC(단가대비표!V71,0) -> 0 | J84: =TRUNC(I84*D84, 0) -> 0 | K84: =TRUNC(E84+G84+I84, 0) -> 340 | L84: =TRUNC(F84+H84+J84, 0) -> 10200 | N84: 51E42116B0AD04B977B9A0B896D5D2A447AC99 | Q84: 010102 | R84: F | S84: F | T84: T | AU84: 01010251E42116B0AD04B977B9A0B896D5D2A447AC99 | AV84: 380
A85: 1종금속제가요전선관 | B85: 박스커넥터, 22 mm 비방수 | C85: 개 | D85: 16 | E85: =TRUNC(단가대비표!O72,0) -> 560 | F85: =TRUNC(E85*D85, 0) -> 8960 | G85: =TRUNC(단가대비표!P72,0) -> 0 | H85: =TRUNC(G85*D85, 0) -> 0 | I85: =TRUNC(단가대비표!V72,0) -> 0 | J85: =TRUNC(I85*D85, 0) -> 0 | K85: =TRUNC(E85+G85+I85, 0) -> 560 | L85: =TRUNC(F85+H85+J85, 0) -> 8960 | N85: 51E42116B0AD04B977B9A0B896D5D2A447AC98 | Q85: 010102 | R85: F | S85: F | T85: T | AU85: 01010251E42116B0AD04B977B9A0B896D5D2A447AC98 | AV85: 381
A86: 아우트렛박스 커버 | B86: 4각, 평 | C86: 개 | D86: 17 | E86: =TRUNC(단가대비표!O46,0) -> 240 | F86: =TRUNC(E86*D86, 0) -> 4080 | G86: =TRUNC(단가대비표!P46,0) -> 0 | H86: =TRUNC(G86*D86, 0) -> 0 | I86: =TRUNC(단가대비표!V46,0) -> 0 | J86: =TRUNC(I86*D86, 0) -> 0 | K86: =TRUNC(E86+G86+I86, 0) -> 240 | L86: =TRUNC(F86+H86+J86, 0) -> 4080 | N86: 51E42116B0AC6427B7510663426E4A0433069E | Q86: 010102 | R86: F | S86: F | T86: T | AU86: 01010251E42116B0AC6427B7510663426E4A0433069E | AV86: 382
A87: 스위치박스 커버 | B87: 4각, 2개용 오목 | C87: 개 | D87: 5 | E87: =TRUNC(단가대비표!O47,0) -> 400 | F87: =TRUNC(E87*D87, 0) -> 2000 | G87: =TRUNC(단가대비표!P47,0) -> 0 | H87: =TRUNC(G87*D87, 0) -> 0 | I87: =TRUNC(단가대비표!V47,0) -> 0 | J87: =TRUNC(I87*D87, 0) -> 0 | K87: =TRUNC(E87+G87+I87, 0) -> 400 | L87: =TRUNC(F87+H87+J87, 0) -> 2000 | N87: 51E42116B0AC6427B7510663426E4A04330695 | Q87: 010102 | R87: F | S87: F | T87: T | AU87: 01010251E42116B0AC6427B7510663426E4A04330695 | AV87: 383
A88: 전화및LAN용포트 | B88: SYSTEM BOX용, 8P 3구 | C88: 개 | D88: 39 | E88: =TRUNC(일위대가목록!E26,0) -> 11088 | F88: =TRUNC(E88*D88, 0) -> 432432 | G88: =TRUNC(일위대가목록!F26,0) -> 17631 | H88: =TRUNC(G88*D88, 0) -> 687609 | I88: =TRUNC(일위대가목록!G26,0) -> 0 | J88: =TRUNC(I88*D88, 0) -> 0 | K88: =TRUNC(E88+G88+I88, 0) -> 28719 | L88: =TRUNC(F88+H88+J88, 0) -> 1120041 | M88: 호표 23 | N88: 51825116F74C944CB7FFA70CA10AA0 | Q88: 010102 | R88: T | S88: F | T88: F | AU88: 01010251825116F74C944CB7FFA70CA10AA0 | AV88: 384
Q89: 010102
Q90: 010102
Q91: 010102
Q92: 010102
Q93: 010102
Q94: 010102
Q95: 010102
Q96: 010102
Q97: 010102
Q98: 010102
A99: [ 합 계 ] | F99: =SUMIF(Q53:Q98,"010102",F53:F98) -> 4608975 | H99: =SUMIF(Q53:Q98,"010102",H53:H98) -> 47019147 | J99: =SUMIF(Q53:Q98,"010102",J53:J98) -> 7520 | L99: =SUMIF(Q53:Q98,"010102",L53:L98) -> 51635642 | N99: TOTAL
A100: 010103 TV설비공사 | B100: 통신공사 | Q100: 010103
A101: 경질비닐전선관(통신) | B101: HI 16 mm | C101: M | D101: 7 | E101: =TRUNC(일위대가목록!E57,0) -> 817 | F101: =TRUNC(E101*D101, 0) -> 5719 | G101: =TRUNC(일위대가목록!F57,0) -> 14310 | H101: =TRUNC(G101*D101, 0) -> 100170 | I101: =TRUNC(일위대가목록!G57,0) -> 0 | J101: =TRUNC(I101*D101, 0) -> 0 | K101: =TRUNC(E101+G101+I101, 0) -> 15127 | L101: =TRUNC(F101+H101+J101, 0) -> 105889 | M101: 호표 54 | N101: 5686B116EDCB04D3B7D4DBF277C5F1 | Q101: 010103 | R101: T | S101: F | T101: F | AU101: 0101035686B116EDCB04D3B7D4DBF277C5F1 | AV101: 386
A102: 경질비닐전선관(통신) | B102: HI 28 mm | C102: M | D102: 7 | E102: =TRUNC(일위대가목록!E59,0) -> 1610 | F102: =TRUNC(E102*D102, 0) -> 11270 | G102: =TRUNC(일위대가목록!F59,0) -> 22897 | H102: =TRUNC(G102*D102, 0) -> 160279 | I102: =TRUNC(일위대가목록!G59,0) -> 0 | J102: =TRUNC(I102*D102, 0) -> 0 | K102: =TRUNC(E102+G102+I102, 0) -> 24507 | L102: =TRUNC(F102+H102+J102, 0) -> 171549 | M102: 호표 56 | N102: 5686B116EDCB04D3B7D4DBF277C3C4 | Q102: 010103 | R102: T | S102: F | T102: F | AU102: 0101035686B116EDCB04D3B7D4DBF277C3C4 | AV102: 387
A103: 합성수지제가요전선관(통신) | B103: CD 난연성 16㎜ | C103: M | D103: 24 | E103: =TRUNC(일위대가목록!E62,0) -> 601 | F103: =TRUNC(E103*D103, 0) -> 14424 | G103: =TRUNC(일위대가목록!F62,0) -> 11448 | H103: =TRUNC(G103*D103, 0) -> 274752 | I103: =TRUNC(일위대가목록!G62,0) -> 0 | J103: =TRUNC(I103*D103, 0) -> 0 | K103: =TRUNC(E103+G103+I103, 0) -> 12049 | L103: =TRUNC(F103+H103+J103, 0) -> 289176 | M103: 호표 59 | N103: 5686B116EDCB04D38700BC82C3238B | Q103: 010103 | R103: T | S103: F | T103: F | AU103: 0101035686B116EDCB04D38700BC82C3238B | AV103: 388
A104: 난연성 비닐절연 접지용전선(통신) | B104: 0.6/1kV F-GV 6㎟ | C104: M | D104: 7 | E104: =TRUNC(일위대가목록!E75,0) -> 1670 | F104: =TRUNC(E104*D104, 0) -> 11690 | G104: =TRUNC(일위대가목록!F75,0) -> 4293 | H104: =TRUNC(G104*D104, 0) -> 30051 | I104: =TRUNC(일위대가목록!G75,0) -> 0 | J104: =TRUNC(I104*D104, 0) -> 0 | K104: =TRUNC(E104+G104+I104, 0) -> 5963 | L104: =TRUNC(F104+H104+J104, 0) -> 41741 | M104: 호표 72 | N104: 5686B116EDC8B49FF7010034BC1C8A | Q104: 010103 | R104: T | S104: F | T104: F | AU104: 0101035686B116EDC8B49FF7010034BC1C8A | AV104: 389
A105: TV용 고발포동축케이블 | B105: 5C-HFBT | C105: M | D105: 26 | E105: =TRUNC(일위대가목록!E18,0) -> 791 | F105: =TRUNC(E105*D105, 0) -> 20566 | G105: =TRUNC(일위대가목록!F18,0) -> 7447 | H105: =TRUNC(G105*D105, 0) -> 193622 | I105: =TRUNC(일위대가목록!G18,0) -> 0 | J105: =TRUNC(I105*D105, 0) -> 0 | K105: =TRUNC(E105+G105+I105, 0) -> 8238 | L105: =TRUNC(F105+H105+J105, 0) -> 214188 | M105: 호표 15 | N105: 51825116F74C944CB7F1C902150AE9 | Q105: 010103 | R105: T | S105: F | T105: F | AU105: 01010351825116F74C944CB7F1C902150AE9 | AV105: 390
A106: TV용 고발포동축케이블 | B106: 7C-HFBT | C106: M | D106: 16 | E106: =TRUNC(일위대가목록!E19,0) -> 1344 | F106: =TRUNC(E106*D106, 0) -> 21504 | G106: =TRUNC(일위대가목록!F19,0) -> 9637 | H106: =TRUNC(G106*D106, 0) -> 154192 | I106: =TRUNC(일위대가목록!G19,0) -> 0 | J106: =TRUNC(I106*D106, 0) -> 0 | K106: =TRUNC(E106+G106+I106, 0) -> 10981 | L106: =TRUNC(F106+H106+J106, 0) -> 175696 | M106: 호표 16 | N106: 51825116F74C944CB7F1C90215060E | Q106: 010103 | R106: T | S106: F | T106: F | AU106: 01010351825116F74C944CB7F1C90215060E | AV106: 391
A107: 스위치박스(통신) | B107: 1 개용 54 mm | C107: 개 | D107: 2 | E107: =TRUNC(일위대가목록!E89,0) -> 2148 | F107: =TRUNC(E107*D107, 0) -> 4296 | G107: =TRUNC(일위대가목록!F89,0) -> 51519 | H107: =TRUNC(G107*D107, 0) -> 103038 | I107: =TRUNC(일위대가목록!G89,0) -> 0 | J107: =TRUNC(I107*D107, 0) -> 0 | K107: =TRUNC(E107+G107+I107, 0) -> 53667 | L107: =TRUNC(F107+H107+J107, 0) -> 107334 | M107: 호표 86 | N107: 5686B116EDCEC41BA71DF28991C203 | Q107: 010103 | R107: T | S107: F | T107: F | AU107: 0101035686B116EDCEC41BA71DF28991C203 | AV107: 392
A108: T.V분배기함 | B108: 4D+AMP+서지 | C108: 개소 | D108: 2 | E108: =TRUNC(일위대가목록!E33,0) -> 268430 | F108: =TRUNC(E108*D108, 0) -> 536860 | G108: =TRUNC(일위대가목록!F33,0) -> 526179 | H108: =TRUNC(G108*D108, 0) -> 1052358 | I108: =TRUNC(일위대가목록!G33,0) -> 0 | J108: =TRUNC(I108*D108, 0) -> 0 | K108: =TRUNC(E108+G108+I108, 0) -> 794609 | L108: =TRUNC(F108+H108+J108, 0) -> 1589218 | M108: 호표 30 | N108: 51825116F74C944CD7A426E472A120 | Q108: 010103 | R108: T | S108: F | T108: F | AU108: 01010351825116F74C944CD7A426E472A120 | AV108: 393
A109: TV 콘센트 | B109: 1방 | C109: 개 | D109: 2 | E109: =TRUNC(일위대가목록!E27,0) -> 4758 | F109: =TRUNC(E109*D109, 0) -> 9516 | G109: =TRUNC(일위대가목록!F27,0) -> 24822 | H109: =TRUNC(G109*D109, 0) -> 49644 | I109: =TRUNC(일위대가목록!G27,0) -> 0 | J109: =TRUNC(I109*D109, 0) -> 0 | K109: =TRUNC(E109+G109+I109, 0) -> 29580 | L109: =TRUNC(F109+H109+J109, 0) -> 59160 | M109: 호표 24 | N109: 51825116F74C944CB7FFA70E6CCC00 | Q109: 010103 | R109: T | S109: F | T109: F | AU109: 01010351825116F74C944CB7FFA70E6CCC00 | AV109: 394
Q110: 010103
...

Sheet 일위대가목록
B1: 일 위 대 가 목 록
B2: [ 북원도서관신축사업설계용역-통신 ]
A3: 코 드 | B3: 품 명 | C3: 규 격 | D3: 단위 | E3: 재 료 비 | F3: 노 무 비 | G3: 경 비 | H3: 합 계 | I3: 번 호 | J3: 비 고 | K3: 노임계수 | L3: 할증 | M3: 품셈개요 | N3: 장비일위
A4: 51DA411623C75434A7165627D8D2B6E674D6EA17 | B4: 굴삭기(무한궤도) | C4: 0.2㎥ | D4: HR | E4: =일위대가!F9 -> 10018 | F4: =일위대가!H9 -> 59025 | G4: =일위대가!J9 -> 13873 | H4: =E4+F4+G4 -> 82916 | I4: 호표 1 | K4: A | M4: 공통 8-3,4(0201) | N4: T
A5: 51DA411623C75434A7165627D8D73820164E3225 | B5: 굴삭기(무한궤도) | C5: 0.7㎥ | D5: HR | E5: =일위대가!F16 -> 23435 | F5: =일위대가!H16 -> 59025 | G5: =일위대가!J16 -> 24554 | H5: =E5+F5+G5 -> 107014 | I5: 호표 2 | K5: A | M5: 공통 8-3,4(0201) | N5: T
A6: 51DA411623C7542A17FEAF711539E74429B60E12 | B6: 진동 롤러(핸드가이드식) | C6: 0.7ton | D6: HR | E6: =일위대가!F23 -> 4116 | F6: =일위대가!H23 -> 36248 | G6: =일위대가!J23 -> 1967 | H6: =E6+F6+G6 -> 42331 | I6: 호표 3 | K6: A | M6: 공통 8-3,4(1305) | N6: T
A7: 51DA411623C7542A47B0A30A04D9499F607FC17B | B7: 래머 | C7: 80kg | D7: HR | E7: =일위대가!F30 -> 1342 | F7: =일위대가!H30 -> 36248 | G7: =일위대가!J30 -> 525 | H7: =E7+F7+G7 -> 38115 | I7: 호표 4 | K7: A | M7: 공통 8-3,4(1630) | N7: T
A8: 51DA411623C75419A78D5DAA234071EFB522429E | B8: 크레인(타이어) | C8: 10톤 | D8: HR | E8: =일위대가!F37 -> 8746 | F8: =일위대가!H37 -> 59025 | G8: =일위대가!J37 -> 31344 | H8: =E8+F8+G8 -> 99115 | I8: 호표 5 | K8: A | M8: 공통 8-3,4(2104) | N8: T
A9: 51825116F74F648AA792EBD8016AD2 | B9: 비닐코드선 | C9: VCTF, 3C 1.5 ㎟ | D9: M | E9: =일위대가!F45 -> 1423 | F9: =일위대가!H45 -> 5819 | G9: =일위대가!J45 -> 0 | H9: =E9+F9+G9 -> 7242 | I9: 호표 6 | M9: 전기 5-13
A10: 51825116F74F648AA792EBD8016BFD | B10: 비닐코드선 | C10: VCTF, 3C 2.5 ㎟ | D10: M | E10: =일위대가!F53 -> 2213 | F10: =일위대가!H53 -> 5819 | G10: =일위대가!J53 -> 0 | H10: =E10+F10+G10 -> 8032 | I10: 호표 7 | M10: 전기 5-13
A11: 51825116F74F648AB7BE75363431AC | B11: 강제전선관용 부품 (통신) | C11: 위샤캡, 36 C | D11: 개 | E11: =일위대가!F59 -> 4618 | F11: =일위대가!H59 -> 8586 | G11: =일위대가!J59 -> 0 | H11: =E11+F11+G11 -> 13204 | I11: 호표 8 | M11: 통신 3-7-1
A12: 51825116F74F648AB7BE753635C220 | B12: 강제전선관용 부품 (통신) | C12: 위샤캡, 54 C | D12: 개 | E12: =일위대가!F65 -> 6527 | F12: =일위대가!H65 -> 8586 | G12: =일위대가!J65 -> 0 | H12: =E12+F12+G12 -> 15113 | I12: 호표 9 | M12: 통신 3-7-1
A13: 51825116F74F648AB7B51868763B28 | B13: 케이블트레이지지대(통신) | C13: W300 | D13: 개소 | E13: =일위대가!F76 -> 7476 | F13: =일위대가!H76 -> 42932 | G13: =일위대가!J76 -> 0 | H13: =E13+F13+G13 -> 50408 | I13: 호표 10 | M13: 통신 3-7-1
A14: 51825116F74F648AB7B51A1A4DEC8A | B14: 트레이,덕트지지대-벽체or바닥(통신) | C14: W300 | D14: 개소 | E14: =일위대가!F86 -> 4546 | F14: =일위대가!H86 -> 22897 | G14: =일위대가!J86 -> 0 | H14: =E14+F14+G14 -> 27443 | I14: 호표 11 | M14: 통신 3-7-1
A15: 51825116F74F648AC742733DB416F9 | B15: 관통구 방화폼 (TRAY) | C15: 300mm | D15: 개소 | E15: =일위대가!F96 -> 90084 | F15: =일위대가!H96 -> 82539 | G15: =일위대가!J96 -> 0 | H15: =E15+F15+G15 -> 172623 | I15: 호표 12 | M15: A사
A16: 51825116F74C944CB7F1C90EC42AEA | B16: 광섬유 케이블 | C16: 2Core (S/M) | D16: M | E16: =일위대가!F105 -> 1585 | F16: =일위대가!H105 -> 5393 | G16: =일위대가!J105 -> 0 | H16: =E16+F16+G16 -> 6978 | I16: 호표 13 | M16: 통신 4-1-3
A17: 51825116F74C944CB7F1C90EC420E6 | B17: 광섬유 케이블 | C17: 12Core (S/M) | D17: M | E17: =일위대가!F114 -> 1541 | F17: =일위대가!H114 -> 5393 | G17: =일위대가!J114 -> 0 | H17: =E17+F17+G17 -> 6934 | I17: 호표 14 | M17: 통신 4-1-3
A18: 51825116F74C944CB7F1C902150AE9 | B18: TV용 고발포동축케이블 | C18: 5C-HFBT | D18: M | E18: =일위대가!F122 -> 791 | F18: =일위대가!H122 -> 7447 | G18: =일위대가!J122 -> 0 | H18: =E18+F18+G18 -> 8238 | I18: 호표 15 | M18: 통신 4-2-1
A19: 51825116F74C944CB7F1C90215060E | B19: TV용 고발포동축케이블 | C19: 7C-HFBT | D19: M | E19: =일위대가!F130 -> 1344 | F19: =일위대가!H130 -> 9637 | G19: =일위대가!J130 -> 0 | H19: =E19+F19+G19 -> 10981 | I19: 호표 16 | M19: 통신 4-2-1
A20: 51825116F74C944CB7F1CF92B164B0 | B20: MIC CABLE | C20: L-2E5 | D20: M | E20: =일위대가!F138 -> 2711 | F20: =일위대가!H138 -> 10075 | G20: =일위대가!J138 -> 0 | H20: =E20+F20+G20 -> 12786 | I20: 호표 17 | M20: 통신 4-8-1
A21: 51825116F74C944CB7F1CF92B7FC24 | B21: 비디오 케이블 | C21: RG-58 | D21: M | E21: =일위대가!F146 -> 6162 | F21: =일위대가!H146 -> 8323 | G21: =일위대가!J146 -> 0 | H21: =E21+F21+G21 -> 14485 | I21: 호표 18 | M21: 통신 4-8-1
A22: 51825116F74C944CB7F1CF92B89C7B | B22: HDMI 케이블 | D22: M | E22: =일위대가!F154 -> 12255 | F22: =일위대가!H154 -> 7009 | G22: =일위대가!J154 -> 0 | H22: =E22+F22+G22 -> 19264 | I22: 호표 19 | M22: 통신 4-8-1
A23: 51825116F74C944CB7F1CF91AA7801 | B23: Speaker Cable | C23: 2S9F | D23: M | E23: =일위대가!F162 -> 7379 | F23: =일위대가!H162 -> 4007 | G23: =일위대가!J162 -> 0 | H23: =E23+F23+G23 -> 11386 | I23: 호표 20 | M23: 통신 4-8-1
A24: 51825116F74C944CB7FFA70CA064DD | B24: 전화및LAN용포트 | C24: MODULAR JACK 8P 1구 | D24: 개 | E24: =일위대가!F170 -> 4787 | F24: =일위대가!H170 -> 8014 | G24: =일위대가!J170 -> 0 | H24: =E24+F24+G24 -> 12801 | I24: 호표 21 | M24: 통신 4-3-2
A25: 51825116F74C944CB7FFA70CA0622F | B25: 전화및LAN용포트 | C25: MODULAR JACK 8P 2구 | D25: 개 | E25: =일위대가!F178 -> 6715 | F25: =일위대가!H178 -> 9616 | G25: =일위대가!J178 -> 0 | H25: =E25+F25+G25 -> 16331 | I25: 호표 22 | M25: 통신 4-3-2
A26: 51825116F74C944CB7FFA70CA10AA0 | B26: 전화및LAN용포트 | C26: SYSTEM BOX용, 8P 3구 | D26: 개 | E26: =일위대가!F185 -> 11088 | F26: =일위대가!H185 -> 17631 | G26: =일위대가!J185 -> 0 | H26: =E26+F26+G26 -> 28719 | I26: 호표 23 | M26: 통신 4-3-2
A27: 51825116F74C944CB7FFA70E6CCC00 | B27: TV 콘센트 | C27: 1방 | D27: 개 | E27: =일위대가!F194 -> 4758 | F27: =일위대가!H194 -> 24822 | G27: =일위대가!J194 -> 0 | H27: =E27+F27+G27 -> 29580 | I27: 호표 24 | M27: 통신 4-2-2
A28: 51825116F74C944CB7FFA70F74C5C9 | B28: 광인출구 | C28: 2CORE | D28: 개 | E28: =일위대가!F200 -> 9154 | F28: =일위대가!H200 -> 8494 | G28: =일위대가!J200 -> 0 | H28: =E28+F28+G28 -> 17648 | I28: 호표 25 | M28: 통신 4-1-3
A29: 51825116F74C944CA7EF5D69119C05 | B29: 스피커단자함 | C29: 10 P, SUS | D29: 개 | E29: =일위대가!F207 -> 28349 | F29: =일위대가!H207 -> 178302 | G29: =일위대가!J207 -> 0 | H29: =E29+F29+G29 -> 206651 | I29: 호표 26 | M29: 통신 3-3-2
A30: 51825116F74C944CA7EF5D6A38AA4A | B30: PA용 스피커 | C30: 스피커(S.T), 천정용(3W) | D30: 개 | E30: =일위대가!F213 -> 18479 | F30: =일위대가!H213 -> 66543 | G30: =일위대가!J213 -> 0 | H30: =E30+F30+G30 -> 85022 | I30: 호표 27 | M30: 통신 7-11-5
A31: 51825116F74C944CA7EF5D6A3A5551 | B31: PA용 스피커 | C31: 벽부형(3W) | D31: 개 | E31: =일위대가!F219 -> 35197 | F31: =일위대가!H219 -> 39926 | G31: =일위대가!J219 -> 0 | H31: =E31+F31+G31 -> 75123 | I31: 호표 28 | M31: 통신 7-11-5
A32: 51825116F74C944CA7EF5D6A3FD76B | B32: 감쇄기 | C32: ATT, 3단(3W) | D32: 개 | E32: =일위대가!F225 -> 18521 | F32: =일위대가!H225 -> 50700 | G32: =일위대가!J225 -> 0 | H32: =E32+F32+G32 -> 69221 | I32: 호표 29 | M32: 통신 7-11-5
A33: 51825116F74C944CD7A426E472A120 | B33: T.V분배기함 | C33: 4D+AMP+서지 | D33: 개소 | E33: =일위대가!F238 -> 268430 | F33: =일위대가!H238 -> 526179 | G33: =일위대가!J238 -> 0 | H33: =E33+F33+G33 -> 794609 | I33: 호표 30 | M33: 통신 3-2-1,7-12-3
A34: 56C8B116D23404B047E839AA55C177 | B34: 터파기(기계80%,인력20%) | C34: 보통토사 | D34: ㎥ | E34: =일위대가!F243 -> 317 | F34: =일위대가!H243 -> 13608 | G34: =일위대가!J243 -> 332 | H34: =E34+F34+G34 -> 14257 | I34: 호표 31
A35: 56C8B116D23404B047E839AA543AE6 | B35: 되메우기(기계80%,인력20%) | C35: 보통토사 | D35: ㎥ | E35: =일위대가!F248 -> 670 | F35: =일위대가!H248 -> 13612 | G35: =일위대가!J248 -> 503 | H35: =E35+F35+G35 -> 14785 | I35: 호표 32
A36: 56C8B116D23404B037C110CF1D309D | B36: 터파기(기계90%,인력10%) | C36: 보통토사 | D36: ㎥ | E36: =일위대가!F253 -> 357 | F36: =일위대가!H253 -> 7304 | G36: =일위대가!J253 -> 374 | H36: =E36+F36+G36 -> 8035 | I36: 호표 33
A37: 56C8B116D23404B037C110CF1C2AB2 | B37: 되메우기(기계90%,인력10%) | C37: 보통토사 | D37: ㎥ | E37: =일위대가!F258 -> 754 | F37: =일위대가!H258 -> 12504 | G37: =일위대가!J258 -> 566 | H37: =E37+F37+G37 -> 13824 | I37: 호표 34
A38: 56C8B116D23404A617DA20040A327B | B38: 인력터파기 | C38: 보통토사0∼1m | D38: ㎥ | E38: =일위대가!F262 -> 0 | F38: =일위대가!H262 -> 64040 | G38: =일위대가!J262 -> 0 | H38: =E38+F38+G38 -> 64040 | I38: 호표 35 | M38: 공통 3-2-1
A39: 56C8B116D4E344CFD72E25F84A6DF3 | B39: 인력되메우기 | C39: 보통토사 | D39: ㎥ | E39: =일위대가!F267 -> 0 | F39: =일위대가!H267 -> 22479 | G39: =일위대가!J267 -> 0 | H39: =E39+F39+G39 -> 22479 | I39: 호표 36 | M39: 공통 3-4-3
A40: 56C8B116D4E344CF97B236642B7F67 | B40: 현장내잔토처리 | C40: 소운반.고르기 | D40: ㎥ | E40: =일위대가!F271 -> 0 | F40: =일위대가!H271 -> 34539 | G40: =일위대가!J271 -> 0 | H40: =E40+F40+G40 -> 34539 | I40: 호표 37 | M40: 공통 3-2-1
A41: 56C8A116EBF8E4F797171D3A5D94F4 | B41: 잡석깔기지정 | C41: 장비, 백호0.2m3+진동롤러(핸드가이드식) | D41: M3 | E41: =일위대가!F276 -> 1257 | F41: =일위대가!H276 -> 8479 | G41: =일위대가!J276 -> 1409 | H41: =E41+F41+G41 -> 11145 | I41: 호표 38 | M41: 공통 3-4-8
A42: 56C8A116EBF8E4F797171FE7D19E62 | B42: 잡석깔기지정 | D42: ㎥ | E42: =일위대가!F283 -> 30257 | F42: =일위대가!H283 -> 12894 | G42: =일위대가!J283 -> 1409 | H42: =E42+F42+G42 -> 44560 | I42: 호표 39 | M42: 공통 3-4-8
A43: 5686B116EFF6B447C7AE99C802DF2E | B43: 나사없는전선관 지지행거(통신) | C43: E31 | D43: 개소 | E43: =일위대가!F293 -> 2412 | F43: =일위대가!H293 -> 21466 | G43: =일위대가!J293 -> 0 | H43: =E43+F43+G43 -> 23878 | I43: 호표 40 | M43: 통신 3-7-1
A44: 5686B116EFF484703764F57508E46C | B44: 0.6/1kV가교폴리에틸렌(F-CV) 통신 | C44: 3C 4㎟ | D44: M | E44: =일위대가!F301 -> 3977 | F44: =일위대가!H301 -> 9637 | G44: =일위대가!J301 -> 0 | H44: =E44+F44+G44 -> 13614 | I44: 호표 41 | M44: 통신 4-4-1
A45: 5686B116EFF484704703240484B427 | B45: 저독성폴리올레핀절연전선(HFIX) 통신 | C45: 1.5㎟(1.38㎜) | D45: M | E45: =일위대가!F309 -> 510 | F45: =일위대가!H309 -> 4007 | G45: =일위대가!J309 -> 0 | H45: =E45+F45+G45 -> 4517 | I45: 호표 42 | M45: 통신 4-8-1
A46: 5686B116EFF484704703240484B7FB | B46: 저독성폴리올레핀절연전선(HFIX) 통신 | C46: 2.5㎟(1.78㎜) | D46: M | E46: =일위대가!F317 -> 715 | F46: =일위대가!H317 -> 4007 | G46: =일위대가!J317 -> 0 | H46: =E46+F46+G46 -> 4722 | I46: 호표 43 | M46: 통신 4-8-1
A47: 5686B116EFF4847077DF9F76E91094 | B47: 0.6/1kV 고내화전선 (F-FR-8) 통신 옥내 | C47: 5C 2.5 ㎟ | D47: M | E47: =일위대가!F325 -> 9345 | F47: =일위대가!H325 -> 14018 | G47: =일위대가!J325 -> 0 | H47: =E47+F47+G47 -> 23363 | I47: 호표 44 | M47: 통신 4-4-1
A48: 5686B116EFF4847077DF9F76E64638 | B48: 0.6/1kV 고내화전선 (F-FR-8) 통신 옥내 | C48: 10C 2.5 ㎟ | D48: M | E48: =일위대가!F333 -> 17529 | F48: =일위대가!H333 -> 21027 | G48: =일위대가!J333 -> 0 | H48: =E48+F48+G48 -> 38556 | I48: 호표 45 | M48: 통신 4-4-1
A49: 5686B116EFF2D49A67B55F97D70F9A | B49: 통신맨홀 (사각수공 1호) | C49: 450x950x700 | D49: 개소 | E49: =일위대가!F353 -> 683773 | F49: =일위대가!H353 -> 532730 | G49: =일위대가!J353 -> 32678 | H49: =E49+F49+G49 -> 1249181 | I49: 호표 46 | M49: 통신 2-3-1
A50: 5686B116EFF2D49A17334673466554 | B50: 관로구방수(통신) | C50: D 30 | D50: 개소 | E50: =일위대가!F363 -> 38022 | F50: =일위대가!H363 -> 75774 | G50: =일위대가!J363 -> 0 | H50: =E50+F50+G50 -> 113796 | I50: 호표 47 | M50: 통신 4-1-7
A51: 5686B116EFF2D49A1733467346667B | B51: 관로구방수(통신) | C51: D 50 | D51: 개소 | E51: =일위대가!F373 -> 41567 | F51: =일위대가!H373 -> 75774 | G51: =일위대가!J373 -> 0 | H51: =E51+F51+G51 -> 117341 | I51: 호표 48 | M51: 통신 4-1-7
A52: 5686B116EFF2D49A17334673466702 | B52: 관로구방수(통신) | C52: D 65 | D52: 개소 | E52: =일위대가!F383 -> 43607 | F52: =일위대가!H383 -> 75774 | G52: =일위대가!J383 -> 0 | H52: =E52+F52+G52 -> 119381 | I52: 호표 49 | M52: 통신 4-1-7
A53: 5686B116EFF2D49A17334673470A11 | B53: 관로구방수(통신,동일장소) | C53: D 30 | D53: 개소 | E53: =일위대가!F393 -> 37567 | F53: =일위대가!H393 -> 60619 | G53: =일위대가!J393 -> 0 | H53: =E53+F53+G53 -> 98186 | I53: 호표 50 | M53: 통신 4-1-7
A54: 5686B116EFF2D49A1733467347090A | B54: 관로구방수(통신,동일장소) | C54: D 50 | D54: 개소 | E54: =일위대가!F403 -> 41112 | F54: =일위대가!H403 -> 60619 | G54: =일위대가!J403 -> 0 | H54: =E54+F54+G54 -> 101731 | I54: 호표 51 | M54: 통신 4-1-7
A55: 5686B116EFF2D49A17334673470863 | B55: 관로구방수(통신,동일장소) | C55: D 65 | D55: 개소 | E55: =일위대가!F413 -> 43152 | F55: =일위대가!H413 -> 60619 | G55: =일위대가!J413 -> 0 | H55: =E55+F55+G55 -> 103771 | I55: 호표 52 | M55: 통신 4-1-7
A56: 5686B116EFF2D49A1733471BD4496A | B56: 경고 테이프(통신용) | C56: 200*250 | D56: M | E56: =일위대가!F419 -> 208 | F56: =일위대가!H419 -> 224 | G56: =일위대가!J419 -> 0 | H56: =E56+F56+G56 -> 432 | I56: 호표 53 | M56: 통신 2-1-6
A57: 5686B116EDCB04D3B7D4DBF277C5F1 | B57: 경질비닐전선관(통신) | C57: HI 16 mm | D57: M | E57: =일위대가!F428 -> 817 | F57: =일위대가!H428 -> 14310 | G57: =일위대가!J428 -> 0 | H57: =E57+F57+G57 -> 15127 | I57: 호표 54 | M57: 통신 3-1-1
A58: 5686B116EDCB04D3B7D4DBF277C4EA | B58: 경질비닐전선관(통신) | C58: HI 22 mm | D58: M | E58: =일위대가!F437 -> 977 | F58: =일위대가!H437 -> 17173 | G58: =일위대가!J437 -> 0 | H58: =E58+F58+G58 -> 18150 | I58: 호표 55 | M58: 통신 3-1-1
A59: 5686B116EDCB04D3B7D4DBF277C3C4 | B59: 경질비닐전선관(통신) | C59: HI 28 mm | D59: M | E59: =일위대가!F446 -> 1610 | F59: =일위대가!H446 -> 22897 | G59: =일위대가!J446 -> 0 | H59: =E59+F59+G59 -> 24507 | I59: 호표 56 | M59: 통신 3-1-1
A60: 5686B116EDCB04D3B7D4DBF277C23D | B60: 경질비닐전선관(통신) | C60: HI 36 mm | D60: M | E60: =일위대가!F455 -> 2187 | F60: =일위대가!H455 -> 28621 | G60: =일위대가!J455 -> 0 | H60: =E60+F60+G60 -> 30808 | I60: 호표 57 | M60: 통신 3-1-1
A61: 5686B116EDCB04D3B7D4DBF277C00F | B61: 경질비닐전선관(통신) | C61: HI 54 mm | D61: M | E61: =일위대가!F464 -> 4076 | F61: =일위대가!H464 -> 54381 | G61: =일위대가!J464 -> 0 | H61: =E61+F61+G61 -> 58457 | I61: 호표 58 | M61: 통신 3-1-1
A62: 5686B116EDCB04D38700BC82C3238B | B62: 합성수지제가요전선관(통신) | C62: CD 난연성 16㎜ | D62: M | E62: =일위대가!F473 -> 601 | F62: =일위대가!H473 -> 11448 | G62: =일위대가!J473 -> 0 | H62: =E62+F62+G62 -> 12049 | I62: 호표 59 | M62: 통신 3-1-1
A63: 5686B116EDCB04D38700BC82C32037 | B63: 합성수지제가요전선관(통신) | C63: CD 난연성 22㎜ | D63: M | E63: =일위대가!F482 -> 799 | F63: =일위대가!H482 -> 13738 | G63: =일위대가!J482 -> 0 | H63: =E63+F63+G63 -> 14537 | I63: 호표 60 | M63: 통신 3-1-1
A64: 5686B116EDCB04D38700BC82C321DE | B64: 합성수지제가요전선관(통신) | C64: CD 난연성 28㎜ | D64: M | E64: =일위대가!F491 -> 1078 | F64: =일위대가!H491 -> 18318 | G64: =일위대가!J491 -> 0 | H64: =E64+F64+G64 -> 19396 | I64: 호표 61 | M64: 통신 3-1-1
A65: 5686B116EDCB04D3E7A9420B5A6226 | B65: 강제전선관(통신노출) | C65: 아연도 36 mm | D65: M | E65: =일위대가!F500 -> 8837 | F65: =일위대가!H500 -> 68692 | G65: =일위대가!J500 -> 0 | H65: =E65+F65+G65 -> 77529 | I65: 호표 62 | M65: 통신 3-1-1
A66: 5686B116EDCB04D3E7A9420B5A6078 | B66: 강제전선관(통신노출) | C66: 아연도 54 mm | D66: M | E66: =일위대가!F509 -> 15380 | F66: =일위대가!H509 -> 116777 | G66: =일위대가!J509 -> 0 | H66: =E66+F66+G66 -> 132157 | I66: 호표 63 | M66: 통신 3-1-1
A67: 5686B116EDCB04D3E7A945C0E7CC21 | B67: 나사없는전선관(통신) | C67: 용융아연도도금 E31 | D67: M | E67: =일위대가!F517 -> 4824 | F67: =일위대가!H517 -> 22897 | G67: =일위대가!J517 -> 0 | H67: =E67+F67+G67 -> 27721 | I67: 호표 64 | M67: 통신 3-1-1
A68: 5686B116EDCB04D3F74F211010B309 | B68: 1종금속제가요전선관(통신) | C68: 16 mm 비방수 | D68: M | E68: =일위대가!F525 -> 1226 | F68: =일위대가!H525 -> 15112 | G68: =일위대가!J525 -> 0 | H68: =E68+F68+G68 -> 16338 | I68: 호표 65 | M68: 통신 3-1-1
A69: 5686B116EDCB04D3F74F211010B0B5 | B69: 1종금속제가요전선관(통신) | C69: 22 mm 비방수 | D69: M | E69: =일위대가!F533 -> 1671 | F69: =일위대가!H533 -> 20264 | G69: =일위대가!J533 -> 0 | H69: =E69+F69+G69 -> 21935 | I69: 호표 66 | M69: 통신 3-1-1
A70: 5686B116EDCB04D3F74F211010B15C | B70: 1종금속제가요전선관(통신) | C70: 28 mm 비방수 | D70: M | E70: =일위대가!F541 -> 1893 | F70: =일위대가!H541 -> 24729 | G70: =일위대가!J541 -> 0 | H70: =E70+F70+G70 -> 26622 | I70: 호표 67 | M70: 통신 3-1-1
A71: 5686B116EDCB04D3D782B73B1972B9 | B71: 파상형경질폴리에틸렌전선관 (통신) | C71: 30㎜ | D71: M | E71: =일위대가!F550 -> 517 | F71: =일위대가!H550 -> 5288 | G71: =일위대가!J550 -> 0 | H71: =E71+F71+G71 -> 5805 | I71: 호표 68 | M71: 통신 2-1-3
A72: 5686B116EDC8B49FB7A6D2A9099F8B | B72: UTP 케이블 | C72: CAT 5E. 4P-0.5mm | D72: M | E72: =일위대가!F558 -> 635 | F72: =일위대가!H558 -> 6571 | G72: =일위대가!J558 -> 0 | H72: =E72+F72+G72 -> 7206 | I72: 호표 69 | M72: 통신 4-3-1
A73: 5686B116EDC8B49FB7A6D2A9099C37 | B73: UTP 케이블 | C73: CAT 5E. 25P-0.5mm | D73: M | E73: =일위대가!F566 -> 3415 | F73: =일위대가!H566 -> 10513 | G73: =일위대가!J566 -> 0 | H73: =E73+F73+G73 -> 13928 | I73: 호표 70 | M73: 통신 4-3-1
A74: 5686B116EDC8B49FB7A6D2A9099DDE | B74: UTP 케이블 | C74: CAT 6. 4P-0.5mm | D74: M | E74: =일위대가!F574 -> 821 | F74: =일위대가!H574 -> 6571 | G74: =일위대가!J574 -> 0 | H74: =E74+F74+G74 -> 7392 | I74: 호표 71 | M74: 통신 4-3-1
A75: 5686B116EDC8B49FF7010034BC1C8A | B75: 난연성 비닐절연 접지용전선(통신) | C75: 0.6/1kV F-GV 6㎟ | D75: M | E75: =일위대가!F582 -> 1670 | F75: =일위대가!H582 -> 4293 | G75: =일위대가!J582 -> 0 | H75: =E75+F75+G75 -> 5963 | I75: 호표 72 | M75: 통신 11-5-1
A76: 5686B116EDC8B49FF7010034BC182F | B76: 난연성 비닐절연 접지용전선(통신) | C76: 0.6/1kV F-GV 35㎟ | D76: M | E76: =일위대가!F590 -> 6766 | F76: =일위대가!H590 -> 5151 | G76: =일위대가!J590 -> 0 | H76: =E76+F76+G76 -> 11917 | I76: 호표 73 | M76: 통신 11-5-1
A77: 5686B116EDC94404C7DE13EA743D40 | B77: HI TEC TRAY-분체(통신) | C77: 300x1.0t(100) | D77: M | E77: =일위대가!F597 -> 21735 | F77: =일위대가!H597 -> 93078 | G77: =일위대가!J597 -> 0 | H77: =E77+F77+G77 -> 114813 | I77: 호표 74 | M77: 통신 3-4-1
A78: 5686B116EDC94404C7DE13EA75CDCE | B78: TRAY COVER-분체(통신) | C78: 300W | D78: M | E78: =일위대가!F604 -> 12271 | F78: =일위대가!H604 -> 18604 | G78: =일위대가!J604 -> 0 | H78: =E78+F78+G78 -> 30875 | I78: 호표 75 | M78: 통신 3-4-1
A79: 5686B116EDC94404C7DE13EA7168DB | B79: HOR. ELBOW-분체(통신) | C79: 300W(100) | D79: SET | E79: =일위대가!F610 -> 28821 | F79: =일위대가!H610 -> 93078 | G79: =일위대가!J610 -> 0 | H79: =E79+F79+G79 -> 121899 | I79: 호표 76 | M79: 통신 3-4-1
A80: 5686B116EDC94404C7DE13EA7E23AA | B80: VER. ELBOW-분체(통신) | C80: 300W(100) | D80: SET | E80: =일위대가!F616 -> 29967 | F80: =일위대가!H616 -> 93078 | G80: =일위대가!J616 -> 0 | H80: =E80+F80+G80 -> 123045 | I80: 호표 77 | M80: 통신 3-4-1
A81: 5686B116EDCEC41BE7F801C45C3FAC | B81: UTP 성단+도통 | C81: 4P | D81: 개 | E81: =일위대가!F624 -> 732 | F81: =일위대가!H624 -> 24430 | G81: =일위대가!J624 -> 0 | H81: =E81+F81+G81 -> 25162 | I81: 호표 78 | M81: 통신 4-3-3
A82: 5686B116EDCEC41BE7F801C45C3CD7 | B82: UTP 성단 | C82: 25P | D82: 개 | E82: =일위대가!F631 -> 1832 | F82: =일위대가!H631 -> 61076 | G82: =일위대가!J631 -> 0 | H82: =E82+F82+G82 -> 62908 | I82: 호표 79 | M82: 통신 4-3-3
A83: 5686B116EDCEC41BE7F801C45C3CD2 | B83: UTP 회선시험 | D83: 개 | E83: =일위대가!F637 -> 812 | F83: =일위대가!H637 -> 27084 | G83: =일위대가!J637 -> 0 | H83: =E83+F83+G83 -> 27896 | I83: 호표 80
A84: 5686B116EDCEC41BE7F801C45C390A | B84: 광섬유케이블 국내성단 | C84: 2코어 | D84: 조 | E84: =일위대가!F644 -> 2385 | F84: =일위대가!H644 -> 79503 | G84: =일위대가!J644 -> 0 | H84: =E84+F84+G84 -> 81888 | I84: 호표 81 | M84: 통신 4-1-3
A85: 5686B116EDCEC41BE7F801C45C364B | B85: 광섬유케이블 국내성단 | C85: 12코어 | D85: 조 | E85: =일위대가!F651 -> 14310 | F85: =일위대가!H651 -> 477020 | G85: =일위대가!J651 -> 0 | H85: =E85+F85+G85 -> 491330 | I85: 호표 82 | M85: 통신 4-1-3
A86: 5686B116EDCEC41BE7F801C45DC40A | B86: 광섬유케이블 국내성단 시험비 | C86: 코어당 | D86: 조 | E86: =일위대가!F658 -> 845 | F86: =일위대가!H658 -> 28170 | G86: =일위대가!J658 -> 0 | H86: =E86+F86+G86 -> 29015 | I86: 호표 83 | M86: 통신 4-1-3
A87: 5686B116EDCEC41BA71DF28990318E | B87: 아우트렛박스(통신) | C87: 8각 54㎜ | D87: 개 | E87: =일위대가!F664 -> 1571 | F87: =일위대가!H664 -> 31484 | G87: =일위대가!J664 -> 0 | H87: =E87+F87+G87 -> 33055 | I87: 호표 84 | M87: 통신 3-2-1
A88: 5686B116EDCEC41BA71DF2899030E8 | B88: 아우트렛박스(통신) | C88: 중형4각 54㎜ | D88: 개 | E88: =일위대가!F670 -> 1675 | F88: =일위대가!H670 -> 31484 | G88: =일위대가!J670 -> 0 | H88: =E88+F88+G88 -> 33159 | I88: 호표 85 | M88: 통신 3-2-1
A89: 5686B116EDCEC41BA71DF28991C203 | B89: 스위치박스(통신) | C89: 1 개용 54 mm | D89: 개 | E89: =일위대가!F676 -> 2148 | F89: =일위대가!H676 -> 51519 | G89: =일위대가!J676 -> 0 | H89: =E89+F89+G89 -> 53667 | I89: 호표 86 | M89: 통신 3-2-1
A90: 5686B116EDCEC41BA71DF28991C32A | B90: 스위치박스(통신) | C90: 2 개용 54 mm | D90: 개 | E90: =일위대가!F682 -> 2384 | F90: =일위대가!H682 -> 51519 | G90: =일위대가!J682 -> 0 | H90: =E90+F90+G90 -> 53903 | I90: 호표 87 | M90: 통신 3-2-1
A91: 5686B116EDCEC41BA71DF55D0AD291 | B91: 풀박스(통신) | C91: 100×100×100 | D91: 개 | E91: =일위대가!F688 -> 3207 | F91: =일위대가!H688 -> 11448 | G91: =일위대가!J688 -> 0 | H91: =E91+F91+G91 -> 14655 | I91: 호표 88 | M91: 통신 3-2-1
A92: 5686B116EDCEC41B9776058598D743 | B92: 접지단자함 (통신) | C92: 4CCT 스텐레스 | D92: SET | E92: =일위대가!F694 -> 209802 | F92: =일위대가!H694 -> 188904 | G92: =일위대가!J694 -> 0 | H92: =E92+F92+G92 -> 398706 | I92: 호표 89 | M92: 통신 11-5-1
A93: 5686B116EDCEC41B97760586BFFD69 | B93: 접지봉 (통신) | C93: 14Φ×1000 mm | D93: 개 | E93: =일위대가!F701 -> 6360 | F93: =일위대가!H701 -> 99306 | G93: =일위대가!J701 -> 0 | H93: =E93+F93+G93 -> 105666 | I93: 호표 90 | M93: 통신 11-5-1
A94: 5686B116EDCEC41B97760586BFFF17 | B94: 접지봉 (통신) | C94: 18Φ×2400 mm | D94: 개 | E94: =일위대가!F708 -> 11691 | F94: =일위대가!H708 -> 99306 | G94: =일위대가!J708 -> 0 | H94: =E94+F94+G94 -> 110997 | I94: 호표 91 | M94: 통신 11-5-1
A95: 579C8116214E0430A7A3427DC7ABDC | B95: CCTV 주자재 | D95: SET | E95: =일위대가!F722 -> 55143000 | F95: =일위대가!H722 -> 0 | G95: =일위대가!J722 -> 0 | H95: =E95+F95+G95 -> 55143000 | I95: 호표 92
A96: 579C8116214E0430A7A3427DC7A808 | B96: 주차관제 주자재 | D96: SET | E96: =일위대가!F736 -> 81235400 | F96: =일위대가!H736 -> 0 | G96: =일위대가!J736 -> 0 | H96: =E96+F96+G96 -> 81235400 | I96: 호표 93
A97: 579C8116214E0430A7A3427DC7A92F | B97: 방송 주자재 | D97: SET | E97: =일위대가!F767 -> 19465900 | F97: =일위대가!H767 -> 0 | G97: =일위대가!J767 -> 0 | H97: =E97+F97+G97 -> 19465900 | I97: 호표 94
A98: 579C8116214E0430A7A3427DC7AE91 | B98: AV 주자재 | D98: SET | E98: =일위대가!F774 -> 80880000 | F98: =일위대가!H774 -> 0 | G98: =일위대가!J774 -> 0 | H98: =E98+F98+G98 -> 80880000 | I98: 호표 95
A99: 579C8116214E0430A7A3427DC7AFB7 | B99: 통합배선 주자재 | D99: SET | E99: =일위대가!F779 -> 85086500 | F99: =일위대가!H779 -> 0 | G99: =일위대가!J779 -> 0 | H99: =E99+F99+G99 -> 85086500 | I99: 호표 96
A100: 579C8116214E0430A7A2BBAA4216BF | B100: 2. 지상3층 문화강좌실-1 방송설비 | D100: SET | E100: =일위대가!F801 -> 19581000 | F100: =일위대가!H801 -> 0 | G100: =일위대가!J801 -> 0 | H100: =E100+F100+G100 -> 19581000 | I100: 호표 97
...

Sheet 일위대가
A1: [ 북원도서관신축사업설계용역-통신 ]
A2: 품 명 | B2: 규 격 | C2: 단위 | D2: 수량 | E2: 재 료 비 | G2: 노 무 비 | I2: 경 비 | K2: 합 계 | M2: 비 고 | N2: 일위대가 | O2: 품목코드 | P2: 일위 | Q2: 단산 | R2: 자재 | S2: 손료적용 | T2: 손료저장 | U2: 적용율 | V2: JUK1 | W2: JUK2 | X2: JUK3 | Y2: JUK4 | Z2: JUK5 | AA2: JUK6 | AB2: JUK7 | AC2: JUK8 | AD2: JUK9 | AE2: JUK10 | AF2: JUK11 | AG2: JUK12 | AH2: JUK13 | AI2: JUK14 | AJ2: JUK15 | AK2: JUK16 | AL2: JUK17 | AM2: JUK18 | AN2: JUK19 | AO2: JUK20 | AP2: 할증적용 | AQ2: 할증저장 | AR2: 할증율 | AS2: HAL1 | AT2: HAL2 | AU2: HAL3 | AV2: 자재구분 | AW2: 일위대가+자재 | AX2: 장비일위 | AY2: 설정 | AZ2: 할증체크
E3: 단 가 | F3: 금 액 | G3: 단 가 | H3: 금 액 | I3: 단 가 | J3: 금 액 | K3: 단 가 | L3: 금 액
A4: 굴삭기(무한궤도) 0.2㎥ HR 공통 8-3,4(0201) ( 호표 1 ) | N4: 51DA411623C75434A7165627D8D2B6E674D6EA17
A5: 굴삭기(무한궤도) | B5: 0.2㎥ | C5: 대 | D5: 0.2085 | E5: =단가대비표!O5 -> 0 | F5: =TRUNC(E5*D5,1) -> 0 | G5: =단가대비표!P5 -> 0 | H5: =TRUNC(G5*D5,1) -> 0 | I5: =단가대비표!V5 -> 66538 | J5: =TRUNC(I5*D5,1) -> 13873.1 | K5: =TRUNC(E5+G5+I5,1) -> 66538 | L5: =TRUNC(F5+H5+J5,1) -> 13873.1 | M5: 천원 | N5: 51DA411623C75434A7165627D8D2B6E674D6EA17 | O5: 51DA411623C75434A7165627D8D2B6E674D6EA | P5: F | Q5: F | R5: T | AW5: 51DA411623C75434A7165627D8D2B6E674D6EA1751DA411623C75434A7165627D8D2B6E674D6EA
A6: 경유 | B6: 저유황 | C6: L | D6: 5 | E6: =단가대비표!O11 -> 1656 | F6: =TRUNC(E6*D6,1) -> 8280 | G6: =단가대비표!P11 -> 0 | H6: =TRUNC(G6*D6,1) -> 0 | I6: =단가대비표!V11 -> 0 | J6: =TRUNC(I6*D6,1) -> 0 | K6: =TRUNC(E6+G6+I6,1) -> 1656 | L6: =TRUNC(F6+H6+J6,1) -> 8280 | N6: 51DA411623C75434A7165627D8D2B6E674D6EA17 | O6: 51C9B1160522C45BB7E496B31A601AC3F77C9C | P6: F | Q6: F | R6: T | V6: 1 | AW6: 51DA411623C75434A7165627D8D2B6E674D6EA1751C9B1160522C45BB7E496B31A601AC3F77C9C
A7: 건설기계운전사 | B7: 일반공사직종 | C7: 인 | D7: 1 | E7: =TRUNC(단가대비표!O123*1/8*16/12*25/20, 1) -> 0 | F7: =TRUNC(E7*D7,1) -> 0 | G7: =TRUNC(단가대비표!P123*1/8*16/12*25/20, 1) -> 59025.6 | H7: =TRUNC(G7*D7,1) -> 59025.6 | I7: =TRUNC(단가대비표!V123*1/8*16/12*25/20, 1) -> 0 | J7: =TRUNC(I7*D7,1) -> 0 | K7: =TRUNC(E7+G7+I7,1) -> 59025.6 | L7: =TRUNC(F7+H7+J7,1) -> 59025.6 | N7: 51DA411623C75434A7165627D8D2B6E674D6EA17 | O7: 561EF116676E5481B7A1B8BD6E32D64ED3E637 | P7: F | Q7: F | R7: T | AW7: 51DA411623C75434A7165627D8D2B6E674D6EA17561EF116676E5481B7A1B8BD6E32D64ED3E637 | AX7: T
A8: 잡재료 | B8: 주연료비의 21% | C8: 식 | D8: 1 | E8: =TRUNC(SUMIF(V5:V8, RIGHTB(O8, 1), F5:F8)*U8, 2) -> 1738.8 | F8: =TRUNC(E8*D8,1) -> 1738.8 | G8: 0 | H8: =TRUNC(G8*D8,1) -> 0 | I8: 0 | J8: =TRUNC(I8*D8,1) -> 0 | K8: =TRUNC(E8+G8+I8,1) -> 1738.8 | L8: =TRUNC(F8+H8+J8,1) -> 1738.8 | N8: 51DA411623C75434A7165627D8D2B6E674D6EA17 | O8: 57D4C116E1C564CA27EBFFF5323F001 | P8: F | Q8: F | R8: F | S8: 0 | T8: 0 | U8: 0.21 | AW8: 51DA411623C75434A7165627D8D2B6E674D6EA1757D4C116E1C564CA27EBFFF5323F001
A9: [ 합 계 ] | F9: =TRUNC(SUMIF(N5:N8, N4, F5:F8),0) -> 10018 | H9: =TRUNC(SUMIF(N5:N8, N4, H5:H8),0) -> 59025 | J9: =TRUNC(SUMIF(N5:N8, N4, J5:J8),0) -> 13873 | L9: =F9+H9+J9 -> 82916 | N9: TOTAL | O9: TOTAL
A11: 굴삭기(무한궤도) 0.7㎥ HR 공통 8-3,4(0201) ( 호표 2 ) | N11: 51DA411623C75434A7165627D8D73820164E3225
A12: 굴삭기(유압식백호) | B12: 0.7 M3 | C12: 대 | D12: 0.2085 | E12: =단가대비표!O6 -> 0 | F12: =TRUNC(E12*D12,1) -> 0 | G12: =단가대비표!P6 -> 0 | H12: =TRUNC(G12*D12,1) -> 0 | I12: =단가대비표!V6 -> 117766 | J12: =TRUNC(I12*D12,1) -> 24554.2 | K12: =TRUNC(E12+G12+I12,1) -> 117766 | L12: =TRUNC(F12+H12+J12,1) -> 24554.2 | M12: 천원 | N12: 51DA411623C75434A7165627D8D73820164E3225 | O12: 51DA411623C75434A7165627D8D73820164E32 | P12: F | Q12: F | R12: T | AW12: 51DA411623C75434A7165627D8D73820164E322551DA411623C75434A7165627D8D73820164E32
A13: 건설기계운전사 | B13: 일반공사직종 | C13: 인 | D13: 1 | E13: =TRUNC(단가대비표!O123*1/8*16/12*25/20, 1) -> 0 | F13: =TRUNC(E13*D13,1) -> 0 | G13: =TRUNC(단가대비표!P123*1/8*16/12*25/20, 1) -> 59025.6 | H13: =TRUNC(G13*D13,1) -> 59025.6 | I13: =TRUNC(단가대비표!V123*1/8*16/12*25/20, 1) -> 0 | J13: =TRUNC(I13*D13,1) -> 0 | K13: =TRUNC(E13+G13+I13,1) -> 59025.6 | L13: =TRUNC(F13+H13+J13,1) -> 59025.6 | N13: 51DA411623C75434A7165627D8D73820164E3225 | O13: 561EF116676E5481B7A1B8BD6E32D64ED3E637 | P13: F | Q13: F | R13: T | AW13: 51DA411623C75434A7165627D8D73820164E3225561EF116676E5481B7A1B8BD6E32D64ED3E637 | AX13: T
A14: 경유 | B14: 저유황 | C14: L | D14: 11.6 | E14: =단가대비표!O11 -> 1656 | F14: =TRUNC(E14*D14,1) -> 19209.6 | G14: =단가대비표!P11 -> 0 | H14: =TRUNC(G14*D14,1) -> 0 | I14: =단가대비표!V11 -> 0 | J14: =TRUNC(I14*D14,1) -> 0 | K14: =TRUNC(E14+G14+I14,1) -> 1656 | L14: =TRUNC(F14+H14+J14,1) -> 19209.6 | N14: 51DA411623C75434A7165627D8D73820164E3225 | O14: 51C9B1160522C45BB7E496B31A601AC3F77C9C | P14: F | Q14: F | R14: T | V14: 1 | AW14: 51DA411623C75434A7165627D8D73820164E322551C9B1160522C45BB7E496B31A601AC3F77C9C
A15: 잡재료 | B15: 주연료비의 22% | C15: 식 | D15: 1 | E15: =TRUNC(SUMIF(V12:V15, RIGHTB(O15, 1), F12:F15)*U15, 2) -> 4226.11 | F15: =TRUNC(E15*D15,1) -> 4226.1 | G15: 0 | H15: =TRUNC(G15*D15,1) -> 0 | I15: 0 | J15: =TRUNC(I15*D15,1) -> 0 | K15: =TRUNC(E15+G15+I15,1) -> 4226.1 | L15: =TRUNC(F15+H15+J15,1) -> 4226.1 | N15: 51DA411623C75434A7165627D8D73820164E3225 | O15: 57D4C116E1C564CA27EBFFF5323F001 | P15: F | Q15: F | R15: F | S15: 0 | T15: 0 | U15: 0.22 | AW15: 51DA411623C75434A7165627D8D73820164E322557D4C116E1C564CA27EBFFF5323F001
A16: [ 합 계 ] | F16: =TRUNC(SUMIF(N12:N15, N11, F12:F15),0) -> 23435 | H16: =TRUNC(SUMIF(N12:N15, N11, H12:H15),0) -> 59025 | J16: =TRUNC(SUMIF(N12:N15, N11, J12:J15),0) -> 24554 | L16: =F16+H16+J16 -> 107014 | N16: TOTAL | O16: TOTAL
A18: 진동 롤러(핸드가이드식) 0.7ton HR 공통 8-3,4(1305) ( 호표 3 ) | N18: 51DA411623C7542A17FEAF711539E74429B60E12
A19: 진동 롤러(핸드가이드식) | B19: 0.7톤 | C19: 대 | D19: 0.2825 | E19: =단가대비표!O7 -> 0 | F19: =TRUNC(E19*D19,1) -> 0 | G19: =단가대비표!P7 -> 0 | H19: =TRUNC(G19*D19,1) -> 0 | I19: =단가대비표!V7 -> 6966 | J19: =TRUNC(I19*D19,1) -> 1967.8 | K19: =TRUNC(E19+G19+I19,1) -> 6966 | L19: =TRUNC(F19+H19+J19,1) -> 1967.8 | M19: 천원 | N19: 51DA411623C7542A17FEAF711539E74429B60E12 | O19: 51DA411623C7542A17FEAF711539E74429B60E | P19: F | Q19: F | R19: T | AW19: 51DA411623C7542A17FEAF711539E74429B60E1251DA411623C7542A17FEAF711539E74429B60E
A20: 일반기계운전사 | B20: 일반공사직종 | C20: 인 | D20: 1 | E20: =TRUNC(단가대비표!O124*1/8*16/12*25/20, 1) -> 0 | F20: =TRUNC(E20*D20,1) -> 0 | G20: =TRUNC(단가대비표!P124*1/8*16/12*25/20, 1) -> 36248.9 | H20: =TRUNC(G20*D20,1) -> 36248.9 | I20: =TRUNC(단가대비표!V124*1/8*16/12*25/20, 1) -> 0 | J20: =TRUNC(I20*D20,1) -> 0 | K20: =TRUNC(E20+G20+I20,1) -> 36248.9 | L20: =TRUNC(F20+H20+J20,1) -> 36248.9 | N20: 51DA411623C7542A17FEAF711539E74429B60E12 | O20: 561EF116676E5481B7A1B8BD6E32D64ED3E7C6 | P20: F | Q20: F | R20: T | AW20: 51DA411623C7542A17FEAF711539E74429B60E12561EF116676E5481B7A1B8BD6E32D64ED3E7C6 | AX20: T
A21: 경유 | B21: 저유황 | C21: L | D21: 2.2 | E21: =단가대비표!O11 -> 1656 | F21: =TRUNC(E21*D21,1) -> 3643.2 | G21: =단가대비표!P11 -> 0 | H21: =TRUNC(G21*D21,1) -> 0 | I21: =단가대비표!V11 -> 0 | J21: =TRUNC(I21*D21,1) -> 0 | K21: =TRUNC(E21+G21+I21,1) -> 1656 | L21: =TRUNC(F21+H21+J21,1) -> 3643.2 | N21: 51DA411623C7542A17FEAF711539E74429B60E12 | O21: 51C9B1160522C45BB7E496B31A601AC3F77C9C | P21: F | Q21: F | R21: T | V21: 1 | AW21: 51DA411623C7542A17FEAF711539E74429B60E1251C9B1160522C45BB7E496B31A601AC3F77C9C
A22: 잡재료 | B22: 주연료비의 13% | C22: 식 | D22: 1 | E22: =TRUNC(SUMIF(V19:V22, RIGHTB(O22, 1), F19:F22)*U22, 2) -> 473.61 | F22: =TRUNC(E22*D22,1) -> 473.6 | G22: 0 | H22: =TRUNC(G22*D22,1) -> 0 | I22: 0 | J22: =TRUNC(I22*D22,1) -> 0 | K22: =TRUNC(E22+G22+I22,1) -> 473.6 | L22: =TRUNC(F22+H22+J22,1) -> 473.6 | N22: 51DA411623C7542A17FEAF711539E74429B60E12 | O22: 57D4C116E1C564CA27EBFFF5323F001 | P22: F | Q22: F | R22: F | S22: 0 | T22: 0 | U22: 0.13 | AW22: 51DA411623C7542A17FEAF711539E74429B60E1257D4C116E1C564CA27EBFFF5323F001
A23: [ 합 계 ] | F23: =TRUNC(SUMIF(N19:N22, N18, F19:F22),0) -> 4116 | H23: =TRUNC(SUMIF(N19:N22, N18, H19:H22),0) -> 36248 | J23: =TRUNC(SUMIF(N19:N22, N18, J19:J22),0) -> 1967 | L23: =F23+H23+J23 -> 42331 | N23: TOTAL | O23: TOTAL
A25: 래머 80kg HR 공통 8-3,4(1630) ( 호표 4 ) | N25: 51DA411623C7542A47B0A30A04D9499F607FC17B
A26: 래머 | B26: 80kg | C26: 대 | D26: 0.3708 | E26: =단가대비표!O8 -> 0 | F26: =TRUNC(E26*D26,1) -> 0 | G26: =단가대비표!P8 -> 0 | H26: =TRUNC(G26*D26,1) -> 0 | I26: =단가대비표!V8 -> 1418 | J26: =TRUNC(I26*D26,1) -> 525.7 | K26: =TRUNC(E26+G26+I26,1) -> 1418 | L26: =TRUNC(F26+H26+J26,1) -> 525.7 | M26: 천원 | N26: 51DA411623C7542A47B0A30A04D9499F607FC17B | O26: 51DA411623C7542A47B0A30A04D9499F607FC1 | P26: F | Q26: F | R26: T | AW26: 51DA411623C7542A47B0A30A04D9499F607FC17B51DA411623C7542A47B0A30A04D9499F607FC1
A27: 휘발유 | B27: 무연 | C27: L | D27: 0.7 | E27: =단가대비표!O12 -> 1743 | F27: =TRUNC(E27*D27,1) -> 1220.1 | G27: =단가대비표!P12 -> 0 | H27: =TRUNC(G27*D27,1) -> 0 | I27: =단가대비표!V12 -> 0 | J27: =TRUNC(I27*D27,1) -> 0 | K27: =TRUNC(E27+G27+I27,1) -> 1743 | L27: =TRUNC(F27+H27+J27,1) -> 1220.1 | N27: 51DA411623C7542A47B0A30A04D9499F607FC17B | O27: 51C9B1160522C45BB7E495A84DD82FB9082E2B | P27: F | Q27: F | R27: T | V27: 1 | AW27: 51DA411623C7542A47B0A30A04D9499F607FC17B51C9B1160522C45BB7E495A84DD82FB9082E2B
A28: 일반기계운전사 | B28: 일반공사직종 | C28: 인 | D28: 1 | E28: =TRUNC(단가대비표!O124*1/8*16/12*25/20, 1) -> 0 | F28: =TRUNC(E28*D28,1) -> 0 | G28: =TRUNC(단가대비표!P124*1/8*16/12*25/20, 1) -> 36248.9 | H28: =TRUNC(G28*D28,1) -> 36248.9 | I28: =TRUNC(단가대비표!V124*1/8*16/12*25/20, 1) -> 0 | J28: =TRUNC(I28*D28,1) -> 0 | K28: =TRUNC(E28+G28+I28,1) -> 36248.9 | L28: =TRUNC(F28+H28+J28,1) -> 36248.9 | N28: 51DA411623C7542A47B0A30A04D9499F607FC17B | O28: 561EF116676E5481B7A1B8BD6E32D64ED3E7C6 | P28: F | Q28: F | R28: T | AW28: 51DA411623C7542A47B0A30A04D9499F607FC17B561EF116676E5481B7A1B8BD6E32D64ED3E7C6 | AX28: T
A29: 잡재료 | B29: 주연료비의 10% | C29: 식 | D29: 1 | E29: =TRUNC(SUMIF(V26:V29, RIGHTB(O29, 1), F26:F29)*U29, 2) -> 122.01 | F29: =TRUNC(E29*D29,1) -> 122 | G29: 0 | H29: =TRUNC(G29*D29,1) -> 0 | I29: 0 | J29: =TRUNC(I29*D29,1) -> 0 | K29: =TRUNC(E29+G29+I29,1) -> 122 | L29: =TRUNC(F29+H29+J29,1) -> 122 | N29: 51DA411623C7542A47B0A30A04D9499F607FC17B | O29: 57D4C116E1C564CA27EBFFF5323F001 | P29: F | Q29: F | R29: F | S29: 0 | T29: 0 | U29: 0.1 | AW29: 51DA411623C7542A47B0A30A04D9499F607FC17B57D4C116E1C564CA27EBFFF5323F001
A30: [ 합 계 ] | F30: =TRUNC(SUMIF(N26:N29, N25, F26:F29),0) -> 1342 | H30: =TRUNC(SUMIF(N26:N29, N25, H26:H29),0) -> 36248 | J30: =TRUNC(SUMIF(N26:N29, N25, J26:J29),0) -> 525 | L30: =F30+H30+J30 -> 38115 | N30: TOTAL | O30: TOTAL
A32: 크레인(타이어) 10톤 HR 공통 8-3,4(2104) ( 호표 5 ) | N32: 51DA411623C75419A78D5DAA234071EFB522429E
A33: 크레인(타이어) | B33: 10톤 | C33: 대 | D33: 0.2298 | E33: =단가대비표!O9 -> 0 | F33: =TRUNC(E33*D33,1) -> 0 | G33: =단가대비표!P9 -> 0 | H33: =TRUNC(G33*D33,1) -> 0 | I33: =단가대비표!V9 -> 136400 | J33: =TRUNC(I33*D33,1) -> 31344.7 | K33: =TRUNC(E33+G33+I33,1) -> 136400 | L33: =TRUNC(F33+H33+J33,1) -> 31344.7 | M33: 천원 | N33: 51DA411623C75419A78D5DAA234071EFB522429E | O33: 51DA411623C75419A78D5DAA234071EFB52242 | P33: F | Q33: F | R33: T | AW33: 51DA411623C75419A78D5DAA234071EFB522429E51DA411623C75419A78D5DAA234071EFB52242
A34: 경유 | B34: 저유황 | C34: L | D34: 3.8 | E34: =단가대비표!O11 -> 1656 | F34: =TRUNC(E34*D34,1) -> 6292.8 | G34: =단가대비표!P11 -> 0 | H34: =TRUNC(G34*D34,1) -> 0 | I34: =단가대비표!V11 -> 0 | J34: =TRUNC(I34*D34,1) -> 0 | K34: =TRUNC(E34+G34+I34,1) -> 1656 | L34: =TRUNC(F34+H34+J34,1) -> 6292.8 | N34: 51DA411623C75419A78D5DAA234071EFB522429E | O34: 51C9B1160522C45BB7E496B31A601AC3F77C9C | P34: F | Q34: F | R34: T | V34: 1 | AW34: 51DA411623C75419A78D5DAA234071EFB522429E51C9B1160522C45BB7E496B31A601AC3F77C9C
A35: 건설기계운전사 | B35: 일반공사직종 | C35: 인 | D35: 1 | E35: =TRUNC(단가대비표!O123*1/8*16/12*25/20, 1) -> 0 | F35: =TRUNC(E35*D35,1) -> 0 | G35: =TRUNC(단가대비표!P123*1/8*16/12*25/20, 1) -> 59025.6 | H35: =TRUNC(G35*D35,1) -> 59025.6 | I35: =TRUNC(단가대비표!V123*1/8*16/12*25/20, 1) -> 0 | J35: =TRUNC(I35*D35,1) -> 0 | K35: =TRUNC(E35+G35+I35,1) -> 59025.6 | L35: =TRUNC(F35+H35+J35,1) -> 59025.6 | N35: 51DA411623C75419A78D5DAA234071EFB522429E | O35: 561EF116676E5481B7A1B8BD6E32D64ED3E637 | P35: F | Q35: F | R35: T | AW35: 51DA411623C75419A78D5DAA234071EFB522429E561EF116676E5481B7A1B8BD6E32D64ED3E637 | AX35: T
A36: 잡재료 | B36: 주연료비의 39% | C36: 식 | D36: 1 | E36: =TRUNC(SUMIF(V33:V36, RIGHTB(O36, 1), F33:F36)*U36, 2) -> 2454.19 | F36: =TRUNC(E36*D36,1) -> 2454.1 | G36: 0 | H36: =TRUNC(G36*D36,1) -> 0 | I36: 0 | J36: =TRUNC(I36*D36,1) -> 0 | K36: =TRUNC(E36+G36+I36,1) -> 2454.1 | L36: =TRUNC(F36+H36+J36,1) -> 2454.1 | N36: 51DA411623C75419A78D5DAA234071EFB522429E | O36: 57D4C116E1C564CA27EBFFF5323F001 | P36: F | Q36: F | R36: F | S36: 0 | T36: 0 | U36: 0.39 | AW36: 51DA411623C75419A78D5DAA234071EFB522429E57D4C116E1C564CA27EBFFF5323F001
A37: [ 합 계 ] | F37: =TRUNC(SUMIF(N33:N36, N32, F33:F36),0) -> 8746 | H37: =TRUNC(SUMIF(N33:N36, N32, H33:H36),0) -> 59025 | J37: =TRUNC(SUMIF(N33:N36, N32, J33:J36),0) -> 31344 | L37: =F37+H37+J37 -> 99115 | N37: TOTAL | O37: TOTAL
A39: 비닐코드선 VCTF, 3C 1.5 ㎟ M 전기 5-13 ( 호표 6 ) | N39: 51825116F74F648AA792EBD8016AD2
A40: 비닐코드선 | B40: VCTF, 3C 1.5 ㎟ | C40: M | D40: 1 | E40: =단가대비표!O20 -> 1167 | F40: =TRUNC(E40*D40,1) -> 1167 | G40: =단가대비표!P20 -> 0 | H40: =TRUNC(G40*D40,1) -> 0 | I40: =단가대비표!V20 -> 0 | J40: =TRUNC(I40*D40,1) -> 0 | K40: =TRUNC(E40+G40+I40,1) -> 1167 | L40: =TRUNC(F40+H40+J40,1) -> 1167 | N40: 51825116F74F648AA792EBD8016AD2 | O40: 51F541164C1E54DC076F0216D284C70C6E46D6 | P40: F | Q40: F | R40: T | V40: 1 | AW40: 51825116F74F648AA792EBD8016AD251F541164C1E54DC076F0216D284C70C6E46D6
A41: 비닐코드선 | B41: VCTF, 3C 1.5 ㎟ | C41: M | D41: 0.05 | E41: =단가대비표!O20 -> 1167 | F41: =TRUNC(E41*D41,1) -> 58.3 | G41: =단가대비표!P20 -> 0 | H41: =TRUNC(G41*D41,1) -> 0 | I41: =단가대비표!V20 -> 0 | J41: =TRUNC(I41*D41,1) -> 0 | K41: =TRUNC(E41+G41+I41,1) -> 1167 | L41: =TRUNC(F41+H41+J41,1) -> 58.3 | N41: 51825116F74F648AA792EBD8016AD2 | O41: 51F541164C1E54DC076F0216D284C70C6E46D6 | P41: F | Q41: F | R41: T | AW41: 51825116F74F648AA792EBD8016AD251F541164C1E54DC076F0216D284C70C6E46D6
A42: 잡재료비 | B42: 배관배선의 2% | C42: 식 | D42: 1 | E42: =TRUNC(SUMIF(V40:V44, RIGHTB(O42, 1), F40:F44)*U42, 2) -> 23.34 | F42: =TRUNC(E42*D42,1) -> 23.3 | G42: 0 | H42: =TRUNC(G42*D42,1) -> 0 | I42: 0 | J42: =TRUNC(I42*D42,1) -> 0 | K42: =TRUNC(E42+G42+I42,1) -> 23.3 | L42: =TRUNC(F42+H42+J42,1) -> 23.3 | N42: 51825116F74F648AA792EBD8016AD2 | O42: 57D4C116E1C564CA27EBFFF5323F001 | P42: F | Q42: F | R42: F | S42: 0 | T42: 0 | U42: 0.02 | AW42: 51825116F74F648AA792EBD8016AD257D4C116E1C564CA27EBFFF5323F001
A43: 저압케이블전공 | B43: 일반공사직종 | C43: 인 | D43: 0.019 | E43: =단가대비표!O126 -> 0 | F43: =TRUNC(E43*D43,1) -> 0 | G43: =단가대비표!P126 -> 306274 | H43: =TRUNC(G43*D43,1) -> 5819.2 | I43: =단가대비표!V126 -> 0 | J43: =TRUNC(I43*D43,1) -> 0 | K43: =TRUNC(E43+G43+I43,1) -> 306274 | L43: =TRUNC(F43+H43+J43,1) -> 5819.2 | N43: 51825116F74F648AA792EBD8016AD2 | O43: 561EF116676E5481B7A1B8BD6E32D64ED3E510 | P43: F | Q43: F | R43: T | W43: 2 | AW43: 51825116F74F648AA792EBD8016AD2561EF116676E5481B7A1B8BD6E32D64ED3E510
A44: 공구손료 | B44: 인력품의 3% | C44: 식 | D44: 1 | E44: =TRUNC(SUMIF(W40:W44, RIGHTB(O44, 1), H40:H44)*U44, 2) -> 174.57 | F44: =TRUNC(E44*D44,1) -> 174.5 | G44: 0 | H44: =TRUNC(G44*D44,1) -> 0 | I44: 0 | J44: =TRUNC(I44*D44,1) -> 0 | K44: =TRUNC(E44+G44+I44,1) -> 174.5 | L44: =TRUNC(F44+H44+J44,1) -> 174.5 | N44: 51825116F74F648AA792EBD8016AD2 | O44: 57D4C116E1C564CA27EBFFF5323C002 | P44: F | Q44: F | R44: F | S44: 1 | T44: 0 | U44: 0.03 | AW44: 51825116F74F648AA792EBD8016AD257D4C116E1C564CA27EBFFF5323F001
A45: [ 합 계 ] | F45: =TRUNC(SUMIF(N40:N44, N39, F40:F44),0) -> 1423 | H45: =TRUNC(SUMIF(N40:N44, N39, H40:H44),0) -> 5819 | J45: =TRUNC(SUMIF(N40:N44, N39, J40:J44),0) -> 0 | L45: =F45+H45+J45 -> 7242 | N45: TOTAL | O45: TOTAL
A47: 비닐코드선 VCTF, 3C 2.5 ㎟ M 전기 5-13 ( 호표 7 ) | N47: 51825116F74F648AA792EBD8016BFD
A48: 비닐코드선 | B48: VCTF, 3C 2.5 ㎟ | C48: M | D48: 1 | E48: =단가대비표!O21 -> 1906 | F48: =TRUNC(E48*D48,1) -> 1906 | G48: =단가대비표!P21 -> 0 | H48: =TRUNC(G48*D48,1) -> 0 | I48: =단가대비표!V21 -> 0 | J48: =TRUNC(I48*D48,1) -> 0 | K48: =TRUNC(E48+G48+I48,1) -> 1906 | L48: =TRUNC(F48+H48+J48,1) -> 1906 | N48: 51825116F74F648AA792EBD8016BFD | O48: 51F541164C1E54DC076F0216D284C70C6E46D3 | P48: F | Q48: F | R48: T | V48: 1 | AW48: 51825116F74F648AA792EBD8016BFD51F541164C1E54DC076F0216D284C70C6E46D3
A49: 비닐코드선 | B49: VCTF, 3C 2.5 ㎟ | C49: M | D49: 0.05 | E49: =단가대비표!O21 -> 1906 | F49: =TRUNC(E49*D49,1) -> 95.3 | G49: =단가대비표!P21 -> 0 | H49: =TRUNC(G49*D49,1) -> 0 | I49: =단가대비표!V21 -> 0 | J49: =TRUNC(I49*D49,1) -> 0 | K49: =TRUNC(E49+G49+I49,1) -> 1906 | L49: =TRUNC(F49+H49+J49,1) -> 95.3 | N49: 51825116F74F648AA792EBD8016BFD | O49: 51F541164C1E54DC076F0216D284C70C6E46D3 | P49: F | Q49: F | R49: T | AW49: 51825116F74F648AA792EBD8016BFD51F541164C1E54DC076F0216D284C70C6E46D3
A50: 잡재료비 | B50: 배관배선의 2% | C50: 식 | D50: 1 | E50: =TRUNC(SUMIF(V48:V52, RIGHTB(O50, 1), F48:F52)*U50, 2) -> 38.12 | F50: =TRUNC(E50*D50,1) -> 38.1 | G50: 0 | H50: =TRUNC(G50*D50,1) -> 0 | I50: 0 | J50: =TRUNC(I50*D50,1) -> 0 | K50: =TRUNC(E50+G50+I50,1) -> 38.1 | L50: =TRUNC(F50+H50+J50,1) -> 38.1 | N50: 51825116F74F648AA792EBD8016BFD | O50: 57D4C116E1C564CA27EBFFF5323F001 | P50: F | Q50: F | R50: F | S50: 0 | T50: 0 | U50: 0.02 | AW50: 51825116F74F648AA792EBD8016BFD57D4C116E1C564CA27EBFFF5323F001
A51: 저압케이블전공 | B51: 일반공사직종 | C51: 인 | D51: 0.019 | E51: =단가대비표!O126 -> 0 | F51: =TRUNC(E51*D51,1) -> 0 | G51: =단가대비표!P126 -> 306274 | H51: =TRUNC(G51*D51,1) -> 5819.2 | I51: =단가대비표!V126 -> 0 | J51: =TRUNC(I51*D51,1) -> 0 | K51: =TRUNC(E51+G51+I51,1) -> 306274 | L51: =TRUNC(F51+H51+J51,1) -> 5819.2 | N51: 51825116F74F648AA792EBD8016BFD | O51: 561EF116676E5481B7A1B8BD6E32D64ED3E510 | P51: F | Q51: F | R51: T | W51: 2 | AW51: 51825116F74F648AA792EBD8016BFD561EF116676E5481B7A1B8BD6E32D64ED3E510
A52: 공구손료 | B52: 인력품의 3% | C52: 식 | D52: 1 | E52: =TRUNC(SUMIF(W48:W52, RIGHTB(O52, 1), H48:H52)*U52, 2) -> 174.57 | F52: =TRUNC(E52*D52,1) -> 174.5 | G52: 0 | H52: =TRUNC(G52*D52,1) -> 0 | I52: 0 | J52: =TRUNC(I52*D52,1) -> 0 | K52: =TRUNC(E52+G52+I52,1) -> 174.5 | L52: =TRUNC(F52+H52+J52,1) -> 174.5 | N52: 51825116F74F648AA792EBD8016BFD | O52: 57D4C116E1C564CA27EBFFF5323C002 | P52: F | Q52: F | R52: F | S52: 1 | T52: 0 | U52: 0.03 | AW52: 51825116F74F648AA792EBD8016BFD57D4C116E1C564CA27EBFFF5323F001
A53: [ 합 계 ] | F53: =TRUNC(SUMIF(N48:N52, N47, F48:F52),0) -> 2213 | H53: =TRUNC(SUMIF(N48:N52, N47, H48:H52),0) -> 5819 | J53: =TRUNC(SUMIF(N48:N52, N47, J48:J52),0) -> 0 | L53: =F53+H53+J53 -> 8032 | N53: TOTAL | O53: TOTAL
A55: 강제전선관용 부품 (통신) 위샤캡, 36 C 개 통신 3-7-1 ( 호표 8 ) | N55: 51825116F74F648AB7BE75363431AC
A56: 강제전선관용 부품 (통신) | B56: 위샤캡, 36C | C56: 개 | D56: 1 | E56: =단가대비표!O81 -> 4361 | F56: =TRUNC(E56*D56,1) -> 4361 | G56: =단가대비표!P81 -> 0 | H56: =TRUNC(G56*D56,1) -> 0 | I56: =단가대비표!V81 -> 0 | J56: =TRUNC(I56*D56,1) -> 0 | K56: =TRUNC(E56+G56+I56,1) -> 4361 | L56: =TRUNC(F56+H56+J56,1) -> 4361 | N56: 51825116F74F648AB7BE75363431AC | O56: 51E42116B0AD04B977B9AE1AEF75177B520E33 | P56: F | Q56: F | R56: T | AW56: 51825116F74F648AB7BE75363431AC51E42116B0AD04B977B9AE1AEF75177B520E33
A57: 통신내선공 | B57: 일반공사직종 | C57: 인 | D57: 0.03 | E57: =단가대비표!O127 -> 0 | F57: =TRUNC(E57*D57,1) -> 0 | G57: =단가대비표!P127 -> 286219 | H57: =TRUNC(G57*D57,1) -> 8586.5 | I57: =단가대비표!V127 -> 0 | J57: =TRUNC(I57*D57,1) -> 0 | K57: =TRUNC(E57+G57+I57,1) -> 286219 | L57: =TRUNC(F57+H57+J57,1) -> 8586.5 | N57: 51825116F74F648AB7BE75363431AC | O57: 561EF116676E5481B7A1B8BD6E32D64ED3EA9C | P57: F | Q57: F | R57: T | V57: 1 | AW57: 51825116F74F648AB7BE75363431AC561EF116676E5481B7A1B8BD6E32D64ED3EA9C
A58: 공구손료 | B58: 인력품의 3% | C58: 식 | D58: 1 | E58: =TRUNC(SUMIF(V56:V58, RIGHTB(O58, 1), H56:H58)*U58, 2) -> 257.59 | F58: =TRUNC(E58*D58,1) -> 257.5 | G58: 0 | H58: =TRUNC(G58*D58,1) -> 0 | I58: 0 | J58: =TRUNC(I58*D58,1) -> 0 | K58: =TRUNC(E58+G58+I58,1) -> 257.5 | L58: =TRUNC(F58+H58+J58,1) -> 257.5 | N58: 51825116F74F648AB7BE75363431AC | O58: 57D4C116E1C564CA27EBFFF5323F001 | P58: F | Q58: F | R58: F | S58: 1 | T58: 0 | U58: 0.03 | AW58: 51825116F74F648AB7BE75363431AC57D4C116E1C564CA27EBFFF5323F001
A59: [ 합 계 ] | F59: =TRUNC(SUMIF(N56:N58, N55, F56:F58),0) -> 4618 | H59: =TRUNC(SUMIF(N56:N58, N55, H56:H58),0) -> 8586 | J59: =TRUNC(SUMIF(N56:N58, N55, J56:J58),0) -> 0 | L59: =F59+H59+J59 -> 13204 | N59: TOTAL | O59: TOTAL
A61: 강제전선관용 부품 (통신) 위샤캡, 54 C 개 통신 3-7-1 ( 호표 9 ) | N61: 51825116F74F648AB7BE753635C220
A62: 강제전선관용 부품 (통신) | B62: 위샤캡, 54C | C62: 개 | D62: 1 | E62: =단가대비표!O82 -> 6270 | F62: =TRUNC(E62*D62,1) -> 6270 | G62: =단가대비표!P82 -> 0 | H62: =TRUNC(G62*D62,1) -> 0 | I62: =단가대비표!V82 -> 0 | J62: =TRUNC(I62*D62,1) -> 0 | K62: =TRUNC(E62+G62+I62,1) -> 6270 | L62: =TRUNC(F62+H62+J62,1) -> 6270 | N62: 51825116F74F648AB7BE753635C220 | O62: 51E42116B0AD04B977B9AE1AEF75177B520E35 | P62: F | Q62: F | R62: T | AW62: 51825116F74F648AB7BE753635C22051E42116B0AD04B977B9AE1AEF75177B520E35
A63: 통신내선공 | B63: 일반공사직종 | C63: 인 | D63: 0.03 | E63: =단가대비표!O127 -> 0 | F63: =TRUNC(E63*D63,1) -> 0 | G63: =단가대비표!P127 -> 286219 | H63: =TRUNC(G63*D63,1) -> 8586.5 | I63: =단가대비표!V127 -> 0 | J63: =TRUNC(I63*D63,1) -> 0 | K63: =TRUNC(E63+G63+I63,1) -> 286219 | L63: =TRUNC(F63+H63+J63,1) -> 8586.5 | N63: 51825116F74F648AB7BE753635C220 | O63: 561EF116676E5481B7A1B8BD6E32D64ED3EA9C | P63: F | Q63: F | R63: T | V63: 1 | AW63: 51825116F74F648AB7BE753635C220561EF116676E5481B7A1B8BD6E32D64ED3EA9C
A64: 공구손료 | B64: 인력품의 3% | C64: 식 | D64: 1 | E64: =TRUNC(SUMIF(V62:V64, RIGHTB(O64, 1), H62:H64)*U64, 2) -> 257.59 | F64: =TRUNC(E64*D64,1) -> 257.5 | G64: 0 | H64: =TRUNC(G64*D64,1) -> 0 | I64: 0 | J64: =TRUNC(I64*D64,1) -> 0 | K64: =TRUNC(E64+G64+I64,1) -> 257.5 | L64: =TRUNC(F64+H64+J64,1) -> 257.5 | N64: 51825116F74F648AB7BE753635C220 | O64: 57D4C116E1C564CA27EBFFF5323F001 | P64: F | Q64: F | R64: F | S64: 1 | T64: 0 | U64: 0.03 | AW64: 51825116F74F648AB7BE753635C22057D4C116E1C564CA27EBFFF5323F001
A65: [ 합 계 ] | F65: =TRUNC(SUMIF(N62:N64, N61, F62:F64),0) -> 6527 | H65: =TRUNC(SUMIF(N62:N64, N61, H62:H64),0) -> 8586 | J65: =TRUNC(SUMIF(N62:N64, N61, J62:J64),0) -> 0 | L65: =F65+H65+J65 -> 15113 | N65: TOTAL | O65: TOTAL
A67: 케이블트레이지지대(통신) W300 개소 통신 3-7-1 ( 호표 10 ) | N67: 51825116F74F648AB7B51868763B28
A68: 케이블트레이부속품 | B68: U CHANNEL, 41x41x2.6t | C68: M | D68: 0.4 | E68: =단가대비표!O68 -> 6176 | F68: =TRUNC(E68*D68,1) -> 2470.4 | G68: =단가대비표!P68 -> 0 | H68: =TRUNC(G68*D68,1) -> 0 | I68: =단가대비표!V68 -> 0 | J68: =TRUNC(I68*D68,1) -> 0 | K68: =TRUNC(E68+G68+I68,1) -> 6176 | L68: =TRUNC(F68+H68+J68,1) -> 2470.4 | N68: 51825116F74F648AB7B51868763B28 | O68: 51E42116B0AD04B977B9A30CD53AB5C9260EFF | P68: F | Q68: F | R68: T | AW68: 51825116F74F648AB7B51868763B2851E42116B0AD04B977B9A30CD53AB5C9260EFF
A69: 전산볼트(통신) | B69: M10×1000㎜ | C69: 개 | D69: 2 | E69: =단가대비표!O32 -> 1170 | F69: =TRUNC(E69*D69,1) -> 2340 | G69: =단가대비표!P32 -> 0 | H69: =TRUNC(G69*D69,1) -> 0 | I69: =단가대비표!V32 -> 0 | J69: =TRUNC(I69*D69,1) -> 0 | K69: =TRUNC(E69+G69+I69,1) -> 1170 | L69: =TRUNC(F69+H69+J69,1) -> 2340 | N69: 51825116F74F648AB7B51868763B28 | O69: 51E4A11686E054BC771047CC9B693573A7FBF6 | P69: F | Q69: F | R69: T | AW69: 51825116F74F648AB7B51868763B2851E4A11686E054BC771047CC9B693573A7FBF6
A70: 스트롱앵커(통신) | B70: M10×L50mm | C70: 개 | D70: 2 | E70: =단가대비표!O36 -> 120 | F70: =TRUNC(E70*D70,1) -> 240 | G70: =단가대비표!P36 -> 0 | H70: =TRUNC(G70*D70,1) -> 0 | I70: =단가대비표!V36 -> 0 | J70: =TRUNC(I70*D70,1) -> 0 | K70: =TRUNC(E70+G70+I70,1) -> 120 | L70: =TRUNC(F70+H70+J70,1) -> 240 | N70: 51825116F74F648AB7B51868763B28 | O70: 51E4A11686E05480C76427A2679E3F3A3FE9CC | P70: F | Q70: F | R70: T | AW70: 51825116F74F648AB7B51868763B2851E4A11686E05480C76427A2679E3F3A3FE9CC
A71: 6각너트 | B71: M10 | C71: EA | D71: 4 | E71: =단가대비표!O33 -> 25.2 | F71: =TRUNC(E71*D71,1) -> 100.8 | G71: =단가대비표!P33 -> 0 | H71: =TRUNC(G71*D71,1) -> 0 | I71: =단가대비표!V33 -> 0 | J71: =TRUNC(I71*D71,1) -> 0 | K71: =TRUNC(E71+G71+I71,1) -> 25.2 | L71: =TRUNC(F71+H71+J71,1) -> 100.8 | N71: 51825116F74F648AB7B51868763B28 | O71: 51E4A11686E054BC677073A2207A9BEC0FB82B | P71: F | Q71: F | R71: T | AW71: 51825116F74F648AB7B51868763B2851E4A11686E054BC677073A2207A9BEC0FB82B
A72: 스프링 와샤 | B72: 10mm | C72: EA | D72: 4 | E72: =단가대비표!O34 -> 9.3 | F72: =TRUNC(E72*D72,1) -> 37.2 | G72: =단가대비표!P34 -> 0 | H72: =TRUNC(G72*D72,1) -> 0 | I72: =단가대비표!V34 -> 0 | J72: =TRUNC(I72*D72,1) -> 0 | K72: =TRUNC(E72+G72+I72,1) -> 9.3 | L72: =TRUNC(F72+H72+J72,1) -> 37.2 | N72: 51825116F74F648AB7B51868763B28 | O72: 51E4A11686E054BC97C6213CBFA294FB423962 | P72: F | Q72: F | R72: T | AW72: 51825116F74F648AB7B51868763B2851E4A11686E054BC97C6213CBFA294FB423962
A73: 케이블트레이부속품 | B73: RAIL CLAMP | C73: 개 | D73: 2 | E73: =단가대비표!O69 -> 500 | F73: =TRUNC(E73*D73,1) -> 1000 | G73: =단가대비표!P69 -> 0 | H73: =TRUNC(G73*D73,1) -> 0 | I73: =단가대비표!V69 -> 0 | J73: =TRUNC(I73*D73,1) -> 0 | K73: =TRUNC(E73+G73+I73,1) -> 500 | L73: =TRUNC(F73+H73+J73,1) -> 1000 | N73: 51825116F74F648AB7B51868763B28 | O73: 51E42116B0AD04B977B9A30CD5327F09E92325 | P73: F | Q73: F | R73: T | AW73: 51825116F74F648AB7B51868763B2851E42116B0AD04B977B9A30CD5327F09E92325
A74: 통신내선공 | B74: 일반공사직종 | C74: 인 | D74: 0.15 | E74: =단가대비표!O127 -> 0 | F74: =TRUNC(E74*D74,1) -> 0 | G74: =단가대비표!P127 -> 286219 | H74: =TRUNC(G74*D74,1) -> 42932.8 | I74: =단가대비표!V127 -> 0 | J74: =TRUNC(I74*D74,1) -> 0 | K74: =TRUNC(E74+G74+I74,1) -> 286219 | L74: =TRUNC(F74+H74+J74,1) -> 42932.8 | N74: 51825116F74F648AB7B51868763B28 | O74: 561EF116676E5481B7A1B8BD6E32D64ED3EA9C | P74: F | Q74: F | R74: T | V74: 1 | AW74: 51825116F74F648AB7B51868763B28561EF116676E5481B7A1B8BD6E32D64ED3EA9C
A75: 공구손료 | B75: 인력품의 3% | C75: 식 | D75: 1 | E75: =TRUNC(SUMIF(V68:V75, RIGHTB(O75, 1), H68:H75)*U75, 2) -> 1287.98 | F75: =TRUNC(E75*D75,1) -> 1287.9 | G75: 0 | H75: =TRUNC(G75*D75,1) -> 0 | I75: 0 | J75: =TRUNC(I75*D75,1) -> 0 | K75: =TRUNC(E75+G75+I75,1) -> 1287.9 | L75: =TRUNC(F75+H75+J75,1) -> 1287.9 | N75: 51825116F74F648AB7B51868763B28 | O75: 57D4C116E1C564CA27EBFFF5323F001 | P75: F | Q75: F | R75: F | S75: 1 | T75: 0 | U75: 0.03 | AW75: 51825116F74F648AB7B51868763B2857D4C116E1C564CA27EBFFF5323F001
A76: [ 합 계 ] | F76: =TRUNC(SUMIF(N68:N75, N67, F68:F75),0) -> 7476 | H76: =TRUNC(SUMIF(N68:N75, N67, H68:H75),0) -> 42932 | J76: =TRUNC(SUMIF(N68:N75, N67, J68:J75),0) -> 0 | L76: =F76+H76+J76 -> 50408 | N76: TOTAL | O76: TOTAL
A78: 트레이,덕트지지대-벽체or바닥(통신) W300 개소 통신 3-7-1 ( 호표 11 ) | N78: 51825116F74F648AB7B51A1A4DEC8A
A79: 케이블트레이부속품 | B79: U CHANNEL, 41x41x2.6t | C79: M | D79: 0.4 | E79: =단가대비표!O68 -> 6176 | F79: =TRUNC(E79*D79,1) -> 2470.4 | G79: =단가대비표!P68 -> 0 | H79: =TRUNC(G79*D79,1) -> 0 | I79: =단가대비표!V68 -> 0 | J79: =TRUNC(I79*D79,1) -> 0 | K79: =TRUNC(E79+G79+I79,1) -> 6176 | L79: =TRUNC(F79+H79+J79,1) -> 2470.4 | N79: 51825116F74F648AB7B51A1A4DEC8A | O79: 51E42116B0AD04B977B9A30CD53AB5C9260EFF | P79: F | Q79: F | R79: T | AW79: 51825116F74F648AB7B51A1A4DEC8A51E42116B0AD04B977B9A30CD53AB5C9260EFF
A80: 셋트앵커(통신) | B80: M10×L75mm | C80: 개 | D80: 2 | E80: =단가대비표!O35 -> 160 | F80: =TRUNC(E80*D80,1) -> 320 | G80: =단가대비표!P35 -> 0 | H80: =TRUNC(G80*D80,1) -> 0 | I80: =단가대비표!V35 -> 0 | J80: =TRUNC(I80*D80,1) -> 0 | K80: =TRUNC(E80+G80+I80,1) -> 160 | L80: =TRUNC(F80+H80+J80,1) -> 320 | N80: 51825116F74F648AB7B51A1A4DEC8A | O80: 51E4A11686E05480C76427A2679E3F3A3FE825 | P80: F | Q80: F | R80: T | AW80: 51825116F74F648AB7B51A1A4DEC8A51E4A11686E05480C76427A2679E3F3A3FE825
A81: 6각너트 | B81: M10 | C81: EA | D81: 2 | E81: =단가대비표!O33 -> 25.2 | F81: =TRUNC(E81*D81,1) -> 50.4 | G81: =단가대비표!P33 -> 0 | H81: =TRUNC(G81*D81,1) -> 0 | I81: =단가대비표!V33 -> 0 | J81: =TRUNC(I81*D81,1) -> 0 | K81: =TRUNC(E81+G81+I81,1) -> 25.2 | L81: =TRUNC(F81+H81+J81,1) -> 50.4 | N81: 51825116F74F648AB7B51A1A4DEC8A | O81: 51E4A11686E054BC677073A2207A9BEC0FB82B | P81: F | Q81: F | R81: T | AW81: 51825116F74F648AB7B51A1A4DEC8A51E4A11686E054BC677073A2207A9BEC0FB82B
A82: 스프링 와샤 | B82: 10mm | C82: EA | D82: 2 | E82: =단가대비표!O34 -> 9.3 | F82: =TRUNC(E82*D82,1) -> 18.6 | G82: =단가대비표!P34 -> 0 | H82: =TRUNC(G82*D82,1) -> 0 | I82: =단가대비표!V34 -> 0 | J82: =TRUNC(I82*D82,1) -> 0 | K82: =TRUNC(E82+G82+I82,1) -> 9.3 | L82: =TRUNC(F82+H82+J82,1) -> 18.6 | N82: 51825116F74F648AB7B51A1A4DEC8A | O82: 51E4A11686E054BC97C6213CBFA294FB423962 | P82: F | Q82: F | R82: T | AW82: 51825116F74F648AB7B51A1A4DEC8A51E4A11686E054BC97C6213CBFA294FB423962
A83: 케이블트레이부속품 | B83: RAIL CLAMP | C83: 개 | D83: 2 | E83: =단가대비표!O69 -> 500 | F83: =TRUNC(E83*D83,1) -> 1000 | G83: =단가대비표!P69 -> 0 | H83: =TRUNC(G83*D83,1) -> 0 | I83: =단가대비표!V69 -> 0 | J83: =TRUNC(I83*D83,1) -> 0 | K83: =TRUNC(E83+G83+I83,1) -> 500 | L83: =TRUNC(F83+H83+J83,1) -> 1000 | N83: 51825116F74F648AB7B51A1A4DEC8A | O83: 51E42116B0AD04B977B9A30CD5327F09E92325 | P83: F | Q83: F | R83: T | AW83: 51825116F74F648AB7B51A1A4DEC8A51E42116B0AD04B977B9A30CD5327F09E92325
A84: 통신내선공 | B84: 일반공사직종 | C84: 인 | D84: 0.08 | E84: =단가대비표!O127 -> 0 | F84: =TRUNC(E84*D84,1) -> 0 | G84: =단가대비표!P127 -> 286219 | H84: =TRUNC(G84*D84,1) -> 22897.5 | I84: =단가대비표!V127 -> 0 | J84: =TRUNC(I84*D84,1) -> 0 | K84: =TRUNC(E84+G84+I84,1) -> 286219 | L84: =TRUNC(F84+H84+J84,1) -> 22897.5 | N84: 51825116F74F648AB7B51A1A4DEC8A | O84: 561EF116676E5481B7A1B8BD6E32D64ED3EA9C | P84: F | Q84: F | R84: T | V84: 1 | AW84: 51825116F74F648AB7B51A1A4DEC8A561EF116676E5481B7A1B8BD6E32D64ED3EA9C
A85: 공구손료 | B85: 인력품의 3% | C85: 식 | D85: 1 | E85: =TRUNC(SUMIF(V79:V85, RIGHTB(O85, 1), H79:H85)*U85, 2) -> 686.92 | F85: =TRUNC(E85*D85,1) -> 686.9 | G85: 0 | H85: =TRUNC(G85*D85,1) -> 0 | I85: 0 | J85: =TRUNC(I85*D85,1) -> 0 | K85: =TRUNC(E85+G85+I85,1) -> 686.9 | L85: =TRUNC(F85+H85+J85,1) -> 686.9 | N85: 51825116F74F648AB7B51A1A4DEC8A | O85: 57D4C116E1C564CA27EBFFF5323F001 | P85: F | Q85: F | R85: F | S85: 1 | T85: 0 | U85: 0.03 | AW85: 51825116F74F648AB7B51A1A4DEC8A57D4C116E1C564CA27EBFFF5323F001
A86: [ 합 계 ] | F86: =TRUNC(SUMIF(N79:N85, N78, F79:F85),0) -> 4546 | H86: =TRUNC(SUMIF(N79:N85, N78, H79:H85),0) -> 22897 | J86: =TRUNC(SUMIF(N79:N85, N78, J79:J85),0) -> 0 | L86: =F86+H86+J86 -> 27443 | N86: TOTAL | O86: TOTAL
A88: 관통구 방화폼 (TRAY) 300mm 개소 A사 ( 호표 12 ) | N88: 51825116F74F648AC742733DB416F9
A89: 미네랄울보온판 | B89: 미네랄울 (100kg/㎥) | C89: ㎡ | D89: 0.12 | E89: =단가대비표!O133 -> 23400 | F89: =TRUNC(E89*D89,1) -> 2808 | G89: =단가대비표!P133 -> 0 | H89: =TRUNC(G89*D89,1) -> 0 | I89: =단가대비표!V133 -> 0 | J89: =TRUNC(I89*D89,1) -> 0 | K89: =TRUNC(E89+G89+I89,1) -> 23400 | L89: =TRUNC(F89+H89+J89,1) -> 2808 | N89: 51825116F74F648AC742733DB416F9 | O89: 560B51167D2E8443C75B02A4B61619F899C71F | P89: F | Q89: F | R89: T | AW89: 51825116F74F648AC742733DB416F9560B51167D2E8443C75B02A4B61619F899C71F
A90: 실리콘 RTV 폼 | B90: BMG-80 | C90: kg | D90: 3.2 | E90: =단가대비표!O134 -> 22000 | F90: =TRUNC(E90*D90,1) -> 70400 | G90: =단가대비표!P134 -> 0 | H90: =TRUNC(G90*D90,1) -> 0 | I90: =단가대비표!V134 -> 0 | J90: =TRUNC(I90*D90,1) -> 0 | K90: =TRUNC(E90+G90+I90,1) -> 22000 | L90: =TRUNC(F90+H90+J90,1) -> 70400 | N90: 51825116F74F648AC742733DB416F9 | O90: 560B51167D2E8443C75B02A4B61619F89AEE29 | P90: F | Q90: F | R90: T | AW90: 51825116F74F648AC742733DB416F9560B51167D2E8443C75B02A4B61619F89AEE29
A91: 방화 실리콘 실란트 | B91: BMG-LS109(실란트) | C91: ml | D91: 480 | E91: =단가대비표!O135 -> 30 | F91: =TRUNC(E91*D91,1) -> 14400 | G91: =단가대비표!P135 -> 0 | H91: =TRUNC(G91*D91,1) -> 0 | I91: =단가대비표!V135 -> 0 | J91: =TRUNC(I91*D91,1) -> 0 | K91: =TRUNC(E91+G91+I91,1) -> 30 | L91: =TRUNC(F91+H91+J91,1) -> 14400 | N91: 51825116F74F648AC742733DB416F9 | O91: 560B51167D2E8443C75B02A4B61619F89BF474 | P91: F | Q91: F | R91: T | AW91: 51825116F74F648AC742733DB416F9560B51167D2E8443C75B02A4B61619F89BF474
A92: 내장공 | B92: 일반공사직종 | C92: 인 | D92: 0.125 | E92: =단가대비표!O122 -> 0 | F92: =TRUNC(E92*D92,1) -> 0 | G92: =단가대비표!P122 -> 258904 | H92: =TRUNC(G92*D92,1) -> 32363 | I92: =단가대비표!V122 -> 0 | J92: =TRUNC(I92*D92,1) -> 0 | K92: =TRUNC(E92+G92+I92,1) -> 258904 | L92: =TRUNC(F92+H92+J92,1) -> 32363 | N92: 51825116F74F648AC742733DB416F9 | O92: 561EF116676E5481B7A1B8BD6E32D64ED3E1BD | P92: F | Q92: F | R92: T | V92: 1 | AW92: 51825116F74F648AC742733DB416F9561EF116676E5481B7A1B8BD6E32D64ED3E1BD
A93: 특별인부 | B93: 일반공사직종 | C93: 인 | D93: 0.125 | E93: =단가대비표!O121 -> 0 | F93: =TRUNC(E93*D93,1) -> 0 | G93: =단가대비표!P121 -> 228717 | H93: =TRUNC(G93*D93,1) -> 28589.6 | I93: =단가대비표!V121 -> 0 | J93: =TRUNC(I93*D93,1) -> 0 | K93: =TRUNC(E93+G93+I93,1) -> 228717 | L93: =TRUNC(F93+H93+J93,1) -> 28589.6 | N93: 51825116F74F648AC742733DB416F9 | O93: 561EF116676E5481B7A1B8BD6E32D64ED3E247 | P93: F | Q93: F | R93: T | V93: 1 | AW93: 51825116F74F648AC742733DB416F9561EF116676E5481B7A1B8BD6E32D64ED3E247
A94: 보통인부 | B94: 일반공사직종 | C94: 인 | D94: 0.125 | E94: =단가대비표!O120 -> 0 | F94: =TRUNC(E94*D94,1) -> 0 | G94: =단가대비표!P120 -> 172698 | H94: =TRUNC(G94*D94,1) -> 21587.2 | I94: =단가대비표!V120 -> 0 | J94: =TRUNC(I94*D94,1) -> 0 | K94: =TRUNC(E94+G94+I94,1) -> 172698 | L94: =TRUNC(F94+H94+J94,1) -> 21587.2 | N94: 51825116F74F648AC742733DB416F9 | O94: 561EF116676E5481B7A1B8BD6E32D64ED3E246 | P94: F | Q94: F | R94: T | V94: 1 | AW94: 51825116F74F648AC742733DB416F9561EF116676E5481B7A1B8BD6E32D64ED3E246
A95: 공구손료 | B95: 인력품의 3% | C95: 식 | D95: 1 | E95: =TRUNC(SUMIF(V89:V95, RIGHTB(O95, 1), H89:H95)*U95, 2) -> 2476.19 | F95: =TRUNC(E95*D95,1) -> 2476.1 | G95: 0 | H95: =TRUNC(G95*D95,1) -> 0 | I95: 0 | J95: =TRUNC(I95*D95,1) -> 0 | K95: =TRUNC(E95+G95+I95,1) -> 2476.1 | L95: =TRUNC(F95+H95+J95,1) -> 2476.1 | N95: 51825116F74F648AC742733DB416F9 | O95: 57D4C116E1C564CA27EBFFF5323F001 | P95: F | Q95: F | R95: F | S95: 1 | T95: 0 | U95: 0.03 | AW95: 51825116F74F648AC742733DB416F957D4C116E1C564CA27EBFFF5323F001
A96: [ 합 계 ] | F96: =TRUNC(SUMIF(N89:N95, N88, F89:F95),0) -> 90084 | H96: =TRUNC(SUMIF(N89:N95, N88, H89:H95),0) -> 82539 | J96: =TRUNC(SUMIF(N89:N95, N88, J89:J95),0) -> 0 | L96: =F96+H96+J96 -> 172623 | N96: TOTAL | O96: TOTAL
A98: 광섬유 케이블 2Core (S/M) M 통신 4-1-3 ( 호표 13 ) | N98: 51825116F74C944CB7F1C90EC42AEA
A99: 광섬유 케이블 | B99: 2Core (S/M) | C99: M | D99: 1 | E99: =단가대비표!O25 -> 1300 | F99: =TRUNC(E99*D99,1) -> 1300 | G99: =단가대비표!P25 -> 0 | H99: =TRUNC(G99*D99,1) -> 0 | I99: =단가대비표!V25 -> 0 | J99: =TRUNC(I99*D99,1) -> 0 | K99: =TRUNC(E99+G99+I99,1) -> 1300 | L99: =TRUNC(F99+H99+J99,1) -> 1300 | N99: 51825116F74C944CB7F1C90EC42AEA | O99: 51F541164C1E54DC076D539321C2CA9BC6C4A5 | P99: F | Q99: F | R99: T | V99: 1 | AW99: 51825116F74C944CB7F1C90EC42AEA51F541164C1E54DC076D539321C2CA9BC6C4A5
A100: 광섬유 케이블 | B100: 2Core (S/M) | C100: M | D100: 0.075 | E100: =단가대비표!O25 -> 1300 | F100: =TRUNC(E100*D100,1) -> 97.5 | G100: =단가대비표!P25 -> 0 | H100: =TRUNC(G100*D100,1) -> 0 | I100: =단가대비표!V25 -> 0 | J100: =TRUNC(I100*D100,1) -> 0 | K100: =TRUNC(E100+G100+I100,1) -> 1300 | L100: =TRUNC(F100+H100+J100,1) -> 97.5 | N100: 51825116F74C944CB7F1C90EC42AEA | O100: 51F541164C1E54DC076D539321C2CA9BC6C4A5 | P100: F | Q100: F | R100: T | AW100: 51825116F74C944CB7F1C90EC42AEA51F541164C1E54DC076D539321C2CA9BC6C4A5
A101: 잡재료비 | B101: 배관배선의 2% | C101: 식 | D101: 1 | E101: =TRUNC(SUMIF(V99:V104, RIGHTB(O101, 1), F99:F104)*U101, 2) -> 26 | F101: =TRUNC(E101*D101,1) -> 26 | G101: 0 | H101: =TRUNC(G101*D101,1) -> 0 | I101: 0 | J101: =TRUNC(I101*D101,1) -> 0 | K101: =TRUNC(E101+G101+I101,1) -> 26 | L101: =TRUNC(F101+H101+J101,1) -> 26 | N101: 51825116F74C944CB7F1C90EC42AEA | O101: 57D4C116E1C564CA27EBFFF5323F001 | P101: F | Q101: F | R101: F | S101: 0 | T101: 0 | U101: 0.02 | AW101: 51825116F74C944CB7F1C90EC42AEA57D4C116E1C564CA27EBFFF5323F001
A102: 광케이블설치사 | B102: 일반공사직종 | C102: 인 | D102: 0.0092 | E102: =단가대비표!O131 -> 0 | F102: =TRUNC(E102*D102,1) -> 0 | G102: =단가대비표!P131 -> 471931 | H102: =TRUNC(G102*D102,1) -> 4341.7 | I102: =단가대비표!V131 -> 0 | J102: =TRUNC(I102*D102,1) -> 0 | K102: =TRUNC(E102+G102+I102,1) -> 471931 | L102: =TRUNC(F102+H102+J102,1) -> 4341.7 | N102: 51825116F74C944CB7F1C90EC42AEA | O102: 561EF116676E5481B7A1BB7117D5F4287121B6 | P102: F | Q102: F | R102: T | W102: 2 | AW102: 51825116F74C944CB7F1C90EC42AEA561EF116676E5481B7A1BB7117D5F4287121B6
A103: 특별인부 | B103: 일반공사직종 | C103: 인 | D103: 0.0046 | E103: =단가대비표!O121 -> 0 | F103: =TRUNC(E103*D103,1) -> 0 | G103: =단가대비표!P121 -> 228717 | H103: =TRUNC(G103*D103,1) -> 1052 | I103: =단가대비표!V121 -> 0 | J103: =TRUNC(I103*D103,1) -> 0 | K103: =TRUNC(E103+G103+I103,1) -> 228717 | L103: =TRUNC(F103+H103+J103,1) -> 1052 | N103: 51825116F74C944CB7F1C90EC42AEA | O103: 561EF116676E5481B7A1B8BD6E32D64ED3E247 | P103: F | Q103: F | R103: T | W103: 2 | AW103: 51825116F74C944CB7F1C90EC42AEA561EF116676E5481B7A1B8BD6E32D64ED3E247
A104: 공구손료 | B104: 인력품의 3% | C104: 식 | D104: 1 | E104: =TRUNC(SUMIF(W99:W104, RIGHTB(O104, 1), H99:H104)*U104, 2) -> 161.81 | F104: =TRUNC(E104*D104,1) -> 161.8 | G104: 0 | H104: =TRUNC(G104*D104,1) -> 0 | I104: 0 | J104: =TRUNC(I104*D104,1) -> 0 | K104: =TRUNC(E104+G104+I104,1) -> 161.8 | L104: =TRUNC(F104+H104+J104,1) -> 161.8 | N104: 51825116F74C944CB7F1C90EC42AEA | O104: 57D4C116E1C564CA27EBFFF5323C002 | P104: F | Q104: F | R104: F | S104: 1 | T104: 0 | U104: 0.03 | AW104: 51825116F74C944CB7F1C90EC42AEA57D4C116E1C564CA27EBFFF5323C002
A105: [ 합 계 ] | F105: =TRUNC(SUMIF(N99:N104, N98, F99:F104),0) -> 1585 | H105: =TRUNC(SUMIF(N99:N104, N98, H99:H104),0) -> 5393 | J105: =TRUNC(SUMIF(N99:N104, N98, J99:J104),0) -> 0 | L105: =F105+H105+J105 -> 6978 | N105: TOTAL | O105: TOTAL
A107: 광섬유 케이블 12Core (S/M) M 통신 4-1-3 ( 호표 14 ) | N107: 51825116F74C944CB7F1C90EC420E6
A108: 광섬유 케이블 | B108: 12Core (S/M) | C108: M | D108: 1 | E108: =단가대비표!O26 -> 1260 | F108: =TRUNC(E108*D108,1) -> 1260 | G108: =단가대비표!P26 -> 0 | H108: =TRUNC(G108*D108,1) -> 0 | I108: =단가대비표!V26 -> 0 | J108: =TRUNC(I108*D108,1) -> 0 | K108: =TRUNC(E108+G108+I108,1) -> 1260 | L108: =TRUNC(F108+H108+J108,1) -> 1260 | N108: 51825116F74C944CB7F1C90EC420E6 | O108: 51F541164C1E54DC076D539321C2CA9BC6C54F | P108: F | Q108: F | R108: T | V108: 1 | AW108: 51825116F74C944CB7F1C90EC420E651F541164C1E54DC076D539321C2CA9BC6C54F
A109: 광섬유 케이블 | B109: 12Core (S/M) | C109: M | D109: 0.075 | E109: =단가대비표!O26 -> 1260 | F109: =TRUNC(E109*D109,1) -> 94.5 | G109: =단가대비표!P26 -> 0 | H109: =TRUNC(G109*D109,1) -> 0 | I109: =단가대비표!V26 -> 0 | J109: =TRUNC(I109*D109,1) -> 0 | K109: =TRUNC(E109+G109+I109,1) -> 1260 | L109: =TRUNC(F109+H109+J109,1) -> 94.5 | N109: 51825116F74C944CB7F1C90EC420E6 | O109: 51F541164C1E54DC076D539321C2CA9BC6C54F | P109: F | Q109: F | R109: T | AW109: 51825116F74C944CB7F1C90EC420E651F541164C1E54DC076D539321C2CA9BC6C54F
A110: 잡재료비 | B110: 배관배선의 2% | C110: 식 | D110: 1 | E110: =TRUNC(SUMIF(V108:V113, RIGHTB(O110, 1), F108:F113)*U110, 2) -> 25.2 | F110: =TRUNC(E110*D110,1) -> 25.2 | G110: 0 | H110: =TRUNC(G110*D110,1) -> 0 | I110: 0 | J110: =TRUNC(I110*D110,1) -> 0 | K110: =TRUNC(E110+G110+I110,1) -> 25.2 | L110: =TRUNC(F110+H110+J110,1) -> 25.2 | N110: 51825116F74C944CB7F1C90EC420E6 | O110: 57D4C116E1C564CA27EBFFF5323F001 | P110: F | Q110: F | R110: F | S110: 0 | T110: 0 | U110: 0.02 | AW110: 51825116F74C944CB7F1C90EC420E657D4C116E1C564CA27EBFFF5323F001
A111: 광케이블설치사 | B111: 일반공사직종 | C111: 인 | D111: 0.0092 | E111: =단가대비표!O131 -> 0 | F111: =TRUNC(E111*D111,1) -> 0 | G111: =단가대비표!P131 -> 471931 | H111: =TRUNC(G111*D111,1) -> 4341.7 | I111: =단가대비표!V131 -> 0 | J111: =TRUNC(I111*D111,1) -> 0 | K111: =TRUNC(E111+G111+I111,1) -> 471931 | L111: =TRUNC(F111+H111+J111,1) -> 4341.7 | N111: 51825116F74C944CB7F1C90EC420E6 | O111: 561EF116676E5481B7A1BB7117D5F4287121B6 | P111: F | Q111: F | R111: T | W111: 2 | AW111: 51825116F74C944CB7F1C90EC420E6561EF116676E5481B7A1BB7117D5F4287121B6
A112: 특별인부 | B112: 일반공사직종 | C112: 인 | D112: 0.0046 | E112: =단가대비표!O121 -> 0 | F112: =TRUNC(E112*D112,1) -> 0 | G112: =단가대비표!P121 -> 228717 | H112: =TRUNC(G112*D112,1) -> 1052 | I112: =단가대비표!V121 -> 0 | J112: =TRUNC(I112*D112,1) -> 0 | K112: =TRUNC(E112+G112+I112,1) -> 228717 | L112: =TRUNC(F112+H112+J112,1) -> 1052 | N112: 51825116F74C944CB7F1C90EC420E6 | O112: 561EF116676E5481B7A1B8BD6E32D64ED3E247 | P112: F | Q112: F | R112: T | W112: 2 | AW112: 51825116F74C944CB7F1C90EC420E6561EF116676E5481B7A1B8BD6E32D64ED3E247
A113: 공구손료 | B113: 인력품의 3% | C113: 식 | D113: 1 | E113: =TRUNC(SUMIF(W108:W113, RIGHTB(O113, 1), H108:H113)*U113, 2) -> 161.81 | F113: =TRUNC(E113*D113,1) -> 161.8 | G113: 0 | H113: =TRUNC(G113*D113,1) -> 0 | I113: 0 | J113: =TRUNC(I113*D113,1) -> 0 | K113: =TRUNC(E113+G113+I113,1) -> 161.8 | L113: =TRUNC(F113+H113+J113,1) -> 161.8 | N113: 51825116F74C944CB7F1C90EC420E6 | O113: 57D4C116E1C564CA27EBFFF5323C002 | P113: F | Q113: F | R113: F | S113: 1 | T113: 0 | U113: 0.03 | AW113: 51825116F74C944CB7F1C90EC420E657D4C116E1C564CA27EBFFF5323C002
...

Sheet 단가대비표
A1: 단 가 대 비 표
A2: [ 북원도서관신축사업설계용역-통신 ]
A3: 코 드 | B3: 품 명 | C3: 규격 | D3: 단위 | E3: 재 료 비 | P3: 노 무 비 | Q3: 경 비 | W3: 번 호 | X3: 비 고 | Y3: 품목구분 | Z3: 노임구분 | AA3: 소수점처리 | AB3: 자재구분
E4: 조달청가격 | F4: PAGE | G4: 물가자료 | H4: PAGE | I4: 유통물가 | J4: PAGE | K4: 거래가격 | L4: PAGE | M4: 조사가격 | N4: PAGE | O4: 적용단가 | Q4: 조달청가격 | R4: 물가자료 | S4: 유통물가 | T4: 거래가격 | U4: 조사가격 | V4: 적용단가
A5: 51DA411623C75434A7165627D8D2B6E674D6EA | B5: 굴삭기(무한궤도) | C5: 0.2㎥ | D5: 대 | E5: 0 | G5: 0 | H5: -160 | I5: 0 | K5: 0 | M5: 0 | O5: 0 | P5: 0 | Q5: 0 | R5: 66538 | S5: 0 | T5: 0 | U5: 0 | V5: =SMALL(Q5:U5,COUNTIF(Q5:U5,0)+1) -> 66538 | W5: 자재 1 | X5: 천원
A6: 51DA411623C75434A7165627D8D73820164E32 | B6: 굴삭기(유압식백호) | C6: 0.7 M3 | D6: 대 | E6: 0 | G6: 0 | H6: -160 | I6: 0 | K6: 0 | M6: 0 | O6: 0 | P6: 0 | Q6: 0 | R6: 117766 | S6: 0 | T6: 0 | U6: 0 | V6: =SMALL(Q6:U6,COUNTIF(Q6:U6,0)+1) -> 117766 | W6: 자재 2 | X6: 천원
A7: 51DA411623C7542A17FEAF711539E74429B60E | B7: 진동 롤러(핸드가이드식) | C7: 0.7톤 | D7: 대 | E7: 0 | G7: 0 | H7: -161 | I7: 0 | K7: 0 | M7: 0 | O7: 0 | P7: 0 | Q7: 0 | R7: 6966 | S7: 0 | T7: 0 | U7: 0 | V7: =SMALL(Q7:U7,COUNTIF(Q7:U7,0)+1) -> 6966 | W7: 자재 3 | X7: 천원
A8: 51DA411623C7542A47B0A30A04D9499F607FC1 | B8: 래머 | C8: 80kg | D8: 대 | E8: 0 | G8: 0 | H8: -161 | I8: 0 | K8: 0 | M8: 0 | O8: 0 | P8: 0 | Q8: 0 | R8: 1418 | S8: 0 | T8: 0 | U8: 0 | V8: =SMALL(Q8:U8,COUNTIF(Q8:U8,0)+1) -> 1418 | W8: 자재 4 | X8: 천원
A9: 51DA411623C75419A78D5DAA234071EFB52242 | B9: 크레인(타이어) | C9: 10톤 | D9: 대 | E9: 0 | G9: 0 | H9: -161 | I9: 0 | K9: 0 | M9: 0 | O9: 0 | P9: 0 | Q9: 0 | R9: 136400 | S9: 0 | T9: 0 | U9: 0 | V9: =SMALL(Q9:U9,COUNTIF(Q9:U9,0)+1) -> 136400 | W9: 자재 5 | X9: 천원
A10: 51C9F116FEBDD4B6A70EBBE3B674702EB6F7AD | B10: 자갈 | C10: 도착도, #467 | D10: ㎥ | E10: 0 | G10: 32000 | H10: 62 | I10: 29000 | J10: 60 | K10: 0 | M10: 0 | O10: =SMALL(E10:M10,COUNTIF(E10:M10,0)+1) -> 29000 | P10: 0 | Q10: 0 | R10: 0 | S10: 0 | T10: 0 | U10: 0 | V10: 0 | W10: 자재 6
A11: 51C9B1160522C45BB7E496B31A601AC3F77C9C | B11: 경유 | C11: 저유황 | D11: L | E11: 0 | G11: 1745 | H11: -32 | I11: 1662 | J11: 1189 | K11: 1656 | L11: 1451 | M11: 0 | O11: =SMALL(E11:M11,COUNTIF(E11:M11,0)+1) -> 1656 | P11: 0 | Q11: 0 | R11: 0 | S11: 0 | T11: 0 | U11: 0 | V11: 0 | W11: 자재 7
A12: 51C9B1160522C45BB7E495A84DD82FB9082E2B | B12: 휘발유 | C12: 무연 | D12: L | E12: 0 | G12: 1782 | H12: -32 | I12: 1746 | J12: 1189 | K12: 1743 | L12: 1451 | M12: 0 | O12: =SMALL(E12:M12,COUNTIF(E12:M12,0)+1) -> 1743 | P12: 0 | Q12: 0 | R12: 0 | S12: 0 | T12: 0 | U12: 0 | V12: 0 | W12: 자재 8
A13: 51F541164C1E54DC37207063ED0C9ECF09780F | B13: 난연성 비닐절연 접지용전선(통신) | C13: 0.6/1kV F-GV 6㎟ | D13: m | E13: 1408 | G13: 2207 | H13: 1075 | I13: 1765 | J13: 833 | K13: 1912 | L13: 994 | M13: 0 | O13: =SMALL(E13:M13,COUNTIF(E13:M13,0)+1) -> 1408 | P13: 0 | Q13: 0 | R13: 0 | S13: 0 | T13: 0 | U13: 0 | V13: 0 | W13: 자재 9 | X13: ...
A14: 51F541164C1E54DC37207063ED0C9ECF09780B | B14: 난연성 비닐절연 접지용전선(통신) | C14: 0.6/1kV F-GV 35㎟ | D14: m | E14: 6038 | G14: 9926 | H14: 1075 | I14: 8825 | J14: 833 | K14: 9133 | L14: 994 | M14: 0 | O14: =SMALL(E14:M14,COUNTIF(E14:M14,0)+1) -> 6038 | P14: 0 | Q14: 0 | R14: 0 | S14: 0 | T14: 0 | U14: 0 | V14: 0 | W14: 자재 10 | X14: ...
A15: 51F541164C1E54DC076E7D0D071D4B6A14F498 | B15: TV용 고발포동축케이블 | C15: 5C-HFBT | D15: M | E15: 676 | G15: 983 | H15: 1074 | I15: 1122 | J15: 840 | K15: 519 | L15: 1007 | M15: 0 | O15: =SMALL(E15:M15,COUNTIF(E15:M15,0)+1) -> 519 | P15: 0 | Q15: 0 | R15: 0 | S15: 0 | T15: 0 | U15: 0 | V15: 0 | W15: 자재 11
A16: 51F541164C1E54DC076E7D0D071D4B6A14F496 | B16: TV용 고발포동축케이블 | C16: 7C-HFBT | D16: M | E16: 1006 | G16: 1197 | H16: 1074 | I16: 1995 | J16: 840 | K16: 964 | L16: 1007 | M16: 0 | O16: =SMALL(E16:M16,COUNTIF(E16:M16,0)+1) -> 964 | P16: 0 | Q16: 0 | R16: 0 | S16: 0 | T16: 0 | U16: 0 | V16: 0 | W16: 자재 12
A17: 51F541164C1E54DC076E7267CB3E1BC8F90762 | B17: UTP 케이블 | C17: CAT 5E. 4P-0.5mm | D17: M | E17: 400 | G17: 0 | I17: 790 | J17: 847 | K17: 1150 | L17: 1003 | M17: 0 | O17: =SMALL(E17:M17,COUNTIF(E17:M17,0)+1) -> 400 | P17: 0 | Q17: 0 | R17: 0 | S17: 0 | T17: 0 | U17: 0 | V17: 0 | W17: 자재 13
A18: 51F541164C1E54DC076E7267CB3E1BC8F90761 | B18: UTP 케이블 | C18: CAT 5E. 25P-0.5mm | D18: M | E18: 2831 | G18: 0 | I18: 5550 | J18: 847 | K18: 10050 | L18: 1003 | M18: 0 | O18: =SMALL(E18:M18,COUNTIF(E18:M18,0)+1) -> 2831 | P18: 0 | Q18: 0 | R18: 0 | S18: 0 | T18: 0 | U18: 0 | V18: 0 | W18: 자재 14
A19: 51F541164C1E54DC076E7267CB3E1BC8F90760 | B19: UTP 케이블 | C19: CAT 6. 4P-0.5mm | D19: M | E19: 570 | G19: 0 | I19: 0 | K19: 1370 | L19: 1003 | M19: 0 | O19: =SMALL(E19:M19,COUNTIF(E19:M19,0)+1) -> 570 | P19: 0 | Q19: 0 | R19: 0 | S19: 0 | T19: 0 | U19: 0 | V19: 0 | W19: 자재 15
A20: 51F541164C1E54DC076F0216D284C70C6E46D6 | B20: 비닐코드선 | C20: VCTF, 3C 1.5 ㎟ | D20: M | E20: 0 | G20: 1167 | H20: 1080 | I20: 2587 | J20: 843 | K20: 1224 | L20: 1001 | M20: 0 | O20: =SMALL(E20:M20,COUNTIF(E20:M20,0)+1) -> 1167 | P20: 0 | Q20: 0 | R20: 0 | S20: 0 | T20: 0 | U20: 0 | V20: 0 | W20: 자재 16
A21: 51F541164C1E54DC076F0216D284C70C6E46D3 | B21: 비닐코드선 | C21: VCTF, 3C 2.5 ㎟ | D21: M | E21: 0 | G21: 1906 | H21: 1080 | I21: 0 | K21: 0 | M21: 0 | O21: =SMALL(E21:M21,COUNTIF(E21:M21,0)+1) -> 1906 | P21: 0 | Q21: 0 | R21: 0 | S21: 0 | T21: 0 | U21: 0 | V21: 0 | W21: 자재 17
A22: 51F541164C1E54DC076C446BA9296B37A85620 | B22: 0.6/1kV가교폴리에틸렌(F-CV) 통신 | C22: 3C 4㎟ | D22: M | E22: 3368 | G22: 4352 | H22: 1075 | I22: 3724 | J22: 834 | K22: 3933 | L22: 993 | M22: 0 | O22: =SMALL(E22:M22,COUNTIF(E22:M22,0)+1) -> 3368 | P22: 0 | Q22: 0 | R22: 0 | S22: 0 | T22: 0 | U22: 0 | V22: 0 | W22: 자재 18
A23: 51F541164C1E54DC076C446A820611D25BD4C8 | B23: 저독성폴리올레핀절연전선(HFIX) 통신 | C23: 1.5㎟(1.38㎜) | D23: m | E23: 356 | G23: 441 | H23: 1074 | I23: 559 | J23: 833 | K23: 397 | L23: 993 | M23: 0 | O23: =SMALL(E23:M23,COUNTIF(E23:M23,0)+1) -> 356 | P23: 0 | Q23: 0 | R23: 0 | S23: 0 | T23: 0 | U23: 0 | V23: 0 | W23: 자재 19
A24: 51F541164C1E54DC076C446A820611D25BD4CB | B24: 저독성폴리올레핀절연전선(HFIX) 통신 | C24: 2.5㎟(1.78㎜) | D24: m | E24: 544 | G24: 641 | H24: 1074 | I24: 902 | J24: 833 | K24: 603 | L24: 993 | M24: 0 | O24: =SMALL(E24:M24,COUNTIF(E24:M24,0)+1) -> 544 | P24: 0 | Q24: 0 | R24: 0 | S24: 0 | T24: 0 | U24: 0 | V24: 0 | W24: 자재 20
A25: 51F541164C1E54DC076D539321C2CA9BC6C4A5 | B25: 광섬유 케이블 | C25: 2Core (S/M) | D25: M | E25: 0 | G25: 0 | I25: 0 | K25: 1400 | L25: B사 | M25: 1300 | N25: A사 | O25: =SMALL(E25:M25,COUNTIF(E25:M25,0)+1) -> 1300 | P25: 0 | Q25: 0 | R25: 0 | S25: 0 | T25: 0 | U25: 0 | V25: 0 | W25: 자재 21
A26: 51F541164C1E54DC076D539321C2CA9BC6C54F | B26: 광섬유 케이블 | C26: 12Core (S/M) | D26: M | E26: 1592 | G26: 1260 | H26: 1080 | I26: 2640 | J26: 849 | K26: 2200 | L26: B사 | M26: 2000 | N26: A사 | O26: =SMALL(E26:M26,COUNTIF(E26:M26,0)+1) -> 1260 | P26: 0 | Q26: 0 | R26: 0 | S26: 0 | T26: 0 | U26: 0 | V26: 0 | W26: 자재 22
A27: 51F541164C1E54DC076A80DB2A03E99507A874 | B27: 0.6/1kV 고내화전선 (F-FR-8) 통신 옥내 | C27: 5C 2.5 ㎟ | D27: M | E27: 0 | G27: 0 | I27: 8151 | J27: C사 | K27: 0 | M27: 0 | O27: =SMALL(E27:M27,COUNTIF(E27:M27,0)+1) -> 8151 | P27: 0 | Q27: 0 | R27: 0 | S27: 0 | T27: 0 | U27: 0 | V27: 0 | W27: 자재 23
A28: 51F541164C1E54DC076A80DB2A03E9950845FA | B28: 0.6/1kV 고내화전선 (F-FR-8) 통신 옥내 | C28: 10C 2.5 ㎟ | D28: M | E28: 0 | G28: 0 | I28: 15433 | J28: C사 | K28: 0 | M28: 0 | O28: =SMALL(E28:M28,COUNTIF(E28:M28,0)+1) -> 15433 | P28: 0 | Q28: 0 | R28: 0 | S28: 0 | T28: 0 | U28: 0 | V28: 0 | W28: 자재 24
A29: 51E4B116ACEB049FF79DFF2EDC04BD49F89D03 | B29: 핸드홀(수공1호) | C29: 450x950x700x150 | D29: 조 | E29: 0 | G29: 0 | I29: 95000 | J29: 963 | K29: 0 | M29: 110000 | N29: 물정207 | O29: =SMALL(E29:M29,COUNTIF(E29:M29,0)+1) -> 95000 | P29: 0 | Q29: 0 | R29: 0 | S29: 0 | T29: 0 | U29: 0 | V29: 0 | W29: 자재 25
A30: 51E4B116ACEB049FF79DFF2EDC04BD49F89D07 | B30: 통신수공카바(철개)-1호 | C30: 주철각형 K.S (1120x620x132) | D30: 조 | E30: 0 | G30: 0 | I30: 0 | K30: 470000 | L30: 235 | M30: 0 | O30: =SMALL(E30:M30,COUNTIF(E30:M30,0)+1) -> 470000 | P30: 0 | Q30: 0 | R30: 0 | S30: 0 | T30: 0 | U30: 0 | V30: 0 | W30: 자재 26
A31: 51E4A11686E054BC7719ADF723491708E46D9E | B31: 앵커볼트 | C31: M16×L300 | D31: 개 | E31: 982 | G31: 0 | I31: 0 | K31: 1660 | L31: 94 | M31: 0 | O31: =SMALL(E31:M31,COUNTIF(E31:M31,0)+1) -> 982 | P31: 0 | Q31: 0 | R31: 0 | S31: 0 | T31: 0 | U31: 0 | V31: 0 | W31: 자재 27
A32: 51E4A11686E054BC771047CC9B693573A7FBF6 | B32: 전산볼트(통신) | C32: M10×1000㎜ | D32: 개 | E32: 0 | G32: 1409 | H32: 46 | I32: 1238 | J32: 51 | K32: 1170 | L32: 91 | M32: 0 | O32: =SMALL(E32:M32,COUNTIF(E32:M32,0)+1) -> 1170 | P32: 0 | Q32: 0 | R32: 0 | S32: 0 | T32: 0 | U32: 0 | V32: 0 | W32: 자재 28
A33: 51E4A11686E054BC677073A2207A9BEC0FB82B | B33: 6각너트 | C33: M10 | D33: EA | E33: 0 | G33: 33.2 | H33: 51 | I33: 25.2 | J33: 56 | K33: 30 | L33: 97 | M33: 0 | O33: =SMALL(E33:M33,COUNTIF(E33:M33,0)+1) -> 25.2 | P33: 0 | Q33: 0 | R33: 0 | S33: 0 | T33: 0 | U33: 0 | V33: 0 | W33: 자재 29
A34: 51E4A11686E054BC97C6213CBFA294FB423962 | B34: 스프링 와샤 | C34: 10mm | D34: EA | E34: 0 | G34: 11.53 | H34: 48 | I34: 9.3 | J34: 56 | K34: 9.6 | L34: 94 | M34: 0 | O34: =SMALL(E34:M34,COUNTIF(E34:M34,0)+1) -> 9.3 | P34: 0 | Q34: 0 | R34: 0 | S34: 0 | T34: 0 | U34: 0 | V34: 0 | W34: 자재 30
A35: 51E4A11686E05480C76427A2679E3F3A3FE825 | B35: 셋트앵커(통신) | C35: M10×L75mm | D35: 개 | E35: 0 | G35: 160 | H35: 52 | I35: 160 | J35: 53 | K35: 170 | L35: 94 | M35: 0 | O35: =SMALL(E35:M35,COUNTIF(E35:M35,0)+1) -> 160 | P35: 0 | Q35: 0 | R35: 0 | S35: 0 | T35: 0 | U35: 0 | V35: 0 | W35: 자재 31
A36: 51E4A11686E05480C76427A2679E3F3A3FE9CC | B36: 스트롱앵커(통신) | C36: M10×L50mm | D36: 개 | E36: 0 | G36: 120 | H36: 52 | I36: 0 | K36: 0 | M36: 0 | O36: =SMALL(E36:M36,COUNTIF(E36:M36,0)+1) -> 120 | P36: 0 | Q36: 0 | R36: 0 | S36: 0 | T36: 0 | U36: 0 | V36: 0 | W36: 자재 32
A37: 51E49116E12A44FA073472D5E198494C754B9C | B37: 증폭기 | C37: 양방향, 공청용, VHF/UHF 겸용 옥내 | D37: 조 | E37: 63929 | G37: 0 | I37: 0 | K37: 0 | M37: 107000 | N37: 물정1335 | O37: =SMALL(E37:M37,COUNTIF(E37:M37,0)+1) -> 63929 | P37: 0 | Q37: 0 | R37: 0 | S37: 0 | T37: 0 | U37: 0 | V37: 0 | W37: 자재 33
A38: 51E49116E12A44FA073473FF5EB64007CAE279 | B38: 감쇄기 | C38: ATT, 3단(3W) | D38: 개 | E38: 0 | G38: 0 | I38: 17000 | J38: 1010 | K38: 0 | M38: 0 | O38: =SMALL(E38:M38,COUNTIF(E38:M38,0)+1) -> 17000 | P38: 0 | Q38: 0 | R38: 0 | S38: 0 | T38: 0 | U38: 0 | V38: 0 | W38: 자재 34
A39: 51E42116B0AC6427B7510D93361C9283114406 | B39: 풀박스 (통신) | C39: 100x100x100 | D39: 개 | E39: 2864 | G39: 3370 | H39: 1105 | I39: 3520 | J39: 873 | K39: 5800 | L39: 1028 | M39: 0 | O39: =SMALL(E39:M39,COUNTIF(E39:M39,0)+1) -> 2864 | P39: 0 | Q39: 0 | R39: 0 | S39: 0 | T39: 0 | U39: 0 | V39: 0 | W39: 자재 35
A40: 51E42116B0AC6427B7510D933509FBD58CE476 | B40: 접지단자함(통신) | C40: 4CCT 스텐레스 | D40: SET | E40: 204135 | G40: 327600 | H40: 1198 | I40: 273000 | J40: 925 | K40: 0 | M40: 0 | O40: =SMALL(E40:M40,COUNTIF(E40:M40,0)+1) -> 204135 | P40: 0 | Q40: 0 | R40: 0 | S40: 0 | T40: 0 | U40: 0 | V40: 0 | W40: 자재 36
A41: 51E42116B0AC6427B75106608EA84586053459 | B41: 스위치박스 (통신) | C41: 1 개용 54 mm | D41: 개 | E41: 603 | G41: 650 | H41: 1105 | I41: 700 | J41: 873 | K41: 650 | L41: 1028 | M41: 0 | O41: =SMALL(E41:M41,COUNTIF(E41:M41,0)+1) -> 603 | P41: 0 | Q41: 0 | R41: 0 | S41: 0 | T41: 0 | U41: 0 | V41: 0 | W41: 자재 37
A42: 51E42116B0AC6427B75106608EA84586053458 | B42: 스위치박스 (통신) | C42: 2 개용 54 mm | D42: 개 | E42: 839 | G42: 920 | H42: 1105 | I42: 973 | J42: 873 | K42: 1000 | L42: 1028 | M42: 0 | O42: =SMALL(E42:M42,COUNTIF(E42:M42,0)+1) -> 839 | P42: 0 | Q42: 0 | R42: 0 | S42: 0 | T42: 0 | U42: 0 | V42: 0 | W42: 자재 38
A43: 51E42116B0AC6427B75106608EA84586053720 | B43: 아우트렛박스 (통신) | C43: 8각 54㎜ | D43: 개 | E43: 638 | G43: 790 | H43: 1105 | I43: 845 | J43: 873 | K43: 627 | L43: 1020 | M43: 0 | O43: =SMALL(E43:M43,COUNTIF(E43:M43,0)+1) -> 627 | P43: 0 | Q43: 0 | R43: 0 | S43: 0 | T43: 0 | U43: 0 | V43: 0 | W43: 자재 39
A44: 51E42116B0AC6427B75106608EA84586053721 | B44: 아우트렛박스 (통신) | C44: 중형4각 54㎜ | D44: 개 | E44: 0 | G44: 0 | I44: 0 | K44: 731 | L44: 1020 | M44: 0 | O44: =SMALL(E44:M44,COUNTIF(E44:M44,0)+1) -> 731 | P44: 0 | Q44: 0 | R44: 0 | S44: 0 | T44: 0 | U44: 0 | V44: 0 | W44: 자재 40
A45: 51E42116B0AC6427B7510663426E4A0433069D | B45: 아우트렛박스 커버 | C45: 8각, 평 | D45: 개 | E45: 0 | G45: 290 | H45: 1105 | I45: 343 | J45: 873 | K45: 240 | L45: 1020 | M45: 0 | O45: =SMALL(E45:M45,COUNTIF(E45:M45,0)+1) -> 240 | P45: 0 | Q45: 0 | R45: 0 | S45: 0 | T45: 0 | U45: 0 | V45: 0 | W45: 자재 41
A46: 51E42116B0AC6427B7510663426E4A0433069E | B46: 아우트렛박스 커버 | C46: 4각, 평 | D46: 개 | E46: 0 | G46: 0 | I46: 0 | K46: 240 | L46: 1020 | M46: 0 | O46: =SMALL(E46:M46,COUNTIF(E46:M46,0)+1) -> 240 | P46: 0 | Q46: 0 | R46: 0 | S46: 0 | T46: 0 | U46: 0 | V46: 0 | W46: 자재 42
A47: 51E42116B0AC6427B7510663426E4A04330695 | B47: 스위치박스 커버 | C47: 4각, 2개용 오목 | D47: 개 | E47: 0 | G47: 0 | I47: 452 | J47: 873 | K47: 400 | L47: 1028 | M47: 0 | O47: =SMALL(E47:M47,COUNTIF(E47:M47,0)+1) -> 400 | P47: 0 | Q47: 0 | R47: 0 | S47: 0 | T47: 0 | U47: 0 | V47: 0 | W47: 자재 43
A48: 51E42116B0AC6427B7510662BB9CEF298ABC37 | B48: 대각1개용플레이트 | D48: 개 | E48: 0 | G48: 0 | I48: 1550 | J48: 931 | K48: 1550 | L48: 1101 | M48: 0 | O48: =SMALL(E48:M48,COUNTIF(E48:M48,0)+1) -> 1550 | P48: 0 | Q48: 0 | R48: 0 | S48: 0 | T48: 0 | U48: 0 | V48: 0 | W48: 자재 44
A49: 51E42116B0AC6427B758B44B110AFDD0C47726 | B49: 통신용 발포지수제 | C49: 발포지수재, D100 이하 | D49: 개 | E49: 22135 | G49: 0 | I49: 0 | K49: 0 | M49: 0 | O49: =SMALL(E49:M49,COUNTIF(E49:M49,0)+1) -> 22135 | P49: 0 | Q49: 0 | R49: 0 | S49: 0 | T49: 0 | U49: 0 | V49: 0 | W49: 자재 45
A50: 51E42116B0AC6427B758B44B11072A4607728C | B50: 통신용 발포지수제 | C50: 수밀보호테이프 | D50: 개 | E50: 2519 | G50: 0 | I50: 0 | K50: 0 | M50: 0 | O50: =SMALL(E50:M50,COUNTIF(E50:M50,0)+1) -> 2519 | P50: 0 | Q50: 0 | R50: 0 | S50: 0 | T50: 0 | U50: 0 | V50: 0 | W50: 자재 46
A51: 51E42116B0AC6427C7781EABCEBFC36495025E | B51: 콘센트 | C51: 둥근형(노출),16A 250V 2구접지 | D51: 개 | E51: 1485 | G51: 3160 | H51: 1205 | I51: 2567 | J51: 930 | K51: 0 | M51: 0 | O51: =SMALL(E51:M51,COUNTIF(E51:M51,0)+1) -> 1485 | P51: 0 | Q51: 0 | R51: 0 | S51: 0 | T51: 0 | U51: 0 | V51: 0 | W51: 자재 47
A52: 51E42116B0AC6427C7781EABCEB78DA634ED30 | B52: 전화및LAN용포트 | C52: MODULAR JACK 8P 1구 | D52: 개 | E52: 2782 | G52: 2480 | H52: 1205 | I52: 2750 | J52: 930 | K52: 2750 | L52: 1099 | M52: 0 | O52: =SMALL(E52:M52,COUNTIF(E52:M52,0)+1) -> 2480 | P52: 0 | Q52: 0 | R52: 0 | S52: 0 | T52: 0 | U52: 0 | V52: 0 | W52: 자재 48 | X52: ...
A53: 51E42116B0AC6427C7781EABCEB78DA634ED3F | B53: TV 콘센트 | C53: 1방 | D53: 개 | E53: 2347 | G53: 2120 | H53: 1205 | I53: 2917 | J53: 930 | K53: 2917 | L53: 1099 | M53: 0 | O53: =SMALL(E53:M53,COUNTIF(E53:M53,0)+1) -> 2120 | P53: 0 | Q53: 0 | R53: 0 | S53: 0 | T53: 0 | U53: 0 | V53: 0 | W53: 자재 49
A54: 51E42116B0AC6427C7781EABCEB78DA52BCF12 | B54: 광인출구 | C54: 2CORE | D54: 개 | E54: 0 | G54: 0 | I54: 9700 | J54: C사 | K54: 9200 | L54: B사 | M54: 8900 | N54: A사 | O54: =SMALL(E54:M54,COUNTIF(E54:M54,0)+1) -> 8900 | P54: 0 | Q54: 0 | R54: 0 | S54: 0 | T54: 0 | U54: 0 | V54: 0 | W54: 자재 50
A55: 51E42116B0AC6427C7781EAA281CD4787AB1C6 | B55: 1개용일체형붙임쇠 | D55: 개 | E55: 0 | G55: 0 | I55: 517 | J55: 930 | K55: 517 | L55: 1099 | M55: 0 | O55: =SMALL(E55:M55,COUNTIF(E55:M55,0)+1) -> 517 | P55: 0 | Q55: 0 | R55: 0 | S55: 0 | T55: 0 | U55: 0 | V55: 0 | W55: 자재 51 | X55: ...
A56: 51E42116B0AC6427C7793C5453EAFFA2E78AAC | B56: 볼트형콘넥터 | C56: U 볼트형, Φ16 | D56: 개 | E56: 3310 | G56: 6800 | H56: 1198 | I56: 5250 | J56: 925 | K56: 0 | M56: 0 | O56: =SMALL(E56:M56,COUNTIF(E56:M56,0)+1) -> 3310 | P56: 0 | Q56: 0 | R56: 0 | S56: 0 | T56: 0 | U56: 0 | V56: 0 | W56: 자재 52
A57: 51E42116B0AC6427C7793C5453EAFFA2E78AAF | B57: 볼트형콘넥터 | C57: U 볼트형, Φ19 | D57: 개 | E57: 3873 | G57: 6800 | H57: 1198 | I57: 5250 | J57: 925 | K57: 0 | M57: 0 | O57: =SMALL(E57:M57,COUNTIF(E57:M57,0)+1) -> 3873 | P57: 0 | Q57: 0 | R57: 0 | S57: 0 | T57: 0 | U57: 0 | V57: 0 | W57: 자재 53
A58: 51E42116B0AC6427E72799C41D4BAE93539DA4 | B58: 접지봉 (통신) | C58: 14Φ×1000 mm | D58: 개 | E58: 3381 | G58: 5780 | H58: 1198 | I58: 3900 | J58: 925 | K58: 0 | M58: 0 | O58: =SMALL(E58:M58,COUNTIF(E58:M58,0)+1) -> 3381 | P58: 0 | Q58: 0 | R58: 0 | S58: 0 | T58: 0 | U58: 0 | V58: 0 | W58: 자재 54
A59: 51E42116B0AC6427E72799C41D4BAE93539C87 | B59: 접지봉 (통신) | C59: 18Φ×2400 mm | D59: 개 | E59: 8712 | G59: 18000 | H59: 1199 | I59: 0 | K59: 0 | M59: 0 | O59: =SMALL(E59:M59,COUNTIF(E59:M59,0)+1) -> 8712 | P59: 0 | Q59: 0 | R59: 0 | S59: 0 | T59: 0 | U59: 0 | V59: 0 | W59: 자재 55
A60: 51E42116B0AC6427F7CC171BA56C57061229C5 | B60: 케이블걸이 | C60: 걸이쇠, 1조 | D60: EA | E60: 0 | G60: 0 | I60: 0 | K60: 2789 | L60: 1134 | M60: 0 | O60: =SMALL(E60:M60,COUNTIF(E60:M60,0)+1) -> 2789 | P60: 0 | Q60: 0 | R60: 0 | S60: 0 | T60: 0 | U60: 0 | V60: 0 | W60: 자재 56
A61: 51E42116B0AC6427F7CC171BA56C5701944057 | B61: 케이블받침대 | C61: 75x40x5x550 | D61: EA | E61: 0 | G61: 0 | I61: 0 | K61: 8666 | L61: 1134 | M61: 0 | O61: =SMALL(E61:M61,COUNTIF(E61:M61,0)+1) -> 8666 | P61: 0 | Q61: 0 | R61: 0 | S61: 0 | T61: 0 | U61: 0 | V61: 0 | W61: 자재 57 | X61: ...
A62: 51E42116B0AC641507E5CCF27352CDD1CF5E23 | B62: 스틸밴드 | C62: 파이프용 320D | D62: EA | E62: 0 | G62: 0 | I62: 0 | K62: 0 | M62: 2500 | O62: =SMALL(E62:M62,COUNTIF(E62:M62,0)+1) -> 2500 | P62: 0 | Q62: 0 | R62: 0 | S62: 0 | T62: 0 | U62: 0 | V62: 0 | W62: 자재 58
A63: 51E42116B0AC64A477AE884B1A1FCB13022F86 | B63: UTP 성단(재료비제외) | C63: 4P | D63: 개소 | E63: 0 | G63: 0 | I63: 0 | K63: 0 | M63: 0 | O63: 0 | P63: 0 | Q63: 0 | R63: 0 | S63: 0 | T63: 0 | U63: 0 | V63: 0 | W63: 자재 59
A64: 51E42116B0AC64A477AE884B1A1FCB13022F83 | B64: UTP 도통(재료비제외) | C64: PORT | D64: 개소 | E64: 0 | G64: 0 | I64: 0 | K64: 0 | M64: 0 | O64: 0 | P64: 0 | Q64: 0 | R64: 0 | S64: 0 | T64: 0 | U64: 0 | V64: 0 | W64: 자재 60
A65: 51E42116B0AC64A477AE884B1A1FCB13022C32 | B65: UTP 성단(재료비제외) | C65: 25P | D65: 개소 | E65: 0 | G65: 0 | I65: 0 | K65: 0 | M65: 0 | O65: 0 | P65: 0 | Q65: 0 | R65: 0 | S65: 0 | T65: 0 | U65: 0 | V65: 0 | W65: 자재 61
A66: 51E42116B0AC64A477AE884B1A1FCB13022B2E | B66: 광케이블 성단(재료비제외) | D66: 코아 | E66: 0 | G66: 0 | I66: 0 | K66: 0 | M66: 0 | O66: 0 | P66: 0 | Q66: 0 | R66: 0 | S66: 0 | T66: 0 | U66: 0 | V66: 0 | W66: 자재 62
A67: 51E42116B0AC64A477AE884B1A1FCB13022B2C | B67: 광케이블 성단 시험비(재료비제외) | C67: 코아당 | D67: 코아 | E67: 0 | G67: 0 | I67: 0 | K67: 0 | M67: 0 | O67: 0 | P67: 0 | Q67: 0 | R67: 0 | S67: 0 | T67: 0 | U67: 0 | V67: 0 | W67: 자재 63
A68: 51E42116B0AD04B977B9A30CD53AB5C9260EFF | B68: 케이블트레이부속품 | C68: U CHANNEL, 41x41x2.6t | D68: M | E68: 6176 | G68: 10730 | H68: 1114 | I68: 0 | K68: 0 | M68: 0 | O68: =SMALL(E68:M68,COUNTIF(E68:M68,0)+1) -> 6176 | P68: 0 | Q68: 0 | R68: 0 | S68: 0 | T68: 0 | U68: 0 | V68: 0 | W68: 자재 64
A69: 51E42116B0AD04B977B9A30CD5327F09E92325 | B69: 케이블트레이부속품 | C69: RAIL CLAMP | D69: 개 | E69: 0 | G69: 0 | I69: 600 | J69: C사 | K69: 600 | L69: B사 | M69: 500 | N69: A사 | O69: =SMALL(E69:M69,COUNTIF(E69:M69,0)+1) -> 500 | P69: 0 | Q69: 0 | R69: 0 | S69: 0 | T69: 0 | U69: 0 | V69: 0 | W69: 자재 65
A70: 51E42116B0AD04B977B9A30CD14670E883190C | B70: JOINER SET(분체) | C70: 300W(100) | D70: SET | E70: 2885 | G70: 5040 | H70: 1111 | I70: 4830 | J70: 865 | K70: 0 | M70: 0 | O70: =SMALL(E70:M70,COUNTIF(E70:M70,0)+1) -> 2885 | P70: 0 | Q70: 0 | R70: 0 | S70: 0 | T70: 0 | U70: 0 | V70: 0 | W70: 자재 66
A71: 51E42116B0AD04B977B9A0B896D5D2A447AC99 | B71: 1종금속제가요전선관 | C71: 박스커넥터, 16 mm 비방수 | D71: 개 | E71: 407 | G71: 340 | H71: 1101 | I71: 340 | J71: 860 | K71: 0 | M71: 0 | O71: =SMALL(E71:M71,COUNTIF(E71:M71,0)+1) -> 340 | P71: 0 | Q71: 0 | R71: 0 | S71: 0 | T71: 0 | U71: 0 | V71: 0 | W71: 자재 67
A72: 51E42116B0AD04B977B9A0B896D5D2A447AC98 | B72: 1종금속제가요전선관 | C72: 박스커넥터, 22 mm 비방수 | D72: 개 | E72: 600 | G72: 560 | H72: 1101 | I72: 560 | J72: 860 | K72: 0 | M72: 0 | O72: =SMALL(E72:M72,COUNTIF(E72:M72,0)+1) -> 560 | P72: 0 | Q72: 0 | R72: 0 | S72: 0 | T72: 0 | U72: 0 | V72: 0 | W72: 자재 68
A73: 51E42116B0AD04B977B9A0B896D5D2A447AC9B | B73: 1종금속제가요전선관 | C73: 박스커넥터, 28 mm 비방수 | D73: 개 | E73: 944 | G73: 880 | H73: 1101 | I73: 880 | J73: 860 | K73: 0 | M73: 0 | O73: =SMALL(E73:M73,COUNTIF(E73:M73,0)+1) -> 880 | P73: 0 | Q73: 0 | R73: 0 | S73: 0 | T73: 0 | U73: 0 | V73: 0 | W73: 자재 69
A74: 51E42116B0AD04B977B9AE19C979E8657E125E | B74: 나사없는전선관용 부품 | C74: 클램프, E31 | D74: 개 | E74: 0 | G74: 417 | H74: 1102 | I74: 417 | J74: 863 | K74: 410 | L74: 1029 | M74: 0 | O74: =SMALL(E74:M74,COUNTIF(E74:M74,0)+1) -> 410 | P74: 0 | Q74: 0 | R74: 0 | S74: 0 | T74: 0 | U74: 0 | V74: 0 | W74: 자재 70
A75: 51E42116B0AD04B977B9AE1AEF7D6DD270C3AB | B75: 관구밀폐기 | C75: 실링가스켓, D30 | D75: 개 | E75: 9837 | G75: 9130 | H75: 1106 | I75: 0 | K75: 0 | M75: 0 | O75: =SMALL(E75:M75,COUNTIF(E75:M75,0)+1) -> 9130 | P75: 0 | Q75: 0 | R75: 0 | S75: 0 | T75: 0 | U75: 0 | V75: 0 | W75: 자재 71
A76: 51E42116B0AD04B977B9AE1AEF7D6DD270C3A8 | B76: 관구밀폐기 | C76: 실링가스켓, D50 | D76: 개 | E76: 11977 | G76: 11880 | H76: 1106 | I76: 0 | K76: 0 | M76: 0 | O76: =SMALL(E76:M76,COUNTIF(E76:M76,0)+1) -> 11880 | P76: 0 | Q76: 0 | R76: 0 | S76: 0 | T76: 0 | U76: 0 | V76: 0 | W76: 자재 72
A77: 51E42116B0AD04B977B9AE1AEF7D6DD270C3A9 | B77: 관구밀폐기 | C77: 실링가스켓, D65 | D77: 개 | E77: 13645 | G77: 13860 | H77: 1106 | I77: 0 | K77: 0 | M77: 0 | O77: =SMALL(E77:M77,COUNTIF(E77:M77,0)+1) -> 13645 | P77: 0 | Q77: 0 | R77: 0 | S77: 0 | T77: 0 | U77: 0 | V77: 0 | W77: 자재 73
A78: 51E42116B0AD04B977B9AE1AEF75177B532BDE | B78: 이종연결관 | C78: D30 | D78: 개 | E78: 1965 | G78: 2250 | H78: 1229 | I78: 0 | K78: 0 | M78: 0 | O78: =SMALL(E78:M78,COUNTIF(E78:M78,0)+1) -> 1965 | P78: 0 | Q78: 0 | R78: 0 | S78: 0 | T78: 0 | U78: 0 | V78: 0 | W78: 자재 74
A79: 51E42116B0AD04B977B9AE1AEF75177B532A30 | B79: 이종연결관 | C79: D50 | D79: 개 | E79: 2760 | G79: 3300 | H79: 1229 | I79: 0 | K79: 0 | M79: 0 | O79: =SMALL(E79:M79,COUNTIF(E79:M79,0)+1) -> 2760 | P79: 0 | Q79: 0 | R79: 0 | S79: 0 | T79: 0 | U79: 0 | V79: 0 | W79: 자재 75
A80: 51E42116B0AD04B977B9AE1AEF75177B532A31 | B80: 이종연결관 | C80: D65 | D80: 개 | E80: 3035 | G80: 4950 | H80: 1229 | I80: 0 | K80: 0 | M80: 0 | O80: =SMALL(E80:M80,COUNTIF(E80:M80,0)+1) -> 3035 | P80: 0 | Q80: 0 | R80: 0 | S80: 0 | T80: 0 | U80: 0 | V80: 0 | W80: 자재 76
A81: 51E42116B0AD04B977B9AE1AEF75177B520E33 | B81: 강제전선관용 부품 (통신) | C81: 위샤캡, 36C | D81: 개 | E81: 4361 | G81: 4780 | H81: 1101 | I81: 0 | K81: 5240 | L81: 1029 | M81: 0 | O81: =SMALL(E81:M81,COUNTIF(E81:M81,0)+1) -> 4361 | P81: 0 | Q81: 0 | R81: 0 | S81: 0 | T81: 0 | U81: 0 | V81: 0 | W81: 자재 77
A82: 51E42116B0AD04B977B9AE1AEF75177B520E35 | B82: 강제전선관용 부품 (통신) | C82: 위샤캡, 54C | D82: 개 | E82: 6270 | G82: 7300 | H82: 1101 | I82: 0 | K82: 8010 | L82: 1029 | M82: 0 | O82: =SMALL(E82:M82,COUNTIF(E82:M82,0)+1) -> 6270 | P82: 0 | Q82: 0 | R82: 0 | S82: 0 | T82: 0 | U82: 0 | V82: 0 | W82: 자재 78
A83: 51E42116B0AD04B977B9AE1AEB876A8B292ACD | B83: 나사없는전선관용 부품 | C83: 노말밴드, E31 | D83: 개 | E83: 3264 | G83: 4200 | H83: 1102 | I83: 4200 | J83: 863 | K83: 4590 | L83: 1029 | M83: 0 | O83: =SMALL(E83:M83,COUNTIF(E83:M83,0)+1) -> 3264 | P83: 0 | Q83: 0 | R83: 0 | S83: 0 | T83: 0 | U83: 0 | V83: 0 | W83: 자재 79
A84: 51E42116B0AD04B977B9AE1AEAF96224741F9D | B84: 나사없는전선관용 부품 | C84: 박스커넥터, E31 | D84: 개 | E84: 4075 | G84: 5240 | H84: 1102 | I84: 5240 | J84: 863 | K84: 7850 | L84: 1029 | M84: 0 | O84: =SMALL(E84:M84,COUNTIF(E84:M84,0)+1) -> 4075 | P84: 0 | Q84: 0 | R84: 0 | S84: 0 | T84: 0 | U84: 0 | V84: 0 | W84: 자재 80
A85: 51E42116B0AD04B977B9AE1AEAF96224741F96 | B85: 나사없는전선관용 부품 | C85: 커플링, E31 | D85: 개 | E85: 5047 | G85: 6307 | H85: 1102 | I85: 6307 | J85: 863 | K85: 7170 | L85: 1029 | M85: 0 | O85: =SMALL(E85:M85,COUNTIF(E85:M85,0)+1) -> 5047 | P85: 0 | Q85: 0 | R85: 0 | S85: 0 | T85: 0 | U85: 0 | V85: 0 | W85: 자재 81
A86: 51E42116B0AD04B977B9AF3C7624B8DBFE60BB | B86: Hi-Tec Tray부속품 | C86: BONDING JUMPER, FUSE | D86: 개 | E86: 0 | G86: 0 | I86: 2800 | J86: 867 | K86: 0 | M86: 0 | O86: =SMALL(E86:M86,COUNTIF(E86:M86,0)+1) -> 2800 | P86: 0 | Q86: 0 | R86: 0 | S86: 0 | T86: 0 | U86: 0 | V86: 0 | W86: 자재 82 | X86: ...
A87: 51E42116B0AD04B977B89D2171C86A45508F9C | B87: 강제전선관(통신) | C87: 아연도 36 mm | D87: M | E87: 5134 | G87: 6900 | H87: 1101 | I87: 7379 | J87: 864 | K87: 6040 | L87: 1029 | M87: 0 | O87: =SMALL(E87:M87,COUNTIF(E87:M87,0)+1) -> 5134 | P87: 0 | Q87: 0 | R87: 0 | S87: 0 | T87: 0 | U87: 0 | V87: 0 | W87: 자재 83
A88: 51E42116B0AD04B977B89D2171C86A45508F9A | B88: 강제전선관(통신) | C88: 아연도 54 mm | D88: M | E88: 8998 | G88: 11200 | H88: 1101 | I88: 11918 | J88: 864 | K88: 9760 | L88: 1029 | M88: 0 | O88: =SMALL(E88:M88,COUNTIF(E88:M88,0)+1) -> 8998 | P88: 0 | Q88: 0 | R88: 0 | S88: 0 | T88: 0 | U88: 0 | V88: 0 | W88: 자재 84
A89: 51E42116B0AD04B977B89D2171C86A455194C1 | B89: 나사없는전선관(통신) | C89: 용융아연도도금 E31 | D89: M | E89: 3694 | G89: 4696 | H89: 1102 | I89: 4696 | J89: 863 | K89: 3889 | L89: 1029 | M89: 0 | O89: =SMALL(E89:M89,COUNTIF(E89:M89,0)+1) -> 3694 | P89: 0 | Q89: 0 | R89: 0 | S89: 0 | T89: 0 | U89: 0 | V89: 0 | W89: 자재 85
A90: 51E42116B0AD04B977B89D2171C86A45519D21 | B90: 경질비닐전선관(통신) | C90: HI 16 mm | D90: M | E90: 294 | G90: 390 | H90: 1107 | I90: 440 | J90: 861 | K90: 332 | L90: 1024 | M90: 0 | O90: =SMALL(E90:M90,COUNTIF(E90:M90,0)+1) -> 294 | P90: 0 | Q90: 0 | R90: 0 | S90: 0 | T90: 0 | U90: 0 | V90: 0 | W90: 자재 86
A91: 51E42116B0AD04B977B89D2171C86A45519D22 | B91: 경질비닐전선관(통신) | C91: HI 22 mm | D91: M | E91: 350 | G91: 470 | H91: 1107 | I91: 528 | J91: 861 | K91: 400 | L91: 1024 | M91: 0 | O91: =SMALL(E91:M91,COUNTIF(E91:M91,0)+1) -> 350 | P91: 0 | Q91: 0 | R91: 0 | S91: 0 | T91: 0 | U91: 0 | V91: 0 | W91: 자재 87
A92: 51E42116B0AD04B977B89D2171C86A45519D23 | B92: 경질비닐전선관(통신) | C92: HI 28 mm | D92: M | E92: 700 | G92: 890 | H92: 1107 | I92: 1021 | J92: 861 | K92: 774 | L92: 1024 | M92: 0 | O92: =SMALL(E92:M92,COUNTIF(E92:M92,0)+1) -> 700 | P92: 0 | Q92: 0 | R92: 0 | S92: 0 | T92: 0 | U92: 0 | V92: 0 | W92: 자재 88
A93: 51E42116B0AD04B977B89D2171C86A45519D24 | B93: 경질비닐전선관(통신) | C93: HI 36 mm | D93: M | E93: 1007 | G93: 1440 | H93: 1107 | I93: 1373 | J93: 861 | K93: 1121 | L93: 1024 | M93: 0 | O93: =SMALL(E93:M93,COUNTIF(E93:M93,0)+1) -> 1007 | P93: 0 | Q93: 0 | R93: 0 | S93: 0 | T93: 0 | U93: 0 | V93: 0 | W93: 자재 89
A94: 51E42116B0AD04B977B89D2171C86A45519D26 | B94: 경질비닐전선관(통신) | C94: HI 54 mm | D94: M | E94: 1852 | G94: 2360 | H94: 1107 | I94: 2546 | J94: 861 | K94: 2081 | L94: 1024 | M94: 0 | O94: =SMALL(E94:M94,COUNTIF(E94:M94,0)+1) -> 1852 | P94: 0 | Q94: 0 | R94: 0 | S94: 0 | T94: 0 | U94: 0 | V94: 0 | W94: 자재 90
A95: 51E42116B0AD04B977B89D2171C86A455342BF | B95: 파상형 경질폴리에틸렌 전선관(통신) | C95: 30㎜ | D95: M | E95: 342 | G95: 360 | H95: 1106 | I95: 480 | J95: 861 | K95: 391 | L95: 1025 | M95: 0 | O95: =SMALL(E95:M95,COUNTIF(E95:M95,0)+1) -> 342 | P95: 0 | Q95: 0 | R95: 0 | S95: 0 | T95: 0 | U95: 0 | V95: 0 | W95: 자재 91
A96: 51E42116B0AD04B977B89D2171C86A455468A2 | B96: 합성수지제 가요전선관(통신) | C96: CD 난연성 16㎜ | D96: M | E96: 170 | G96: 200 | H96: 1104 | I96: 305 | J96: 860 | K96: 305 | L96: 1025 | M96: 0 | O96: =SMALL(E96:M96,COUNTIF(E96:M96,0)+1) -> 170 | P96: 0 | Q96: 0 | R96: 0 | S96: 0 | T96: 0 | U96: 0 | V96: 0 | W96: 자재 92
A97: 51E42116B0AD04B977B89D2171C86A455468A3 | B97: 합성수지제 가요전선관(통신) | C97: CD 난연성 22㎜ | D97: M | E97: 255 | G97: 300 | H97: 1104 | I97: 427 | J97: 860 | K97: 427 | L97: 1025 | M97: 0 | O97: =SMALL(E97:M97,COUNTIF(E97:M97,0)+1) -> 255 | P97: 0 | Q97: 0 | R97: 0 | S97: 0 | T97: 0 | U97: 0 | V97: 0 | W97: 자재 93
A98: 51E42116B0AD04B977B89D2171C86A455468A0 | B98: 합성수지제 가요전선관(통신) | C98: CD 난연성 28㎜ | D98: M | E98: 348 | G98: 410 | H98: 1104 | I98: 610 | J98: 860 | K98: 610 | L98: 1025 | M98: 0 | O98: =SMALL(E98:M98,COUNTIF(E98:M98,0)+1) -> 348 | P98: 0 | Q98: 0 | R98: 0 | S98: 0 | T98: 0 | U98: 0 | V98: 0 | W98: 자재 94
A99: 51E42116B0AD04B977B89D2171C86A455570BA | B99: 1종금속제가요전선관(통신) | C99: 16 mm 비방수 | D99: M | E99: 690 | G99: 720 | H99: 1101 | I99: 720 | J99: 860 | K99: 0 | M99: 0 | O99: =SMALL(E99:M99,COUNTIF(E99:M99,0)+1) -> 690 | P99: 0 | Q99: 0 | R99: 0 | S99: 0 | T99: 0 | U99: 0 | V99: 0 | W99: 자재 95
A100: 51E42116B0AD04B977B89D2171C86A455570BB | B100: 1종금속제가요전선관(통신) | C100: 22 mm 비방수 | D100: M | E100: 994 | G100: 950 | H100: 1101 | I100: 950 | J100: 860 | K100: 0 | M100: 0 | O100: =SMALL(E100:M100,COUNTIF(E100:M100,0)+1) -> 950 | P100: 0 | Q100: 0 | R100: 0 | S100: 0 | T100: 0 | U100: 0 | V100: 0 | W100: 자재 96
...

Sheet  공사설정 
A1: 이 Sheet는 수정하지 마십시요
A2: 공사구분 | B2: D | C2: 타이틀
A3: 확정내역 | B3: 원내역
A4: 자재단가적용 | B4: 5
A5: 경비단가적용 | B5: 5
A6: 품목코드형식 | B6: XXXX-XXXX-XXXXXXXXX
A7: 내역금액소수점처리 | B7: C | C7: 1
A8: 일위대가내역소수점처리 | B8: C | C8: 2
A9: 단가명 | B9: 조달청가격 | C9: 물가자료 | D9: 유통물가 | E9: 거래가격 | F9: 조사가격 | G9: TTTTT
A10: 환율 | B10: 1442 | C10: 0 | D10: 0
A11: 시간당작업량 | B11: R | C11: 3
A12: 1회 사이클시간 | B12: R | C12: 3
A13: 시간당 작업사이클 | B13: R | C13: 2
A14: 일반변수 | B14: C | C14: 5
A15: 시간당 노임산출 계수 | B15: A | C15: 1/8*16/12*25/20 | D15: 1/8*16/12*25/20 | E15: 1/8*16/12*25/20 | F15: 1
A16: 재료비 할증 계수 | B16: 11 | C16: 12
A17: 노무비 할증 계수 | B17: 0 | C17: 50 | D17: 16 | E17: 60 | F17: 60 | G17: 60 | H17: 94 | I17: 94 | J17: 94 | K17: 0 | L17: 0 | M17: 0
A18: 경비 할증 계수 | B18: 12.5 | C18: 7.1
A19: 내역,일위대가 품명,규격,단위 따로적용
A20: 내역단가 소수점처리 | B20: C | C20: 1
A21: 코드 | B21: 공종구분명 | C21: 원가비목코드
A22: 1 | B22: 작 업 부 산 물 | C22: A3
A23: 2 | B23: 운 반 비 | C23: C1
A24: 3 | B24: 관 급 자 재 비 | C24: DJ
A25: 4 | B25: 사 급 자 재 비 | C25: D3
A26: 5 | B26: 외 자 재
A27: 6 | B27: 폐기물 처리비
A28: 7 | B28: 한 전 인 입 비
A29: 8 | B29: ...
A30: 9 | B30: ...
A43: 단가 순서 | B43: 1234

Sheet Sheet1
