Workbook
Name _: #REF!
Name ___A100000: #REF!
Name ___A69999: #REF!
Name ___A99999: #REF!
Name ___AYA97: #REF!
Name ___AYA98: #REF!
Name ___AYE97: #REF!
Name ___AYE98: #REF!
Name ___bar10: #REF!
Name ___bar13: #REF!
Name ___bar16: #REF!
Name ___bar19: #REF!
Name ___bar22: #REF!
Name ___bar25: #REF!
Name ___bar29: #REF!
Name ___bar32: #REF!
Name ___COM1: #N/A
Name ___dia35: #REF!
Name ___EYA99: #REF!
Name ___EYE99: #REF!
Name ___EYE999: #REF!
Name ___faf98: #REF!
Name ___HOY97: #REF!
Name ___IJ66980: #REF!
Name ___pa1: #REF!
Name ___pa2: #REF!
Name ___phi1: #REF!
Name ___phi3: #REF!
Name ___PRT1: #N/A
Name ___PRT2: #N/A
Name ___PRT3: #N/A
Name ___PRT4: #N/A
Name ___PRT5: #N/A
Name ___PRT6: #N/A
Name ___PRT7: #N/A
Name ___PRT8: #N/A
Name ___PRT9: #N/A
Name ___PYA001: #REF!
Name ___PYA99: #REF!
Name ___PYE99: #REF!
Name ___qa1: #REF!
Name ___ROM1: #N/A
Name ___SBB1: #REF!
Name ___SBB2: #REF!
Name ___SBB3: #REF!
Name ___SBB4: #REF!
Name ___SBB5: #REF!
Name ___SHH1: #REF!
Name ___SHH2: #REF!
Name ___SHH3: #REF!
Name ___tbm1: #REF!
Name ___Ted1: #REF!
Name ___Ts1: #REF!
Name __A100000: #REF!
Name __A69999: #REF!
Name __A99999: #REF!
Name __AYA97: #REF!
Name __AYA98: #REF!
Name __AYE97: #REF!
Name __AYE98: #REF!

Sheet 갑지
A1: 설계년월일 | D1: 2026년 8월 | I1: 설 계 자 | L1: 심 사 자 | O1: 팀 장 | R1: 과 장
B4: 원주천 교량(월운정교) 야간경관 개선 경관조명 설치공사 설계예산서
B6: ■ 공 사 개 요
B7: 1.간선인입 및 조명제어기 설치 1식
B8: 2.펜스하단부(LL-1) 경관조명설치 1식
B9: 3.교각하부면(LL-2) 경관조명설치 1식
B10: 4.상판측면포인트(PT-1) 경관조명설치 1식
B11: 5.자전거조형(FX-1) 경관조명설치 1식
D13: 도 급 공 사 | G13: =전기원가!K32 -> -58.272727 | K13: ="(금 "&NUMBERSTRING(G13,1)&"원)" -> #NUM!
D14: 관 급 자 재 (가로등제어기) | G14: =전기원가!K33 -> 0 | K14: ="(금 "&NUMBERSTRING(G14,1)&"원)" -> (금 영원)
D15: 관 급 자 재 (경관조명기구) | G15: =전기원가!K34 -> 0 | K15: ="(금 "&NUMBERSTRING(G15,1)&"원)" -> (금 영원)
D16: 한전불입금 | G16: =전기원가!K35 -> 0 | K16: ="(금 "&NUMBERSTRING(G16,1)&"원)" -> (금 영원)
D18: 총 계 | G18: =G13+G14+G15+G16+G17 -> -58.272727 | K18: ="(금 "&NUMBERSTRING(G18,1)&"원)" -> #NUM!

Sheet 전기원가
A1: 공 사 설 계 내 역 서
A3: 1. 공 사 명 : | B3: 원주천 교량(월운정교) 야간경관 개선 경관조명 설치공사
A4: 2. 설계금액 : | B4: ="일금 "&NUMBERSTRING(F4,1) & " 원정" -> #NUM! | E4: \ | F4: =K37 -> -58.272727 | I4: 작성 일자 : | J4: 2026년 8월 일
D5: 도 급 공 사 | E5: \ | F5: =K32 -> -58.272727 | I5: 작 성 자 : | J5: 건축전기설비기술사 :조 영 길
D6: 관 급 자 재 | E6: \ | F6: =K33+K34 -> 0
D7: 한전불입금 | E7: \ | F7: =K35 -> 0
A8: 명 칭 | B8: 규 격 | C8: 단 위 | D8: 수 량 | E8: 재 료 비 | G8: 노 무 비 | I8: 경 비 | K8: 계 | L8: 비고
E9: 단 가 | F9: 금 액 | G9: 단 가 | H9: 금 액 | I9: 단 가 | J9: 금 액
A10: 전기공사 | C10: 식 | D10: 1 | F10: =공종별집계표!F6 -> 0 | H10: =공종별집계표!H6 -> 0 | J10: =공종별집계표!J6 -> 0 | K10: =F10+H10+J10 -> 0
A11: 간접 노무비 | B11: 직접노무비 | C11: % | D11: 19.1 | K11: =INT(H10*D11%) -> 0
A12: 석면부담금 | B12: 직노+간노 | C12: % | D12: 0.006 | K12: =INT((K11+H10)*D12%) -> 0
A13: 임금채권부담금 | B13: 직노+간노 | C13: % | D13: 0.09 | K13: =INT((K11+H10)*D13%) -> 0
A14: 산재 보험료 | B14: 직노+간노 | C14: % | D14: 3.56 | K14: =INT((K11+H10)*D14%) -> 0
A15: 고용보험료 | B15: 직노+간노 | C15: % | D15: 1.01 | K15: =INT((K11+H10)*D15%) -> 0
A16: 건강보험료 | B16: 직접노무비 | C16: % | D16: 3.595 | K16: =INT(H10*D16%) -> 0
A17: 연금보험료 | B17: 직접노무비 | C17: % | D17: 4.75 | K17: =INT(H10*D17%) -> 0
A18: 노인장기요양보험료 | B18: 건강보험료 | C18: % | D18: 13.14 | K18: =INT(K16*D18%) -> 0
A19: 퇴직공제부금 | B19: 직노 | C19: % | D19: 2.3 | K19: =INT(D19*H10%) -> 0
A20: 산업안전보건관리비 | B20: (재+직노)*1.2 | C20: % | D20: 2.07 | K20: =M20 -> 0 | L20: 적용 | M20: =INT((F10+H10))*1.2*D20% -> 0
B21: (재+직노+관급자재) | C21: % | D21: 2.07 | K21: =M21 -> 0 | M21: =INT((F10+H10+K34+K33)*D21%) -> 0
A22: 기 타 경 비 | B22: 재+직노+간노 | C22: % | D22: 5.5 | K22: =INT((F10+H10+K11)*D22%) -> 0
A23: 환경보전비 | B23: 재+직노+산출경비 | C23: %
A24: 소 계 | K24: =SUM(K10:K23)-K21 -> 0
A25: 일반 관리비 | B25: 재+노+경비 | C25: % | D25: 8 | K25: =INT(K24*D25%) -> 0
A26: 소 계 | K26: =SUM(K24:K25) -> 0
A27: 이 윤 | B27: 노+경비+일반관리 | C27: % | D27: 15 | K27: =INT((K26-F10)*D27%)-57.5/1.1 -> -52.272727
A28: 소 계 | K28: =SUM(K26:K27) -> -52.272727
A29: 전기공사 손해배상공제료 | B29: 총원가+관급 | C29: % | D29: 0.26477 | K29: =TRUNC((K28+K34+K33)*D29%, -2) -> 0
A30: 소 계 | K30: =SUM(K28:K29) -> -52.272727
A31: 부가 가치세 | C31: % | D31: 10 | K31: =INT(K30*D31%) -> -6
A32: 도급공사비 소계 | K32: =K30+K31 -> -58.272727
A33: 관급자재(가로등제어기) | B33: 도급자관급자재 | K33: =공종별집계표!L13 -> 0
A34: 관급자재(경관조명기구) | B34: 도급자관급자재 | K34: =공종별집계표!L14 -> 0
A35: 한전불입금 | K35: =공종별집계표!L15 -> 0
A37: 총공사비 | K37: =SUM(K32:K36) -> -58.272727
K38: =K37-전기원가!$K$37 -> 0

Sheet 공종별집계표
A1: 공 종 별 집 계 표
A2: [ 원주천 교량(월운정교) 야간경관 개선 경관조명 설치공사 ]
A3: 품 명 | B3: 규 격 | C3: 단위 | D3: 수량 | E3: 재 료 비 | G3: 노 무 비 | I3: 경 비 | K3: 합 계 | M3: 비 고 | N3: 공종코드 | O3: 변수 | P3: 상위공종 | Q3: 공종구분 | R3: 공종레벨 | S3: 공종소계 | T3: 원가계산서 연결금액
E4: 단 가 | F4: 금 액 | G4: 단 가 | H4: 금 액 | I4: 단 가 | J4: 금 액 | K4: 단 가 | L4: 금 액
A5: 01 원주천 교량(월운정교) 야간경관 개선 경관조명 설치공사 | D5: 1 | E5: =F6+F12+F15 -> 0 | F5: =E5*D5 -> 0 | G5: =H6+H12+H15 -> 0 | H5: =G5*D5 -> 0 | I5: =J6+J12+J15 -> 0 | J5: =I5*D5 -> 0 | K5: =E5+G5+I5 -> 0 | L5: =F5+H5+J5 -> 0 | N5: 01 | R5: 1
A6: 0101 1.도급공사 | D6: 1 | E6: =F7+F8+F9+F10+F11 -> 0 | F6: =E6*D6 -> 0 | G6: =H7+H8+H9+H10+H11 -> 0 | H6: =G6*D6 -> 0 | I6: =J7+J8+J9+J10+J11 -> 0 | J6: =I6*D6 -> 0 | K6: =E6+G6+I6 -> 0 | L6: =F6+H6+J6 -> 0 | N6: 0101 | P6: 01 | R6: 2
A7: 010101 1.전력간선인입공사 | D7: 1 | E7: =공종별내역서!F27 -> 0 | F7: =E7*D7 -> 0 | G7: =공종별내역서!H27 -> 0 | H7: =G7*D7 -> 0 | I7: =공종별내역서!J27 -> 0 | J7: =I7*D7 -> 0 | K7: =E7+G7+I7 -> 0 | L7: =F7+H7+J7 -> 0 | N7: 010101 | P7: 0101 | R7: 3
A8: 010102 2.펜스하단부(LL-1) 경관조명설치공사 | D8: 1 | E8: =공종별내역서!F51 -> 0 | F8: =E8*D8 -> 0 | G8: =공종별내역서!H51 -> 0 | H8: =G8*D8 -> 0 | I8: =공종별내역서!J51 -> 0 | J8: =I8*D8 -> 0 | K8: =E8+G8+I8 -> 0 | L8: =F8+H8+J8 -> 0 | N8: 010102 | P8: 0101 | R8: 3
A9: 010103 3.교각하부면(LL-2) 경관조명설치공사 | D9: 1 | E9: =공종별내역서!F75 -> 0 | F9: =E9*D9 -> 0 | G9: =공종별내역서!H75 -> 0 | H9: =G9*D9 -> 0 | I9: =공종별내역서!J75 -> 0 | J9: =I9*D9 -> 0 | K9: =E9+G9+I9 -> 0 | L9: =F9+H9+J9 -> 0 | N9: 010103 | P9: 0101 | R9: 3
A10: 010104 4.상판측면포인트(PT-1) 경관조명설치공사 | D10: 1 | E10: =공종별내역서!F99 -> 0 | F10: =E10*D10 -> 0 | G10: =공종별내역서!H99 -> 0 | H10: =G10*D10 -> 0 | I10: =공종별내역서!J99 -> 0 | J10: =I10*D10 -> 0 | K10: =E10+G10+I10 -> 0 | L10: =F10+H10+J10 -> 0 | N10: 010104 | P10: 0101 | R10: 3
A11: 010105 5.자전거조형(FX-1) 경관조명설치공사 | D11: 1 | E11: =공종별내역서!F123 -> 0 | F11: =E11*D11 -> 0 | G11: =공종별내역서!H123 -> 0 | H11: =G11*D11 -> 0 | I11: =공종별내역서!J123 -> 0 | J11: =I11*D11 -> 0 | K11: =E11+G11+I11 -> 0 | L11: =F11+H11+J11 -> 0 | N11: 010105 | P11: 0101 | R11: 3
A12: 0102 2.관급자재 | D12: 1 | E12: =F13+F14 -> 0 | F12: =E12*D12 -> 0 | G12: =H13+H14 -> 0 | H12: =G12*D12 -> 0 | I12: =J13+J14 -> 0 | J12: =I12*D12 -> 0 | K12: =E12+G12+I12 -> 0 | L12: =F12+H12+J12 -> 0 | N12: 0102 | P12: 01 | R12: 2
A13: 010201 1.가로등제어기 | D13: 1 | E13: =공종별내역서!F147 -> 0 | F13: =E13*D13 -> 0 | G13: =공종별내역서!H147 -> 0 | H13: =G13*D13 -> 0 | I13: =공종별내역서!J147 -> 0 | J13: =I13*D13 -> 0 | K13: =E13+G13+I13 -> 0 | L13: =F13+H13+J13 -> 0 | N13: 010201 | P13: 0102 | R13: 3
A14: 010202 2.경관조명기구 | D14: 1 | E14: =공종별내역서!F171 -> 0 | F14: =E14*D14 -> 0 | G14: =공종별내역서!H171 -> 0 | H14: =G14*D14 -> 0 | I14: =공종별내역서!J171 -> 0 | J14: =I14*D14 -> 0 | K14: =E14+G14+I14 -> 0 | L14: =F14+H14+J14 -> 0 | N14: 010202 | P14: 0102 | R14: 3
A15: 0103 3.한전불입금 | D15: 1 | E15: =공종별내역서!F195 -> 0 | F15: =E15*D15 -> 0 | G15: =공종별내역서!H195 -> 0 | H15: =G15*D15 -> 0 | I15: =공종별내역서!J195 -> 0 | J15: =I15*D15 -> 0 | K15: =E15+G15+I15 -> 0 | L15: =F15+H15+J15 -> 0 | N15: 0103 | P15: 01 | R15: 2
A27: [ 합 계 ] | F27: =F5 -> 0 | H27: =H5 -> 0 | J27: =J5 -> 0 | L27: =L5 -> 0

Sheet 공종별내역서
A1: [ 원주천 교량(월운정교) 야간경관 개선 경관조명 설치공사 ]
A2: 품 명 | B2: 규 격 | C2: 단위 | D2: 수량 | E2: 재 료 비 | G2: 노 무 비 | I2: 경 비 | K2: 합 계 | M2: 비 고 | N2: 품목코드 | O2: 변수 | P2: 설정 | Q2: 공종코드 | R2: 일위 | S2: 단산 | T2: 자재 | U2: 손료적용 | V2: 손료저장 | W2: 적용율 | X2: JUK1 | Y2: JUK2 | Z2: JUK3 | AA2: JUK4 | AB2: JUK5 | AC2: JUK6 | AD2: JUK7 | AE2: JUK8 | AF2: JUK9 | AG2: JUK10 | AH2: JUK11 | AI2: JUK12 | AJ2: JUK13 | AK2: JUK14 | AL2: JUK15 | AM2: JUK16 | AN2: JUK17 | AO2: JUK18 | AP2: JUK19 | AQ2: JUK20 | AR2: 자재구분 | AS2: 공종구분 | AT2: 공종레벨 | AU2: 공종+자재 | AV2: 고유번호
E3: 단 가 | F3: 금 액 | G3: 단 가 | H3: 금 액 | I3: 단 가 | J3: 금 액 | K3: 단 가 | L3: 금 액
A4: 010101 1.전력간선인입공사 | Q4: 010101
A5: 강제전선관 | B5: 아연도, 36mm | C5: M | D5: 8 | N5: 5E5834DF4117408A307C06B42565C9 | Q5: 010101 | R5: T | S5: F | T5: F | AU5: 0101015E5834DF4117408A307C06B42565C9 | AV5: 2362
A6: 전주용밴드 | B6: 암타이밴드, 1-3 | C6: 개 | D6: 6 | N6: 593E448EF11785FF267C5AF9FDED86F2A07173 | Q6: 010101 | R6: F | S6: F | T6: T | AU6: 010101593E448EF11785FF267C5AF9FDED86F2A07173 | AV6: 2320
A7: 파상형경질폴리에틸렌전선관 | B7: 50㎜ | C7: M | D7: 30 | N7: 5E5834DF4117408A0B78C9DA3919C1 | Q7: 010101 | R7: T | S7: F | T7: F | AU7: 0101015E5834DF4117408A0B78C9DA3919C1 | AV7: 2363
A8: 난연 비닐절연접지용전선(F-GV) | B8: 0.6/1kv, 10㎟ | C8: M | D8: 9 | N8: 5E5834DF41177DCC6D78B3E1407127 | Q8: 010101 | R8: T | S8: F | T8: F | AU8: 0101015E5834DF41177DCC6D78B3E1407127 | AV8: 2364
A9: 0.6/1kv 난연 전력케이블(F-CV) | B9: 2C*10㎟ | C9: M | D9: 40 | N9: 5E5834DF4117636A157B07A2339051 | Q9: 010101 | R9: T | S9: F | T9: F | AU9: 0101015E5834DF4117636A157B07A2339051 | AV9: 2323
A10: 조명제어기(관급자재) 설치 | B10: 6회로, 무선양방향 | C10: 면 | D10: 1 | N10: 5E5834DCF1170C91EB7ADA8523487B | Q10: 010101 | R10: T | S10: F | T10: F | AU10: 0101015E5834DCF1170C91EB7ADA8523487B | AV10: 2444
A11: 가로등제어기기초 (기계화설치) | B11: 400x500x800, 앙카포함 | C11: 개소 | D11: 1 | N11: 5E5834DF41170AD737753833CCC3CE | Q11: 010101 | R11: T | S11: F | T11: F | AU11: 0101015E5834DF41170AD737753833CCC3CE | AV11: 2445
A12: 전력량계 설치 | B12: 1Ø 2W용 | C12: 대 | D12: 1 | N12: 5E5834DF4117C5E1DD7E71B7B52BFF | Q12: 010101 | R12: T | S12: F | T12: F | AU12: 0101015E5834DF4117C5E1DD7E71B7B52BFF | AV12: 2369
A13: 접지봉매설 | B13: 지하 0.75M매설, 3본연결 | C13: 개소 | D13: 1 | N13: 5E5834DAC117DD820A7E1CCC72C61C | Q13: 010101 | R13: T | S13: F | T13: F | AU13: 0101015E5834DAC117DD820A7E1CCC72C61C | AV13: 2326
A14: 전력맨홀(콘크리트,KS) | B14: 800*800*800 | C14: 개소 | D14: 1 | N14: 5E5834DF41170AD7417CA7468DED0A | Q14: 010101 | R14: T | S14: F | T14: F | AU14: 0101015E5834DF41170AD7417CA7468DED0A | AV14: 2327
A15: 터파기/토사 | B15: 보통, 굴삭기 0.7m3 90%, 인력10% | C15: ㎥ | D15: 9.75 | N15: 5E3BC43CE11717BDD771CD31B5E5FF | Q15: 010101 | R15: F | S15: T | T15: F | AU15: 0101015E3BC43CE11717BDD771CD31B5E5FF | AV15: 2328
A16: 되메우기/토사, 두께 10cm | B16: 보통, 굴삭기 0.7m3+플레이트콤팩터 1.5ton+인력 10% | C16: ㎥ | D16: 9.75 | N16: 5E3BC431D1177DAF707DF81F66B73A | Q16: 010101 | R16: F | S16: T | T16: F | AU16: 0101015E3BC431D1177DAF707DF81F66B73A | AV16: 2329
A17: 보도블럭 철거 | C17: ㎡ | D17: 18 | N17: 5E5834DAC117DD820A7E1CCC73EECC | Q17: 010101 | R17: T | S17: F | T17: F | AU17: 0101015E5834DAC117DD820A7E1CCC73EECC | AV17: 2330
A18: 보도포장 | B18: 소형고압블럭(재사용) | C18: ㎡ | D18: 18 | N18: 5E5834DAC117DD820A7E1CCC73EECA | Q18: 010101 | R18: T | S18: F | T18: F | AU18: 0101015E5834DAC117DD820A7E1CCC73EECA | AV18: 2331
A19: 교량 고압세척 | B19: 고소작업, 살수차 사용 | C19: 일 | D19: 1 | N19: 5FAF04E2611747FAD07DA8E8CCD7578C891132 | Q19: 010101 | R19: F | S19: F | T19: T | AU19: 0101015FAF04E2611747FAD07DA8E8CCD7578C891132 | AV19: 2452
A20: 굴절사디리차 | C20: 일 | D20: 4 | N20: 5FAF04E2611747FAD07DA8E8CCD7578C891133 | Q20: 010101 | R20: F | S20: F | T20: T | AU20: 0101015FAF04E2611747FAD07DA8E8CCD7578C891133 | AV20: 2453
Q21: 010101
Q22: 010101
Q23: 010101
Q24: 010101
Q25: 010101
Q26: 010101
A27: [ 합 계 ] | N27: TOTAL
A28: 010102 2.펜스하단부(LL-1) 경관조명설치공사 | Q28: 010102
A29: 파상형경질폴리에틸렌전선관 | B29: 50㎜ | C29: M | D29: 14 | N29: 5E5834DF4117408A0B78C9DA3919C1 | Q29: 010102 | R29: T | S29: F | T29: F | AU29: 0101025E5834DF4117408A0B78C9DA3919C1 | AV29: 2370
A30: 디자인덕트(관급자재) 설치 | B30: 알루미늄, 제작사양 | C30: M | D30: 175 | N30: 5E5834AE7117C472C270F2D237CDD6 | Q30: 010102 | R30: T | S30: F | T30: F | AU30: 0101025E5834AE7117C472C270F2D237CDD6 | AV30: 2375
A31: 전선덕트 | B31: 알루미늄, 100*50mm | C31: M | D31: 30 | N31: 5E5834AE7117C472C270F2D237CDD7 | Q31: 010102 | R31: T | S31: F | T31: F | AU31: 0101025E5834AE7117C472C270F2D237CDD7 | AV31: 2376
A32: 난연 비닐절연접지용전선(F-GV) | B32: 0.6/1kv, 6㎟ | C32: M | D32: 240 | N32: 5E5834DF41177DCC6D78B3E14076A9 | Q32: 010102 | R32: T | S32: F | T32: F | AU32: 0101025E5834DF41177DCC6D78B3E14076A9 | AV32: 2353
A33: 0.6/1kv 난연 전력케이블(F-CV) | B33: 2C*2.5㎟ | C33: M | D33: 420 | N33: 5E5834DF4117636A157B07A2339178 | Q33: 010102 | R33: T | S33: F | T33: F | AU33: 0101025E5834DF4117636A157B07A2339178 | AV33: 2374
A34: 0.6/1kv 난연 전력케이블(F-CV) | B34: 2C*4㎟ | C34: M | D34: 148 | N34: 5E5834DF4117636A157B07A2339054 | Q34: 010102 | R34: T | S34: F | T34: F | AU34: 0101025E5834DF4117636A157B07A2339054 | AV34: 2354
A35: 서브함체(관급자재) 설치 | B35: W900*H1500*D250, 옥외방수형 | C35: 면 | D35: 2 | N35: 5E5834DAC117DD825170BFC3070410BEDC6A | Q35: 010102 | R35: T | S35: F | T35: F | AU35: 0101025E5834DAC117DD825170BFC3070410BEDC6A | AV35: 2446
A36: LED 경관조명기구(관급자재) 설치 | B36: LINEAR / LED 14.4W / 3,000K / 120˚ | C36: EA | D36: 137 | N36: 5E5834DF4117C5E1EE75630F6706E61D | Q36: 010102 | R36: T | S36: F | T36: F | AU36: 0101025E5834DF4117C5E1EE75630F6706E61D | AV36: 2401
Q37: 010102
Q38: 010102
Q39: 010102
Q40: 010102
Q41: 010102
Q42: 010102
Q43: 010102
Q44: 010102
Q46: 010102
Q47: 010102
Q48: 010102
Q49: 010102
Q50: 010102
A51: [ 합 계 ] | N51: TOTAL
A52: 010103 3.교각하부면(LL-2) 경관조명설치공사 | Q52: 010103
A53: 1종금속제가요전선관 | B53: 비닐피복, 22mm, 방수 | C53: M | D53: 132 | N53: 5E5834DF4117408A2676A62924E58ED3 | Q53: 010103 | R53: T | S53: F | T53: F | AU53: 0101035E5834DF4117408A2676A62924E58ED3 | AV53: 2436
A54: 1종금속제가요전선관 | B54: 비닐피복, 28mm, 방수 | C54: M | D54: 36 | N54: 5E5834DF4117408A2676A62924E23A | Q54: 010103 | R54: T | S54: F | T54: F | AU54: 0101035E5834DF4117408A2676A62924E23A | AV54: 2437
A55: 난연 비닐절연접지용전선(F-GV) | B55: 0.6/1kv, 6㎟ | C55: M | D55: 36 | N55: 5E5834DF41177DCC6D78B3E14076A9 | Q55: 010103 | R55: T | S55: F | T55: F | AU55: 0101035E5834DF41177DCC6D78B3E14076A9 | AV55: 2379
A56: 0.6/1kv 난연 전력케이블(F-CV) | B56: 2C*2.5㎟ | C56: M | D56: 254 | N56: 5E5834DF4117636A157B07A2339178 | Q56: 010103 | R56: T | S56: F | T56: F | AU56: 0101035E5834DF4117636A157B07A2339178 | AV56: 2383
A57: 0.6/1kv 난연 전력케이블(F-CV) | B57: 2C*4㎟ | C57: M | D57: 280 | N57: 5E5834DF4117636A157B07A2339054 | Q57: 010103 | R57: T | S57: F | T57: F | AU57: 0101035E5834DF4117636A157B07A2339054 | AV57: 2382
A58: SMPS함체(관급자재) 설치 | B58: W400*H500*D150, 옥외방수형 | C58: 면 | D58: 4 | N58: 5E5834DAC117DD825170BFC3070410BEDC6B | Q58: 010103 | R58: T | S58: F | T58: F | AU58: 0101035E5834DAC117DD825170BFC3070410BEDC6B | AV58: 2447
A59: LED 경관조명기구(관급자재) 설치 | B59: LINEAR / LED 18W / 3,000K / 10˚ * 60˚ | C59: EA | D59: 88 | N59: 5E5834DF4117C5E1EE75630F6706E61C | Q59: 010103 | R59: T | S59: F | T59: F | AU59: 0101035E5834DF4117C5E1EE75630F6706E61C | AV59: 2438
Q60: 010103
Q61: 010103
Q62: 010103
Q63: 010103
Q64: 010103
Q65: 010103
Q66: 010103
Q67: 010103
Q68: 010103
Q69: 010103
Q70: 010103
Q71: 010103
... Q74: 010103
A75: [ 합 계 ] | N75: TOTAL
A76: 010104 4.상판측면포인트(PT-1) 경관조명설치공사 | Q76: 010104
A77: 0.6/1kv 난연 전력케이블(F-CV) | B77: 2C*4㎟ | C77: M | D77: 214 | N77: 5E5834DF4117636A157B07A2339054 | Q77: 010104 | R77: T | S77: F | T77: F | AU77: 0101045E5834DF4117636A157B07A2339054 | AV77: 2410
A78: 0.6/1kv 난연 전력케이블(F-CV) | B78: 2C*2.5㎟ | C78: M | D78: 196 | N78: 5E5834DF4117636A157B07A2339178 | Q78: 010104 | R78: T | S78: F | T78: F | AU78: 0101045E5834DF4117636A157B07A2339178 | AV78: 2411
A79: DATA CABLE | B79: RS-485 24AWG 4P | C79: m | D79: 74 | N79: 5E5834DAC1175824D875E385635E28 | Q79: 010102 | R79: T | S79: F | T79: F | AU79: 0101025E5834DAC1175824D875E385635E28 | AV79: 2435
A80: LED 경관조명기구(관급자재) 설치 | B80: POINT / LED 1W / RGB / 직경38mm | C80: EA | D80: 170 | N80: 5E5834DF4117C5E1EE75630F6706E61F | Q80: 010104 | R80: T | S80: F | T80: F | AU80: 0101045E5834DF4117C5E1EE75630F6706E61F | AV80: 2440
Q81: 010104
Q82: 010104
Q83: 010104
Q84: 010104
Q85: 010104
Q86: 010104
Q87: 010104
Q88: 010104
Q89: 010104
Q90: 010104
Q91: 010104
Q92: 010104
... Q98: 010104
A99: [ 합 계 ] | N99: TOTAL
A100: 010105 5.자전거조형(FX-1) 경관조명설치공사 | Q100: 010105
A101: 0.6/1kv 난연 전력케이블(F-CV) | B101: 2C*4㎟ | C101: M | D101: 73 | N101: 5E5834DF4117636A157B07A2339054 | Q101: 010105 | R101: T | S101: F | T101: F | AU101: 0101055E5834DF4117636A157B07A2339054 | AV101: 2424
A102: 0.6/1kv 난연 전력케이블(F-CV) | B102: 2C*2.5㎟ | C102: M | D102: 196 | N102: 5E5834DF4117636A157B07A2339178 | Q102: 010105 | R102: T | S102: F | T102: F | AU102: 0101055E5834DF4117636A157B07A2339178 | AV102: 2425
A103: LED 경관조명기구(관급자재) 설치 | B103: FLEXIBLE LINE / LED 10W / RGB / - | C103: EA | D103: 49 | N103: 5E5834DF4117C5E1EE75630F6706E61E | Q103: 010105 | R103: T | S103: F | T103: F | AU103: 0101055E5834DF4117C5E1EE75630F6706E61E | AV103: 2441
Q105: 010105
Q106: 010105
Q107: 010105
Q108: 010105
Q109: 010105
...

Sheet 일위대가목록
B1: 일 위 대 가 목 록
B2: [ 원주천 교량(월운정교) 야간경관 개선 경관조명 설치공사 ]
A3: 코 드 | B3: 품 명 | C3: 규 격 | D3: 단위 | E3: 재 료 비 | F3: 노 무 비 | G3: 경 비 | H3: 합 계 | I3: 번 호 | J3: 비 고 | K3: 노임계수 | L3: 할증 | M3: 품셈개요 | N3: 장비일위
A4: 5E5834DF4117408A307C06B42565C9 | B4: 강제전선관 | C4: 아연도, 36mm | D4: M | E4: =일위대가!F10 -> 8433 | F4: =일위대가!H10 -> 55221 | G4: =일위대가!J10 -> 0 | H4: =E4+F4+G4 -> 63654 | I4: 호표 1 | M4: 전기 5-1
A5: 5E5834DF4117408A0B78C9DA3919C1 | B5: 파상형경질폴리에틸렌전선관 | C5: 50㎜ | D5: M | E5: =일위대가!F19 -> 1022 | F5: =일위대가!H19 -> 6055 | G5: =일위대가!J19 -> 0 | H5: =E5+F5+G5 -> 7077 | I5: 호표 2 | M5: 전기 4-31
A6: 5E5834DF41177DCC6D78B3E1407127 | B6: 난연 비닐절연접지용전선(F-GV) | C6: 0.6/1kv, 10㎟ | D6: M | E6: =일위대가!F26 -> 2463 | F6: =일위대가!H26 -> 1656 | G6: =일위대가!J26 -> 0 | H6: =E6+F6+G6 -> 4119 | I6: 호표 3 | M6: 전기 3-38
A7: 5E5834DF4117636A157B07A2339051 | B7: 0.6/1kv 난연 전력케이블(F-CV) | C7: 2C*10㎟ | D7: M | E7: =일위대가!F34 -> 5725 | F7: =일위대가!H34 -> 3245 | G7: =일위대가!J34 -> 0 | H7: =E7+F7+G7 -> 8970 | I7: 호표 4 | M7: 전기 4-34
A8: 5E5834DCF1170C91EB7ADA8523487B | B8: 조명제어기(관급자재) 설치 | C8: 6회로, 무선양방향 | D8: 면 | E8: =일위대가!F40 -> 8448 | F8: =일위대가!H40 -> 281630 | G8: =일위대가!J40 -> 0 | H8: =E8+F8+G8 -> 290078 | I8: 호표 5 | J8: 전기 5-18-2
A9: 5E5834DF41170AD737753833CCC3CE | B9: 가로등제어기기초 (기계화설치) | C9: 400x500x800, 앙카포함 | D9: 개소 | E9: =일위대가!F48 -> 56989 | F9: =일위대가!H48 -> 85293 | G9: =일위대가!J48 -> 6804 | H9: =E9+F9+G9 -> 149086 | I9: 호표 6
A10: 5E5834DF4117C5E1DD7E71B7B52BFF | B10: 전력량계 설치 | C10: 1Ø 2W용 | D10: 대 | E10: =일위대가!F53 -> 1159 | F10: =일위대가!H53 -> 38655 | G10: =일위대가!J53 -> 0 | H10: =E10+F10+G10 -> 39814 | I10: 호표 7 | M10: 전기 5-21
A11: 5E5834DAC117DD820A7E1CCC72C61C | B11: 접지봉매설 | C11: 지하 0.75M매설, 3본연결 | D11: 개소 | E11: =일위대가!F63 -> 40977 | F11: =일위대가!H63 -> 100805 | G11: =일위대가!J63 -> 0 | H11: =E11+F11+G11 -> 141782 | I11: 호표 8 | M11: 전기 3-38
A12: 5E5834DF41170AD7417CA7468DED0A | B12: 전력맨홀(콘크리트,KS) | C12: 800*800*800 | D12: 개소 | E12: =일위대가!F74 -> 571580 | F12: =일위대가!H74 -> 379461 | G12: =일위대가!J74 -> 487 | H12: =E12+F12+G12 -> 951528 | I12: 호표 9 | J12: 전기 4-43-3
A13: 5E5834DAC117DD820A7E1CCC73EECC | B13: 보도블럭 철거 | D13: ㎡ | E13: =일위대가!F81 -> 51 | F13: =일위대가!H81 -> 1722 | G13: =일위대가!J81 -> 0 | H13: =E13+F13+G13 -> 1773 | I13: 호표 10 | M13: 토목 12-3-3-1
A14: 5E5834DAC117DD820A7E1CCC73EECA | B14: 보도포장 | C14: 소형고압블럭(재사용) | D14: ㎡ | E14: =일위대가!F89 -> 1428 | F14: =일위대가!H89 -> 3617 | G14: =일위대가!J89 -> 0 | H14: =E14+F14+G14 -> 5045 | I14: 호표 11 | M14: 토목 12-3-3-1
A15: 5E5834AE7117C472C270F2D237CDD6 | B15: 디자인덕트(관급자재) 설치 | C15: 알루미늄, 제작사양 | D15: M | E15: =일위대가!F95 -> 2319 | F15: =일위대가!H95 -> 77310 | G15: =일위대가!J95 -> 0 | H15: =E15+F15+G15 -> 79629 | I15: 호표 12 | M15: 전기 5-7
A16: 5E5834AE7117C472C270F2D237CDD7 | B16: 전선덕트 | C16: 알루미늄, 100*50mm | D16: M | E16: =일위대가!F101 -> 15159 | F16: =일위대가!H101 -> 38655 | G16: =일위대가!J101 -> 0 | H16: =E16+F16+G16 -> 53814 | I16: 호표 13 | M16: 전기 5-7
A17: 5E5834DF41177DCC6D78B3E14076A9 | B17: 난연 비닐절연접지용전선(F-GV) | C17: 0.6/1kv, 6㎟ | D17: M | E17: =일위대가!F108 -> 1750 | F17: =일위대가!H108 -> 4141 | G17: =일위대가!J108 -> 0 | H17: =E17+F17+G17 -> 5891 | I17: 호표 14 | M17: 전기 3-38
A18: 5E5834DF4117636A157B07A2339178 | B18: 0.6/1kv 난연 전력케이블(F-CV) | C18: 2C*2.5㎟ | D18: M | E18: =일위대가!F116 -> 2123 | F18: =일위대가!H116 -> 3097 | G18: =일위대가!J116 -> 0 | H18: =E18+F18+G18 -> 5220 | I18: 호표 15 | M18: 전기 4-34
A19: 5E5834DF4117636A157B07A2339054 | B19: 0.6/1kv 난연 전력케이블(F-CV) | C19: 2C*4㎟ | D19: M | E19: =일위대가!F124 -> 2902 | F19: =일위대가!H124 -> 3097 | G19: =일위대가!J124 -> 0 | H19: =E19+F19+G19 -> 5999 | I19: 호표 16 | M19: 전기 4-34
A20: 5E5834DAC1175824D875E385635E28 | B20: DATA CABLE | C20: RS-485 24AWG 4P | D20: m | E20: =일위대가!F130 -> 13573 | F20: =일위대가!H130 -> 7963 | G20: =일위대가!J130 -> 0 | H20: =E20+F20+G20 -> 21536 | I20: 호표 17 | M20: 전기 5-13
A21: 5E5834DAC117DD825170BFC3070410BEDC6A | B21: 서브함체(관급자재) 설치 | C21: W900*H1500*D250, 옥외방수형 | D21: 면 | E21: =일위대가!F136 -> 10188 | F21: =일위대가!H136 -> 339612 | G21: =일위대가!J136 -> 0 | H21: =E21+F21+G21 -> 349800 | I21: 호표 18 | M21: 전기 5-4
A22: 5E5834DF4117C5E1EE75630F6706E61D | B22: LED 경관조명기구(관급자재) 설치 | C22: LINEAR / LED 14.4W / 3,000K / 120˚ | D22: EA | E22: =일위대가!F143 -> 670 | F22: =일위대가!H143 -> 22364 | G22: =일위대가!J143 -> 0 | H22: =E22+F22+G22 -> 23034 | I22: 호표 19 | M22: 전기 5-25-3
A23: 5E5834DF4117408A2676A62924E58ED3 | B23: 1종금속제가요전선관 | C23: 비닐피복, 22mm, 방수 | D23: M | E23: =일위대가!F151 -> 2037 | F23: =일위대가!H151 -> 16290 | G23: =일위대가!J151 -> 0 | H23: =E23+F23+G23 -> 18327 | I23: 호표 20 | M23: 전기 5-1
A24: 5E5834DF4117408A2676A62924E23A | B24: 1종금속제가요전선관 | C24: 비닐피복, 28mm, 방수 | D24: M | E24: =일위대가!F159 -> 2753 | F24: =일위대가!H159 -> 19879 | G24: =일위대가!J159 -> 0 | H24: =E24+F24+G24 -> 22632 | I24: 호표 21 | M24: 전기 5-1
A25: 5E5834DAC117DD825170BFC3070410BEDC6B | B25: SMPS함체(관급자재) 설치 | C25: W400*H500*D150, 옥외방수형 | D25: 면 | E25: =일위대가!F165 -> 5466 | F25: =일위대가!H165 -> 182231 | G25: =일위대가!J165 -> 0 | H25: =E25+F25+G25 -> 187697 | I25: 호표 22 | M25: 전기 5-4
A26: 5E5834DF4117C5E1EE75630F6706E61C | B26: LED 경관조명기구(관급자재) 설치 | C26: LINEAR / LED 18W / 3,000K / 10˚ * 60˚ | D26: EA | E26: =일위대가!F171 -> 472 | F26: =일위대가!H171 -> 15738 | G26: =일위대가!J171 -> 0 | H26: =E26+F26+G26 -> 16210 | I26: 호표 23 | M26: 전기 5-25-3
A27: 5E5834DF4117C5E1EE75630F6706E61F | B27: LED 경관조명기구(관급자재) 설치 | C27: POINT / LED 1W / RGB / 직경38mm | D27: EA | E27: =일위대가!F178 -> 1565 | F27: =일위대가!H178 -> 52184 | G27: =일위대가!J178 -> 0 | H27: =E27+F27+G27 -> 53749 | I27: 호표 24 | M27: 전기 5-25-3
A28: 5E5834DF4117C5E1EE75630F6706E61E | B28: LED 경관조명기구(관급자재) 설치 | C28: FLEXIBLE LINE / LED 10W / RGB / - | D28: EA | E28: =일위대가!F184 -> 256 | F28: =일위대가!H184 -> 8559 | G28: =일위대가!J184 -> 0 | H28: =E28+F28+G28 -> 8815 | I28: 호표 25 | M28: 전기 5-25-3
A29: 590184A77117746CE3718B7285AC377A49A87C49 | B29: 트럭탑재형크레인-전기 | C29: 5.0ton | D29: HR | E29: =일위대가!F191 -> 7227 | F29: =일위대가!H191 -> 50008 | G29: =일위대가!J191 -> 9994 | H29: =E29+F29+G29 -> 67229 | I29: 호표 26 | K29: A | M29: 전기 1-37 | N29: T
A30: 590184A7711774400F7FD1D9EBF0CF05AF2114A4 | B30: 굴삭기(무한궤도) | C30: 0.7㎥ | D30: HR | E30: =일위대가!F198 -> 16713 | F30: =일위대가!H198 -> 59025 | G30: =일위대가!J198 -> 23128 | H30: =E30+F30+G30 -> 98866 | I30: 호표 27 | K30: A | M30: 공통 8-3,4(0201) | N30: T
A31: 590184A771177452E37B1D79A910ED34A4FD43D7 | B31: 플레이트 콤팩터 | C31: 1.5ton | D31: HR | E31: =일위대가!F205 -> 1648 | F31: =일위대가!H205 -> 36604 | G31: =일위대가!J205 -> 582 | H31: =E31+F31+G31 -> 38834 | I31: 호표 28 | K31: A | M31: 공통 8-3,4(1730) | N31: T

Sheet 일위대가
A1: [ 원주천 교량(월운정교) 야간경관 개선 경관조명 설치공사 ]
A2: 품 명 | B2: 규 격 | C2: 단위 | D2: 수량 | E2: 재 료 비 | G2: 노 무 비 | I2: 경 비 | K2: 합 계 | M2: 비 고 | N2: 일위대가 | O2: 품목코드 | P2: 일위 | Q2: 단산 | R2: 자재 | S2: 손료적용 | T2: 손료저장 | U2: 적용율 | V2: JUK1 | W2: JUK2 | X2: JUK3 | Y2: JUK4 | Z2: JUK5 | AA2: JUK6 | AB2: JUK7 | AC2: JUK8 | AD2: JUK9 | AE2: JUK10 | AF2: JUK11 | AG2: JUK12 | AH2: JUK13 | AI2: JUK14 | AJ2: JUK15 | AK2: JUK16 | AL2: JUK17 | AM2: JUK18 | AN2: JUK19 | AO2: JUK20 | AP2: 할증적용 | AQ2: 할증저장 | AR2: 할증율 | AS2: HAL1 | AT2: HAL2 | AU2: HAL3 | AV2: 자재구분 | AW2: 일위대가+자재 | AX2: 장비일위 | AY2: 설정 | AZ2: 할증체크
E3: 단 가 | F3: 금 액 | G3: 단 가 | H3: 금 액 | I3: 단 가 | J3: 금 액 | K3: 단 가 | L3: 금 액
A4: 강제전선관 아연도, 36mm M 전기 5-1 ( 호표 1 ) | N4: 5E5834DF4117408A307C06B42565C9
A5: 강제전선관 | B5: 강제전선관, 후강전선관, 아연도, 36mm | C5: M | D5: 1.1 | E5: =단가대비표!O29 -> 5134 | F5: =TRUNC(E5*D5,1) -> 5647.4 | G5: =단가대비표!P29 -> 0 | H5: =TRUNC(G5*D5,1) -> 0 | I5: =단가대비표!V29 -> 0 | J5: =TRUNC(I5*D5,1) -> 0 | K5: =TRUNC(E5+G5+I5,1) -> 5134 | L5: =TRUNC(F5+H5+J5,1) -> 5647.4 | N5: 5E5834DF4117408A307C06B42565C9 | O5: 593E448EF117965D967FC1CE5EB44DDAD4954F | P5: F | Q5: F | R5: T | V5: 1 | W5: 2 | AW5: 5E5834DF4117408A307C06B42565C9593E448EF117965D967FC1CE5EB44DDAD4954F
A6: 잡재료비 | B6: 배관배선의 5% | C6: 식 | D6: 1 | E6: =TRUNC(SUMIF(V5:V9, RIGHTB(O6, 1), F5:F9)*U6, 2) -> 282.37 | F6: =TRUNC(E6*D6,1) -> 282.3 | G6: 0 | H6: =TRUNC(G6*D6,1) -> 0 | I6: 0 | J6: =TRUNC(I6*D6,1) -> 0 | K6: =TRUNC(E6+G6+I6,1) -> 282.3 | L6: =TRUNC(F6+H6+J6,1) -> 282.3 | N6: 5E5834DF4117408A307C06B42565C9 | O6: 5F0E049E811770B5487B16F372F1001 | P6: F | Q6: F | R6: F | S6: 0 | T6: 0 | U6: 0.05 | AW6: 5E5834DF4117408A307C06B42565C95F0E049E811770B5487B16F372F1001
A7: 전선관부속품비 | B7: 전선관의 15% | C7: 식 | D7: 1 | E7: =TRUNC(SUMIF(W5:W9, RIGHTB(O7, 1), F5:F9)*U7, 2) -> 847.11 | F7: =TRUNC(E7*D7,1) -> 847.1 | G7: 0 | H7: =TRUNC(G7*D7,1) -> 0 | I7: 0 | J7: =TRUNC(I7*D7,1) -> 0 | K7: =TRUNC(E7+G7+I7,1) -> 847.1 | L7: =TRUNC(F7+H7+J7,1) -> 847.1 | N7: 5E5834DF4117408A307C06B42565C9 | O7: 5F0E049E811770B5487B16F372F2002 | P7: F | Q7: F | R7: F | S7: 0 | T7: 0 | U7: 0.15 | AW7: 5E5834DF4117408A307C06B42565C95F0E049E811770B5487B16F372F1001
A8: 내선전공 | B8: 일반공사 직종 | C8: 인 | D8: =공량산출근거서_일위대가!K6 -> 0.2 | E8: =단가대비표!O48 -> 0 | F8: =TRUNC(E8*D8,1) -> 0 | G8: =단가대비표!P48 -> 276108 | H8: =TRUNC(G8*D8,1) -> 55221.6 | I8: =단가대비표!V48 -> 0 | J8: =TRUNC(I8*D8,1) -> 0 | K8: =TRUNC(E8+G8+I8,1) -> 276108 | L8: =TRUNC(F8+H8+J8,1) -> 55221.6 | N8: 5E5834DF4117408A307C06B42565C9 | O8: 5EC2540591178118FC7E18478FB85274AB5ABA | P8: F | Q8: F | R8: T | X8: 3 | AW8: 5E5834DF4117408A307C06B42565C95EC2540591178118FC7E18478FB85274AB5ABA
A9: 공구손료 | B9: 인력품의 3% | C9: 식 | D9: 1 | E9: =TRUNC(SUMIF(X5:X9, RIGHTB(O9, 1), H5:H9)*U9, 2) -> 1656.64 | F9: =TRUNC(E9*D9,1) -> 1656.6 | G9: 0 | H9: =TRUNC(G9*D9,1) -> 0 | I9: 0 | J9: =TRUNC(I9*D9,1) -> 0 | K9: =TRUNC(E9+G9+I9,1) -> 1656.6 | L9: =TRUNC(F9+H9+J9,1) -> 1656.6 | N9: 5E5834DF4117408A307C06B42565C9 | O9: 5F0E049E811770B5487B16F372F3003 | P9: F | Q9: F | R9: F | S9: 1 | T9: 0 | U9: 0.03 | AW9: 5E5834DF4117408A307C06B42565C95F0E049E811770B5487B16F372F3003
A10: [ 합 계 ] | F10: =TRUNC(SUMIF(N5:N9, N4, F5:F9),0) -> 8433 | H10: =TRUNC(SUMIF(N5:N9, N4, H5:H9),0) -> 55221 | J10: =TRUNC(SUMIF(N5:N9, N4, J5:J9),0) -> 0 | L10: =F10+H10+J10 -> 63654 | N10: TOTAL | O10: TOTAL
A12: 파상형경질폴리에틸렌전선관 50㎜ M 전기 4-31 ( 호표 2 ) | N12: 5E5834DF4117408A0B78C9DA3919C1
A13: 파상형경질폴리에틸렌전선관 | B13: 파상형경질폴리에틸렌전선관, ELP, 50mm | C13: M | D13: 1.03 | E13: =단가대비표!O30 -> 680 | F13: =TRUNC(E13*D13,1) -> 700.4 | G13: =단가대비표!P30 -> 0 | H13: =TRUNC(G13*D13,1) -> 0 | I13: =단가대비표!V30 -> 0 | J13: =TRUNC(I13*D13,1) -> 0 | K13: =TRUNC(E13+G13+I13,1) -> 680 | L13: =TRUNC(F13+H13+J13,1) -> 700.4 | N13: 5E5834DF4117408A0B78C9DA3919C1 | O13: 593E448EF117965D967FC1CE5EB44DDBE58F32 | P13: F | Q13: F | R13: T | V13: 1 | W13: 2 | AW13: 5E5834DF4117408A0B78C9DA3919C1593E448EF117965D967FC1CE5EB44DDBE58F32
A14: 잡재료비 | B14: 배관배선의 5% | C14: 식 | D14: 1 | E14: =TRUNC(SUMIF(V13:V18, RIGHTB(O14, 1), F13:F18)*U14, 2) -> 35.02 | F14: =TRUNC(E14*D14,1) -> 35 | G14: 0 | H14: =TRUNC(G14*D14,1) -> 0 | I14: 0 | J14: =TRUNC(I14*D14,1) -> 0 | K14: =TRUNC(E14+G14+I14,1) -> 35 | L14: =TRUNC(F14+H14+J14,1) -> 35 | N14: 5E5834DF4117408A0B78C9DA3919C1 | O14: 5F0E049E811770B5487B16F372F1001 | P14: F | Q14: F | R14: F | S14: 0 | T14: 0 | U14: 0.05 | AW14: 5E5834DF4117408A0B78C9DA3919C15F0E049E811770B5487B16F372F1001
A15: 전선관부속품비 | B15: 전선관의 15% | C15: 식 | D15: 1 | E15: =TRUNC(SUMIF(W13:W18, RIGHTB(O15, 1), F13:F18)*U15, 2) -> 105.06 | F15: =TRUNC(E15*D15,1) -> 105 | G15: 0 | H15: =TRUNC(G15*D15,1) -> 0 | I15: 0 | J15: =TRUNC(I15*D15,1) -> 0 | K15: =TRUNC(E15+G15+I15,1) -> 105 | L15: =TRUNC(F15+H15+J15,1) -> 105 | N15: 5E5834DF4117408A0B78C9DA3919C1 | O15: 5F0E049E811770B5487B16F372F2002 | P15: F | Q15: F | R15: F | S15: 0 | T15: 0 | U15: 0.15 | AW15: 5E5834DF4117408A0B78C9DA3919C15F0E049E811770B5487B16F372F3003
A16: 보통인부 | B16: 일반공사 직종 | C16: 인 | D16: =공량산출근거서_일위대가!K10 -> 0.018 | E16: =단가대비표!O42 -> 0 | F16: =TRUNC(E16*D16,1) -> 0 | G16: =단가대비표!P42 -> 172698 | H16: =TRUNC(G16*D16,1) -> 3108.5 | I16: =단가대비표!V42 -> 0 | J16: =TRUNC(I16*D16,1) -> 0 | K16: =TRUNC(E16+G16+I16,1) -> 172698 | L16: =TRUNC(F16+H16+J16,1) -> 3108.5 | N16: 5E5834DF4117408A0B78C9DA3919C1 | O16: 5EC2540591178118FC7E18478FB85274AB5D76 | P16: F | Q16: F | R16: T | X16: 3 | AW16: 5E5834DF4117408A0B78C9DA3919C15EC2540591178118FC7E18478FB85274AB5D76
A17: 배전전공 | B17: 일반공사 직종 | C17: 인 | D17: =공량산출근거서_일위대가!K11 -> 0.007 | E17: =단가대비표!O50 -> 0 | F17: =TRUNC(E17*D17,1) -> 0 | G17: =단가대비표!P50 -> 420978 | H17: =TRUNC(G17*D17,1) -> 2946.8 | I17: =단가대비표!V50 -> 0 | J17: =TRUNC(I17*D17,1) -> 0 | K17: =TRUNC(E17+G17+I17,1) -> 420978 | L17: =TRUNC(F17+H17+J17,1) -> 2946.8 | N17: 5E5834DF4117408A0B78C9DA3919C1 | O17: 5EC2540591178118FC7E18478FB85274AB553F | P17: F | Q17: F | R17: T | X17: 3 | AW17: 5E5834DF4117408A0B78C9DA3919C15EC2540591178118FC7E18478FB85274AB553F
A18: 공구손료 | B18: 인력품의 3% | C18: 식 | D18: 1 | E18: =TRUNC(SUMIF(X13:X18, RIGHTB(O18, 1), H13:H18)*U18, 2) -> 181.65 | F18: =TRUNC(E18*D18,1) -> 181.6 | G18: 0 | H18: =TRUNC(G18*D18,1) -> 0 | I18: 0 | J18: =TRUNC(I18*D18,1) -> 0 | K18: =TRUNC(E18+G18+I18,1) -> 181.6 | L18: =TRUNC(F18+H18+J18,1) -> 181.6 | N18: 5E5834DF4117408A0B78C9DA3919C1 | O18: 5F0E049E811770B5487B16F372F3003 | P18: F | Q18: F | R18: F | S18: 1 | T18: 0 | U18: 0.03 | AW18: 5E5834DF4117408A0B78C9DA3919C15F0E049E811770B5487B16F372F2002
A19: [ 합 계 ] | F19: =TRUNC(SUMIF(N13:N18, N12, F13:F18),0) -> 1022 | H19: =TRUNC(SUMIF(N13:N18, N12, H13:H18),0) -> 6055 | J19: =TRUNC(SUMIF(N13:N18, N12, J13:J18),0) -> 0 | L19: =F19+H19+J19 -> 7077 | N19: TOTAL | O19: TOTAL
A21: 난연 비닐절연접지용전선(F-GV) 0.6/1kv, 10㎟ M 전기 3-38 ( 호표 3 ) | N21: 5E5834DF41177DCC6D78B3E1407127
A22: 접지용비닐절연전선 | B22: 접지용비닐절연전선, F-GV, 10㎟ | C22: M | D22: 1.1 | E22: =단가대비표!O12 -> 2090 | F22: =TRUNC(E22*D22,1) -> 2299 | G22: =단가대비표!P12 -> 0 | H22: =TRUNC(G22*D22,1) -> 0 | I22: =단가대비표!V12 -> 0 | J22: =TRUNC(I22*D22,1) -> 0 | K22: =TRUNC(E22+G22+I22,1) -> 2090 | L22: =TRUNC(F22+H22+J22,1) -> 2299 | N22: 5E5834DF41177DCC6D78B3E1407127 | O22: 592C04B871175D4F83731B2CF5D26A3ACCD3AF | P22: F | Q22: F | R22: T | V22: 1 | AW22: 5E5834DF41177DCC6D78B3E1407127592C04B871175D4F83731B2CF5D26A3ACCD3AF
A23: 잡재료비 | B23: 배관배선의 5% | C23: 식 | D23: 1 | E23: =TRUNC(SUMIF(V22:V25, RIGHTB(O23, 1), F22:F25)*U23, 2) -> 114.95 | F23: =TRUNC(E23*D23,1) -> 114.9 | G23: 0 | H23: =TRUNC(G23*D23,1) -> 0 | I23: 0 | J23: =TRUNC(I23*D23,1) -> 0 | K23: =TRUNC(E23+G23+I23,1) -> 114.9 | L23: =TRUNC(F23+H23+J23,1) -> 114.9 | N23: 5E5834DF41177DCC6D78B3E1407127 | O23: 5F0E049E811770B5487B16F372F1001 | P23: F | Q23: F | R23: F | S23: 0 | T23: 0 | U23: 0.05 | AW23: 5E5834DF41177DCC6D78B3E14071275F0E049E811770B5487B16F372F1001
A24: 내선전공 | B24: 일반공사 직종 | C24: 인 | D24: =공량산출근거서_일위대가!K14 -> 0.006 | E24: =단가대비표!O48 -> 0 | F24: =TRUNC(E24*D24,1) -> 0 | G24: =단가대비표!P48 -> 276108 | H24: =TRUNC(G24*D24,1) -> 1656.6 | I24: =단가대비표!V48 -> 0 | J24: =TRUNC(I24*D24,1) -> 0 | K24: =TRUNC(E24+G24+I24,1) -> 276108 | L24: =TRUNC(F24+H24+J24,1) -> 1656.6 | N24: 5E5834DF41177DCC6D78B3E1407127 | O24: 5EC2540591178118FC7E18478FB85274AB5ABA | P24: F | Q24: F | R24: T | W24: 2 | AW24: 5E5834DF41177DCC6D78B3E14071275EC2540591178118FC7E18478FB85274AB5ABA
A25: 공구손료 | B25: 인력품의 3% | C25: 식 | D25: 1 | E25: =TRUNC(SUMIF(W22:W25, RIGHTB(O25, 1), H22:H25)*U25, 2) -> 49.69 | F25: =TRUNC(E25*D25,1) -> 49.6 | G25: 0 | H25: =TRUNC(G25*D25,1) -> 0 | I25: 0 | J25: =TRUNC(I25*D25,1) -> 0 | K25: =TRUNC(E25+G25+I25,1) -> 49.6 | L25: =TRUNC(F25+H25+J25,1) -> 49.6 | N25: 5E5834DF41177DCC6D78B3E1407127 | O25: 5F0E049E811770B5487B16F372F2002 | P25: F | Q25: F | R25: F | S25: 1 | T25: 0 | U25: 0.03 | AW25: 5E5834DF41177DCC6D78B3E14071275F0E049E811770B5487B16F372F2002
A26: [ 합 계 ] | F26: =TRUNC(SUMIF(N22:N25, N21, F22:F25),0) -> 2463 | H26: =TRUNC(SUMIF(N22:N25, N21, H22:H25),0) -> 1656 | J26: =TRUNC(SUMIF(N22:N25, N21, J22:J25),0) -> 0 | L26: =F26+H26+J26 -> 4119 | N26: TOTAL | O26: TOTAL
A28: 0.6/1kv 난연 전력케이블(F-CV) 2C*10㎟ M 전기 4-34 ( 호표 4 ) | N28: 5E5834DF4117636A157B07A2339051
A29: 600V폴리에틸렌케이블 | B29: 0.6/1kv, F-CV, 2C*10㎟ | C29: M | D29: 1.05 | E29: =단가대비표!O14 -> 5105 | F29: =TRUNC(E29*D29,1) -> 5360.2 | G29: =단가대비표!P14 -> 0 | H29: =TRUNC(G29*D29,1) -> 0 | I29: =단가대비표!V14 -> 0 | J29: =TRUNC(I29*D29,1) -> 0 | K29: =TRUNC(E29+G29+I29,1) -> 5105 | L29: =TRUNC(F29+H29+J29,1) -> 5360.2 | N29: 5E5834DF4117636A157B07A2339051 | O29: 592C04B871175D4FB874403DEB5455FB1F9263 | P29: F | Q29: F | R29: T | V29: 1 | AW29: 5E5834DF4117636A157B07A2339051592C04B871175D4FB874403DEB5455FB1F9263
A30: 잡재료비 | B30: 배관배선의 5% | C30: 식 | D30: 1 | E30: =TRUNC(SUMIF(V29:V33, RIGHTB(O30, 1), F29:F33)*U30, 2) -> 268.01 | F30: =TRUNC(E30*D30,1) -> 268 | G30: 0 | H30: =TRUNC(G30*D30,1) -> 0 | I30: 0 | J30: =TRUNC(I30*D30,1) -> 0 | K30: =TRUNC(E30+G30+I30,1) -> 268 | L30: =TRUNC(F30+H30+J30,1) -> 268 | N30: 5E5834DF4117636A157B07A2339051 | O30: 5F0E049E811770B5487B16F372F1001 | P30: F | Q30: F | R30: F | S30: 0 | T30: 0 | U30: 0.05 | AW30: 5E5834DF4117636A157B07A23390515F0E049E811770B5487B16F372F1001
A31: 보통인부 | B31: 일반공사 직종 | C31: 인 | D31: =공량산출근거서_일위대가!K18 -> 0.006776 | E31: =단가대비표!O42 -> 0 | F31: =TRUNC(E31*D31,1) -> 0 | G31: =단가대비표!P42 -> 172698 | H31: =TRUNC(G31*D31,1) -> 1170.2 | I31: =단가대비표!V42 -> 0 | J31: =TRUNC(I31*D31,1) -> 0 | K31: =TRUNC(E31+G31+I31,1) -> 172698 | L31: =TRUNC(F31+H31+J31,1) -> 1170.2 | N31: 5E5834DF4117636A157B07A2339051 | O31: 5EC2540591178118FC7E18478FB85274AB5D76 | P31: F | Q31: F | R31: T | W31: 2 | AW31: 5E5834DF4117636A157B07A23390515EC2540591178118FC7E18478FB85274AB5D76
A32: 저압케이블전공 | B32: 일반공사 직종 | C32: 인 | D32: =공량산출근거서_일위대가!K19 -> 0.006776 | E32: =단가대비표!O49 -> 0 | F32: =TRUNC(E32*D32,1) -> 0 | G32: =단가대비표!P49 -> 306274 | H32: =TRUNC(G32*D32,1) -> 2075.3 | I32: =단가대비표!V49 -> 0 | J32: =TRUNC(I32*D32,1) -> 0 | K32: =TRUNC(E32+G32+I32,1) -> 306274 | L32: =TRUNC(F32+H32+J32,1) -> 2075.3 | N32: 5E5834DF4117636A157B07A2339051 | O32: 5EC2540591178118FC7E18478FB85274AB5AB7 | P32: F | Q32: F | R32: T | W32: 2 | AW32: 5E5834DF4117636A157B07A23390515EC2540591178118FC7E18478FB85274AB5AB7
A33: 공구손료 | B33: 인력품의 3% | C33: 식 | D33: 1 | E33: =TRUNC(SUMIF(W29:W33, RIGHTB(O33, 1), H29:H33)*U33, 2) -> 97.36 | F33: =TRUNC(E33*D33,1) -> 97.3 | G33: 0 | H33: =TRUNC(G33*D33,1) -> 0 | I33: 0 | J33: =TRUNC(I33*D33,1) -> 0 | K33: =TRUNC(E33+G33+I33,1) -> 97.3 | L33: =TRUNC(F33+H33+J33,1) -> 97.3 | N33: 5E5834DF4117636A157B07A2339051 | O33: 5F0E049E811770B5487B16F372F2002 | P33: F | Q33: F | R33: F | S33: 1 | T33: 0 | U33: 0.03 | AW33: 5E5834DF4117636A157B07A23390515F0E049E811770B5487B16F372F2002
A34: [ 합 계 ] | F34: =TRUNC(SUMIF(N29:N33, N28, F29:F33),0) -> 5725 | H34: =TRUNC(SUMIF(N29:N33, N28, H29:H33),0) -> 3245 | J34: =TRUNC(SUMIF(N29:N33, N28, J29:J33),0) -> 0 | L34: =F34+H34+J34 -> 8970 | N34: TOTAL | O34: TOTAL
A36: 조명제어기(관급자재) 설치 6회로, 무선양방향 면 ( 호표 5 ) | N36: 5E5834DCF1170C91EB7ADA8523487B
A37: 조명제어기(관급자재) | B37: 6회로, 무선양방향 | C37: 면 | D37: 1 | E37: =단가대비표!O24 -> 0 | F37: =TRUNC(E37*D37,1) -> 0 | G37: =단가대비표!P24 -> 0 | H37: =TRUNC(G37*D37,1) -> 0 | I37: =단가대비표!V24 -> 0 | J37: =TRUNC(I37*D37,1) -> 0 | K37: =TRUNC(E37+G37+I37,1) -> 0 | L37: =TRUNC(F37+H37+J37,1) -> 0 | N37: 5E5834DCF1170C91EB7ADA8523487B | O37: 593E448EF11785C3EF7E1CB97473E016DCD20B | P37: F | Q37: F | R37: T | AW37: 5E5834DCF1170C91EB7ADA8523487B593E448EF11785C3EF7E1CB97473E016DCD20B
A38: 내선전공 | B38: 일반공사 직종 | C38: 인 | D38: =공량산출근거서_일위대가!K22 -> 1.02 | E38: =단가대비표!O48 -> 0 | F38: =TRUNC(E38*D38,1) -> 0 | G38: =단가대비표!P48 -> 276108 | H38: =TRUNC(G38*D38,1) -> 281630.1 | I38: =단가대비표!V48 -> 0 | J38: =TRUNC(I38*D38,1) -> 0 | K38: =TRUNC(E38+G38+I38,1) -> 276108 | L38: =TRUNC(F38+H38+J38,1) -> 281630.1 | N38: 5E5834DCF1170C91EB7ADA8523487B | O38: 5EC2540591178118FC7E18478FB85274AB5ABA | P38: F | Q38: F | R38: T | V38: 1 | AW38: 5E5834DCF1170C91EB7ADA8523487B5EC2540591178118FC7E18478FB85274AB5ABA
A39: 공구손료 | B39: 인력품의 3% | C39: 식 | D39: 1 | E39: =TRUNC(SUMIF(V37:V39, RIGHTB(O39, 1), H37:H39)*U39, 2) -> 8448.9 | F39: =TRUNC(E39*D39,1) -> 8448.9 | G39: 0 | H39: =TRUNC(G39*D39,1) -> 0 | I39: 0 | J39: =TRUNC(I39*D39,1) -> 0 | K39: =TRUNC(E39+G39+I39,1) -> 8448.9 | L39: =TRUNC(F39+H39+J39,1) -> 8448.9 | N39: 5E5834DCF1170C91EB7ADA8523487B | O39: 5F0E049E811770B5487B16F372F1001 | P39: F | Q39: F | R39: F | S39: 1 | T39: 0 | U39: 0.03 | AW39: 5E5834DCF1170C91EB7ADA8523487B5F0E049E811770B5487B16F372F1001
A40: [ 합 계 ] | F40: =TRUNC(SUMIF(N37:N39, N36, F37:F39),0) -> 8448 | H40: =TRUNC(SUMIF(N37:N39, N36, H37:H39),0) -> 281630 | J40: =TRUNC(SUMIF(N37:N39, N36, J37:J39),0) -> 0 | L40: =F40+H40+J40 -> 290078 | N40: TOTAL | O40: TOTAL
A42: 가로등제어기기초 (기계화설치) 400x500x800, 앙카포함 개소 ( 호표 6 ) | N42: 5E5834DF41170AD737753833CCC3CE
A43: 가로등기초(기성품) 설치 | B43: 기계화 작업 | C43: 본 | D43: 1 | E43: =중기단가목록!E6 -> 6342 | F43: =TRUNC(E43*D43,1) -> 6342 | G43: =중기단가목록!F6 -> 30392 | H43: =TRUNC(G43*D43,1) -> 30392 | I43: =중기단가목록!G6 -> 6804 | J43: =TRUNC(I43*D43,1) -> 6804 | K43: =TRUNC(E43+G43+I43,1) -> 43538 | L43: =TRUNC(F43+H43+J43,1) -> 43538 | M43: 산근 3 | N43: 5E5834DF41170AD737753833CCC3CE | O43: 5E5834CF3117BC33B27D323615C775 | P43: F | Q43: T | R43: F | AW43: 5E5834DF41170AD737753833CCC3CE5E5834CF3117BC33B27D323615C775
A44: 가로등제어기기초 | B44: 400x500x800, 앙카포함 | C44: 조 | D44: 1 | E44: =단가대비표!O51 -> 49000 | F44: =TRUNC(E44*D44,1) -> 49000 | G44: =단가대비표!P51 -> 0 | H44: =TRUNC(G44*D44,1) -> 0 | I44: =단가대비표!V51 -> 0 | J44: =TRUNC(I44*D44,1) -> 0 | K44: =TRUNC(E44+G44+I44,1) -> 49000 | L44: =TRUNC(F44+H44+J44,1) -> 49000 | N44: 5E5834DF41170AD737753833CCC3CE | O44: 5FAF04E2611747FAD07DA8E8CCD7578C8912DC | P44: F | Q44: F | R44: T | AW44: 5E5834DF41170AD737753833CCC3CE5FAF04E2611747FAD07DA8E8CCD7578C8912DC
A45: 내선전공 | B45: 일반공사 직종 | C45: 인 | D45: =공량산출근거서_일위대가!K27 -> 0.08 | E45: =단가대비표!O48 -> 0 | F45: =TRUNC(E45*D45,1) -> 0 | G45: =단가대비표!P48 -> 276108 | H45: =TRUNC(G45*D45,1) -> 22088.6 | I45: =단가대비표!V48 -> 0 | J45: =TRUNC(I45*D45,1) -> 0 | K45: =TRUNC(E45+G45+I45,1) -> 276108 | L45: =TRUNC(F45+H45+J45,1) -> 22088.6 | N45: 5E5834DF41170AD737753833CCC3CE | O45: 5EC2540591178118FC7E18478FB85274AB5ABA | P45: F | Q45: F | R45: T | V45: 1 | AW45: 5E5834DF41170AD737753833CCC3CE5EC2540591178118FC7E18478FB85274AB5ABA
A46: 보통인부 | B46: 일반공사 직종 | C46: 인 | D46: =공량산출근거서_일위대가!K26 -> 0.19 | E46: =단가대비표!O42 -> 0 | F46: =TRUNC(E46*D46,1) -> 0 | G46: =단가대비표!P42 -> 172698 | H46: =TRUNC(G46*D46,1) -> 32812.6 | I46: =단가대비표!V42 -> 0 | J46: =TRUNC(I46*D46,1) -> 0 | K46: =TRUNC(E46+G46+I46,1) -> 172698 | L46: =TRUNC(F46+H46+J46,1) -> 32812.6 | N46: 5E5834DF41170AD737753833CCC3CE | O46: 5EC2540591178118FC7E18478FB85274AB5D76 | P46: F | Q46: F | R46: T | V46: 1 | AW46: 5E5834DF41170AD737753833CCC3CE5EC2540591178118FC7E18478FB85274AB5D76
A47: 공구손료 | B47: 인력품의 3% | C47: 식 | D47: 1 | E47: =TRUNC(SUMIF(V43:V47, RIGHTB(O47, 1), H43:H47)*U47, 2) -> 1647.03 | F47: =TRUNC(E47*D47,1) -> 1647 | G47: 0 | H47: =TRUNC(G47*D47,1) -> 0 | I47: 0 | J47: =TRUNC(I47*D47,1) -> 0 | K47: =TRUNC(E47+G47+I47,1) -> 1647 | L47: =TRUNC(F47+H47+J47,1) -> 1647 | N47: 5E5834DF41170AD737753833CCC3CE | O47: 5F0E049E811770B5487B16F372F1001 | P47: F | Q47: F | R47: F | S47: 1 | T47: 0 | U47: 0.03 | AW47: 5E5834DF41170AD737753833CCC3CE5F0E049E811770B5487B16F372F1001
A48: [ 합 계 ] | F48: =TRUNC(SUMIF(N43:N47, N42, F43:F47),0) -> 56989 | H48: =TRUNC(SUMIF(N43:N47, N42, H43:H47),0) -> 85293 | J48: =TRUNC(SUMIF(N43:N47, N42, J43:J47),0) -> 6804 | L48: =F48+H48+J48 -> 149086 | N48: TOTAL | O48: TOTAL
A50: 전력량계 설치 1Ø 2W용 대 전기 5-21 ( 호표 7 ) | N50: 5E5834DF4117C5E1DD7E71B7B52BFF
A51: 내선전공 | B51: 일반공사 직종 | C51: 인 | D51: 0.14 | E51: =단가대비표!O48 -> 0 | F51: =TRUNC(E51*D51,1) -> 0 | G51: =단가대비표!P48 -> 276108 | H51: =TRUNC(G51*D51,1) -> 38655.1 | I51: =단가대비표!V48 -> 0 | J51: =TRUNC(I51*D51,1) -> 0 | K51: =TRUNC(E51+G51+I51,1) -> 276108 | L51: =TRUNC(F51+H51+J51,1) -> 38655.1 | N51: 5E5834DF4117C5E1DD7E71B7B52BFF | O51: 5EC2540591178118FC7E18478FB85274AB5ABA | P51: F | Q51: F | R51: T | V51: 1 | AW51: 5E5834DF4117C5E1DD7E71B7B52BFF5EC2540591178118FC7E18478FB85274AB5ABA
A52: 공구손료 | B52: 인력품의 3% | C52: 식 | D52: 1 | E52: =TRUNC(SUMIF(V51:V52, RIGHTB(O52, 1), H51:H52)*U52, 2) -> 1159.65 | F52: =TRUNC(E52*D52,1) -> 1159.6 | G52: 0 | H52: =TRUNC(G52*D52,1) -> 0 | I52: 0 | J52: =TRUNC(I52*D52,1) -> 0 | K52: =TRUNC(E52+G52+I52,1) -> 1159.6 | L52: =TRUNC(F52+H52+J52,1) -> 1159.6 | N52: 5E5834DF4117C5E1DD7E71B7B52BFF | O52: 5F0E049E811770B5487B16F372F1001 | P52: F | Q52: F | R52: F | S52: 1 | T52: 0 | U52: 0.03 | AW52: 5E5834DF4117C5E1DD7E71B7B52BFF5F0E049E811770B5487B16F372F1001
A53: [ 합 계 ] | F53: =TRUNC(SUMIF(N51:N52, N50, F51:F52),0) -> 1159 | H53: =TRUNC(SUMIF(N51:N52, N50, H51:H52),0) -> 38655 | J53: =TRUNC(SUMIF(N51:N52, N50, J51:J52),0) -> 0 | L53: =F53+H53+J53 -> 39814 | N53: TOTAL | O53: TOTAL
A55: 접지봉매설 지하 0.75M매설, 3본연결 개소 전기 3-38 ( 호표 8 ) | N55: 5E5834DAC117DD820A7E1CCC72C61C
A56: 접지봉 | B56: 접지봉, 16∮*1800mm | C56: 개 | D56: 3 | E56: =단가대비표!O26 -> 5118 | F56: =TRUNC(E56*D56,1) -> 15354 | G56: =단가대비표!P26 -> 0 | H56: =TRUNC(G56*D56,1) -> 0 | I56: =단가대비표!V26 -> 0 | J56: =TRUNC(I56*D56,1) -> 0 | K56: =TRUNC(E56+G56+I56,1) -> 5118 | L56: =TRUNC(F56+H56+J56,1) -> 15354 | N56: 5E5834DAC117DD820A7E1CCC72C61C | O56: 593E448EF11785C3977C00428AF28AC191156F | P56: F | Q56: F | R56: T | AW56: 5E5834DAC117DD820A7E1CCC72C61C593E448EF11785C3977C00428AF28AC191156F
A57: 볼트형커넥터 | B57: 볼트형커넥터, 일반형, ∮16mm | C57: 개 | D57: 3 | E57: =단가대비표!O25 -> 843 | F57: =TRUNC(E57*D57,1) -> 2529 | G57: =단가대비표!P25 -> 0 | H57: =TRUNC(G57*D57,1) -> 0 | I57: =단가대비표!V25 -> 0 | J57: =TRUNC(I57*D57,1) -> 0 | K57: =TRUNC(E57+G57+I57,1) -> 843 | L57: =TRUNC(F57+H57+J57,1) -> 2529 | N57: 5E5834DAC117DD820A7E1CCC72C61C | O57: 593E448EF11785C3B27B85E053EC165C25F9C9 | P57: F | Q57: F | R57: T | AW57: 5E5834DAC117DD820A7E1CCC72C61C593E448EF11785C3B27B85E053EC165C25F9C9
A58: 접지 저항 저감제 | B58: 아스론 10kg | C58: set | D58: 2 | E58: =단가대비표!O27 -> 10035 | F58: =TRUNC(E58*D58,1) -> 20070 | G58: =단가대비표!P27 -> 0 | H58: =TRUNC(G58*D58,1) -> 0 | I58: =단가대비표!V27 -> 0 | J58: =TRUNC(I58*D58,1) -> 0 | K58: =TRUNC(E58+G58+I58,1) -> 10035 | L58: =TRUNC(F58+H58+J58,1) -> 20070 | N58: 5E5834DAC117DD820A7E1CCC72C61C | O58: 593E448EF11785C39774CA4075B9F7D64B4B09 | P58: F | Q58: F | R58: T | AW58: 5E5834DAC117DD820A7E1CCC72C61C593E448EF11785C39774CA4075B9F7D64B4B09
A59: 접지봉(지하0.75m기준) | B59: 길이 1~2m x 3본 연결 | C59: 개 | D59: 1 | E59: =단가대비표!O35 -> 0 | F59: =TRUNC(E59*D59,1) -> 0 | G59: =단가대비표!P35 -> 0 | H59: =TRUNC(G59*D59,1) -> 0 | I59: =단가대비표!V35 -> 0 | J59: =TRUNC(I59*D59,1) -> 0 | K59: =TRUNC(E59+G59+I59,1) -> 0 | L59: =TRUNC(F59+H59+J59,1) -> 0 | M59: 노무비 | N59: 5E5834DAC117DD820A7E1CCC72C61C | O59: 5974A4CAD117E2B16A75159FB87E03A6E70BFC | P59: F | Q59: F | R59: T | AW59: 5E5834DAC117DD820A7E1CCC72C61C5974A4CAD117E2B16A75159FB87E03A6E70BFC
A60: 보통인부 | B60: 일반공사 직종 | C60: 인 | D60: =공량산출근거서_일위대가!K31 -> 0.2 | E60: =단가대비표!O42 -> 0 | F60: =TRUNC(E60*D60,1) -> 0 | G60: =단가대비표!P42 -> 172698 | H60: =TRUNC(G60*D60,1) -> 34539.6 | I60: =단가대비표!V42 -> 0 | J60: =TRUNC(I60*D60,1) -> 0 | K60: =TRUNC(E60+G60+I60,1) -> 172698 | L60: =TRUNC(F60+H60+J60,1) -> 34539.6 | N60: 5E5834DAC117DD820A7E1CCC72C61C | O60: 5EC2540591178118FC7E18478FB85274AB5D76 | P60: F | Q60: F | R60: T | V60: 1 | AW60: 5E5834DAC117DD820A7E1CCC72C61C5EC2540591178118FC7E18478FB85274AB5D76
A61: 내선전공 | B61: 일반공사 직종 | C61: 인 | D61: =공량산출근거서_일위대가!K32 -> 0.24 | E61: =단가대비표!O48 -> 0 | F61: =TRUNC(E61*D61,1) -> 0 | G61: =단가대비표!P48 -> 276108 | H61: =TRUNC(G61*D61,1) -> 66265.9 | I61: =단가대비표!V48 -> 0 | J61: =TRUNC(I61*D61,1) -> 0 | K61: =TRUNC(E61+G61+I61,1) -> 276108 | L61: =TRUNC(F61+H61+J61,1) -> 66265.9 | N61: 5E5834DAC117DD820A7E1CCC72C61C | O61: 5EC2540591178118FC7E18478FB85274AB5ABA | P61: F | Q61: F | R61: T | V61: 1 | AW61: 5E5834DAC117DD820A7E1CCC72C61C5EC2540591178118FC7E18478FB85274AB5ABA
A62: 공구손료 | B62: 인력품의 3% | C62: 식 | D62: 1 | E62: =TRUNC(SUMIF(V56:V62, RIGHTB(O62, 1), H56:H62)*U62, 2) -> 3024.16 | F62: =TRUNC(E62*D62,1) -> 3024.1 | G62: 0 | H62: =TRUNC(G62*D62,1) -> 0 | I62: 0 | J62: =TRUNC(I62*D62,1) -> 0 | K62: =TRUNC(E62+G62+I62,1) -> 3024.1 | L62: =TRUNC(F62+H62+J62,1) -> 3024.1 | N62: 5E5834DAC117DD820A7E1CCC72C61C | O62: 5F0E049E811770B5487B16F372F1001 | P62: F | Q62: F | R62: F | S62: 1 | T62: 0 | U62: 0.03 | AW62: 5E5834DAC117DD820A7E1CCC72C61C5F0E049E811770B5487B16F372F1001
A63: [ 합 계 ] | F63: =TRUNC(SUMIF(N56:N62, N55, F56:F62),0) -> 40977 | H63: =TRUNC(SUMIF(N56:N62, N55, H56:H62),0) -> 100805 | J63: =TRUNC(SUMIF(N56:N62, N55, J56:J62),0) -> 0 | L63: =F63+H63+J63 -> 141782 | N63: TOTAL | O63: TOTAL
A65: 전력맨홀(콘크리트,KS) 800*800*800 개소 ( 호표 9 ) | N65: 5E5834DF41170AD7417CA7468DED0A
A66: 터파기/토사 | B66: 보통, 굴삭기 0.7m3 90%, 인력10% | C66: ㎥ | D66: 0.826 | E66: =중기단가목록!E4 -> 255 | F66: =TRUNC(E66*D66,1) -> 210.6 | G66: =중기단가목록!F4 -> 4342 | H66: =TRUNC(G66*D66,1) -> 3586.4 | I66: =중기단가목록!G4 -> 352 | J66: =TRUNC(I66*D66,1) -> 290.7 | K66: =TRUNC(E66+G66+I66,1) -> 4949 | L66: =TRUNC(F66+H66+J66,1) -> 4087.7 | M66: 산근 1 | N66: 5E5834DF41170AD7417CA7468DED0A | O66: 5E3BC43CE11717BDD771CD31B5E5FF | P66: F | Q66: T | R66: F | AW66: 5E5834DF41170AD7417CA7468DED0A5E3BC43CE11717BDD771CD31B5E5FF
A67: 되메우기/토사, 두께 10cm | B67: 보통, 굴삭기 0.7m3+플레이트콤팩터 1.5ton+인력 10% | C67: ㎥ | D67: 0.625 | E67: =중기단가목록!E5 -> 350 | F67: =TRUNC(E67*D67,1) -> 218.7 | G67: =중기단가목록!F5 -> 6690 | H67: =TRUNC(G67*D67,1) -> 4181.2 | I67: =중기단가목록!G5 -> 315 | J67: =TRUNC(I67*D67,1) -> 196.8 | K67: =TRUNC(E67+G67+I67,1) -> 7355 | L67: =TRUNC(F67+H67+J67,1) -> 4596.7 | M67: 산근 2 | N67: 5E5834DF41170AD7417CA7468DED0A | O67: 5E3BC431D1177DAF707DF81F66B73A | P67: F | Q67: T | R67: F | AW67: 5E5834DF41170AD7417CA7468DED0A5E3BC431D1177DAF707DF81F66B73A
A68: 핸드홀 | B68: 800*800*800 | C68: 조 | D68: 1 | E68: =단가대비표!O16 -> 130000 | F68: =TRUNC(E68*D68,1) -> 130000 | G68: =단가대비표!P16 -> 0 | H68: =TRUNC(G68*D68,1) -> 0 | I68: =단가대비표!V16 -> 0 | J68: =TRUNC(I68*D68,1) -> 0 | K68: =TRUNC(E68+G68+I68,1) -> 130000 | L68: =TRUNC(F68+H68+J68,1) -> 130000 | N68: 5E5834DF41170AD7417CA7468DED0A | O68: 593ED4EAB117F2863479F7DF5F9CDCDF7DC9D1 | P68: F | Q68: F | R68: T | AW68: 5E5834DF41170AD7417CA7468DED0A593ED4EAB117F2863479F7DF5F9CDCDF7DC9D1
A69: 핸드홀카바-1호 | B69: 주철각형 K.S (1120x620x132) | C69: 조 | D69: 1 | E69: =단가대비표!O17 -> 430000 | F69: =TRUNC(E69*D69,1) -> 430000 | G69: =단가대비표!P17 -> 0 | H69: =TRUNC(G69*D69,1) -> 0 | I69: =단가대비표!V17 -> 0 | J69: =TRUNC(I69*D69,1) -> 0 | K69: =TRUNC(E69+G69+I69,1) -> 430000 | L69: =TRUNC(F69+H69+J69,1) -> 430000 | N69: 5E5834DF41170AD7417CA7468DED0A | O69: 593ED4EAB117F2863479F7DF5F9CDCDF7DC8CE | P69: F | Q69: F | R69: T | AW69: 5E5834DF41170AD7417CA7468DED0A593ED4EAB117F2863479F7DF5F9CDCDF7DC8CE
A70: 작업반장 | B70: 일반공사 직종 | C70: 인 | D70: =공량산출근거서_일위대가!K37 -> 0.28 | E70: =단가대비표!O41 -> 0 | F70: =TRUNC(E70*D70,1) -> 0 | G70: =단가대비표!P41 -> 218316 | H70: =TRUNC(G70*D70,1) -> 61128.4 | I70: =단가대비표!V41 -> 0 | J70: =TRUNC(I70*D70,1) -> 0 | K70: =TRUNC(E70+G70+I70,1) -> 218316 | L70: =TRUNC(F70+H70+J70,1) -> 61128.4 | N70: 5E5834DF41170AD7417CA7468DED0A | O70: 5EC2540591178118FC7E18478FB85274AB5D75 | P70: F | Q70: F | R70: T | V70: 1 | AW70: 5E5834DF41170AD7417CA7468DED0A5EC2540591178118FC7E18478FB85274AB5D75
A71: 특별인부 | B71: 일반공사 직종 | C71: 인 | D71: =공량산출근거서_일위대가!K38 -> 1.33 | E71: =단가대비표!O43 -> 0 | F71: =TRUNC(E71*D71,1) -> 0 | G71: =단가대비표!P43 -> 228717 | H71: =TRUNC(G71*D71,1) -> 304193.6 | I71: =단가대비표!V43 -> 0 | J71: =TRUNC(I71*D71,1) -> 0 | K71: =TRUNC(E71+G71+I71,1) -> 228717 | L71: =TRUNC(F71+H71+J71,1) -> 304193.6 | N71: 5E5834DF41170AD7417CA7468DED0A | O71: 5EC2540591178118FC7E18478FB85274AB5D77 | P71: F | Q71: F | R71: T | V71: 1 | AW71: 5E5834DF41170AD7417CA7468DED0A5EC2540591178118FC7E18478FB85274AB5D77
A72: 줄눈공 | B72: 일반공사 직종 | C72: 인 | D72: =공량산출근거서_일위대가!K39 -> 0.03 | E72: =단가대비표!O44 -> 0 | F72: =TRUNC(E72*D72,1) -> 0 | G72: =단가대비표!P44 -> 212390 | H72: =TRUNC(G72*D72,1) -> 6371.7 | I72: =단가대비표!V44 -> 0 | J72: =TRUNC(I72*D72,1) -> 0 | K72: =TRUNC(E72+G72+I72,1) -> 212390 | L72: =TRUNC(F72+H72+J72,1) -> 6371.7 | N72: 5E5834DF41170AD7417CA7468DED0A | O72: 5EC2540591178118FC7E18478FB85274AB5E1E | P72: F | Q72: F | R72: T | V72: 1 | AW72: 5E5834DF41170AD7417CA7468DED0A5EC2540591178118FC7E18478FB85274AB5E1E
A73: 공구손료 | B73: 인력품의 3% | C73: 식 | D73: 1 | E73: =TRUNC(SUMIF(V66:V73, RIGHTB(O73, 1), H66:H73)*U73, 2) -> 11150.81 | F73: =TRUNC(E73*D73,1) -> 11150.8 | G73: 0 | H73: =TRUNC(G73*D73,1) -> 0 | I73: 0 | J73: =TRUNC(I73*D73,1) -> 0 | K73: =TRUNC(E73+G73+I73,1) -> 11150.8 | L73: =TRUNC(F73+H73+J73,1) -> 11150.8 | N73: 5E5834DF41170AD7417CA7468DED0A | O73: 5F0E049E811770B5487B16F372F1001 | P73: F | Q73: F | R73: F | S73: 1 | T73: 0 | U73: 0.03 | AW73: 5E5834DF41170AD7417CA7468DED0A5F0E049E811770B5487B16F372F1001
A74: [ 합 계 ] | F74: =TRUNC(SUMIF(N66:N73, N65, F66:F73),0) -> 571580 | H74: =TRUNC(SUMIF(N66:N73, N65, H66:H73),0) -> 379461 | J74: =TRUNC(SUMIF(N66:N73, N65, J66:J73),0) -> 487 | L74: =F74+H74+J74 -> 951528 | N74: TOTAL | O74: TOTAL
A76: 보도블럭 철거 ㎡ 토목 12-3-3-1 ( 호표 10 ) | N76: 5E5834DAC117DD820A7E1CCC73EECC
A77: 보도블럭 철거 | C77: ㎡ | D77: 1 | E77: =단가대비표!O36 -> 0 | F77: =TRUNC(E77*D77,1) -> 0 | G77: =단가대비표!P36 -> 0 | H77: =TRUNC(G77*D77,1) -> 0 | I77: =단가대비표!V36 -> 0 | J77: =TRUNC(I77*D77,1) -> 0 | K77: =TRUNC(E77+G77+I77,1) -> 0 | L77: =TRUNC(F77+H77+J77,1) -> 0 | M77: 노무비 | N77: 5E5834DAC117DD820A7E1CCC73EECC | O77: 5974C4F7311727AC5D72672E49B3905F0922CE | P77: F | Q77: F | R77: T | AW77: 5E5834DAC117DD820A7E1CCC73EECC5974C4F7311727AC5D72672E49B3905F0922CE
A78: 보통인부 | B78: 일반공사 직종 | C78: 인 | D78: =공량산출근거서_일위대가!K43 -> 0.006 | E78: =단가대비표!O42 -> 0 | F78: =TRUNC(E78*D78,1) -> 0 | G78: =단가대비표!P42 -> 172698 | H78: =TRUNC(G78*D78,1) -> 1036.1 | I78: =단가대비표!V42 -> 0 | J78: =TRUNC(I78*D78,1) -> 0 | K78: =TRUNC(E78+G78+I78,1) -> 172698 | L78: =TRUNC(F78+H78+J78,1) -> 1036.1 | N78: 5E5834DAC117DD820A7E1CCC73EECC | O78: 5EC2540591178118FC7E18478FB85274AB5D76 | P78: F | Q78: F | R78: T | V78: 1 | AW78: 5E5834DAC117DD820A7E1CCC73EECC5EC2540591178118FC7E18478FB85274AB5D76
A79: 특별인부 | B79: 일반공사 직종 | C79: 인 | D79: =공량산출근거서_일위대가!K44 -> 0.003 | E79: =단가대비표!O43 -> 0 | F79: =TRUNC(E79*D79,1) -> 0 | G79: =단가대비표!P43 -> 228717 | H79: =TRUNC(G79*D79,1) -> 686.1 | I79: =단가대비표!V43 -> 0 | J79: =TRUNC(I79*D79,1) -> 0 | K79: =TRUNC(E79+G79+I79,1) -> 228717 | L79: =TRUNC(F79+H79+J79,1) -> 686.1 | N79: 5E5834DAC117DD820A7E1CCC73EECC | O79: 5EC2540591178118FC7E18478FB85274AB5D77 | P79: F | Q79: F | R79: T | V79: 1 | AW79: 5E5834DAC117DD820A7E1CCC73EECC5EC2540591178118FC7E18478FB85274AB5D77
A80: 공구손료 | B80: 인력품의 3% | C80: 식 | D80: 1 | E80: =TRUNC(SUMIF(V77:V80, RIGHTB(O80, 1), H77:H80)*U80, 2) -> 51.66 | F80: =TRUNC(E80*D80,1) -> 51.6 | G80: 0 | H80: =TRUNC(G80*D80,1) -> 0 | I80: 0 | J80: =TRUNC(I80*D80,1) -> 0 | K80: =TRUNC(E80+G80+I80,1) -> 51.6 | L80: =TRUNC(F80+H80+J80,1) -> 51.6 | N80: 5E5834DAC117DD820A7E1CCC73EECC | O80: 5F0E049E811770B5487B16F372F1001 | P80: F | Q80: F | R80: F | S80: 1 | T80: 0 | U80: 0.03 | AW80: 5E5834DAC117DD820A7E1CCC73EECC5F0E049E811770B5487B16F372F1001
A81: [ 합 계 ] | F81: =TRUNC(SUMIF(N77:N80, N76, F77:F80),0) -> 51 | H81: =TRUNC(SUMIF(N77:N80, N76, H77:H80),0) -> 1722 | J81: =TRUNC(SUMIF(N77:N80, N76, J77:J80),0) -> 0 | L81: =F81+H81+J81 -> 1773 | N81: TOTAL | O81: TOTAL
A83: 보도포장 소형고압블럭(재사용) ㎡ 토목 12-3-3-1 ( 호표 11 ) | N83: 5E5834DAC117DD820A7E1CCC73EECA
A84: 보도블럭 | B84: T=6-8Cm | C84: ㎡ | D84: 0.01 | E84: =단가대비표!O37 -> 0 | F84: =TRUNC(E84*D84,1) -> 0 | G84: =단가대비표!P37 -> 0 | H84: =TRUNC(G84*D84,1) -> 0 | I84: =단가대비표!V37 -> 0 | J84: =TRUNC(I84*D84,1) -> 0 | K84: =TRUNC(E84+G84+I84,1) -> 0 | L84: =TRUNC(F84+H84+J84,1) -> 0 | M84: 재사용 | N84: 5E5834DAC117DD820A7E1CCC73EECA | O84: 5974C4F7311727AC5D72672E49B3905F0922CD | P84: F | Q84: F | R84: T | AW84: 5E5834DAC117DD820A7E1CCC73EECA5974C4F7311727AC5D72672E49B3905F0922CD
A85: 모래 | B85: 모래(육상), 도착도 | C85: M3 | D85: 0.044 | E85: =단가대비표!O8 -> 30000 | F85: =TRUNC(E85*D85,1) -> 1320 | G85: =단가대비표!P8 -> 0 | H85: =TRUNC(G85*D85,1) -> 0 | I85: =단가대비표!V8 -> 0 | J85: =TRUNC(I85*D85,1) -> 0 | K85: =TRUNC(E85+G85+I85,1) -> 30000 | L85: =TRUNC(F85+H85+J85,1) -> 1320 | N85: 5E5834DAC117DD820A7E1CCC73EECA | O85: 5913E4ABF117775F9077CB6768CE3B893DF1C8 | P85: F | Q85: F | R85: T | AW85: 5E5834DAC117DD820A7E1CCC73EECA5913E4ABF117775F9077CB6768CE3B893DF1C8
A86: 보통인부 | B86: 일반공사 직종 | C86: 인 | D86: =공량산출근거서_일위대가!K48 -> 0.013 | E86: =단가대비표!O42 -> 0 | F86: =TRUNC(E86*D86,1) -> 0 | G86: =단가대비표!P42 -> 172698 | H86: =TRUNC(G86*D86,1) -> 2245 | I86: =단가대비표!V42 -> 0 | J86: =TRUNC(I86*D86,1) -> 0 | K86: =TRUNC(E86+G86+I86,1) -> 172698 | L86: =TRUNC(F86+H86+J86,1) -> 2245 | N86: 5E5834DAC117DD820A7E1CCC73EECA | O86: 5EC2540591178118FC7E18478FB85274AB5D76 | P86: F | Q86: F | R86: T | V86: 1 | AW86: 5E5834DAC117DD820A7E1CCC73EECA5EC2540591178118FC7E18478FB85274AB5D76
A87: 특별인부 | B87: 일반공사 직종 | C87: 인 | D87: =공량산출근거서_일위대가!K49 -> 0.006 | E87: =단가대비표!O43 -> 0 | F87: =TRUNC(E87*D87,1) -> 0 | G87: =단가대비표!P43 -> 228717 | H87: =TRUNC(G87*D87,1) -> 1372.3 | I87: =단가대비표!V43 -> 0 | J87: =TRUNC(I87*D87,1) -> 0 | K87: =TRUNC(E87+G87+I87,1) -> 228717 | L87: =TRUNC(F87+H87+J87,1) -> 1372.3 | N87: 5E5834DAC117DD820A7E1CCC73EECA | O87: 5EC2540591178118FC7E18478FB85274AB5D77 | P87: F | Q87: F | R87: T | V87: 1 | AW87: 5E5834DAC117DD820A7E1CCC73EECA5EC2540591178118FC7E18478FB85274AB5D77
A88: 공구손료 | B88: 인력품의 3% | C88: 식 | D88: 1 | E88: =TRUNC(SUMIF(V84:V88, RIGHTB(O88, 1), H84:H88)*U88, 2) -> 108.51 | F88: =TRUNC(E88*D88,1) -> 108.5 | G88: 0 | H88: =TRUNC(G88*D88,1) -> 0 | I88: 0 | J88: =TRUNC(I88*D88,1) -> 0 | K88: =TRUNC(E88+G88+I88,1) -> 108.5 | L88: =TRUNC(F88+H88+J88,1) -> 108.5 | N88: 5E5834DAC117DD820A7E1CCC73EECA | O88: 5F0E049E811770B5487B16F372F1001 | P88: F | Q88: F | R88: F | S88: 1 | T88: 0 | U88: 0.03 | AW88: 5E5834DAC117DD820A7E1CCC73EECA5F0E049E811770B5487B16F372F1001
A89: [ 합 계 ] | F89: =TRUNC(SUMIF(N84:N88, N83, F84:F88),0) -> 1428 | H89: =TRUNC(SUMIF(N84:N88, N83, H84:H88),0) -> 3617 | J89: =TRUNC(SUMIF(N84:N88, N83, J84:J88),0) -> 0 | L89: =F89+H89+J89 -> 5045 | N89: TOTAL | O89: TOTAL
A91: 디자인덕트(관급자재) 설치 알루미늄, 제작사양 M 전기 5-7 ( 호표 12 ) | N91: 5E5834AE7117C472C270F2D237CDD6
A92: 디자인덕트(관급자재) | B92: 알루미늄, 제작사양 | C92: M | D92: 1.05 | E92: 0 | F92: =TRUNC(E92*D92,1) -> 0 | G92: =단가대비표!P34 -> 0 | H92: =TRUNC(G92*D92,1) -> 0 | I92: =단가대비표!V34 -> 0 | J92: =TRUNC(I92*D92,1) -> 0 | K92: =TRUNC(E92+G92+I92,1) -> 0 | L92: =TRUNC(F92+H92+J92,1) -> 0 | N92: 5E5834AE7117C472C270F2D237CDD6 | O92: 593E448EF117965D967E22DE38351ADAFF09C4 | P92: F | Q92: F | R92: T | AW92: 5E5834AE7117C472C270F2D237CDD6593E448EF117965D967E22DE38351ADAFF09C4
A93: 내선전공 | B93: 일반공사 직종 | C93: 인 | D93: =공량산출근거서_일위대가!K52 -> 0.28 | E93: =단가대비표!O48 -> 0 | F93: =TRUNC(E93*D93,1) -> 0 | G93: =단가대비표!P48 -> 276108 | H93: =TRUNC(G93*D93,1) -> 77310.2 | I93: =단가대비표!V48 -> 0 | J93: =TRUNC(I93*D93,1) -> 0 | K93: =TRUNC(E93+G93+I93,1) -> 276108 | L93: =TRUNC(F93+H93+J93,1) -> 77310.2 | N93: 5E5834AE7117C472C270F2D237CDD6 | O93: 5EC2540591178118FC7E18478FB85274AB5ABA | P93: F | Q93: F | R93: T | V93: 1 | AW93: 5E5834AE7117C472C270F2D237CDD65EC2540591178118FC7E18478FB85274AB5ABA
A94: 공구손료 | B94: 인력품의 3% | C94: 식 | D94: 1 | E94: =TRUNC(SUMIF(V92:V94, RIGHTB(O94, 1), H92:H94)*U94, 2) -> 2319.3 | F94: =TRUNC(E94*D94,1) -> 2319.3 | G94: 0 | H94: =TRUNC(G94*D94,1) -> 0 | I94: 0 | J94: =TRUNC(I94*D94,1) -> 0 | K94: =TRUNC(E94+G94+I94,1) -> 2319.3 | L94: =TRUNC(F94+H94+J94,1) -> 2319.3 | N94: 5E5834AE7117C472C270F2D237CDD6 | O94: 5F0E049E811770B5487B16F372F1001 | P94: F | Q94: F | R94: F | S94: 1 | T94: 0 | U94: 0.03 | AW94: 5E5834AE7117C472C270F2D237CDD65F0E049E811770B5487B16F372F1001
A95: [ 합 계 ] | F95: =TRUNC(SUMIF(N92:N94, N91, F92:F94),0) -> 2319 | H95: =TRUNC(SUMIF(N92:N94, N91, H92:H94),0) -> 77310 | J95: =TRUNC(SUMIF(N92:N94, N91, J92:J94),0) -> 0 | L95: =F95+H95+J95 -> 79629 | N95: TOTAL | O95: TOTAL
A97: 전선덕트 알루미늄, 100*50mm M 전기 5-7 ( 호표 13 ) | N97: 5E5834AE7117C472C270F2D237CDD7
A98: 전선덕트 | B98: 알루미늄, 100*50mm | C98: M | D98: 1 | E98: =단가대비표!O33 -> 14000 | F98: =TRUNC(E98*D98,1) -> 14000 | G98: =단가대비표!P33 -> 0 | H98: =TRUNC(G98*D98,1) -> 0 | I98: =단가대비표!V33 -> 0 | J98: =TRUNC(I98*D98,1) -> 0 | K98: =TRUNC(E98+G98+I98,1) -> 14000 | L98: =TRUNC(F98+H98+J98,1) -> 14000 | N98: 5E5834AE7117C472C270F2D237CDD7 | O98: 593E448EF117965D967E22DE38351ADAFF09CB | P98: F | Q98: F | R98: T | AW98: 5E5834AE7117C472C270F2D237CDD7593E448EF117965D967E22DE38351ADAFF09CB
A99: 내선전공 | B99: 일반공사 직종 | C99: 인 | D99: =공량산출근거서_일위대가!K55 -> 0.14 | E99: =단가대비표!O48 -> 0 | F99: =TRUNC(E99*D99,1) -> 0 | G99: =단가대비표!P48 -> 276108 | H99: =TRUNC(G99*D99,1) -> 38655.1 | I99: =단가대비표!V48 -> 0 | J99: =TRUNC(I99*D99,1) -> 0 | K99: =TRUNC(E99+G99+I99,1) -> 276108 | L99: =TRUNC(F99+H99+J99,1) -> 38655.1 | N99: 5E5834AE7117C472C270F2D237CDD7 | O99: 5EC2540591178118FC7E18478FB85274AB5ABA | P99: F | Q99: F | R99: T | V99: 1 | AW99: 5E5834AE7117C472C270F2D237CDD75EC2540591178118FC7E18478FB85274AB5ABA
A100: 공구손료 | B100: 인력품의 3% | C100: 식 | D100: 1 | E100: =TRUNC(SUMIF(V98:V100, RIGHTB(O100, 1), H98:H100)*U100, 2) -> 1159.65 | F100: =TRUNC(E100*D100,1) -> 1159.6 | G100: 0 | H100: =TRUNC(G100*D100,1) -> 0 | I100: 0 | J100: =TRUNC(I100*D100,1) -> 0 | K100: =TRUNC(E100+G100+I100,1) -> 1159.6 | L100: =TRUNC(F100+H100+J100,1) -> 1159.6 | N100: 5E5834AE7117C472C270F2D237CDD7 | O100: 5F0E049E811770B5487B16F372F1001 | P100: F | Q100: F | R100: F | S100: 1 | T100: 0 | U100: 0.03 | AW100: 5E5834AE7117C472C270F2D237CDD75F0E049E811770B5487B16F372F1001
A101: [ 합 계 ] | F101: =TRUNC(SUMIF(N98:N100, N97, F98:F100),0) -> 15159 | H101: =TRUNC(SUMIF(N98:N100, N97, H98:H100),0) -> 38655 | J101: =TRUNC(SUMIF(N98:N100, N97, J98:J100),0) -> 0 | L101: =F101+H101+J101 -> 53814 | N101: TOTAL | O101: TOTAL
A103: 난연 비닐절연접지용전선(F-GV) 0.6/1kv, 6㎟ M 전기 3-38 ( 호표 14 ) | N103: 5E5834DF41177DCC6D78B3E14076A9
A104: 접지용비닐절연전선 | B104: 접지용비닐절연전선, F-GV, 6㎟ | C104: M | D104: 1.1 | E104: =단가대비표!O11 -> 1408 | F104: =TRUNC(E104*D104,1) -> 1548.8 | G104: =단가대비표!P11 -> 0 | H104: =TRUNC(G104*D104,1) -> 0 | I104: =단가대비표!V11 -> 0 | J104: =TRUNC(I104*D104,1) -> 0 | K104: =TRUNC(E104+G104+I104,1) -> 1408 | L104: =TRUNC(F104+H104+J104,1) -> 1548.8 | N104: 5E5834DF41177DCC6D78B3E14076A9 | O104: 592C04B871175D4F83731B2CF5D26A3ACCD3A0 | P104: F | Q104: F | R104: T | V104: 1 | AW104: 5E5834DF41177DCC6D78B3E14076A9592C04B871175D4F83731B2CF5D26A3ACCD3A0
A105: 잡재료비 | B105: 배관배선의 5% | C105: 식 | D105: 1 | E105: =TRUNC(SUMIF(V104:V107, RIGHTB(O105, 1), F104:F107)*U105, 2) -> 77.44 | F105: =TRUNC(E105*D105,1) -> 77.4 | G105: 0 | H105: =TRUNC(G105*D105,1) -> 0 | I105: 0 | J105: =TRUNC(I105*D105,1) -> 0 | K105: =TRUNC(E105+G105+I105,1) -> 77.4 | L105: =TRUNC(F105+H105+J105,1) -> 77.4 | N105: 5E5834DF41177DCC6D78B3E14076A9 | O105: 5F0E049E811770B5487B16F372F1001 | P105: F | Q105: F | R105: F | S105: 0 | T105: 0 | U105: 0.05 | AW105: 5E5834DF41177DCC6D78B3E14076A95F0E049E811770B5487B16F372F1001
A106: 내선전공 | B106: 일반공사 직종 | C106: 인 | D106: =공량산출근거서_일위대가!K58 -> 0.015 | E106: =단가대비표!O48 -> 0 | F106: =TRUNC(E106*D106,1) -> 0 | G106: =단가대비표!P48 -> 276108 | H106: =TRUNC(G106*D106,1) -> 4141.6 | I106: =단가대비표!V48 -> 0 | J106: =TRUNC(I106*D106,1) -> 0 | K106: =TRUNC(E106+G106+I106,1) -> 276108 | L106: =TRUNC(F106+H106+J106,1) -> 4141.6 | N106: 5E5834DF41177DCC6D78B3E14076A9 | O106: 5EC2540591178118FC7E18478FB85274AB5ABA | P106: F | Q106: F | R106: T | W106: 2 | AW106: 5E5834DF41177DCC6D78B3E14076A95EC2540591178118FC7E18478FB85274AB5ABA
A107: 공구손료 | B107: 인력품의 3% | C107: 식 | D107: 1 | E107: =TRUNC(SUMIF(W104:W107, RIGHTB(O107, 1), H104:H107)*U107, 2) -> 124.24 | F107: =TRUNC(E107*D107,1) -> 124.2 | G107: 0 | H107: =TRUNC(G107*D107,1) -> 0 | I107: 0 | J107: =TRUNC(I107*D107,1) -> 0 | K107: =TRUNC(E107+G107+I107,1) -> 124.2 | L107: =TRUNC(F107+H107+J107,1) -> 124.2 | N107: 5E5834DF41177DCC6D78B3E14076A9 | O107: 5F0E049E811770B5487B16F372F2002 | P107: F | Q107: F | R107: F | S107: 1 | T107: 0 | U107: 0.03 | AW107: 5E5834DF41177DCC6D78B3E14076A95F0E049E811770B5487B16F372F2002
A108: [ 합 계 ] | F108: =TRUNC(SUMIF(N104:N107, N103, F104:F107),0) -> 1750 | H108: =TRUNC(SUMIF(N104:N107, N103, H104:H107),0) -> 4141 | J108: =TRUNC(SUMIF(N104:N107, N103, J104:J107),0) -> 0 | L108: =F108+H108+J108 -> 5891 | N108: TOTAL | O108: TOTAL
A110: 0.6/1kv 난연 전력케이블(F-CV) 2C*2.5㎟ M 전기 4-34 ( 호표 15 ) | N110: 5E5834DF4117636A157B07A2339178
A111: 600V폴리에틸렌케이블 | B111: 0.6/1kv, F-CV, 2C*2.5㎟ | C111: M | D111: 1.05 | E111: =단가대비표!O13 -> 1842 | F111: =TRUNC(E111*D111,1) -> 1934.1 | G111: =단가대비표!P13 -> 0 | H111: =TRUNC(G111*D111,1) -> 0 | I111: =단가대비표!V13 -> 0 | J111: =TRUNC(I111*D111,1) -> 0 | K111: =TRUNC(E111+G111+I111,1) -> 1842 | L111: =TRUNC(F111+H111+J111,1) -> 1934.1 | N111: 5E5834DF4117636A157B07A2339178 | O111: 592C04B871175D4FB874403DEB5455FB1F9264 | P111: F | Q111: F | R111: T | V111: 1 | AW111: 5E5834DF4117636A157B07A2339178592C04B871175D4FB874403DEB5455FB1F9264
A112: 잡재료비 | B112: 배관배선의 5% | C112: 식 | D112: 1 | E112: =TRUNC(SUMIF(V111:V115, RIGHTB(O112, 1), F111:F115)*U112, 2) -> 96.7 | F112: =TRUNC(E112*D112,1) -> 96.7 | G112: 0 | H112: =TRUNC(G112*D112,1) -> 0 | I112: 0 | J112: =TRUNC(I112*D112,1) -> 0 | K112: =TRUNC(E112+G112+I112,1) -> 96.7 | L112: =TRUNC(F112+H112+J112,1) -> 96.7 | N112: 5E5834DF4117636A157B07A2339178 | O112: 5F0E049E811770B5487B16F372F1001 | P112: F | Q112: F | R112: F | S112: 0 | T112: 0 | U112: 0.05 | AW112: 5E5834DF4117636A157B07A23391785F0E049E811770B5487B16F372F1001
A113: 보통인부 | B113: 일반공사 직종 | C113: 인 | D113: =공량산출근거서_일위대가!K62 -> 0.006468 | E113: =단가대비표!O42 -> 0 | F113: =TRUNC(E113*D113,1) -> 0 | G113: =단가대비표!P42 -> 172698 | H113: =TRUNC(G113*D113,1) -> 1117 | I113: =단가대비표!V42 -> 0 | J113: =TRUNC(I113*D113,1) -> 0 | K113: =TRUNC(E113+G113+I113,1) -> 172698 | L113: =TRUNC(F113+H113+J113,1) -> 1117 | N113: 5E5834DF4117636A157B07A2339178 | O113: 5EC2540591178118FC7E18478FB85274AB5D76 | P113: F | Q113: F | R113: T | W113: 2 | AW113: 5E5834DF4117636A157B07A23391785EC2540591178118FC7E18478FB85274AB5D76
A114: 저압케이블전공 | B114: 일반공사 직종 | C114: 인 | D114: =공량산출근거서_일위대가!K63 -> 0.006468 | E114: =단가대비표!O49 -> 0 | F114: =TRUNC(E114*D114,1) -> 0 | G114: =단가대비표!P49 -> 306274 | H114: =TRUNC(G114*D114,1) -> 1980.9 | I114: =단가대비표!V49 -> 0 | J114: =TRUNC(I114*D114,1) -> 0 | K114: =TRUNC(E114+G114+I114,1) -> 306274 | L114: =TRUNC(F114+H114+J114,1) -> 1980.9 | N114: 5E5834DF4117636A157B07A2339178 | O114: 5EC2540591178118FC7E18478FB85274AB5AB7 | P114: F | Q114: F | R114: T | W114: 2 | AW114: 5E5834DF4117636A157B07A23391785EC2540591178118FC7E18478FB85274AB5AB7
...

Sheet 중기단가목록
B1: 중 기 단 가 목 록
B2: [ 원주천 교량(월운정교) 야간경관 개선 경관조명 설치공사 ]
A3: 코 드 | B3: 품 명 | C3: 규 격 | D3: 단위 | E3: 재 료 비 | F3: 노 무 비 | G3: 경 비 | H3: 합 계 | I3: 번 호 | J3: 비 고 | K3: START | L3: 품셈개요
A4: 5E3BC43CE11717BDD771CD31B5E5FF | B4: 터파기/토사 | C4: 보통, 굴삭기 0.7m3 90%, 인력10% | D4: ㎥ | E4: =중기단가산출서!B27 -> 255 | F4: =중기단가산출서!C27 -> 4342 | G4: =중기단가산출서!D27 -> 352 | H4: =중기단가산출서!E27 -> 4949 | I4: 산근 1 | K4: 5E3BC43CE11717BDD771CD31B5E5FF | L4: 공통 8-2-3
A5: 5E3BC431D1177DAF707DF81F66B73A | B5: 되메우기/토사, 두께 10cm | C5: 보통, 굴삭기 0.7m3+플레이트콤팩터 1.5ton+인력 10% | D5: ㎥ | E5: =중기단가산출서!B65 -> 350 | F5: =중기단가산출서!C65 -> 6690 | G5: =중기단가산출서!D65 -> 315 | H5: =중기단가산출서!E65 -> 7355 | I5: 산근 2 | K5: 5E3BC431D1177DAF707DF81F66B73A | L5: 공통 8-2-3+10
A6: 5E5834CF3117BC33B27D323615C775 | B6: 가로등기초(기성품) 설치 | C6: 기계화 작업 | D6: 본 | E6: =중기단가산출서!B81 -> 6342 | F6: =중기단가산출서!C81 -> 30392 | G6: =중기단가산출서!D81 -> 6804 | H6: =중기단가산출서!E81 -> 43538 | I6: 산근 3 | K6: 5E5834CF3117BC33B27D323615C775 | L6: 전기 1-34, 5-27-2

Sheet 중기단가산출서
A1: 중 기 단 가 산 출 서
A2: [ 원주천 교량(월운정교) 야간경관 개선 경관조명 설치공사 ]
A3: 산 출 내 역 | B3: 재 료 비 | C3: 노 무 비 | D3: 경 비 | E3: 합 계 | F3: 비 고 | G3: START | H3: 코드 | I3: 품명 | J3: 규격 | K3: 단위 | L3: 수량 | M3: 변수 | N3: 값 | O3: 소계 | P3: 소계 | Q3: 소계 | R3: 소계 | S3: 소계 | T3: 총계
A4: 터파기/토사 보통, 굴삭기 0.7m3 90%, 인력10% ㎥ 공통 8-2-3 ( 산근 1 ) | G4: 5E3BC43CE11717BDD771CD31B5E5FF | I4: 터파기/토사 | J4: 보통, 굴삭기 0.7m3 90%, 인력10% | K4: ㎥
G5: 5E3BC43CE11717BDD771CD31B5E5FF | H5: C | L5: 1
A6: 굴삭기(무한궤도),0.7㎥90%+인력10% M3 | B6: 0 | C6: 0 | D6: 0 | E6: 0 | G6: 5E3BC43CE11717BDD771CD31B5E5FF | H6: C! | I6: '굴삭기(무한궤도),0.7㎥90%+인력10% M3'
B7: 0 | C7: 0 | D7: 0 | E7: 0 | G7: 5E3BC43CE11717BDD771CD31B5E5FF | H7: C!
A8: Q1 바켓용량(M3) =0.70 | B8: 0 | C8: 0 | D8: 0 | E8: 0 | G8: 5E3BC43CE11717BDD771CD31B5E5FF | H8: C! | I8: q1 '바켓용량(M3)' =0.70
A9: K 바켓계수(양호1.1,보통0.90,불량0.70,파쇄암0.55) = 0.90 | B9: 0 | C9: 0 | D9: 0 | E9: 0 | G9: 5E3BC43CE11717BDD771CD31B5E5FF | H9: C! | I9: k '바켓계수(양호1.1,보통0.90,불량0.70,파쇄암0.55)'= 0.90
A10: F 토량환산계수(1/L) = 1/1.25= 0.8 | B10: 0 | C10: 0 | D10: 0 | E10: 0 | G10: 5E3BC43CE11717BDD771CD31B5E5FF | H10: C! | I10: f '토량환산계수(1/L)'= 1/1.25=?
A11: E1 터파기에 대하여 -0.05 =0.05 | B11: 0 | C11: 0 | D11: 0 | E11: 0 | G11: 5E3BC43CE11717BDD771CD31B5E5FF | H11: C! | I11: E1 '터파기에 대하여 -0.05'=0.05
A12: E 작업효율사질토(양호0.85,보통0.70,불량0.55) = 0.70-E1= 0.65 | B12: 0 | C12: 0 | D12: 0 | E12: 0 | G12: 5E3BC43CE11717BDD771CD31B5E5FF | H12: C! | I12: E '작업효율사질토(양호0.85,보통0.70,불량0.55)'= 0.70-E1=?
A13: CM 1회 싸이클시간(135˚SEC) =20 | B13: 0 | C13: 0 | D13: 0 | E13: 0 | G13: 5E3BC43CE11717BDD771CD31B5E5FF | H13: C! | I13: Cm '1회 싸이클시간(135˚SEC)'=20
A14: Q 시간당 작업량 (M3/HR) = 3600*Q1*K*F*E/CM/0.9= 65.52 | B14: 0 | C14: 0 | D14: 0 | E14: 0 | G14: 5E3BC43CE11717BDD771CD31B5E5FF | H14: C! | I14: Q '시간당 작업량 (M3/Hr)'= 3600*q1*k*f*E/Cm/0.9=?
B15: 0 | C15: 0 | D15: 0 | E15: 0 | G15: 5E3BC43CE11717BDD771CD31B5E5FF | H15: C!
A16: 재료비: 16713 / 65.52 = 255 | B16: 255 | C16: 0 | D16: 0 | E16: 255 | G16: 5E3BC43CE11717BDD771CD31B5E5FF | H16: C! | I16: '재료비:' ~00000201007000000.M~ / {Q} =?MA+
A17: 노무비: 59020 / 65.52 = 900.7 | B17: 0 | C17: 900.7 | D17: 0 | E17: 900.7 | G17: 5E3BC43CE11717BDD771CD31B5E5FF | H17: C! | I17: '노무비:' ~00000201007000000.L~ / {Q} =?LA+
A18: 경 비: 23128 / 65.52 = 352.9 | B18: 0 | C18: 0 | D18: 352.9 | E18: 352.9 | G18: 5E3BC43CE11717BDD771CD31B5E5FF | H18: C! | I18: '경 비:' ~00000201007000000.E~ / {Q} =?EQ+
A19: 소 계 | B19: 255 | C19: 900.7 | D19: 352.9 | E19: 1508.6 | G19: 5E3BC43CE11717BDD771CD31B5E5FF | H19: C! | I19: >'소 계'
B20: 0 | C20: 0 | D20: 0 | E20: 0 | G20: 5E3BC43CE11717BDD771CD31B5E5FF | H20: C!
A21: 인력터파기,0-1m,보통인부0.2인*10% | B21: 0 | C21: 0 | D21: 0 | E21: 0 | G21: 5E3BC43CE11717BDD771CD31B5E5FF | H21: C! | I21: '인력터파기,0-1m,보통인부0.2인*10%'
A22: Q 시간당 작업량 (M3/HR) = 1/8/0.2/0.1= 6.25 | B22: 0 | C22: 0 | D22: 0 | E22: 0 | G22: 5E3BC43CE11717BDD771CD31B5E5FF | H22: C! | I22: Q '시간당 작업량 (M3/Hr)'= 1/8/0.2/0.1=?
B23: 0 | C23: 0 | D23: 0 | E23: 0 | G23: 5E3BC43CE11717BDD771CD31B5E5FF | H23: C!
A24: 보통인부 1인/8HR*작업시간 | B24: 0 | C24: 0 | D24: 0 | E24: 0 | G24: 5E3BC43CE11717BDD771CD31B5E5FF | H24: C! | I24: '보통인부 1인/8HR*작업시간
A25: 노무비: 172068*1/8/6.25 = 3441.3 | B25: 0 | C25: 3441.3 | D25: 0 | E25: 3441.3 | G25: 5E3BC43CE11717BDD771CD31B5E5FF | H25: C! | I25: '노무비:' ~L001010101000002.L~*1/8/{Q} =?LA+
A26: 소 계 | B26: 0 | C26: 3441.3 | D26: 0 | E26: 3441.3 | G26: 5E3BC43CE11717BDD771CD31B5E5FF | H26: C! | I26: >'소 계'
A27: 총 계 | B27: 255 | C27: 4342 | D27: 352 | E27: 4949
A29: 되메우기/토사, 두께 10cm 보통, 굴삭기 0.7m3+플레이트콤팩터 1.5ton+인력 10% ㎥ 공통 8-2-3+10 ( 산근 2 ) | G29: 5E3BC431D1177DAF707DF81F66B73A | I29: 되메우기/토사, 두께 10cm | J29: 보통, 굴삭기 0.7m3+플레이트콤팩터 1.5ton+인력 10% | K29: ㎥
G30: 5E3BC431D1177DAF707DF81F66B73A | H30: C | K30: M3 | L30: 1
A31: 1.굴삭기 (무한궤도)0.7㎥M3 | B31: 0 | C31: 0 | D31: 0 | E31: 0 | G31: 5E3BC431D1177DAF707DF81F66B73A | H31: C! | I31: '1.굴삭기 (무한궤도)0.7㎥M3 '
A32: Q1 바켓용량(M3) = 0.7 | B32: 0 | C32: 0 | D32: 0 | E32: 0 | G32: 5E3BC431D1177DAF707DF81F66B73A | H32: C! | I32: q1 '바켓용량(M3)'= 0.7
A33: k 바켓계수 = 1.1 | B33: 0 | C33: 0 | D33: 0 | E33: 0 | G33: 5E3BC431D1177DAF707DF81F66B73A | H33: C! | I33: k '바켓계수'= 1.1
A34: L1 흐트러진상태 =1.25 | B34: 0 | C34: 0 | D34: 0 | E34: 0 | G34: 5E3BC431D1177DAF707DF81F66B73A | H34: C! | I34: L1 '흐트러진상태' =1.25
A35: C 다져진상태 =0.875 | B35: 0 | C35: 0 | D35: 0 | E35: 0 | G35: 5E3BC431D1177DAF707DF81F66B73A | H35: C! | I35: C '다져진상태'=0.875
A36: F 토량환산계(C/L) =C/L1= 0.7 | B36: 0 | C36: 0 | D36: 0 | E36: 0 | G36: 5E3BC431D1177DAF707DF81F66B73A | H36: C! | I36: f '토량환산계(C/L)'=C/L1=?
A37: E 작업효율(양호0.9,보통0.75,불량0.6) = 0.75 | B37: 0 | C37: 0 | D37: 0 | E37: 0 | G37: 5E3BC431D1177DAF707DF81F66B73A | H37: C! | I37: E '작업효율(양호0.9,보통0.75,불량0.6)'= 0.75
A38: CM 1회 싸이클시간(90˚SEC) =18 | B38: 0 | C38: 0 | D38: 0 | E38: 0 | G38: 5E3BC431D1177DAF707DF81F66B73A | H38: C! | I38: Cm '1회 싸이클시간(90˚sec)'=18
A39: Q 시간당 작업량 (M3/HR) = 3600*Q1*K*F*E/CM/0.9= 89.833 | B39: 0 | C39: 0 | D39: 0 | E39: 0 | G39: 5E3BC431D1177DAF707DF81F66B73A | H39: C! | I39: Q '시간당 작업량 (M3/Hr)'= 3600*q1*k*f*E/Cm/0.9=?
A40: 재료비: 16713 / 89.833 = 186 | B40: 186 | C40: 0 | D40: 0 | E40: 186 | G40: 5E3BC431D1177DAF707DF81F66B73A | H40: C! | I40: '재료비:' ~00000201007000000.M~ / {Q} =?MA+
A41: 노무비: 59020 / 89.833 = 656.9 | B41: 0 | C41: 656.9 | D41: 0 | E41: 656.9 | G41: 5E3BC431D1177DAF707DF81F66B73A | H41: C! | I41: '노무비:' ~00000201007000000.L~ / {Q} =?LA+
A42: 경 비: 23128 / 89.833 = 257.4 | B42: 0 | C42: 0 | D42: 257.4 | E42: 257.4 | G42: 5E3BC431D1177DAF707DF81F66B73A | H42: C! | I42: '경 비:' ~00000201007000000.E~ / {Q} =?EQ+
A43: 소 계 | B43: 186 | C43: 656.9 | D43: 257.4 | E43: 1100.3 | G43: 5E3BC431D1177DAF707DF81F66B73A | H43: C! | I43: >'소 계'
B44: 0 | C44: 0 | D44: 0 | E44: 0 | G44: 5E3BC431D1177DAF707DF81F66B73A | H44: C!
A45: 2.(인력 흙 다지기): 0.14인*10% | B45: 0 | C45: 0 | D45: 0 | E45: 0 | G45: 5E3BC431D1177DAF707DF81F66B73A | H45: C! | I45: '2.(인력 흙 다지기): 0.14인*10%'
A46: Q 시간당 작업량 (M3/HR) = 1/8/0.14/0.1= 8.929 | B46: 0 | C46: 0 | D46: 0 | E46: 0 | G46: 5E3BC431D1177DAF707DF81F66B73A | H46: C! | I46: Q '시간당 작업량 (M3/Hr)'= 1/8/0.14/0.1=?
B47: 0 | C47: 0 | D47: 0 | E47: 0 | G47: 5E3BC431D1177DAF707DF81F66B73A | H47: C!
A48: 보통인부 1인/8HR*작업시간 | B48: 0 | C48: 0 | D48: 0 | E48: 0 | G48: 5E3BC431D1177DAF707DF81F66B73A | H48: C! | I48: '보통인부 1인/8HR*작업시간
A49: 노무비: 172068*1/8/8.929 = 2408.8 | B49: 0 | C49: 2408.8 | D49: 0 | E49: 2408.8 | G49: 5E3BC431D1177DAF707DF81F66B73A | H49: C! | I49: '노무비:' ~L001010101000002.L~*1/8/{Q} =?LA+
A50: 소 계 | B50: 0 | C50: 2408.8 | D50: 0 | E50: 2408.8 | G50: 5E3BC431D1177DAF707DF81F66B73A | H50: C! | I50: >'소 계'
B51: 0 | C51: 0 | D51: 0 | E51: 0 | G51: 5E3BC431D1177DAF707DF81F66B73A | H51: C!
A52: 3.플레이트콤팩터,1.5톤 | B52: 0 | C52: 0 | D52: 0 | E52: 0 | G52: 5E3BC431D1177DAF707DF81F66B73A | H52: C! | I52: '3.플레이트콤팩터,1.5톤'
A53: V 다짐속도(KM/HR) =1 | B53: 0 | C53: 0 | D53: 0 | E53: 0 | G53: 5E3BC431D1177DAF707DF81F66B73A | H53: C! | I53: V '다짐속도(KM/HR)' =1
A54: W 유효 다짐 폭(M) =0.45 | B54: 0 | C54: 0 | D54: 0 | E54: 0 | G54: 5E3BC431D1177DAF707DF81F66B73A | H54: C! | I54: W '유효 다짐 폭(M)' =0.45
A55: D 다짐두께(M) =0.1 | B55: 0 | C55: 0 | D55: 0 | E55: 0 | G55: 5E3BC431D1177DAF707DF81F66B73A | H55: C! | I55: D '다짐두께(M)' =0.1
A56: E 작업효율(양호0.8,보통0.6,불량0.4) = 0.6 | B56: 0 | C56: 0 | D56: 0 | E56: 0 | G56: 5E3BC431D1177DAF707DF81F66B73A | H56: C! | I56: E '작업효율(양호0.8,보통0.6,불량0.4)'= 0.6
A57: L1 흐트러진상태 =1.25 | B57: 0 | C57: 0 | D57: 0 | E57: 0 | G57: 5E3BC431D1177DAF707DF81F66B73A | H57: C! | I57: L1 '흐트러진상태' =1.25
A58: F 토량환산계(L1/L1) =L1/L1= 1 | B58: 0 | C58: 0 | D58: 0 | E58: 0 | G58: 5E3BC431D1177DAF707DF81F66B73A | H58: C! | I58: f '토량환산계(L1/L1)'=L1/L1=?
A59: N 소요 다짐회수 =3 | B59: 0 | C59: 0 | D59: 0 | E59: 0 | G59: 5E3BC431D1177DAF707DF81F66B73A | H59: C! | I59: N '소요 다짐회수' =3
A60: Q 시간당 작업량(M3/HR) =1000*V*W*D*E*F/N/0.9= 10 | B60: 0 | C60: 0 | D60: 0 | E60: 0 | G60: 5E3BC431D1177DAF707DF81F66B73A | H60: C! | I60: Q '시간당 작업량(M3/HR)' =1000*V*W*D*E*f/N/0.9=?
A61: 재료비: 1648 / 10 = 164.8 | B61: 164.8 | C61: 0 | D61: 0 | E61: 164.8 | G61: 5E3BC431D1177DAF707DF81F66B73A | H61: C! | I61: '재료비:' ~00001730001500000.M~ / {Q} =?MA+
A62: 노무비: 36248 / 10 = 3624.8 | B62: 0 | C62: 3624.8 | D62: 0 | E62: 3624.8 | G62: 5E3BC431D1177DAF707DF81F66B73A | H62: C! | I62: '노무비:' ~00001730001500000.L~ / {Q} =?LA+
A63: 경 비: 582 / 10 = 58.2 | B63: 0 | C63: 0 | D63: 58.2 | E63: 58.2 | G63: 5E3BC431D1177DAF707DF81F66B73A | H63: C! | I63: '경 비:' ~00001730001500000.E~ / {Q} =?EQ+
A64: 소 계 | B64: 164.8 | C64: 3624.8 | D64: 58.2 | E64: 3847.8 | G64: 5E3BC431D1177DAF707DF81F66B73A | H64: C! | I64: >'소 계'
A65: 총 계 | B65: 350 | C65: 6690 | D65: 315 | E65: 7355
A67: 가로등기초(기성품) 설치 기계화 작업 본 전기 1-34, 5-27-2 ( 산근 3 ) | G67: 5E5834CF3117BC33B27D323615C775 | I67: 가로등기초(기성품) 설치 | J67: 기계화 작업 | K67: 본
G68: 5E5834CF3117BC33B27D323615C775 | H68: C | L68: 1
A69: 000210500050000E - 트럭탑재형크레인-전기(5톤/HR) | B69: 0 | C69: 0 | D69: 0 | E69: 0 | G69: 5E5834CF3117BC33B27D323615C775 | H69: C! | I69: '000210500050000E - 트럭탑재형크레인-전기(5톤/HR)'
B70: 0 | C70: 0 | D70: 0 | E70: 0 | G70: 5E5834CF3117BC33B27D323615C775 | H70: C!
A71: TC MIN(분) =25.8 | B71: 0 | C71: 0 | D71: 0 | E71: 0 | G71: 5E5834CF3117BC33B27D323615C775 | H71: C! | I71: Tc 'min(분)'=25.8
A72: F 작업계수(양호:0.9,보통:0.7,불량:0.6) =0.7 | B72: 0 | C72: 0 | D72: 0 | E72: 0 | G72: 5E5834CF3117BC33B27D323615C775 | H72: C! | I72: F '작업계수(양호:0.9,보통:0.7,불량:0.6)'=0.7
A73: T 작업소요시간(HR) =TC/(60*F)= 0.6143 | B73: 0 | C73: 0 | D73: 0 | E73: 0 | G73: 5E5834CF3117BC33B27D323615C775 | H73: C! | I73: T '작업소요시간(Hr)' =Tc/(60*F)=?
A74: Q 시간당작업량 =(1/T)= 1.628 | B74: 0 | C74: 0 | D74: 0 | E74: 0 | G74: 5E5834CF3117BC33B27D323615C775 | H74: C! | I74: Q '시간당작업량' =(1/T)=?
B75: 0 | C75: 0 | D75: 0 | E75: 0 | G75: 5E5834CF3117BC33B27D323615C775 | H75: C!
A76: 재료비: 7227 / 1.628 = 4439.1 | B76: 4439.1 | C76: 0 | D76: 0 | E76: 4439.1 | G76: 5E5834CF3117BC33B27D323615C775 | H76: C! | I76: '재료비:' ~0000210500050000E.M~ / {Q} =?MA
A77: 노무비: 49778 / 1.628 = 30576.1 | B77: 0 | C77: 30576.1 | D77: 0 | E77: 30576.1 | G77: 5E5834CF3117BC33B27D323615C775 | H77: C! | I77: '노무비:' ~0000210500050000E.L~ / {Q} =?LA
A78: 경 비: 9994 / 1.628 = 6138.8 | B78: 0 | C78: 0 | D78: 6138.8 | E78: 6138.8 | G78: 5E5834CF3117BC33B27D323615C775 | H78: C! | I78: '경 비:' ~0000210500050000E.E~ / {Q} =?EQ
B79: 0 | C79: 0 | D79: 0 | E79: 0 | G79: 5E5834CF3117BC33B27D323615C775 | H79: C!
A80: 소 계 | B80: 4439.1 | C80: 30576.1 | D80: 6138.8 | E80: 41154 | G80: 5E5834CF3117BC33B27D323615C775 | H80: C! | I80: >'소 계'
A81: 총 계 | B81: 6342 | C81: 30392 | D81: 6804 | E81: 43538

Sheet 공량산출근거서_일위대가
A1: 공 량 산 출 근 거 서
A2: [ 원주천 교량(월운정교) 야간경관 개선 경관조명 설치공사 ]
A3: 코 드 | B3: 품 명 | C3: 규 격 | D3: 단위 | E3: 품 셈 목 록 | F3: 수 량 | G3: 할증 | H3: 노임할증-1 | I3: 노임할증-2 | J3: 노임할증-3 | K3: 내역수량 | L3: 직 종 명 | M3: 공 량 | N3: 계 | O3: 번 호 | P3: 비 고 | T3: 일위대가목록+자재 | V3: 내선전공 | W3: 일반공사 직종 | X3: 보통인부 | Y3: 배전전공 | Z3: 저압케이블전공 | AA3: 작업반장 | AB3: 특별인부 | AC3: 줄눈공
B4: 강제전선관 아연도, 36mm M (호표 1)
A5: 593E448EF117965D967FC1CE5EB44DDAD4954F | B5: 강제전선관 | C5: 강제전선관, 후강전선관, 아연도, 36mm | D5: M | E5: 전기품셈 5-1 | F5: 1 | G5: 10 | K5: 1.1 | L5: 내선전공 | M5: =0.2*(H5+100)/100*(I5+100)/100*(J5+100)/100 -> 0.2 | N5: =F5*M5 -> 0.2 | O5: 노임 8 | Q5: 5E5834DF4117408A307C06B42565C9 | R5: 5EC2540591178118FC7E18478FB85274AB5ABA | S5: 0.2 | T5: 5E5834DF4117408A307C06B42565C9593E448EF117965D967FC1CE5EB44DDAD4954F | V5: =N5 -> 0.2
A6: 5EC2540591178118FC7E18478FB85274AB5ABA | B6: 내선전공 | C6: 일반공사 직종 | D6: 인 | F6: =SUM(V5:V5) -> 0.2 | K6: =TRUNC(ROUNDDOWN(F6,공량설정_일위대가!C3+1)*공량설정_일위대가!B2/100, 공량설정_일위대가!C3) -> 0.2 | O6: 노임 8 | Q6: 5E5834DF4117408A307C06B42565C9 | T6: 5E5834DF4117408A307C06B42565C95EC2540591178118FC7E18478FB85274AB5ABA
B7: 파상형경질폴리에틸렌전선관 50㎜ M (호표 2)
A8: 593E448EF117965D967FC1CE5EB44DDBE58F32 | B8: 파상형경질폴리에틸렌전선관 | C8: 파상형경질폴리에틸렌전선관, ELP, 50mm | D8: M | E8: 전기품셈 4-31 | F8: 1 | G8: 3 | K8: 1.03 | L8: 보통인부 | M8: =0.018*(H8+100)/100*(I8+100)/100*(J8+100)/100 -> 0.018 | N8: =F8*M8 -> 0.018 | O8: 노임 2 | Q8: 5E5834DF4117408A0B78C9DA3919C1 | R8: 5EC2540591178118FC7E18478FB85274AB5D76 | S8: 0.018 | T8: 5E5834DF4117408A0B78C9DA3919C1593E448EF117965D967FC1CE5EB44DDBE58F32 | X8: =N8 -> 0.018
L9: 배전전공 | M9: =0.007*(H8+100)/100*(I8+100)/100*(J8+100)/100 -> 0.007 | N9: =F8*M9 -> 0.007 | O9: 노임 10 | Q9: 5E5834DF4117408A0B78C9DA3919C1 | R9: 5EC2540591178118FC7E18478FB85274AB553F | S9: 0.007 | T9: 5E5834DF4117408A0B78C9DA3919C1593E448EF117965D967FC1CE5EB44DDBE58F32 | Y9: =N9 -> 0.007
A10: 5EC2540591178118FC7E18478FB85274AB5D76 | B10: 보통인부 | C10: 일반공사 직종 | D10: 인 | F10: =SUM(X8:X9) -> 0.018 | K10: =TRUNC(ROUNDDOWN(F10,공량설정_일위대가!C5+1)*공량설정_일위대가!B4/100, 공량설정_일위대가!C5) -> 0.018 | O10: 노임 2 | Q10: 5E5834DF4117408A0B78C9DA3919C1 | T10: 5E5834DF4117408A0B78C9DA3919C15EC2540591178118FC7E18478FB85274AB5D76
A11: 5EC2540591178118FC7E18478FB85274AB553F | B11: 배전전공 | C11: 일반공사 직종 | D11: 인 | F11: =SUM(Y8:Y9) -> 0.007 | K11: =TRUNC(ROUNDDOWN(F11,공량설정_일위대가!C6+1)*공량설정_일위대가!B4/100, 공량설정_일위대가!C6) -> 0.007 | O11: 노임 10 | Q11: 5E5834DF4117408A0B78C9DA3919C1 | T11: 5E5834DF4117408A0B78C9DA3919C15EC2540591178118FC7E18478FB85274AB553F
B12: 난연 비닐절연접지용전선(F-GV) 0.6/1kv, 10㎟ M (호표 3)
A13: 592C04B871175D4F83731B2CF5D26A3ACCD3AF | B13: 접지용비닐절연전선 | C13: 접지용비닐절연전선, F-GV, 10㎟ | D13: M | E13: 전기 3-38 | F13: 1 | G13: 10 | K13: 1.1 | L13: 내선전공 | M13: =0.006*(H13+100)/100*(I13+100)/100*(J13+100)/100 -> 0.006 | N13: =F13*M13 -> 0.006 | O13: 노임 8 | Q13: 5E5834DF41177DCC6D78B3E1407127 | R13: 5EC2540591178118FC7E18478FB85274AB5ABA | S13: 0.006 | T13: 5E5834DF41177DCC6D78B3E1407127592C04B871175D4F83731B2CF5D26A3ACCD3AF | V13: =N13 -> 0.006
A14: 5EC2540591178118FC7E18478FB85274AB5ABA | B14: 내선전공 | C14: 일반공사 직종 | D14: 인 | F14: =SUM(V13:V13) -> 0.006 | K14: =TRUNC(ROUNDDOWN(F14,공량설정_일위대가!C8+1)*공량설정_일위대가!B7/100, 공량설정_일위대가!C8) -> 0.006 | O14: 노임 8 | Q14: 5E5834DF41177DCC6D78B3E1407127 | T14: 5E5834DF41177DCC6D78B3E14071275EC2540591178118FC7E18478FB85274AB5ABA
B15: 0.6/1kv 난연 전력케이블(F-CV) 2C*10㎟ M (호표 4)
A16: 592C04B871175D4FB874403DEB5455FB1F9263 | B16: 600V폴리에틸렌케이블 | C16: 0.6/1kv, F-CV, 2C*10㎟ | D16: M | E16: 전기품셈 4-34 | F16: 1 | G16: 5 | H16: 40 | K16: 1.05 | L16: 보통인부 | M16: =0.00484*(H16+100)/100*(I16+100)/100*(J16+100)/100 -> 0.006776 | N16: =F16*M16 -> 0.006776 | O16: 노임 2 | Q16: 5E5834DF4117636A157B07A2339051 | R16: 5EC2540591178118FC7E18478FB85274AB5D76 | S16: 0.00484 | T16: 5E5834DF4117636A157B07A2339051592C04B871175D4FB874403DEB5455FB1F9263 | X16: =N16 -> 0.006776
L17: 저압케이블전공 | M17: =0.00484*(H16+100)/100*(I16+100)/100*(J16+100)/100 -> 0.006776 | N17: =F16*M17 -> 0.006776 | O17: 노임 9 | Q17: 5E5834DF4117636A157B07A2339051 | R17: 5EC2540591178118FC7E18478FB85274AB5AB7 | S17: 0.00484 | T17: 5E5834DF4117636A157B07A2339051592C04B871175D4FB874403DEB5455FB1F9263 | Z17: =N17 -> 0.006776
A18: 5EC2540591178118FC7E18478FB85274AB5D76 | B18: 보통인부 | C18: 일반공사 직종 | D18: 인 | F18: =SUM(X16:X17) -> 0.006776 | K18: =TRUNC(ROUNDDOWN(F18,공량설정_일위대가!C10+1)*공량설정_일위대가!B9/100, 공량설정_일위대가!C10) -> 0.006776 | O18: 노임 2 | Q18: 5E5834DF4117636A157B07A2339051 | T18: 5E5834DF4117636A157B07A23390515EC2540591178118FC7E18478FB85274AB5D76
A19: 5EC2540591178118FC7E18478FB85274AB5AB7 | B19: 저압케이블전공 | C19: 일반공사 직종 | D19: 인 | F19: =SUM(Z16:Z17) -> 0.006776 | K19: =TRUNC(ROUNDDOWN(F19,공량설정_일위대가!C11+1)*공량설정_일위대가!B9/100, 공량설정_일위대가!C11) -> 0.006776 | O19: 노임 9 | Q19: 5E5834DF4117636A157B07A2339051 | T19: 5E5834DF4117636A157B07A23390515EC2540591178118FC7E18478FB85274AB5AB7
B20: 조명제어기(관급자재) 설치 상시,격등6회로 면 (호표 5)
A21: 593E448EF11785C3EF7E1CB97473E016DCD20B | B21: 조명제어기(관급자재) | C21: 상시,격등6회로 | D21: 면 | E21: 전기품셈 5-18-2 | F21: 1 | G21: 0 | K21: 1 | L21: 내선전공 | M21: =1.02*(H21+100)/100*(I21+100)/100*(J21+100)/100 -> 1.02 | N21: =F21*M21 -> 1.02 | O21: 노임 8 | Q21: 5E5834DCF1170C91EB7ADA8523487B | R21: 5EC2540591178118FC7E18478FB85274AB5ABA | S21: 1.23 | T21: 5E5834DCF1170C91EB7ADA8523487B593E448EF11785C3EF7E1CB97473E016DCD20B | V21: =N21 -> 1.02
A22: 5EC2540591178118FC7E18478FB85274AB5ABA | B22: 내선전공 | C22: 일반공사 직종 | D22: 인 | F22: =SUM(V21:V21) -> 1.02 | K22: =TRUNC(ROUNDDOWN(F22,공량설정_일위대가!C13+1)*공량설정_일위대가!B12/100, 공량설정_일위대가!C13) -> 1.02 | O22: 노임 8 | Q22: 5E5834DCF1170C91EB7ADA8523487B | T22: 5E5834DCF1170C91EB7ADA8523487B5EC2540591178118FC7E18478FB85274AB5ABA
B23: 가로등제어기기초 (기계화설치) 400x500x800, 앙카포함 개소 (호표 6)
A24: 5FAF04E2611747FAD07DA8E8CCD7578C8912DC | B24: 가로등제어기기초 | C24: 400x500x800, 앙카포함 | D24: 조 | F24: 1 | G24: 0 | K24: 1 | L24: 보통인부 | M24: =0.19*(H24+100)/100*(I24+100)/100*(J24+100)/100 -> 0.19 | N24: =F24*M24 -> 0.19 | O24: 노임 2 | Q24: 5E5834DF41170AD737753833CCC3CE | R24: 5EC2540591178118FC7E18478FB85274AB5D76 | S24: 0.19 | T24: 5E5834DF41170AD737753833CCC3CE5FAF04E2611747FAD07DA8E8CCD7578C8912DC | X24: =N24 -> 0.19
L25: 내선전공 | M25: =0.08*(H24+100)/100*(I24+100)/100*(J24+100)/100 -> 0.08 | N25: =F24*M25 -> 0.08 | O25: 노임 8 | Q25: 5E5834DF41170AD737753833CCC3CE | R25: 5EC2540591178118FC7E18478FB85274AB5ABA | S25: 0.08 | T25: 5E5834DF41170AD737753833CCC3CE5FAF04E2611747FAD07DA8E8CCD7578C8912DC | V25: =N25 -> 0.08
A26: 5EC2540591178118FC7E18478FB85274AB5D76 | B26: 보통인부 | C26: 일반공사 직종 | D26: 인 | F26: =SUM(X24:X25) -> 0.19 | K26: =TRUNC(ROUNDDOWN(F26,공량설정_일위대가!C16+1)*공량설정_일위대가!B14/100, 공량설정_일위대가!C16) -> 0.19 | O26: 노임 2 | Q26: 5E5834DF41170AD737753833CCC3CE | T26: 5E5834DF41170AD737753833CCC3CE5EC2540591178118FC7E18478FB85274AB5D76
A27: 5EC2540591178118FC7E18478FB85274AB5ABA | B27: 내선전공 | C27: 일반공사 직종 | D27: 인 | F27: =SUM(V24:V25) -> 0.08 | K27: =TRUNC(ROUNDDOWN(F27,공량설정_일위대가!C15+1)*공량설정_일위대가!B14/100, 공량설정_일위대가!C15) -> 0.08 | O27: 노임 8 | Q27: 5E5834DF41170AD737753833CCC3CE | T27: 5E5834DF41170AD737753833CCC3CE5EC2540591178118FC7E18478FB85274AB5ABA
B28: 접지봉매설 지하 0.75M매설, 3본연결 개소 (호표 8)
A29: 5974A4CAD117E2B16A75159FB87E03A6E70BFC | B29: 접지봉(지하0.75m기준) | C29: 길이 1~2m x 3본 연결 | D29: 개 | E29: 전기품셈 3-38 | F29: 1 | G29: 0 | K29: 1 | L29: 보통인부 | M29: =0.2*(H29+100)/100*(I29+100)/100*(J29+100)/100 -> 0.2 | N29: =F29*M29 -> 0.2 | O29: 노임 2 | P29: 노무비 | Q29: 5E5834DAC117DD820A7E1CCC72C61C | R29: 5EC2540591178118FC7E18478FB85274AB5D76 | S29: 0.2 | T29: 5E5834DAC117DD820A7E1CCC72C61C5974A4CAD117E2B16A75159FB87E03A6E70BFC | X29: =N29 -> 0.2
L30: 내선전공 | M30: =0.24*(H29+100)/100*(I29+100)/100*(J29+100)/100 -> 0.24 | N30: =F29*M30 -> 0.24 | O30: 노임 8 | Q30: 5E5834DAC117DD820A7E1CCC72C61C | R30: 5EC2540591178118FC7E18478FB85274AB5ABA | S30: 0.24 | T30: 5E5834DAC117DD820A7E1CCC72C61C5974A4CAD117E2B16A75159FB87E03A6E70BFC | V30: =N30 -> 0.24
A31: 5EC2540591178118FC7E18478FB85274AB5D76 | B31: 보통인부 | C31: 일반공사 직종 | D31: 인 | F31: =SUM(X29:X30) -> 0.2 | K31: =TRUNC(ROUNDDOWN(F31,공량설정_일위대가!C20+1)*공량설정_일위대가!B19/100, 공량설정_일위대가!C20) -> 0.2 | O31: 노임 2 | Q31: 5E5834DAC117DD820A7E1CCC72C61C | T31: 5E5834DAC117DD820A7E1CCC72C61C5EC2540591178118FC7E18478FB85274AB5D76
A32: 5EC2540591178118FC7E18478FB85274AB5ABA | B32: 내선전공 | C32: 일반공사 직종 | D32: 인 | F32: =SUM(V29:V30) -> 0.24 | K32: =TRUNC(ROUNDDOWN(F32,공량설정_일위대가!C21+1)*공량설정_일위대가!B19/100, 공량설정_일위대가!C21) -> 0.24 | O32: 노임 8 | Q32: 5E5834DAC117DD820A7E1CCC72C61C | T32: 5E5834DAC117DD820A7E1CCC72C61C5EC2540591178118FC7E18478FB85274AB5ABA
B33: 전력맨홀(콘크리트,KS) 800*800*800 개소 (호표 9)
A34: 593ED4EAB117F2863479F7DF5F9CDCDF7DC9D1 | B34: 핸드홀 | C34: 800*800*800 | D34: 조 | E34: 전기 4-43-3 | F34: 1 | G34: 0 | K34: 1 | L34: 작업반장 | M34: =0.28*(H34+100)/100*(I34+100)/100*(J34+100)/100 -> 0.28 | N34: =F34*M34 -> 0.28 | O34: 노임 1 | Q34: 5E5834DF41170AD7417CA7468DED0A | R34: 5EC2540591178118FC7E18478FB85274AB5D75 | S34: 0.28 | T34: 5E5834DF41170AD7417CA7468DED0A593ED4EAB117F2863479F7DF5F9CDCDF7DC9D1 | AA34: =N34 -> 0.28
L35: 특별인부 | M35: =1.33*(H34+100)/100*(I34+100)/100*(J34+100)/100 -> 1.33 | N35: =F34*M35 -> 1.33 | O35: 노임 3 | Q35: 5E5834DF41170AD7417CA7468DED0A | R35: 5EC2540591178118FC7E18478FB85274AB5D77 | S35: 1.33 | T35: 5E5834DF41170AD7417CA7468DED0A593ED4EAB117F2863479F7DF5F9CDCDF7DC9D1 | AB35: =N35 -> 1.33
L36: 줄눈공 | M36: =0.03*(H34+100)/100*(I34+100)/100*(J34+100)/100 -> 0.03 | N36: =F34*M36 -> 0.03 | O36: 노임 4 | Q36: 5E5834DF41170AD7417CA7468DED0A | R36: 5EC2540591178118FC7E18478FB85274AB5E1E | S36: 0.03 | T36: 5E5834DF41170AD7417CA7468DED0A593ED4EAB117F2863479F7DF5F9CDCDF7DC9D1 | AC36: =N36 -> 0.03
A37: 5EC2540591178118FC7E18478FB85274AB5D75 | B37: 작업반장 | C37: 일반공사 직종 | D37: 인 | F37: =SUM(AA34:AA36) -> 0.28 | K37: =TRUNC(ROUNDDOWN(F37,공량설정_일위대가!C23+1)*공량설정_일위대가!B22/100, 공량설정_일위대가!C23) -> 0.28 | O37: 노임 1 | Q37: 5E5834DF41170AD7417CA7468DED0A | T37: 5E5834DF41170AD7417CA7468DED0A5EC2540591178118FC7E18478FB85274AB5D75
A38: 5EC2540591178118FC7E18478FB85274AB5D77 | B38: 특별인부 | C38: 일반공사 직종 | D38: 인 | F38: =SUM(AB34:AB36) -> 1.33 | K38: =TRUNC(ROUNDDOWN(F38,공량설정_일위대가!C24+1)*공량설정_일위대가!B22/100, 공량설정_일위대가!C24) -> 1.33 | O38: 노임 3 | Q38: 5E5834DF41170AD7417CA7468DED0A | T38: 5E5834DF41170AD7417CA7468DED0A5EC2540591178118FC7E18478FB85274AB5D77
A39: 5EC2540591178118FC7E18478FB85274AB5E1E | B39: 줄눈공 | C39: 일반공사 직종 | D39: 인 | F39: =SUM(AC34:AC36) -> 0.03 | K39: =TRUNC(ROUNDDOWN(F39,공량설정_일위대가!C25+1)*공량설정_일위대가!B22/100, 공량설정_일위대가!C25) -> 0.03 | O39: 노임 4 | Q39: 5E5834DF41170AD7417CA7468DED0A | T39: 5E5834DF41170AD7417CA7468DED0A5EC2540591178118FC7E18478FB85274AB5E1E
B40: 보도블럭 철거 ㎡ (호표 10)
A41: 5974C4F7311727AC5D72672E49B3905F0922CE | B41: 보도블럭 철거 | D41: ㎡ | E41: 토목 12-3-3-1 | F41: 1 | G41: 0 | K41: 1 | L41: 보통인부 | M41: =0.0066*(H41+100)/100*(I41+100)/100*(J41+100)/100 -> 0.0066 | N41: =F41*M41 -> 0.0066 | O41: 노임 2 | P41: 노무비 | Q41: 5E5834DAC117DD820A7E1CCC73EECC | R41: 5EC2540591178118FC7E18478FB85274AB5D76 | S41: 0.0066 | T41: 5E5834DAC117DD820A7E1CCC73EECC5974C4F7311727AC5D72672E49B3905F0922CE | X41: =N41 -> 0.0066
L42: 특별인부 | M42: =0.0033*(H41+100)/100*(I41+100)/100*(J41+100)/100 -> 0.0033 | N42: =F41*M42 -> 0.0033 | O42: 노임 3 | Q42: 5E5834DAC117DD820A7E1CCC73EECC | R42: 5EC2540591178118FC7E18478FB85274AB5D77 | S42: 0.0033 | T42: 5E5834DAC117DD820A7E1CCC73EECC5974C4F7311727AC5D72672E49B3905F0922CE | AB42: =N42 -> 0.0033
A43: 5EC2540591178118FC7E18478FB85274AB5D76 | B43: 보통인부 | C43: 일반공사 직종 | D43: 인 | F43: =SUM(X41:X42) -> 0.0066 | K43: =TRUNC(ROUNDDOWN(F43,공량설정_일위대가!C27+1)*공량설정_일위대가!B26/100, 공량설정_일위대가!C27) -> 0.006 | O43: 노임 2 | Q43: 5E5834DAC117DD820A7E1CCC73EECC | T43: 5E5834DAC117DD820A7E1CCC73EECC5EC2540591178118FC7E18478FB85274AB5D76
A44: 5EC2540591178118FC7E18478FB85274AB5D77 | B44: 특별인부 | C44: 일반공사 직종 | D44: 인 | F44: =SUM(AB41:AB42) -> 0.0033 | K44: =TRUNC(ROUNDDOWN(F44,공량설정_일위대가!C28+1)*공량설정_일위대가!B26/100, 공량설정_일위대가!C28) -> 0.003 | O44: 노임 3 | Q44: 5E5834DAC117DD820A7E1CCC73EECC | T44: 5E5834DAC117DD820A7E1CCC73EECC5EC2540591178118FC7E18478FB85274AB5D77
B45: 보도포장 소형고압블럭(재사용) ㎡ (호표 11)
A46: 5974C4F7311727AC5D72672E49B3905F0922CD | B46: 보도블럭 | C46: T=6-8Cm | D46: ㎡ | E46: 토목 12-3-3-1 | F46: 0.01 | G46: 0 | K46: 0.01 | L46: 보통인부 | M46: =1.33*(H46+100)/100*(I46+100)/100*(J46+100)/100 -> 1.33 | N46: =F46*M46 -> 0.0133 | O46: 노임 2 | P46: 재사용 | Q46: 5E5834DAC117DD820A7E1CCC73EECA | R46: 5EC2540591178118FC7E18478FB85274AB5D76 | S46: 1.33 | T46: 5E5834DAC117DD820A7E1CCC73EECA5974C4F7311727AC5D72672E49B3905F0922CD | X46: =N46 -> 0.0133
L47: 특별인부 | M47: =0.66*(H46+100)/100*(I46+100)/100*(J46+100)/100 -> 0.66 | N47: =F46*M47 -> 0.0066 | O47: 노임 3 | Q47: 5E5834DAC117DD820A7E1CCC73EECA | R47: 5EC2540591178118FC7E18478FB85274AB5D77 | S47: 0.66 | T47: 5E5834DAC117DD820A7E1CCC73EECA5974C4F7311727AC5D72672E49B3905F0922CD | AB47: =N47 -> 0.0066
A48: 5EC2540591178118FC7E18478FB85274AB5D76 | B48: 보통인부 | C48: 일반공사 직종 | D48: 인 | F48: =SUM(X46:X47) -> 0.0133 | K48: =TRUNC(ROUNDDOWN(F48,공량설정_일위대가!C30+1)*공량설정_일위대가!B29/100, 공량설정_일위대가!C30) -> 0.013 | O48: 노임 2 | Q48: 5E5834DAC117DD820A7E1CCC73EECA | T48: 5E5834DAC117DD820A7E1CCC73EECA5EC2540591178118FC7E18478FB85274AB5D76
A49: 5EC2540591178118FC7E18478FB85274AB5D77 | B49: 특별인부 | C49: 일반공사 직종 | D49: 인 | F49: =SUM(AB46:AB47) -> 0.0066 | K49: =TRUNC(ROUNDDOWN(F49,공량설정_일위대가!C31+1)*공량설정_일위대가!B29/100, 공량설정_일위대가!C31) -> 0.006 | O49: 노임 3 | Q49: 5E5834DAC117DD820A7E1CCC73EECA | T49: 5E5834DAC117DD820A7E1CCC73EECA5EC2540591178118FC7E18478FB85274AB5D77
B50: 디자인덕트(관급자재) 설치 알루미늄, 제작사양, 할증 M (호표 12)
A51: 593E448EF117965D967E22DE38351ADAFF09C4 | B51: 디자인덕트(관급자재) | C51: 알루미늄, 제작사양 | D51: M | E51: 전기품셈 5-7 | F51: 1 | G51: 5 | H51: -30 | K51: 1.05 | L51: 내선전공 | M51: =0.4*(H51+100)/100*(I51+100)/100*(J51+100)/100 -> 0.28 | N51: =F51*M51 -> 0.28 | O51: 노임 8 | Q51: 5E5834AE7117C472C270F2D237CDD6 | R51: 5EC2540591178118FC7E18478FB85274AB5ABA | S51: 0.45 | T51: 5E5834AE7117C472C270F2D237CDD6593E448EF117965D967E22DE38351ADAFF09C4 | V51: =N51 -> 0.28
A52: 5EC2540591178118FC7E18478FB85274AB5ABA | B52: 내선전공 | C52: 일반공사 직종 | D52: 인 | F52: =SUM(V51:V51) -> 0.28 | K52: 0.28 | O52: 노임 8 | Q52: 5E5834AE7117C472C270F2D237CDD6 | T52: 5E5834AE7117C472C270F2D237CDD65EC2540591178118FC7E18478FB85274AB5ABA
B53: 전선덕트 알루미늄, 100*50mm, 할증 M (호표 13)
A54: 593E448EF117965D967E22DE38351ADAFF09CB | B54: 전선덕트 | C54: 알루미늄, 100*50mm | D54: M | E54: 전기품셈 5-7 | F54: 1 | G54: 5 | H54: -30 | K54: 1 | L54: 내선전공 | M54: =0.2*(H54+100)/100*(I54+100)/100*(J54+100)/100 -> 0.14 | N54: =F54*M54 -> 0.14 | O54: 노임 8 | Q54: 5E5834AE7117C472C270F2D237CDD7 | R54: 5EC2540591178118FC7E18478FB85274AB5ABA | S54: 0.2 | T54: 5E5834AE7117C472C270F2D237CDD7593E448EF117965D967E22DE38351ADAFF09CB | V54: =N54 -> 0.14
A55: 5EC2540591178118FC7E18478FB85274AB5ABA | B55: 내선전공 | C55: 일반공사 직종 | D55: 인 | F55: =SUM(V54:V54) -> 0.14 | K55: 0.14 | O55: 노임 8 | Q55: 5E5834AE7117C472C270F2D237CDD7 | T55: 5E5834AE7117C472C270F2D237CDD75EC2540591178118FC7E18478FB85274AB5ABA
B56: 난연 비닐절연접지용전선(F-GV) 0.6/1kv, 6㎟, 할증 M (호표 14)
A57: 592C04B871175D4F83731B2CF5D26A3ACCD3A0 | B57: 접지용비닐절연전선 | C57: 접지용비닐절연전선, F-GV, 6㎟ | D57: M | E57: 전기 3-38 | F57: 1 | G57: 10 | H57: 150 | K57: 1.1 | L57: 내선전공 | M57: =0.006*(H57+100)/100*(I57+100)/100*(J57+100)/100 -> 0.015 | N57: =F57*M57 -> 0.015 | O57: 노임 8 | Q57: 5E5834DF41177DCC6D78B3E14076A9 | R57: 5EC2540591178118FC7E18478FB85274AB5ABA | S57: 0.006 | T57: 5E5834DF41177DCC6D78B3E14076A9592C04B871175D4F83731B2CF5D26A3ACCD3A0 | V57: =N57 -> 0.015
A58: 5EC2540591178118FC7E18478FB85274AB5ABA | B58: 내선전공 | C58: 일반공사 직종 | D58: 인 | F58: =SUM(V57:V57) -> 0.015 | K58: =TRUNC(ROUNDDOWN(F58,공량설정_일위대가!C37+1)*공량설정_일위대가!B36/100, 공량설정_일위대가!C37) -> 0.015 | O58: 노임 8 | Q58: 5E5834DF41177DCC6D78B3E14076A9 | T58: 5E5834DF41177DCC6D78B3E14076A95EC2540591178118FC7E18478FB85274AB5ABA
B59: 0.6/1kv 난연 전력케이블(F-CV) 2C*2.5㎟ M (호표 15)
A60: 592C04B871175D4FB874403DEB5455FB1F9264 | B60: 600V폴리에틸렌케이블 | C60: 0.6/1kv, F-CV, 2C*2.5㎟ | D60: M | E60: 전기품셈 4-34 | F60: 1 | G60: 5 | H60: 40 | K60: 1.05 | L60: 보통인부 | M60: =0.00462*(H60+100)/100*(I60+100)/100*(J60+100)/100 -> 0.006468 | N60: =F60*M60 -> 0.006468 | O60: 노임 2 | Q60: 5E5834DF4117636A157B07A2339178 | R60: 5EC2540591178118FC7E18478FB85274AB5D76 | S60: 0.00462 | T60: 5E5834DF4117636A157B07A2339178592C04B871175D4FB874403DEB5455FB1F9264 | X60: =N60 -> 0.006468
L61: 저압케이블전공 | M61: =0.00462*(H60+100)/100*(I60+100)/100*(J60+100)/100 -> 0.006468 | N61: =F60*M61 -> 0.006468 | O61: 노임 9 | Q61: 5E5834DF4117636A157B07A2339178 | R61: 5EC2540591178118FC7E18478FB85274AB5AB7 | S61: 0.00462 | T61: 5E5834DF4117636A157B07A2339178592C04B871175D4FB874403DEB5455FB1F9264 | Z61: =N61 -> 0.006468
A62: 5EC2540591178118FC7E18478FB85274AB5D76 | B62: 보통인부 | C62: 일반공사 직종 | D62: 인 | F62: =SUM(X60:X61) -> 0.006468 | K62: =TRUNC(ROUNDDOWN(F62,공량설정_일위대가!C39+1)*공량설정_일위대가!B38/100, 공량설정_일위대가!C39) -> 0.006468 | O62: 노임 2 | Q62: 5E5834DF4117636A157B07A2339178 | T62: 5E5834DF4117636A157B07A23391785EC2540591178118FC7E18478FB85274AB5D76
A63: 5EC2540591178118FC7E18478FB85274AB5AB7 | B63: 저압케이블전공 | C63: 일반공사 직종 | D63: 인 | F63: =SUM(Z60:Z61) -> 0.006468 | K63: =TRUNC(ROUNDDOWN(F63,공량설정_일위대가!C40+1)*공량설정_일위대가!B38/100, 공량설정_일위대가!C40) -> 0.006468 | O63: 노임 9 | Q63: 5E5834DF4117636A157B07A2339178 | T63: 5E5834DF4117636A157B07A23391785EC2540591178118FC7E18478FB85274AB5AB7
B64: 0.6/1kv 난연 전력케이블(F-CV) 2C*4㎟ M (호표 16)
A65: 592C04B871175D4FB874403DEB5455FB1F9304 | B65: 600V폴리에틸렌케이블 | C65: 0.6/1kv, F-CV, 2C*4㎟ | D65: M | E65: 전기품셈 4-34 | F65: 1 | G65: 5 | H65: 40 | K65: 1.05 | L65: 보통인부 | M65: =0.00462*(H65+100)/100*(I65+100)/100*(J65+100)/100 -> 0.006468 | N65: =F65*M65 -> 0.006468 | O65: 노임 2 | Q65: 5E5834DF4117636A157B07A2339054 | R65: 5EC2540591178118FC7E18478FB85274AB5D76 | S65: 0.00462 | T65: 5E5834DF4117636A157B07A2339054592C04B871175D4FB874403DEB5455FB1F9304 | X65: =N65 -> 0.006468
L66: 저압케이블전공 | M66: =0.00462*(H65+100)/100*(I65+100)/100*(J65+100)/100 -> 0.006468 | N66: =F65*M66 -> 0.006468 | O66: 노임 9 | Q66: 5E5834DF4117636A157B07A2339054 | R66: 5EC2540591178118FC7E18478FB85274AB5AB7 | S66: 0.00462 | T66: 5E5834DF4117636A157B07A2339054592C04B871175D4FB874403DEB5455FB1F9304 | Z66: =N66 -> 0.006468
A67: 5EC2540591178118FC7E18478FB85274AB5D76 | B67: 보통인부 | C67: 일반공사 직종 | D67: 인 | F67: =SUM(X65:X66) -> 0.006468 | K67: =TRUNC(ROUNDDOWN(F67,공량설정_일위대가!C42+1)*공량설정_일위대가!B41/100, 공량설정_일위대가!C42) -> 0.006468 | O67: 노임 2 | Q67: 5E5834DF4117636A157B07A2339054 | T67: 5E5834DF4117636A157B07A23390545EC2540591178118FC7E18478FB85274AB5D76
A68: 5EC2540591178118FC7E18478FB85274AB5AB7 | B68: 저압케이블전공 | C68: 일반공사 직종 | D68: 인 | F68: =SUM(Z65:Z66) -> 0.006468 | K68: =TRUNC(ROUNDDOWN(F68,공량설정_일위대가!C43+1)*공량설정_일위대가!B41/100, 공량설정_일위대가!C43) -> 0.006468 | O68: 노임 9 | Q68: 5E5834DF4117636A157B07A2339054 | T68: 5E5834DF4117636A157B07A23390545EC2540591178118FC7E18478FB85274AB5AB7
B69: DATA CABLE RS-485 24AWG 4P m (호표 17)
A70: 5974C4F7311727AC5D72672AEE025288A7FB6D | B70: DATA CABLE | C70: RS-485 24AWG 4P | D70: m | E70: 전기품셈 5-13 | F70: 1 | G70: 5 | K70: 1.05 | L70: 저압케이블전공 | M70: =0.026*(H70+100)/100*(I70+100)/100*(J70+100)/100 -> 0.026 | N70: =F70*M70 -> 0.026 | O70: 노임 9 | Q70: 5E5834DAC1175824D875E385635E28 | R70: 5EC2540591178118FC7E18478FB85274AB5AB7 | S70: 0.026 | T70: 5E5834DAC1175824D875E385635E285974C4F7311727AC5D72672AEE025288A7FB6D | Z70: =N70 -> 0.026
A71: 5EC2540591178118FC7E18478FB85274AB5AB7 | B71: 저압케이블전공 | C71: 일반공사 직종 | D71: 인 | F71: =SUM(Z70:Z70) -> 0.026 | K71: =TRUNC(ROUNDDOWN(F71,공량설정_일위대가!C45+1)*공량설정_일위대가!B44/100, 공량설정_일위대가!C45) -> 0.026 | O71: 노임 9 | Q71: 5E5834DAC1175824D875E385635E28 | T71: 5E5834DAC1175824D875E385635E285EC2540591178118FC7E18478FB85274AB5AB7
B72: 서브함체(관급자재) 설치 W900*H1200*D250, 옥외방수형 면 (호표 18)
A73: 5974C4F7311727AC5D72672AEE025288A6D0EDE4 | B73: 서브함체(관급자재) | C73: 900*1200*250, ALL STS 1.2T | D73: 면 | E73: 전기품셈 5-4 | F73: 1 | G73: 0 | K73: 1 | L73: 내선전공 | M73: =1.23*(H73+100)/100*(I73+100)/100*(J73+100)/100 -> 1.23 | N73: =F73*M73 -> 1.23 | O73: 노임 8 | Q73: 5E5834DAC117DD825170BFC3070410BEDC6A | R73: 5EC2540591178118FC7E18478FB85274AB5ABA | S73: 1.23 | T73: 5E5834DAC117DD825170BFC3070410BEDC6A5974C4F7311727AC5D72672AEE025288A6D0EDE4 | V73: =N73 -> 1.23
A74: 5EC2540591178118FC7E18478FB85274AB5ABA | B74: 내선전공 | C74: 일반공사 직종 | D74: 인 | F74: =SUM(V73:V73) -> 1.23 | K74: =TRUNC(ROUNDDOWN(F74,공량설정_일위대가!C47+1)*공량설정_일위대가!B46/100, 공량설정_일위대가!C47) -> 1.23 | O74: 노임 8 | Q74: 5E5834DAC117DD825170BFC3070410BEDC6A | T74: 5E5834DAC117DD825170BFC3070410BEDC6A5EC2540591178118FC7E18478FB85274AB5ABA
B75: LED 경관조명기구(관급자재) 설치 LINEAR / LED 14.4W / 3,000K / 120˚ EA (호표 19)
A76: 593E448EF117B10E0172A76C7ACBD7A1CF1DABEC | B76: 경관조명기구(관급자재) | C76: LINEAR / LED 14.4W / 3,000K / 120˚ | D76: 등 | E76: 전기품셈 5-26-5 | F76: 1 | G76: 0 | K76: 1 | L76: 내선전공 | M76: =0.057*(H76+100)/100*(I76+100)/100*(J76+100)/100 -> 0.057 | N76: =F76*M76 -> 0.057 | O76: 노임 8 | Q76: 5E5834DF4117C5E1EE75630F6706E61D | R76: 5EC2540591178118FC7E18478FB85274AB5ABA | S76: 0.117 | T76: 5E5834DF4117C5E1EE75630F6706E61D593E448EF117B10E0172A76C7ACBD7A1CF1DABEC | V76: =N76 -> 0.057
A77: 593E448EF117B10E0172A76C7ACBD7A1CF1DABE0 | B77: 조명용 빛가림판(관급자재) | C77: 덕트포함 | D77: m | E77: 전기품셈 5-26-8 | F77: 1 | G77: 0 | K77: 1 | L77: 내선전공 | M77: =0.024*(H77+100)/100*(I77+100)/100*(J77+100)/100 -> 0.024 | N77: =F77*M77 -> 0.024 | O77: 노임 8 | Q77: 5E5834DF4117C5E1EE75630F6706E61D | R77: 5EC2540591178118FC7E18478FB85274AB5ABA | S77: 0.072 | T77: 5E5834DF4117C5E1EE75630F6706E61D593E448EF117B10E0172A76C7ACBD7A1CF1DABE0 | V77: =N77 -> 0.024
A78: 5EC2540591178118FC7E18478FB85274AB5ABA | B78: 내선전공 | C78: 일반공사 직종 | D78: 인 | F78: =SUM(V76:V77) -> 0.081 | K78: =TRUNC(ROUNDDOWN(F78,공량설정_일위대가!C49+1)*공량설정_일위대가!B48/100, 공량설정_일위대가!C49) -> 0.081 | O78: 노임 8 | Q78: 5E5834DF4117C5E1EE75630F6706E61D | T78: 5E5834DF4117C5E1EE75630F6706E61D5EC2540591178118FC7E18478FB85274AB5ABA
B79: 1종금속제가요전선관 비닐피복, 22mm, 방수 M (호표 20)
A80: 593E448EF117965D967FC1CDB8D02FD770ADE767 | B80: 1종금속제가요전선관 | C80: 1종금속제가요전선관, 비닐피복, 22mm, 방수 | D80: M | E80: 전기품셈 5-1 | F80: 1 | G80: 10 | K80: 1.1 | L80: 내선전공 | M80: =0.059*(H80+100)/100*(I80+100)/100*(J80+100)/100 -> 0.059 | N80: =F80*M80 -> 0.059 | O80: 노임 8 | Q80: 5E5834DF4117408A2676A62924E58ED3 | R80: 5EC2540591178118FC7E18478FB85274AB5ABA | S80: 0.059 | T80: 5E5834DF4117408A2676A62924E58ED3593E448EF117965D967FC1CDB8D02FD770ADE767 | V80: =N80 -> 0.059
A81: 5EC2540591178118FC7E18478FB85274AB5ABA | B81: 내선전공 | C81: 일반공사 직종 | D81: 인 | F81: =SUM(V80:V80) -> 0.059 | K81: =TRUNC(ROUNDDOWN(F81,공량설정_일위대가!C51+1)*공량설정_일위대가!B50/100, 공량설정_일위대가!C51) -> 0.059 | O81: 노임 8 | Q81: 5E5834DF4117408A2676A62924E58ED3 | T81: 5E5834DF4117408A2676A62924E58ED35EC2540591178118FC7E18478FB85274AB5ABA
B82: 1종금속제가요전선관 비닐피복, 28mm, 방수 M (호표 21)
A83: 593E448EF117965D967FC1CDB8D02FD770ADE0 | B83: 1종금속제가요전선관 | C83: 1종금속제가요전선관, 비닐피복, 28mm, 방수 | D83: M | E83: 전기품셈 5-1 | F83: 1 | G83: 10 | K83: 1.1 | L83: 내선전공 | M83: =0.072*(H83+100)/100*(I83+100)/100*(J83+100)/100 -> 0.072 | N83: =F83*M83 -> 0.072 | O83: 노임 8 | Q83: 5E5834DF4117408A2676A62924E23A | R83: 5EC2540591178118FC7E18478FB85274AB5ABA | S83: 0.072 | T83: 5E5834DF4117408A2676A62924E23A593E448EF117965D967FC1CDB8D02FD770ADE0 | V83: =N83 -> 0.072
A84: 5EC2540591178118FC7E18478FB85274AB5ABA | B84: 내선전공 | C84: 일반공사 직종 | D84: 인 | F84: =SUM(V83:V83) -> 0.072 | K84: =TRUNC(ROUNDDOWN(F84,공량설정_일위대가!C53+1)*공량설정_일위대가!B52/100, 공량설정_일위대가!C53) -> 0.072 | O84: 노임 8 | Q84: 5E5834DF4117408A2676A62924E23A | T84: 5E5834DF4117408A2676A62924E23A5EC2540591178118FC7E18478FB85274AB5ABA
B85: SMPS함체(관급자재) 설치 W400*H500*D150, 옥외방수형 면 (호표 22)
A86: 5974C4F7311727AC5D72672AEE025288A6D0EDE5 | B86: SMPS함체(관급자재) 설치 | C86: 400*500*150, ALL STS 1.2T | D86: 면 | E86: 전기품셈 5-4 | F86: 1 | G86: 0 | K86: 1 | L86: 내선전공 | M86: =0.66*(H86+100)/100*(I86+100)/100*(J86+100)/100 -> 0.66 | N86: =F86*M86 -> 0.66 | O86: 노임 8 | Q86: 5E5834DAC117DD825170BFC3070410BEDC6B | R86: 5EC2540591178118FC7E18478FB85274AB5ABA | S86: 0.66 | T86: 5E5834DAC117DD825170BFC3070410BEDC6B5974C4F7311727AC5D72672AEE025288A6D0EDE5 | V86: =N86 -> 0.66
A87: 5EC2540591178118FC7E18478FB85274AB5ABA | B87: 내선전공 | C87: 일반공사 직종 | D87: 인 | F87: =SUM(V86:V86) -> 0.66 | K87: =TRUNC(ROUNDDOWN(F87,공량설정_일위대가!C55+1)*공량설정_일위대가!B54/100, 공량설정_일위대가!C55) -> 0.66 | O87: 노임 8 | Q87: 5E5834DAC117DD825170BFC3070410BEDC6B | T87: 5E5834DAC117DD825170BFC3070410BEDC6B5EC2540591178118FC7E18478FB85274AB5ABA
B88: LED 경관조명기구(관급자재) 설치 LINEAR / LED 18W / 3,000K / 10˚ * 60˚ EA (호표 23)
A89: 593E448EF117B10E0172A76C7ACBD7A1CF1DABED | B89: 경관조명기구(관급자재) | C89: LINEAR / LED 18W / 3,000K / 10˚ * 60˚ | D89: 등 | E89: 전기품셈 5-26-5 | F89: 1 | G89: 0 | K89: 1 | L89: 내선전공 | M89: =0.057*(H89+100)/100*(I89+100)/100*(J89+100)/100 -> 0.057 | N89: =F89*M89 -> 0.057 | O89: 노임 8 | Q89: 5E5834DF4117C5E1EE75630F6706E61C | R89: 5EC2540591178118FC7E18478FB85274AB5ABA | S89: 0.117 | T89: 5E5834DF4117C5E1EE75630F6706E61C593E448EF117B10E0172A76C7ACBD7A1CF1DABED | V89: =N89 -> 0.057
A90: 5EC2540591178118FC7E18478FB85274AB5ABA | B90: 내선전공 | C90: 일반공사 직종 | D90: 인 | F90: =SUM(V89:V89) -> 0.057 | K90: =TRUNC(ROUNDDOWN(F90,공량설정_일위대가!C57+1)*공량설정_일위대가!B56/100, 공량설정_일위대가!C57) -> 0.057 | O90: 노임 8 | Q90: 5E5834DF4117C5E1EE75630F6706E61C | T90: 5E5834DF4117C5E1EE75630F6706E61C5EC2540591178118FC7E18478FB85274AB5ABA
B91: LED 경관조명기구(관급자재) 설치 POINT / LED 1W / RGB / 직경38mm EA (호표 24)
A92: 593E448EF117B10E0172A76C7ACBD7A1CF1DABEE | B92: 경관조명기구(관급자재) | C92: POINT / LED 1W / RGB / 직경38mm | D92: 등 | E92: 전기품셈 5-25-3 | F92: 1 | G92: 0 | K92: 1 | L92: 내선전공 | M92: =0.117*(H92+100)/100*(I92+100)/100*(J92+100)/100 -> 0.117 | N92: =F92*M92 -> 0.117 | O92: 노임 8 | Q92: 5E5834DF4117C5E1EE75630F6706E61F | R92: 5EC2540591178118FC7E18478FB85274AB5ABA | S92: 0.117 | T92: 5E5834DF4117C5E1EE75630F6706E61F593E448EF117B10E0172A76C7ACBD7A1CF1DABEE | V92: =N92 -> 0.117
A93: 593E448EF117B10E0172A76C7ACBD7A1CF1DABE1 | B93: 조명케이스(관급자재) | C93: ㅁ70*70 | D93: 개 | E93: 전기품셈 5-29 | F93: 1 | G93: 0 | K93: 1 | L93: 내선전공 | M93: =0.072*(H93+100)/100*(I93+100)/100*(J93+100)/100 -> 0.072 | N93: =F93*M93 -> 0.072 | O93: 노임 8 | Q93: 5E5834DF4117C5E1EE75630F6706E61F | R93: 5EC2540591178118FC7E18478FB85274AB5ABA | S93: 0.072 | T93: 5E5834DF4117C5E1EE75630F6706E61F593E448EF117B10E0172A76C7ACBD7A1CF1DABE1 | V93: =N93 -> 0.072
A94: 5EC2540591178118FC7E18478FB85274AB5ABA | B94: 내선전공 | C94: 일반공사 직종 | D94: 인 | F94: =SUM(V92:V93) -> 0.189 | K94: =TRUNC(ROUNDDOWN(F94,공량설정_일위대가!C59+1)*공량설정_일위대가!B58/100, 공량설정_일위대가!C59) -> 0.189 | O94: 노임 8 | Q94: 5E5834DF4117C5E1EE75630F6706E61F | T94: 5E5834DF4117C5E1EE75630F6706E61F5EC2540591178118FC7E18478FB85274AB5ABA
B95: LED 경관조명기구(관급자재) 설치 FLEXIBLE LINE / LED 10W / RGB / - EA (호표 25)
A96: 593E448EF117B10E0172A76C7ACBD7A1CF1DABEF | B96: 경관조명기구(관급자재) | C96: FLEXIBLE LINE / LED 10W / RGB / - | D96: 등 | E96: 전기품셈 5-26-5 | F96: 1 | G96: 0 | K96: 1 | L96: 내선전공 | M96: =0.031*(H96+100)/100*(I96+100)/100*(J96+100)/100 -> 0.031 | N96: =F96*M96 -> 0.031 | O96: 노임 8 | Q96: 5E5834DF4117C5E1EE75630F6706E61E | R96: 5EC2540591178118FC7E18478FB85274AB5ABA | S96: 0.117 | T96: 5E5834DF4117C5E1EE75630F6706E61E593E448EF117B10E0172A76C7ACBD7A1CF1DABEF | V96: =N96 -> 0.031
A97: 5EC2540591178118FC7E18478FB85274AB5ABA | B97: 내선전공 | C97: 일반공사 직종 | D97: 인 | F97: =SUM(V96:V96) -> 0.031 | K97: =TRUNC(ROUNDDOWN(F97,공량설정_일위대가!C61+1)*공량설정_일위대가!B60/100, 공량설정_일위대가!C61) -> 0.031 | O97: 노임 8 | Q97: 5E5834DF4117C5E1EE75630F6706E61E | T97: 5E5834DF4117C5E1EE75630F6706E61E5EC2540591178118FC7E18478FB85274AB5ABA

Sheet 단가대비표
A1: 단 가 대 비 표
A2: [ 원주천 교량(월운정교) 야간경관 개선 경관조명 설치공사 ]
A3: 코 드 | B3: 품 명 | C3: 규격 | D3: 단위 | E3: 재 료 비 | P3: 노 무 비 | Q3: 경 비 | W3: 번 호 | X3: 비 고 | Y3: 품목구분 | Z3: 노임구분 | AA3: 소수점처리 | AB3: 자재구분
E4: 조달청가격 | F4: PAGE | G4: 거래가격 | H4: PAGE | I4: 유통물가 | J4: PAGE | K4: 물가자료 | L4: PAGE | M4: 조사가격 | N4: PAGE | O4: 적용단가 | Q4: 조달청가격 | R4: 거래가격 | S4: 유통물가 | T4: 물가자료 | U4: 조사가격 | V4: 적용단가
A5: 590184A7711774400F7FD1D9EBF0CF05AF2114 | B5: 굴삭기(무한궤도) | C5: 0.7㎥ | D5: 대 | E5: 0 | G5: 0 | I5: 0 | K5: 0 | M5: 0 | O5: 0 | P5: 0 | Q5: 0 | R5: 0 | S5: 0 | T5: 0 | U5: 110926 | V5: =SMALL(Q5:U5,COUNTIF(Q5:U5,0)+1) -> 110926 | W5: 자재 1 | X5: 천원
A6: 590184A771177452E37B1D79A910ED34A4FD43 | B6: 플레이트 콤팩터 | C6: 1.5ton | D6: 대 | E6: 0 | G6: 0 | I6: 0 | K6: 0 | M6: 0 | O6: 0 | P6: 0 | Q6: 0 | R6: 0 | S6: 0 | T6: 0 | U6: 1570 | V6: =SMALL(Q6:U6,COUNTIF(Q6:U6,0)+1) -> 1570 | W6: 자재 2 | X6: 천원
A7: 590184A77117746CE3718B7285AC377A49A87C | B7: 트럭탑재형 크레인 | C7: 5ton | D7: 대 | E7: 0 | G7: 0 | I7: 0 | K7: 0 | M7: 0 | O7: 0 | P7: 0 | Q7: 0 | R7: 0 | S7: 0 | T7: 0 | U7: 38469 | V7: =SMALL(Q7:U7,COUNTIF(Q7:U7,0)+1) -> 38469 | W7: 자재 3 | X7: 천원
A8: 5913E4ABF117775F9077CB6768CE3B893DF1C8 | B8: 모래 | C8: 모래(육상), 도착도 | D8: M3 | E8: 0 | G8: 30000 | H8: 101 | I8: 33000 | J8: 61 | K8: 0 | M8: 0 | O8: =SMALL(E8:M8,COUNTIF(E8:M8,0)+1) -> 30000 | P8: 0 | Q8: 0 | R8: 0 | S8: 0 | T8: 0 | U8: 0 | V8: 0 | W8: 자재 4
A9: 5913A4CE711775A8D973DDB461CCD370FA803C | B9: 경유 | C9: 경유, 저유황 | D9: L | E9: 1181 | G9: 1864.54 | H9: 1451 | I9: 1748.18 | J9: 1189 | K9: 0 | M9: 0 | O9: =SMALL(E9:M9,COUNTIF(E9:M9,0)+1) -> 1181 | P9: 0 | Q9: 0 | R9: 0 | S9: 0 | T9: 0 | U9: 0 | V9: 0 | W9: 자재 5
A10: 5913A4CE711775A8D973DE5F4625058A0FD9EC | B10: 공업용휘발유 | C10: 공업용휘발유, 무연 | D10: L | E10: 1374 | G10: 1834.54 | H10: 1451 | I10: 1755.45 | J10: 1189 | K10: 0 | M10: 0 | O10: =SMALL(E10:M10,COUNTIF(E10:M10,0)+1) -> 1374 | P10: 0 | Q10: 0 | R10: 0 | S10: 0 | T10: 0 | U10: 0 | V10: 0 | W10: 자재 6
A11: 592C04B871175D4F83731B2CF5D26A3ACCD3A0 | B11: 접지용비닐절연전선 | C11: 접지용비닐절연전선, F-GV, 6㎟ | D11: M | E11: 1408 | G11: 1912 | H11: 994 | I11: 1765 | J11: 833 | K11: 0 | M11: 0 | O11: =SMALL(E11:M11,COUNTIF(E11:M11,0)+1) -> 1408 | P11: 0 | Q11: 0 | R11: 0 | S11: 0 | T11: 0 | U11: 0 | V11: 0 | W11: 자재 7
A12: 592C04B871175D4F83731B2CF5D26A3ACCD3AF | B12: 접지용비닐절연전선 | C12: 접지용비닐절연전선, F-GV, 10㎟ | D12: M | E12: 2090 | G12: 3009 | H12: 994 | I12: 2971 | J12: 833 | K12: 0 | M12: 0 | O12: =SMALL(E12:M12,COUNTIF(E12:M12,0)+1) -> 2090 | P12: 0 | Q12: 0 | R12: 0 | S12: 0 | T12: 0 | U12: 0 | V12: 0 | W12: 자재 8
A13: 592C04B871175D4FB874403DEB5455FB1F9264 | B13: 600V폴리에틸렌케이블 | C13: 0.6/1kv, F-CV, 2C*2.5㎟ | D13: M | E13: 1842 | G13: 2138 | H13: 993 | I13: 2037 | J13: 834 | K13: 0 | M13: 0 | O13: =SMALL(E13:M13,COUNTIF(E13:M13,0)+1) -> 1842 | P13: 0 | Q13: 0 | R13: 0 | S13: 0 | T13: 0 | U13: 0 | V13: 0 | W13: 자재 9
A14: 592C04B871175D4FB874403DEB5455FB1F9263 | B14: 600V폴리에틸렌케이블 | C14: 0.6/1kv, F-CV, 2C*10㎟ | D14: M | E14: 5105 | G14: 6114 | H14: 993 | I14: 5810 | J14: 834 | K14: 0 | M14: 0 | O14: =SMALL(E14:M14,COUNTIF(E14:M14,0)+1) -> 5105 | P14: 0 | Q14: 0 | R14: 0 | S14: 0 | T14: 0 | U14: 0 | V14: 0 | W14: 자재 10
A15: 592C04B871175D4FB874403DEB5455FB1F9304 | B15: 600V폴리에틸렌케이블 | C15: 0.6/1kv, F-CV, 2C*4㎟ | D15: M | E15: 2548 | G15: 2971 | H15: 993 | I15: 2816 | J15: 834 | K15: 0 | M15: 0 | O15: =SMALL(E15:M15,COUNTIF(E15:M15,0)+1) -> 2548 | P15: 0 | Q15: 0 | R15: 0 | S15: 0 | T15: 0 | U15: 0 | V15: 0 | W15: 자재 11
A16: 593ED4EAB117F2863479F7DF5F9CDCDF7DC9D1 | B16: 핸드홀 | C16: 800*800*800 | D16: 조 | E16: 0 | G16: 130000 | H16: 223 | I16: 320000 | J16: 197 | K16: 0 | M16: 0 | O16: =SMALL(E16:M16,COUNTIF(E16:M16,0)+1) -> 130000 | P16: 0 | Q16: 0 | R16: 0 | S16: 0 | T16: 0 | U16: 0 | V16: 0 | W16: 자재 12
A17: 593ED4EAB117F2863479F7DF5F9CDCDF7DC8CE | B17: 핸드홀카바-1호 | C17: 주철각형 K.S (1120x620x132) | D17: 조 | E17: 0 | G17: 430000 | H17: 223 | I17: 540000 | J17: 203 | K17: 0 | M17: 0 | O17: =SMALL(E17:M17,COUNTIF(E17:M17,0)+1) -> 430000 | P17: 0 | Q17: 0 | R17: 0 | S17: 0 | T17: 0 | U17: 0 | V17: 0 | W17: 자재 13
A18: 593E448EF117B10E0172A76C7ACBD7A1CF1DABEC | B18: 경관조명기구(관급자재) | C18: LINEAR / LED 14.4W / 3,000K / 120˚ | D18: 등 | E18: 0 | G18: 0 | I18: 0 | K18: 0 | M18: 170000 | O18: =SMALL(E18:M18,COUNTIF(E18:M18,0)+1) -> 170000 | P18: 0 | Q18: 0 | R18: 0 | S18: 0 | T18: 0 | U18: 0 | V18: 0 | W18: 자재 14
A19: 593E448EF117B10E0172A76C7ACBD7A1CF1DABED | B19: 경관조명기구(관급자재) | C19: LINEAR / LED 18W / 3,000K / 10˚ * 60˚ | D19: 등 | E19: 0 | G19: 0 | I19: 0 | K19: 0 | M19: 300000 | O19: =SMALL(E19:M19,COUNTIF(E19:M19,0)+1) -> 300000 | P19: 0 | Q19: 0 | R19: 0 | S19: 0 | T19: 0 | U19: 0 | V19: 0 | W19: 자재 15
A20: 593E448EF117B10E0172A76C7ACBD7A1CF1DABEE | B20: 경관조명기구(관급자재) | C20: POINT / LED 1W / RGB / 직경38mm | D20: 등 | E20: 0 | G20: 0 | I20: 0 | K20: 0 | M20: 140000 | O20: =SMALL(E20:M20,COUNTIF(E20:M20,0)+1) -> 140000 | P20: 0 | Q20: 0 | R20: 0 | S20: 0 | T20: 0 | U20: 0 | V20: 0 | W20: 자재 16
A21: 593E448EF117B10E0172A76C7ACBD7A1CF1DABEF | B21: 경관조명기구(관급자재) | C21: FLEXIBLE LINE / LED 10W / RGB / - | D21: 등 | E21: 0 | G21: 0 | I21: 0 | K21: 0 | M21: 180000 | O21: =SMALL(E21:M21,COUNTIF(E21:M21,0)+1) -> 180000 | P21: 0 | Q21: 0 | R21: 0 | S21: 0 | T21: 0 | U21: 0 | V21: 0 | W21: 자재 17
A22: 593E448EF117B10E0172A76C7ACBD7A1CF1DABE0 | B22: 조명용 빛가림판(관급자재) | C22: 덕트포함 | D22: m | E22: 0 | G22: 0 | I22: 0 | K22: 0 | M22: 100000 | O22: =SMALL(E22:M22,COUNTIF(E22:M22,0)+1) -> 100000 | P22: 0 | Q22: 0 | R22: 0 | S22: 0 | T22: 0 | U22: 0 | V22: 0 | W22: 자재 18
A23: 593E448EF117B10E0172A76C7ACBD7A1CF1DABE1 | B23: 조명케이스(관급자재) | C23: ㅁ70*70 | D23: 개 | E23: 0 | G23: 0 | I23: 0 | K23: 0 | M23: 100000 | O23: =SMALL(E23:M23,COUNTIF(E23:M23,0)+1) -> 100000 | P23: 0 | Q23: 0 | R23: 0 | S23: 0 | T23: 0 | U23: 0 | V23: 0 | W23: 자재 19
A24: 593E448EF11785C3EF7E1CB97473E016DCD20B | B24: 조명제어기(관급자재) | C24: 상시,격등8회로 | D24: 면 | E24: 0 | G24: 0 | I24: 0 | K24: 0 | M24: 0 | O24: 0 | P24: 0 | Q24: 0 | R24: 0 | S24: 0 | T24: 0 | U24: 0 | V24: 0 | W24: 자재 20
A25: 593E448EF11785C3B27B85E053EC165C25F9C9 | B25: 볼트형커넥터 | C25: 볼트형커넥터, 일반형, ∮16mm | D25: 개 | E25: 843 | G25: 0 | I25: 1200 | J25: 925 | K25: 0 | M25: 0 | O25: =SMALL(E25:M25,COUNTIF(E25:M25,0)+1) -> 843 | P25: 0 | Q25: 0 | R25: 0 | S25: 0 | T25: 0 | U25: 0 | V25: 0 | W25: 자재 21
A26: 593E448EF11785C3977C00428AF28AC191156F | B26: 접지봉 | C26: 접지봉, 16∮*1800mm | D26: 개 | E26: 5118 | G26: 12788 | H26: 1134 | I26: 6900 | J26: 925 | K26: 0 | M26: 0 | O26: =SMALL(E26:M26,COUNTIF(E26:M26,0)+1) -> 5118 | P26: 0 | Q26: 0 | R26: 0 | S26: 0 | T26: 0 | U26: 0 | V26: 0 | W26: 자재 22
A27: 593E448EF11785C39774CA4075B9F7D64B4B09 | B27: 접지 저항 저감제 | C27: 아스론 10kg | D27: set | E27: 10035 | G27: 50000 | H27: 1074 | I27: 10500 | J27: 925 | K27: 0 | M27: 0 | O27: =SMALL(E27:M27,COUNTIF(E27:M27,0)+1) -> 10035 | P27: 0 | Q27: 0 | R27: 0 | S27: 0 | T27: 0 | U27: 0 | V27: 0 | W27: 자재 23
A28: 593E448EF11785FF267C5AF9FDED86F2A07173 | B28: 전주용밴드 | C28: 암타이밴드, 1-3 | D28: 개 | E28: 0 | G28: 4402 | H28: 1133 | I28: 4430 | J28: 974 | K28: 0 | M28: 0 | O28: =SMALL(E28:M28,COUNTIF(E28:M28,0)+1) -> 4402 | P28: 0 | Q28: 0 | R28: 0 | S28: 0 | T28: 0 | U28: 0 | V28: 0 | W28: 자재 24
A29: 593E448EF117965D967FC1CE5EB44DDAD4954F | B29: 강제전선관 | C29: 강제전선관, 후강전선관, 아연도, 36mm | D29: M | E29: 5134 | G29: 6040 | H29: 1029 | I29: 7379 | J29: 864 | K29: 0 | M29: 0 | O29: =SMALL(E29:M29,COUNTIF(E29:M29,0)+1) -> 5134 | P29: 0 | Q29: 0 | R29: 0 | S29: 0 | T29: 0 | U29: 0 | V29: 0 | W29: 자재 25
A30: 593E448EF117965D967FC1CE5EB44DDBE58F32 | B30: 파상형경질폴리에틸렌전선관 | C30: 파상형경질폴리에틸렌전선관, ELP, 50mm | D30: M | E30: 680 | G30: 1143 | H30: 1025 | I30: 860 | J30: 861 | K30: 0 | M30: 0 | O30: =SMALL(E30:M30,COUNTIF(E30:M30,0)+1) -> 680 | P30: 0 | Q30: 0 | R30: 0 | S30: 0 | T30: 0 | U30: 0 | V30: 0 | W30: 자재 26
A31: 593E448EF117965D967FC1CDB8D02FD770ADE767 | B31: 1종금속제가요전선관 | C31: 1종금속제가요전선관, 비닐피복, 22mm, 방수 | D31: M | E31: 1173 | G31: 2880 | H31: 1027 | I31: 0 | K31: 0 | M31: 0 | O31: =SMALL(E31:M31,COUNTIF(E31:M31,0)+1) -> 1173 | P31: 0 | Q31: 0 | R31: 0 | S31: 0 | T31: 0 | U31: 0 | V31: 0 | W31: 자재 27
A32: 593E448EF117965D967FC1CDB8D02FD770ADE0 | B32: 1종금속제가요전선관 | C32: 1종금속제가요전선관, 비닐피복, 28mm, 방수 | D32: M | E32: 1634 | G32: 3470 | H32: 1027 | I32: 0 | K32: 0 | M32: 0 | O32: =SMALL(E32:M32,COUNTIF(E32:M32,0)+1) -> 1634 | P32: 0 | Q32: 0 | R32: 0 | S32: 0 | T32: 0 | U32: 0 | V32: 0 | W32: 자재 28
A33: 593E448EF117965D967E22DE38351ADAFF09CB | B33: 전선덕트 | C33: 알루미늄, 100*50mm | D33: M | E33: 15890 | G33: 25000 | H33: 1031 | I33: 14000 | J33: 870 | K33: 0 | M33: 0 | O33: =SMALL(E33:M33,COUNTIF(E33:M33,0)+1) -> 14000 | P33: 0 | Q33: 0 | R33: 0 | S33: 0 | T33: 0 | U33: 0 | V33: 0 | W33: 자재 29
A34: 593E448EF117965D967E22DE38351ADAFF09C4 | B34: 디자인덕트(관급자재) | C34: 알루미늄, 제작사양 | D34: M | E34: 0 | G34: 0 | I34: 0 | K34: 0 | M34: 70000 | O34: =SMALL(E34:M34,COUNTIF(E34:M34,0)+1) -> 70000 | P34: 0 | Q34: 0 | R34: 0 | S34: 0 | T34: 0 | U34: 0 | V34: 0 | W34: 자재 30
A35: 5974A4CAD117E2B16A75159FB87E03A6E70BFC | B35: 접지봉(지하0.75m기준) | C35: 길이 1~2m x 3본 연결 | D35: 개 | E35: 0 | G35: 0 | I35: 0 | K35: 0 | M35: 0 | O35: 0 | P35: 0 | Q35: 0 | R35: 0 | S35: 0 | T35: 0 | U35: 0 | V35: 0 | W35: 자재 31 | X35: 노무비
A36: 5974C4F7311727AC5D72672E49B3905F0922CE | B36: 보도블럭 철거 | D36: ㎡ | E36: 0 | G36: 0 | I36: 0 | K36: 0 | M36: 0 | O36: 0 | P36: 0 | Q36: 0 | R36: 0 | S36: 0 | T36: 0 | U36: 0 | V36: 0 | W36: 자재 32 | X36: 노무비
A37: 5974C4F7311727AC5D72672E49B3905F0922CD | B37: 보도블럭 | C37: T=6-8Cm | D37: ㎡ | E37: 0 | G37: 0 | I37: 0 | K37: 0 | M37: 0 | O37: 0 | P37: 0 | Q37: 0 | R37: 0 | S37: 0 | T37: 0 | U37: 0 | V37: 0 | W37: 자재 33 | X37: 재사용
A38: 5974C4F7311727AC5D72672AEE025288A7FB6D | B38: DATA CABLE | C38: RS-485 24AWG 4P | D38: m | E38: 0 | G38: 12700 | H38: 1066 | I38: 19100 | J38: 845 | K38: 0 | M38: 17000 | O38: =SMALL(E38:M38,COUNTIF(E38:M38,0)+1) -> 12700 | P38: 0 | Q38: 0 | R38: 0 | S38: 0 | T38: 0 | U38: 0 | V38: 0 | W38: 자재 34
A39: 5974C4F7311727AC5D72672AEE025288A6D0EDE4 | B39: 서브함체(관급자재) | C39: 900*1200*250, ALL STS 1.2T | D39: 면 | E39: 0 | G39: 0 | I39: 0 | K39: 0 | M39: 0 | O39: 0 | P39: 0 | Q39: 0 | R39: 0 | S39: 0 | T39: 0 | U39: 0 | V39: 0 | W39: 자재 35
A40: 5974C4F7311727AC5D72672AEE025288A6D0EDE5 | B40: SMPS함체(관급자재) 설치 | C40: 400*500*150, ALL STS 1.2T | D40: 면 | E40: 0 | G40: 0 | I40: 0 | K40: 0 | M40: 0 | O40: 0 | P40: 0 | Q40: 0 | R40: 0 | S40: 0 | T40: 0 | U40: 0 | V40: 0 | W40: 자재 36
A41: 5EC2540591178118FC7E18478FB85274AB5D75 | B41: 작업반장 | C41: 일반공사 직종 | D41: 인 | E41: 0 | G41: 0 | I41: 0 | K41: 0 | M41: 0 | O41: 0 | P41: 218316 | Q41: 0 | R41: 0 | S41: 0 | T41: 0 | U41: 0 | V41: 0 | W41: 노임 1 | Y41: B | AC41: 2026하반기 노임 적용
A42: 5EC2540591178118FC7E18478FB85274AB5D76 | B42: 보통인부 | C42: 일반공사 직종 | D42: 인 | E42: 0 | G42: 0 | I42: 0 | K42: 0 | M42: 0 | O42: 0 | P42: 172698 | Q42: 0 | R42: 0 | S42: 0 | T42: 0 | U42: 0 | V42: 0 | W42: 노임 2 | Y42: B | AC42: 2027하반기 노임 적용
A43: 5EC2540591178118FC7E18478FB85274AB5D77 | B43: 특별인부 | C43: 일반공사 직종 | D43: 인 | E43: 0 | G43: 0 | I43: 0 | K43: 0 | M43: 0 | O43: 0 | P43: 228717 | Q43: 0 | R43: 0 | S43: 0 | T43: 0 | U43: 0 | V43: 0 | W43: 노임 3 | Y43: B | AC43: 2028하반기 노임 적용
A44: 5EC2540591178118FC7E18478FB85274AB5E1E | B44: 줄눈공 | C44: 일반공사 직종 | D44: 인 | E44: 0 | G44: 0 | I44: 0 | K44: 0 | M44: 0 | O44: 0 | P44: 212390 | Q44: 0 | R44: 0 | S44: 0 | T44: 0 | U44: 0 | V44: 0 | W44: 노임 4 | Y44: B | AC44: 2029하반기 노임 적용
A45: 5EC2540591178118FC7E18478FB85274AB5991 | B45: 건설기계운전사 | C45: 일반공사 직종 | D45: 인 | E45: 0 | G45: 0 | I45: 0 | K45: 0 | M45: 0 | O45: 0 | P45: 283323 | Q45: 0 | R45: 0 | S45: 0 | T45: 0 | U45: 0 | V45: 0 | W45: 노임 5 | Y45: B | AC45: 2030하반기 노임 적용
A46: 5EC2540591178118FC7E18478FB85274AB5990 | B46: 화물차운전사 | C46: 일반공사 직종 | D46: 인 | E46: 0 | G46: 0 | I46: 0 | K46: 0 | M46: 0 | O46: 0 | P46: 240042 | Q46: 0 | R46: 0 | S46: 0 | T46: 0 | U46: 0 | V46: 0 | W46: 노임 6 | Y46: B | AC46: 2031하반기 노임 적용
A47: 5EC2540591178118FC7E18478FB85274AB58F2 | B47: 일반기계운전사 | C47: 일반공사 직종 | D47: 인 | E47: 0 | G47: 0 | I47: 0 | K47: 0 | M47: 0 | O47: 0 | P47: 175703 | Q47: 0 | R47: 0 | S47: 0 | T47: 0 | U47: 0 | V47: 0 | W47: 노임 7 | Y47: B | AC47: 2032하반기 노임 적용
A48: 5EC2540591178118FC7E18478FB85274AB5ABA | B48: 내선전공 | C48: 일반공사 직종 | D48: 인 | E48: 0 | G48: 0 | I48: 0 | K48: 0 | M48: 0 | O48: 0 | P48: 276108 | Q48: 0 | R48: 0 | S48: 0 | T48: 0 | U48: 0 | V48: 0 | W48: 노임 8 | Y48: B | AC48: 2033하반기 노임 적용
A49: 5EC2540591178118FC7E18478FB85274AB5AB7 | B49: 저압케이블전공 | C49: 일반공사 직종 | D49: 인 | E49: 0 | G49: 0 | I49: 0 | K49: 0 | M49: 0 | O49: 0 | P49: 306274 | Q49: 0 | R49: 0 | S49: 0 | T49: 0 | U49: 0 | V49: 0 | W49: 노임 9 | Y49: B | AC49: 2034하반기 노임 적용
A50: 5EC2540591178118FC7E18478FB85274AB553F | B50: 배전전공 | C50: 일반공사 직종 | D50: 인 | E50: 0 | G50: 0 | I50: 0 | K50: 0 | M50: 0 | O50: 0 | P50: 420978 | Q50: 0 | R50: 0 | S50: 0 | T50: 0 | U50: 0 | V50: 0 | W50: 노임 10 | Y50: B | AC50: 2035하반기 노임 적용
A51: 5FAF04E2611747FAD07DA8E8CCD7578C8912DC | B51: 경관조명 기성기초 | C51: 300x400x500 | D51: 조 | E51: 0 | G51: 49000 | H51: 1125 | I51: 0 | K51: 0 | M51: 0 | O51: =SMALL(E51:M51,COUNTIF(E51:M51,0)+1) -> 49000 | P51: 0 | Q51: 0 | R51: 0 | S51: 0 | T51: 0 | U51: 0 | V51: 0 | W51: 자재 37
A52: 5FAF04E2611747FAD07DA8E8CCD7578C8913EA | B52: 저압가공공급 | C52: 기본 5kW | D52: 식 | E52: 0 | G52: 0 | I52: 0 | K52: 0 | M52: 306000 | O52: =SMALL(E52:M52,COUNTIF(E52:M52,0)+1) -> 306000 | P52: 0 | Q52: 0 | R52: 0 | S52: 0 | T52: 0 | U52: 0 | V52: 0 | W52: 자재 38
A53: 5FAF04E2611747FAD07DA8E8CCD7578C8913EB | B53: 5kW 초과분 | C53: 매 1kW당 | D53: kW | E53: 0 | G53: 0 | I53: 0 | K53: 0 | M53: 121000 | O53: =SMALL(E53:M53,COUNTIF(E53:M53,0)+1) -> 121000 | P53: 0 | Q53: 0 | R53: 0 | S53: 0 | T53: 0 | U53: 0 | V53: 0 | W53: 자재 39
A54: 5FAF04E2611747FAD07DA8E8CCD7578C89102E | B54: 부가가치세 | C54: 소계의 10% | D54: 식 | E54: 0 | G54: 0 | I54: 0 | K54: 0 | M54: 42700 | O54: =SMALL(E54:M54,COUNTIF(E54:M54,0)+1) -> 42700 | P54: 0 | Q54: 0 | R54: 0 | S54: 0 | T54: 0 | U54: 0 | V54: 0 | W54: 자재 40
A55: 5FAF04E2611747FAD07DA8E8CCD7578C89102F | B55: 단수정리 | D55: 식 | E55: 0 | G55: 0 | I55: 0 | K55: 0 | M55: 300 | O55: =SMALL(E55:M55,COUNTIF(E55:M55,0)+1) -> 300 | P55: 0 | Q55: 0 | R55: 0 | S55: 0 | T55: 0 | U55: 0 | V55: 0 | W55: 자재 41
A56: 5FAF04E2611747FAD07DA8E8CCD7578C89102C | E56: 0 | G56: 0 | I56: 0 | K56: 0 | M56: 0 | O56: 0 | P56: 0 | Q56: 0 | R56: 0 | S56: 0 | T56: 0 | U56: 0 | V56: 0 | W56: 자재 42
A57: 5FAF04E2611747FAD07DA8E8CCD7578C89102D | E57: 0 | G57: 0 | I57: 0 | K57: 0 | M57: 0 | O57: 0 | P57: 0 | Q57: 0 | R57: 0 | S57: 0 | T57: 0 | U57: 0 | V57: 0 | W57: 자재 43
A58: 5FAF04E2611747FAD07DA8E8CCD7578C89102A | E58: 0 | G58: 0 | I58: 0 | K58: 0 | M58: 0 | O58: 0 | P58: 0 | Q58: 0 | R58: 0 | S58: 0 | T58: 0 | U58: 0 | V58: 0 | W58: 자재 44
A59: 5FAF04E2611747FAD07DA8E8CCD7578C89102B | E59: 0 | G59: 0 | I59: 0 | K59: 0 | M59: 0 | O59: 0 | P59: 0 | Q59: 0 | R59: 0 | S59: 0 | T59: 0 | U59: 0 | V59: 0 | W59: 자재 45
A60: 5FAF04E2611747FAD07DA8E8CCD7578C891028 | E60: 0 | G60: 0 | I60: 0 | K60: 0 | M60: 0 | O60: 0 | P60: 0 | Q60: 0 | R60: 0 | S60: 0 | T60: 0 | U60: 0 | V60: 0 | W60: 자재 46
A61: 5FAF04E2611747FAD07DA8E8CCD7578C891029 | E61: 0 | G61: 0 | I61: 0 | K61: 0 | M61: 0 | O61: 0 | P61: 0 | Q61: 0 | R61: 0 | S61: 0 | T61: 0 | U61: 0 | V61: 0 | W61: 자재 47
A62: 5FAF04E2611747FAD07DA8E8CCD7578C891026 | E62: 0 | G62: 0 | I62: 0 | K62: 0 | M62: 0 | O62: 0 | P62: 0 | Q62: 0 | R62: 0 | S62: 0 | T62: 0 | U62: 0 | V62: 0 | W62: 자재 48
A63: 5FAF04E2611747FAD07DA8E8CCD7578C891027 | E63: 0 | G63: 0 | I63: 0 | K63: 0 | M63: 0 | O63: 0 | P63: 0 | Q63: 0 | R63: 0 | S63: 0 | T63: 0 | U63: 0 | V63: 0 | W63: 자재 49
A64: 5FAF04E2611747FAD07DA8E8CCD7578C891134 | E64: 0 | G64: 0 | I64: 0 | K64: 0 | M64: 0 | O64: 0 | P64: 0 | Q64: 0 | R64: 0 | S64: 0 | T64: 0 | U64: 0 | V64: 0 | W64: 자재 50
A65: 5FAF04E2611747FAD07DA8E8CCD7578C891135 | E65: 0 | G65: 0 | I65: 0 | K65: 0 | M65: 0 | O65: 0 | P65: 0 | Q65: 0 | R65: 0 | S65: 0 | T65: 0 | U65: 0 | V65: 0 | W65: 자재 51
A66: 5FAF04E2611747FAD07DA8E8CCD7578C891136 | E66: 0 | G66: 0 | I66: 0 | K66: 0 | M66: 0 | O66: 0 | P66: 0 | Q66: 0 | R66: 0 | S66: 0 | T66: 0 | U66: 0 | V66: 0 | W66: 자재 52
A67: 5FAF04E2611747FAD07DA8E8CCD7578C891137 | E67: 0 | G67: 0 | I67: 0 | K67: 0 | M67: 0 | O67: 0 | P67: 0 | Q67: 0 | R67: 0 | S67: 0 | T67: 0 | U67: 0 | V67: 0 | W67: 자재 53
... A69: 5FAF04E2611747FAD07DA8E8CCD7578C891131 | E69: 0 | G69: 0 | I69: 0 | K69: 0 | M69: 0 | O69: 0 | P69: 0 | Q69: 0 | R69: 0 | S69: 0 | T69: 0 | U69: 0 | V69: 0 | W69: 자재 55
A70: 5FAF04E2611747FAD07DA8E8CCD7578C891132 | B70: 교량 고압세척 | C70: 고소작업, 살수차 사용 | D70: 일 | E70: 0 | G70: 0 | I70: 0 | K70: 0 | M70: 5000000 | O70: =SMALL(E70:M70,COUNTIF(E70:M70,0)+1) -> 5000000 | P70: 0 | Q70: 0 | R70: 0 | S70: 0 | T70: 0 | U70: 0 | V70: 0 | W70: 자재 56
A71: 5FAF04E2611747FAD07DA8E8CCD7578C891133 | B71: 굴절사디리차 | D71: 일 | E71: 0 | G71: 0 | I71: 0 | K71: 0 | M71: 1200000 | O71: =SMALL(E71:M71,COUNTIF(E71:M71,0)+1) -> 1200000 | P71: 0 | Q71: 0 | R71: 0 | S71: 0 | T71: 0 | U71: 0 | V71: 0 | W71: 자재 57

Sheet 공량설정_일위대가
A1: 일위대가 | B1: 적용율(%) | C1: 소수점이하자릿수 | D1: 일위대가 코드
A2: 강제전선관 아연도, 36mm (호표 1) | B2: 100 | D2: 5E5834DF4117408A307C06B42565C9
A3: 내선전공 | C3: 1 | D3: 5E5834DF4117408A307C06B42565C95EC2540591178118FC7E18478FB85274AB5ABA
A4: 파상형경질폴리에틸렌전선관 50㎜ (호표 2) | B4: 100 | D4: 5E5834DF4117408A0B78C9DA3919C1
A5: 보통인부 | C5: 3 | D5: 5E5834DF4117408A0B78C9DA3919C15EC2540591178118FC7E18478FB85274AB5D76
A6: 배전전공 | C6: 3 | D6: 5E5834DF4117408A0B78C9DA3919C15EC2540591178118FC7E18478FB85274AB553F
A7: 난연 비닐절연접지용전선(F-GV) 0.6/1kv, 10㎟ (호표 3) | B7: 100 | D7: 5E5834DF41177DCC6D78B3E1407127
A8: 내선전공 | C8: 3 | D8: 5E5834DF41177DCC6D78B3E14071275EC2540591178118FC7E18478FB85274AB5ABA
A9: 0.6/1kv 난연 전력케이블(F-CV) 2C*10㎟ (호표 4) | B9: 100 | D9: 5E5834DF4117636A157B07A2339051
A10: 보통인부 | C10: 6 | D10: 5E5834DF4117636A157B07A23390515EC2540591178118FC7E18478FB85274AB5D76
A11: 저압케이블전공 | C11: 6 | D11: 5E5834DF4117636A157B07A23390515EC2540591178118FC7E18478FB85274AB5AB7
A12: 조명제어기(관급자재) 설치 상시,격등8회로 (호표 5) | B12: 100 | D12: 5E5834DCF1170C91EB7ADA8523487B
A13: 내선전공 | C13: 2 | D13: 5E5834DCF1170C91EB7ADA8523487B5EC2540591178118FC7E18478FB85274AB5ABA
A14: 가로등제어기기초 (기계화설치) 400x500x800, 앙카포함 (호표 6) | B14: 100 | D14: 5E5834DF41170AD737753833CCC3CE
A15: 내선전공 | C15: 2 | D15: 5E5834DF41170AD737753833CCC3CE5EC2540591178118FC7E18478FB85274AB5ABA
A16: 보통인부 | C16: 2 | D16: 5E5834DF41170AD737753833CCC3CE5EC2540591178118FC7E18478FB85274AB5D76
A17: 전력량계 설치 1Ø 2W용 (호표 7) | B17: 100 | D17: 5E5834DF4117C5E1DD7E71B7B52BFF
A18: 내선전공 | C18: 2 | D18: 5E5834DF4117C5E1DD7E71B7B52BFF5EC2540591178118FC7E18478FB85274AB5ABA
A19: 접지봉매설 지하 0.75M매설, 3본연결 (호표 8) | B19: 100 | D19: 5E5834DAC117DD820A7E1CCC72C61C
A20: 보통인부 | C20: 1 | D20: 5E5834DAC117DD820A7E1CCC72C61C5EC2540591178118FC7E18478FB85274AB5D76
A21: 내선전공 | C21: 2 | D21: 5E5834DAC117DD820A7E1CCC72C61C5EC2540591178118FC7E18478FB85274AB5ABA
A22: 전력맨홀(콘크리트,KS) 800*800*800 (호표 9) | B22: 100 | D22: 5E5834DF41170AD7417CA7468DED0A
A23: 작업반장 | C23: 2 | D23: 5E5834DF41170AD7417CA7468DED0A5EC2540591178118FC7E18478FB85274AB5D75
A24: 특별인부 | C24: 2 | D24: 5E5834DF41170AD7417CA7468DED0A5EC2540591178118FC7E18478FB85274AB5D77
A25: 줄눈공 | C25: 2 | D25: 5E5834DF41170AD7417CA7468DED0A5EC2540591178118FC7E18478FB85274AB5E1E
A26: 보도블럭 철거 (호표 10) | B26: 100 | D26: 5E5834DAC117DD820A7E1CCC73EECC
A27: 보통인부 | C27: 3 | D27: 5E5834DAC117DD820A7E1CCC73EECC5EC2540591178118FC7E18478FB85274AB5D76
A28: 특별인부 | C28: 3 | D28: 5E5834DAC117DD820A7E1CCC73EECC5EC2540591178118FC7E18478FB85274AB5D77
A29: 보도포장 소형고압블럭(재사용) (호표 11) | B29: 100 | D29: 5E5834DAC117DD820A7E1CCC73EECA
A30: 보통인부 | C30: 3 | D30: 5E5834DAC117DD820A7E1CCC73EECA5EC2540591178118FC7E18478FB85274AB5D76
A31: 특별인부 | C31: 3 | D31: 5E5834DAC117DD820A7E1CCC73EECA5EC2540591178118FC7E18478FB85274AB5D77
A32: 디자인덕트(관급자재) 설치 알루미늄, 제작사양, 할증 (호표 12) | B32: 100 | D32: 5E5834AE7117C472C270F2D237CDD6
A33: 내선전공 | C33: 3 | D33: 5E5834AE7117C472C270F2D237CDD65EC2540591178118FC7E18478FB85274AB5ABA
A34: 전선덕트 알루미늄, 100*50mm, 할증 (호표 13) | B34: 100 | D34: 5E5834AE7117C472C270F2D237CDD7
A35: 내선전공 | C35: 3 | D35: 5E5834AE7117C472C270F2D237CDD75EC2540591178118FC7E18478FB85274AB5ABA
A36: 난연 비닐절연접지용전선(F-GV) 0.6/1kv, 6㎟, 할증 (호표 14) | B36: 100 | D36: 5E5834DF41177DCC6D78B3E14076A9
A37: 내선전공 | C37: 3 | D37: 5E5834DF41177DCC6D78B3E14076A95EC2540591178118FC7E18478FB85274AB5ABA
A38: 0.6/1kv 난연 전력케이블(F-CV) 2C*2.5㎟, 할증 (호표 15) | B38: 100 | D38: 5E5834DF4117636A157B07A2339178
A39: 보통인부 | C39: 6 | D39: 5E5834DF4117636A157B07A23391785EC2540591178118FC7E18478FB85274AB5D76
A40: 저압케이블전공 | C40: 6 | D40: 5E5834DF4117636A157B07A23391785EC2540591178118FC7E18478FB85274AB5AB7
A41: 0.6/1kv 난연 전력케이블(F-CV) 2C*4㎟, 할증 (호표 16) | B41: 100 | D41: 5E5834DF4117636A157B07A2339054
A42: 보통인부 | C42: 6 | D42: 5E5834DF4117636A157B07A23390545EC2540591178118FC7E18478FB85274AB5D76
A43: 저압케이블전공 | C43: 6 | D43: 5E5834DF4117636A157B07A23390545EC2540591178118FC7E18478FB85274AB5AB7
A44: DATA CABLE RS-485 24AWG 4P, 할증 (호표 17) | B44: 100 | D44: 5E5834DAC1175824D875E385635E28
A45: 저압케이블전공 | C45: 3 | D45: 5E5834DAC1175824D875E385635E285EC2540591178118FC7E18478FB85274AB5AB7
A46: 서브함체(관급자재) 설치 W900*H1200*D250, 옥외방수형 (호표 18) | B46: 100 | D46: 5E5834DAC117DD825170BFC3070410BEDC6A
A47: 내선전공 | C47: 2 | D47: 5E5834DAC117DD825170BFC3070410BEDC6A5EC2540591178118FC7E18478FB85274AB5ABA
A48: LED 경관조명기구(관급자재) 설치 LINEAR / LED 14.4W / 3,000K / 120˚ (호표 19) | B48: 100 | D48: 5E5834DF4117C5E1EE75630F6706E61D
A49: 내선전공 | C49: 3 | D49: 5E5834DF4117C5E1EE75630F6706E61D5EC2540591178118FC7E18478FB85274AB5ABA
A50: 1종금속제가요전선관 비닐피복, 22mm, 방수 (호표 20) | B50: 100 | D50: 5E5834DF4117408A2676A62924E58ED3
A51: 내선전공 | C51: 3 | D51: 5E5834DF4117408A2676A62924E58ED35EC2540591178118FC7E18478FB85274AB5ABA
A52: 1종금속제가요전선관 비닐피복, 28mm, 방수 (호표 21) | B52: 100 | D52: 5E5834DF4117408A2676A62924E23A
A53: 내선전공 | C53: 3 | D53: 5E5834DF4117408A2676A62924E23A5EC2540591178118FC7E18478FB85274AB5ABA
A54: SMPS함체(관급자재) 설치 W400*H500*D150, 옥외방수형 (호표 22) | B54: 100 | D54: 5E5834DAC117DD825170BFC3070410BEDC6B
A55: 내선전공 | C55: 2 | D55: 5E5834DAC117DD825170BFC3070410BEDC6B5EC2540591178118FC7E18478FB85274AB5ABA
A56: LED 경관조명기구(관급자재) 설치 LINEAR / LED 18W / 3,000K / 10˚ * 60˚ (호표 23) | B56: 100 | D56: 5E5834DF4117C5E1EE75630F6706E61C
A57: 내선전공 | C57: 3 | D57: 5E5834DF4117C5E1EE75630F6706E61C5EC2540591178118FC7E18478FB85274AB5ABA
A58: LED 경관조명기구(관급자재) 설치 POINT / LED 1W / RGB / 직경38mm (호표 24) | B58: 100 | D58: 5E5834DF4117C5E1EE75630F6706E61F
A59: 내선전공 | C59: 3 | D59: 5E5834DF4117C5E1EE75630F6706E61F5EC2540591178118FC7E18478FB85274AB5ABA
A60: LED 경관조명기구(관급자재) 설치 FLEXIBLE LINE / LED 10W / RGB / - (호표 25) | B60: 100 | D60: 5E5834DF4117C5E1EE75630F6706E61E
A61: 내선전공 | C61: 3 | D61: 5E5834DF4117C5E1EE75630F6706E61E5EC2540591178118FC7E18478FB85274AB5ABA
A62: 트럭탑재형크레인-전기 5.0ton (호표 26) | B62: 100 | D62: 590184A77117746CE3718B7285AC377A49A87C49
A63: 화물차운전사 | C63: 0 | D63: 590184A77117746CE3718B7285AC377A49A87C495EC2540591178118FC7E18478FB85274AB5990
A64: 굴삭기(무한궤도) 0.7㎥ (호표 27) | B64: 100 | D64: 590184A7711774400F7FD1D9EBF0CF05AF2114A4
A65: 건설기계운전사 | C65: 0 | D65: 590184A7711774400F7FD1D9EBF0CF05AF2114A45EC2540591178118FC7E18478FB85274AB5991
A66: 플레이트 콤팩터 1.5ton (호표 28) | B66: 100 | D66: 590184A771177452E37B1D79A910ED34A4FD43D7
A67: 일반기계운전사 | C67: 0 | D67: 590184A771177452E37B1D79A910ED34A4FD43D75EC2540591178118FC7E18478FB85274AB58F2

Sheet  공사설정 
A1: 이 Sheet는 수정하지 마십시요
A2: 공사구분 | B2: D | C2: 타이틀
A3: 확정내역 | B3: 원내역
A4: 자재단가적용 | B4: 5
A5: 경비단가적용 | B5: 5
A6: 품목코드형식 | B6: XXXX-XXXX-XXXXXXXXX
A7: 내역금액소수점처리 | B7: C | C7: 1
A8: 일위대가내역소수점처리 | B8: C | C8: 2
A9: 단가명 | B9: 조달청가격 | C9: 거래가격 | D9: 유통물가 | E9: 물가자료 | F9: 조사가격 | G9: TTTTT
A10: 환율 | B10: 1185 | C10: 0 | D10: 0
A11: 시간당작업량 | B11: R | C11: 4
A12: 1회 사이클시간 | B12: R | C12: 4
A13: 시간당 작업사이클 | B13: R | C13: 3
A14: 일반변수 | B14: R | C14: 5
A15: 시간당 노임산출 계수 | B15: A | C15: 1/8*16/12*25/20 | D15: 1/8*16/12*25/20 | E15: 1/8*16/12*25/20 | F15: 1
A16: 재료비 할증 계수 | B16: 1.11 | C16: 1.12
A17: 노무비 할증 계수 | B17: 1 | C17: 1.5 | D17: 1.16 | E17: 1.6 | F17: 1.6 | G17: 1.6 | H17: 1.94 | I17: 1.94 | J17: 1.94 | K17: 1 | L17: 1 | M17: 1
A18: 경비 할증 계수 | B18: 1.25 | C18: 1.071
A19: 내역,일위대가 품명,규격,단위 따로적용
A20: 내역단가 소수점처리 | B20: C | C20: 1
A21: 코드 | B21: 공종구분명 | C21: 원가비목코드
A22: 1 | B22: 작 업 부 산 물 | C22: A3
A23: 2 | B23: 운 반 비 | C23: C1
A24: 3 | B24: 관 급 자 재 비 | C24: DJ
A25: 4 | B25: 사 급 자 재 비 | C25: D3
A26: 5 | B26: 외 자 재
A27: 6 | B27: ...
A28: 7 | B28: ...
A29: 8 | B29: ...
A30: 9 | B30: ...
A43: 단가 순서 | B43: 1234

Sheet Sheet1
