Workbook
Name _: #REF!
Name ___A100000: #REF!
Name ___A69999: #REF!
Name ___A99999: #REF!
Name ___AYA97: #REF!
Name ___AYA98: #REF!
Name ___AYE97: #REF!
Name ___AYE98: #REF!
Name ___bar10: #REF!
Name ___bar13: #REF!
Name ___bar16: #REF!
Name ___bar19: #REF!
Name ___bar22: #REF!
Name ___bar25: #REF!
Name ___bar29: #REF!
Name ___bar32: #REF!
Name ___COM1: #N/A
Name ___dia35: #REF!
Name ___EYA99: #REF!
Name ___EYE99: #REF!
Name ___EYE999: #REF!
Name ___faf98: #REF!
Name ___HOY97: #REF!
Name ___IJ66980: #REF!
Name ___pa1: #REF!
Name ___pa2: #REF!
Name ___phi1: #REF!
Name ___phi3: #REF!
Name ___PRT1: #N/A
Name ___PRT2: #N/A
Name ___PRT3: #N/A
Name ___PRT4: #N/A
Name ___PRT5: #N/A
Name ___PRT6: #N/A
Name ___PRT7: #N/A
Name ___PRT8: #N/A
Name ___PRT9: #N/A
Name ___PYA001: #REF!
Name ___PYA99: #REF!
Name ___PYE99: #REF!
Name ___qa1: #REF!
Name ___ROM1: #N/A
Name ___SBB1: #REF!
Name ___SBB2: #REF!
Name ___SBB3: #REF!
Name ___SBB4: #REF!
Name ___SBB5: #REF!
Name ___SHH1: #REF!
Name ___SHH2: #REF!
Name ___SHH3: #REF!
Name ___tbm1: #REF!
Name ___Ted1: #REF!
Name ___Ts1: #REF!
Name __A100000: #REF!
Name __A69999: #REF!
Name __A99999: #REF!
Name __AYA97: #REF!
Name __AYA98: #REF!
Name __AYE97: #REF!
Name __AYE98: #REF!

Sheet 갑지
A1: 설계년월일 | D1: 2026년 8월 | I1: 설 계 자 | L1: 심 사 자 | O1: 팀 장 | R1: 과 장
B4: 원주천 교량(월운정교) 야간경관 개선 경관조명 설치공사 설계예산서
B6: ■ 공 사 개 요
B7: 1.간선인입 및 조명제어기 설치 1식
B8: 2.펜스하단부(LL-1) 경관조명설치 1식
B9: 3.교각하부면(LL-2) 경관조명설치 1식
B10: 4.상판측면포인트(PT-1) 경관조명설치 1식
B11: 5.자전거조형(FX-1) 경관조명설치 1식
D13: 도 급 공 사 | G13: =전기원가!K32 -> -58.272727 | K13: ="(금 "&NUMBERSTRING(G13,1)&"원)" -> #NUM!
D14: 관 급 자 재 (가로등제어기) | G14: =전기원가!K33 -> 0 | K14: ="(금 "&NUMBERSTRING(G14,1)&"원)" -> (금 영원)
D15: 관 급 자 재 (경관조명기구) | G15: =전기원가!K34 -> 0 | K15: ="(금 "&NUMBERSTRING(G15,1)&"원)" -> (금 영원)
D16: 한전불입금 | G16: =전기원가!K35 -> 0 | K16: ="(금 "&NUMBERSTRING(G16,1)&"원)" -> (금 영원)
D18: 총 계 | G18: =G13+G14+G15+G16+G17 -> -58.272727 | K18: ="(금 "&NUMBERSTRING(G18,1)&"원)" -> #NUM!

Sheet 전기원가
A1: 공 사 설 계 내 역 서
A3: 1. 공 사 명 : | B3: 원주천 교량(월운정교) 야간경관 개선 경관조명 설치공사
A4: 2. 설계금액 : | B4: ="일금 "&NUMBERSTRING(F4,1) & " 원정" -> #NUM! | E4: \ | F4: =K37 -> -58.272727 | I4: 작성 일자 : | J4: 2026년 8월 일
D5: 도 급 공 사 | E5: \ | F5: =K32 -> -58.272727 | I5: 작 성 자 : | J5: 건축전기설비기술사 :조 영 길
D6: 관 급 자 재 | E6: \ | F6: =K33+K34 -> 0
D7: 한전불입금 | E7: \ | F7: =K35 -> 0
A8: 명 칭 | B8: 규 격 | C8: 단 위 | D8: 수 량 | E8: 재 료 비 | G8: 노 무 비 | I8: 경 비 | K8: 계 | L8: 비고
E9: 단 가 | F9: 금 액 | G9: 단 가 | H9: 금 액 | I9: 단 가 | J9: 금 액
A10: 전기공사 | C10: 식 | D10: 1 | F10: =공종별집계표!F6 -> 0 | H10: =공종별집계표!H6 -> 0 | J10: =공종별집계표!J6 -> 0 | K10: =F10+H10+J10 -> 0
A11: 간접 노무비 | B11: 직접노무비 | C11: % | D11: 19.1 | K11: =INT(H10*D11%) -> 0
A12: 석면부담금 | B12: 직노+간노 | C12: % | D12: 0.006 | K12: =INT((K11+H10)*D12%) -> 0
A13: 임금채권부담금 | B13: 직노+간노 | C13: % | D13: 0.09 | K13: =INT((K11+H10)*D13%) -> 0
A14: 산재 보험료 | B14: 직노+간노 | C14: % | D14: 3.56 | K14: =INT((K11+H10)*D14%) -> 0
A15: 고용보험료 | B15: 직노+간노 | C15: % | D15: 1.01 | K15: =INT((K11+H10)*D15%) -> 0
A16: 건강보험료 | B16: 직접노무비 | C16: % | D16: 3.595 | K16: =INT(H10*D16%) -> 0
A17: 연금보험료 | B17: 직접노무비 | C17: % | D17: 4.75 | K17: =INT(H10*D17%) -> 0
A18: 노인장기요양보험료 | B18: 건강보험료 | C18: % | D18: 13.14 | K18: =INT(K16*D18%) -> 0
A19: 퇴직공제부금 | B19: 직노 | C19: % | D19: 2.3 | K19: =INT(D19*H10%) -> 0
A20: 산업안전보건관리비 | B20: (재+직노)*1.2 | C20: % | D20: 2.07 | K20: =M20 -> 0 | L20: 적용 | M20: =INT((F10+H10))*1.2*D20% -> 0
B21: (재+직노+관급자재) | C21: % | D21: 2.07 | K21: =M21 -> 0 | M21: =INT((F10+H10+K34+K33)*D21%) -> 0
A22: 기 타 경 비 | B22: 재+직노+간노 | C22: % | D22: 5.5 | K22: =INT((F10+H10+K11)*D22%) -> 0
A23: 환경보전비 | B23: 재+직노+산출경비 | C23: %
A24: 소 계 | K24: =SUM(K10:K23)-K21 -> 0
A25: 일반 관리비 | B25: 재+노+경비 | C25: % | D25: 8 | K25: =INT(K24*D25%) -> 0
A26: 소 계 | K26: =SUM(K24:K25) -> 0
A27: 이 윤 | B27: 노+경비+일반관리 | C27: % | D27: 15 | K27: =INT((K26-F10)*D27%)-57.5/1.1 -> -52.272727
A28: 소 계 | K28: =SUM(K26:K27) -> -52.272727
A29: 전기공사 손해배상공제료 | B29: 총원가+관급 | C29: % | D29: 0.26477 | K29: =TRUNC((K28+K34+K33)*D29%, -2) -> 0
A30: 소 계 | K30: =SUM(K28:K29) -> -52.272727
A31: 부가 가치세 | C31: % | D31: 10 | K31: =INT(K30*D31%) -> -6
A32: 도급공사비 소계 | K32: =K30+K31 -> -58.272727
A33: 관급자재(가로등제어기) | B33: 도급자관급자재 | K33: =공종별집계표!L13 -> 0
A34: 관급자재(경관조명기구) | B34: 도급자관급자재 | K34: =공종별집계표!L14 -> 0
A35: 한전불입금 | K35: =공종별집계표!L15 -> 0
A37: 총공사비 | K37: =SUM(K32:K36) -> -58.272727
K38: =K37-전기원가!$K$37 -> 0

Sheet 공종별집계표
A1: 공 종 별 집 계 표
A2: [ 원주천 교량(월운정교) 야간경관 개선 경관조명 설치공사 ]
A3: 품 명 | B3: 규 격 | C3: 단위 | D3: 수량 | E3: 재 료 비 | G3: 노 무 비 | I3: 경 비 | K3: 합 계 | M3: 비 고 | N3: 공종코드 | O3: 변수 | P3: 상위공종 | Q3: 공종구분 | R3: 공종레벨 | S3: 공종소계 | T3: 원가계산서 연결금액
E4: 단 가 | F4: 금 액 | G4: 단 가 | H4: 금 액 | I4: 단 가 | J4: 금 액 | K4: 단 가 | L4: 금 액
A5: 01 원주천 교량(월운정교) 야간경관 개선 경관조명 설치공사 | D5: 1 | E5: =F6+F12+F15 -> 0 | F5: =E5*D5 -> 0 | G5: =H6+H12+H15 -> 0 | H5: =G5*D5 -> 0 | I5: =J6+J12+J15 -> 0 | J5: =I5*D5 -> 0 | K5: =E5+G5+I5 -> 0 | L5: =F5+H5+J5 -> 0 | N5: 01 | R5: 1
A6: 0101 1.도급공사 | D6: 1 | E6: =F7+F8+F9+F10+F11 -> 0 | F6: =E6*D6 -> 0 | G6: =H7+H8+H9+H10+H11 -> 0 | H6: =G6*D6 -> 0 | I6: =J7+J8+J9+J10+J11 -> 0 | J6: =I6*D6 -> 0 | K6: =E6+G6+I6 -> 0 | L6: =F6+H6+J6 -> 0 | N6: 0101 | P6: 01 | R6: 2
A7: 010101 1.전력간선인입공사 | D7: 1 | E7: =공종별내역서!F27 -> 0 | F7: =E7*D7 -> 0 | G7: =공종별내역서!H27 -> 0 | H7: =G7*D7 -> 0 | I7: =공종별내역서!J27 -> 0 | J7: =I7*D7 -> 0 | K7: =E7+G7+I7 -> 0 | L7: =F7+H7+J7 -> 0 | N7: 010101 | P7: 0101 | R7: 3
A8: 010102 2.펜스하단부(LL-1) 경관조명설치공사 | D8: 1 | E8: =공종별내역서!F51 -> 0 | F8: =E8*D8 -> 0 | G8: =공종별내역서!H51 -> 0 | H8: =G8*D8 -> 0 | I8: =공종별내역서!J51 -> 0 | J8: =I8*D8 -> 0 | K8: =E8+G8+I8 -> 0 | L8: =F8+H8+J8 -> 0 | N8: 010102 | P8: 0101 | R8: 3
A9: 010103 3.교각하부면(LL-2) 경관조명설치공사 | D9: 1 | E9: =공종별내역서!F75 -> 0 | F9: =E9*D9 -> 0 | G9: =공종별내역서!H75 -> 0 | H9: =G9*D9 -> 0 | I9: =공종별내역서!J75 -> 0 | J9: =I9*D9 -> 0 | K9: =E9+G9+I9 -> 0 | L9: =F9+H9+J9 -> 0 | N9: 010103 | P9: 0101 | R9: 3
A10: 010104 4.상판측면포인트(PT-1) 경관조명설치공사 | D10: 1 | E10: =공종별내역서!F99 -> 0 | F10: =E10*D10 -> 0 | G10: =공종별내역서!H99 -> 0 | H10: =G10*D10 -> 0 | I10: =공종별내역서!J99 -> 0 | J10: =I10*D10 -> 0 | K10: =E10+G10+I10 -> 0 | L10: =F10+H10+J10 -> 0 | N10: 010104 | P10: 0101 | R10: 3
A11: 010105 5.자전거조형(FX-1) 경관조명설치공사 | D11: 1 | E11: =공종별내역서!F123 -> 0 | F11: =E11*D11 -> 0 | G11: =공종별내역서!H123 -> 0 | H11: =G11*D11 -> 0 | I11: =공종별내역서!J123 -> 0 | J11: =I11*D11 -> 0 | K11: =E11+G11+I11 -> 0 | L11: =F11+H11+J11 -> 0 | N11: 010105 | P11: 0101 | R11: 3
A12: 0102 2.관급자재 | D12: 1 | E12: =F13+F14 -> 0 | F12: =E12*D12 -> 0 | G12: =H13+H14 -> 0 | H12: =G12*D12 -> 0 | I12: =J13+J14 -> 0 | J12: =I12*D12 -> 0 | K12: =E12+G12+I12 -> 0 | L12: =F12+H12+J12 -> 0 | N12: 0102 | P12: 01 | R12: 2
A13: 010201 1.가로등제어기 | D13: 1 | E13: =공종별내역서!F147 -> 0 | F13: =E13*D13 -> 0 | G13: =공종별내역서!H147 -> 0 | H13: =G13*D13 -> 0 | I13: =공종별내역서!J147 -> 0 | J13: =I13*D13 -> 0 | K13: =E13+G13+I13 -> 0 | L13: =F13+H13+J13 -> 0 | N13: 010201 | P13: 0102 | R13: 3
A14: 010202 2.경관조명기구 | D14: 1 | E14: =공종별내역서!F171 -> 0 | F14: =E14*D14 -> 0 | G14: =공종별내역서!H171 -> 0 | H14: =G14*D14 -> 0 | I14: =공종별내역서!J171 -> 0 | J14: =I14*D14 -> 0 | K14: =E14+G14+I14 -> 0 | L14: =F14+H14+J14 -> 0 | N14: 010202 | P14: 0102 | R14: 3
A15: 0103 3.한전불입금 | D15: 1 | E15: =공종별내역서!F195 -> 0 | F15: =E15*D15 -> 0 | G15: =공종별내역서!H195 -> 0 | H15: =G15*D15 -> 0 | I15: =공종별내역서!J195 -> 0 | J15: =I15*D15 -> 0 | K15: =E15+G15+I15 -> 0 | L15: =F15+H15+J15 -> 0 | N15: 0103 | P15: 01 | R15: 2
A27: [ 합 계 ] | F27: =F5 -> 0 | H27: =H5 -> 0 | J27: =J5 -> 0 | L27: =L5 -> 0

Sheet 공종별내역서
A1: [ 원주천 교량(월운정교) 야간경관 개선 경관조명 설치공사 ]
A2: 품 명 | B2: 규 격 | C2: 단위 | D2: 수량 | E2: 재 료 비 | G2: 노 무 비 | I2: 경 비 | K2: 합 계 | M2: 비 고 | N2: 품목코드 | O2: 변수 | P2: 설정 | Q2: 공종코드 | R2: 일위 | S2: 단산 | T2: 자재 | U2: 손료적용 | V2: 손료저장 | W2: 적용율 | X2: JUK1 | Y2: JUK2 | Z2: JUK3 | AA2: JUK4 | AB2: JUK5 | AC2: JUK6 | AD2: JUK7 | AE2: JUK8 | AF2: JUK9 | AG2: JUK10 | AH2: JUK11 | AI2: JUK12 | AJ2: JUK13 | AK2: JUK14 | AL2: JUK15 | AM2: JUK16 | AN2: JUK17 | AO2: JUK18 | AP2: JUK19 | AQ2: JUK20 | AR2: 자재구분 | AS2: 공종구분 | AT2: 공종레벨 | AU2: 공종+자재 | AV2: 고유번호
E3: 단 가 | F3: 금 액 | G3: 단 가 | H3: 금 액 | I3: 단 가 | J3: 금 액 | K3: 단 가 | L3: 금 액
A4: 010101 1.전력간선인입공사 | Q4: 010101
A5: 강제전선관 | B5: 아연도, 36mm | C5: M | D5: 8 | N5: 5E5834DF4117408A307C06B42565C9 | Q5: 010101 | R5: T | S5: F | T5: F | AU5: 0101015E5834DF4117408A307C06B42565C9 | AV5: 2362
A6: 전주용밴드 | B6: 암타이밴드, 1-3 | C6: 개 | D6: 6 | N6: 593E448EF11785FF267C5AF9FDED86F2A07173 | Q6: 010101 | R6: F | S6: F | T6: T | AU6: 010101593E448EF11785FF267C5AF9FDED86F2A07173 | AV6: 2320
A7: 파상형경질폴리에틸렌전선관 | B7: 50㎜ | C7: M | D7: 30 | N7: 5E5834DF4117408A0B78C9DA3919C1 | Q7: 010101 | R7: T | S7: F | T7: F | AU7: 0101015E5834DF4117408A0B78C9DA3919C1 | AV7: 2363
A8: 난연 비닐절연접지용전선(F-GV) | B8: 0.6/1kv, 10㎟ | C8: M | D8: 9 | N8: 5E5834DF41177DCC6D78B3E1407127 | Q8: 010101 | R8: T | S8: F | T8: F | AU8: 0101015E5834DF41177DCC6D78B3E1407127 | AV8: 2364
A9: 0.6/1kv 난연 전력케이블(F-CV) | B9: 2C*10㎟ | C9: M | D9: 40 | N9: 5E5834DF4117636A157B07A2339051 | Q9: 010101 | R9: T | S9: F | T9: F | AU9: 0101015E5834DF4117636A157B07A2339051 | AV9: 2323
A10: 조명제어기(관급자재) 설치 | B10: 6회로, 무선양방향 | C10: 면 | D10: 1 | N10: 5E5834DCF1170C91EB7ADA8523487B | Q10: 010101 | R10: T | S10: F | T10: F | AU10: 0101015E5834DCF1170C91EB7ADA8523487B | AV10: 2444
A11: 가로등제어기기초 (기계화설치) | B11: 400x500x800, 앙카포함 | C11: 개소 | D11: 1 | N11: 5E5834DF41170AD737753833CCC3CE | Q11: 010101 | R11: T | S11: F | T11: F | AU11: 0101015E5834DF41170AD737753833CCC3CE | AV11: 2445
A12: 전력량계 설치 | B12: 1Ø 2W용 | C12: 대 | D12: 1 | N12: 5E5834DF4117C5E1DD7E71B7B52BFF | Q12: 010101 | R12: T | S12: F | T12: F | AU12: 0101015E5834DF4117C5E1DD7E71B7B52BFF | AV12: 2369
A13: 접지봉매설 | B13: 지하 0.75M매설, 3본연결 | C13: 개소 | D13: 1 | N13: 5E5834DAC117DD820A7E1CCC72C61C | Q13: 010101 | R13: T | S13: F | T13: F | AU13: 0101015E5834DAC117DD820A7E1CCC72C61C | AV13: 2326
A14: 전력맨홀(콘크리트,KS) | B14: 800*800*800 | C14: 개소 | D14: 1 | N14: 5E5834DF41170AD7417CA7468DED0A | Q14: 010101 | R14: T | S14: F | T14: F | AU14: 0101015E5834DF41170AD7417CA7468DED0A | AV14: 2327
A15: 터파기/토사 | B15: 보통, 굴삭기 0.7m3 90%, 인력10% | C15: ㎥ | D15: 9.75 | N15: 5E3BC43CE11717BDD771CD31B5E5FF | Q15: 010101 | R15: F | S15: T | T15: F | AU15: 0101015E3BC43CE11717BDD771CD31B5E5FF | AV15: 2328
A16: 되메우기/토사, 두께 10cm | B16: 보통, 굴삭기 0.7m3+플레이트콤팩터 1.5ton+인력 10% | C16: ㎥ | D16: 9.75 | N16: 5E3BC431D1177DAF707DF81F66B73A | Q16: 010101 | R16: F | S16: T | T16: F | AU16: 0101015E3BC431D1177DAF707DF81F66B73A | AV16: 2329
A17: 보도블럭 철거 | C17: ㎡ | D17: 18 | N17: 5E5834DAC117DD820A7E1CCC73EECC | Q17: 010101 | R17: T | S17: F | T17: F | AU17: 0101015E5834DAC117DD820A7E1CCC73EECC | AV17: 2330
A18: 보도포장 | B18: 소형고압블럭(재사용) | C18: ㎡ | D18: 18 | N18: 5E5834DAC117DD820A7E1CCC73EECA | Q18: 010101 | R18: T | S18: F | T18: F | AU18: 0101015E5834DAC117DD820A7E1CCC73EECA | AV18: 2331
A19: 교량 고압세척 | B19: 고소작업, 살수차 사용 | C19: 일 | D19: 1 | N19: 5FAF04E2611747FAD07DA8E8CCD7578C891132 | Q19: 010101 | R19: F | S19: F | T19: T | AU19: 0101015FAF04E2611747FAD07DA8E8CCD7578C891132 | AV19: 2452
A20: 굴절사디리차 | C20: 일 | D20: 4 | N20: 5FAF04E2611747FAD07DA8E8CCD7578C891133 | Q20: 010101 | R20: F | S20: F | T20: T | AU20: 0101015FAF04E2611747FAD07DA8E8CCD7578C891133 | AV20: 2453
Q21: 010101
Q22: 010101
Q23: 010101
Q24: 010101
Q25: 010101
Q26: 010101
A27: [ 합 계 ] | N27: TOTAL
A28: 010102 2.펜스하단부(LL-1) 경관조명설치공사 | Q28: 010102
A29: 파상형경질폴리에틸렌전선관 | B29: 50㎜ | C29: M | D29: 14 | N29: 5E5834DF4117408A0B78C9DA3919C1 | Q29: 010102 | R29: T | S29: F | T29: F | AU29: 0101025E5834DF4117408A0B78C9DA3919C1 | AV29: 2370
A30: 디자인덕트(관급자재) 설치 | B30: 알루미늄, 제작사양 | C30: M | D30: 175 | N30: 5E5834AE7117C472C270F2D237CDD6 | Q30: 010102 | R30: T | S30: F | T30: F | AU30: 0101025E5834AE7117C472C270F2D237CDD6 | AV30: 2375
A31: 전선덕트 | B31: 알루미늄, 100*50mm | C31: M | D31: 30 | N31: 5E5834AE7117C472C270F2D237CDD7 | Q31: 010102 | R31: T | S31: F | T31: F | AU31: 0101025E5834AE7117C472C270F2D237CDD7 | AV31: 2376
A32: 난연 비닐절연접지용전선(F-GV) | B32: 0.6/1kv, 6㎟ | C32: M | D32: 240 | N32: 5E5834DF41177DCC6D78B3E14076A9 | Q32: 010102 | R32: T | S32: F | T32: F | AU32: 0101025E5834DF41177DCC6D78B3E14076A9 | AV32: 2353
A33: 0.6/1kv 난연 전력케이블(F-CV) | B33: 2C*2.5㎟ | C33: M | D33: 420 | N33: 5E5834DF4117636A157B07A2339178 | Q33: 010102 | R33: T | S33: F | T33: F | AU33: 0101025E5834DF4117636A157B07A2339178 | AV33: 2374
A34: 0.6/1kv 난연 전력케이블(F-CV) | B34: 2C*4㎟ | C34: M | D34: 148 | N34: 5E5834DF4117636A157B07A2339054 | Q34: 010102 | R34: T | S34: F | T34: F | AU34: 0101025E5834DF4117636A157B07A2339054 | AV34: 2354
A35: 서브함체(관급자재) 설치 | B35: W900*H1500*D250, 옥외방수형 | C35: 면 | D35: 2 | N35: 5E5834DAC117DD825170BFC3070410BEDC6A | Q35: 010102 | R35: T | S35: F | T35: F | AU35: 0101025E5834DAC117DD825170BFC3070410BEDC6A | AV35: 2446
A36: LED 경관조명기구(관급자재) 설치 | B36: LINEAR / LED 14.4W / 3,000K / 120˚ | C36: EA | D36: 137 | N36: 5E5834DF4117C5E1EE75630F6706E61D | Q36: 010102 | R36: T | S36: F | T36: F | AU36: 0101025E5834DF4117C5E1EE75630F6706E61D | AV36: 2401
Q37: 010102
Q38: 010102
Q39: 010102
Q40: 010102
...

Sheet 일위대가목록
B1: 일 위 대 가 목 록
B2: [ 원주천 교량(월운정교) 야간경관 개선 경관조명 설치공사 ]
A3: 코 드 | B3: 품 명 | C3: 규 격 | D3: 단위 | E3: 재 료 비 | F3: 노 무 비 | G3: 경 비 | H3: 합 계 | I3: 번 호 | J3: 비 고 | K3: 노임계수 | L3: 할증 | M3: 품셈개요 | N3: 장비일위
A4: 5E5834DF4117408A307C06B42565C9 | B4: 강제전선관 | C4: 아연도, 36mm | D4: M | E4: =일위대가!F10 -> 8433 | F4: =일위대가!H10 -> 55221 | G4: =일위대가!J10 -> 0 | H4: =E4+F4+G4 -> 63654 | I4: 호표 1 | M4: 전기 5-1
A5: 5E5834DF4117408A0B78C9DA3919C1 | B5: 파상형경질폴리에틸렌전선관 | C5: 50㎜ | D5: M | E5: =일위대가!F19 -> 1022 | F5: =일위대가!H19 -> 6055 | G5: =일위대가!J19 -> 0 | H5: =E5+F5+G5 -> 7077 | I5: 호표 2 | M5: 전기 4-31
A6: 5E5834DF41177DCC6D78B3E1407127 | B6: 난연 비닐절연접지용전선(F-GV) | C6: 0.6/1kv, 10㎟ | D6: M | E6: =일위대가!F26 -> 2463 | F6: =일위대가!H26 -> 1656 | G6: =일위대가!J26 -> 0 | H6: =E6+F6+G6 -> 4119 | I6: 호표 3 | M6: 전기 3-38
A7: 5E5834DF4117636A157B07A2339051 | B7: 0.6/1kv 난연 전력케이블(F-CV) | C7: 2C*10㎟ | D7: M | E7: =일위대가!F34 -> 5725 | F7: =일위대가!H34 -> 3245 | G7: =일위대가!J34 -> 0 | H7: =E7+F7+G7 -> 8970 | I7: 호표 4 | M7: 전기 4-34
A8: 5E5834DCF1170C91EB7ADA8523487B | B8: 조명제어기(관급자재) 설치 | C8: 6회로, 무선양방향 | D8: 면 | E8: =일위대가!F40 -> 8448 | F8: =일위대가!H40 -> 281630 | G8: =일위대가!J40 -> 0 | H8: =E8+F8+G8 -> 290078 | I8: 호표 5 | J8: 전기 5-18-2
A9: 5E5834DF41170AD737753833CCC3CE | B9: 가로등제어기기초 (기계화설치) | C9: 400x500x800, 앙카포함 | D9: 개소 | E9: =일위대가!F48 -> 56989 | F9: =일위대가!H48 -> 85293 | G9: =일위대가!J48 -> 6804 | H9: =E9+F9+G9 -> 149086 | I9: 호표 6
A10: 5E5834DF4117C5E1DD7E71B7B52BFF | B10: 전력량계 설치 | C10: 1Ø 2W용 | D10: 대 | E10: =일위대가!F53 -> 1159 | F10: =일위대가!H53 -> 38655 | G10: =일위대가!J53 -> 0 | H10: =E10+F10+G10 -> 39814 | I10: 호표 7 | M10: 전기 5-21
A11: 5E5834DAC117DD820A7E1CCC72C61C | B11: 접지봉매설 | C11: 지하 0.75M매설, 3본연결 | D11: 개소 | E11: =일위대가!F63 -> 40977 | F11: =일위대가!H63 -> 100805 | G11: =일위대가!J63 -> 0 | H11: =E11+F11+G11 -> 141782 | I11: 호표 8 | M11: 전기 3-38
A12: 5E5834DF41170AD7417CA7468DED0A | B12: 전력맨홀(콘크리트,KS) | C12: 800*800*800 | D12: 개소 | E12: =일위대가!F74 -> 571580 | F12: =일위대가!H74 -> 379461 | G12: =일위대가!J74 -> 487 | H12: =E12+F12+G12 -> 951528 | I12: 호표 9 | J12: 전기 4-43-3
A13: 5E5834DAC117DD820A7E1CCC73EECC | B13: 보도블럭 철거 | D13: ㎡ | E13: =일위대가!F81 -> 51 | F13: =일위대가!H81 -> 1722 | G13: =일위대가!J81 -> 0 | H13: =E13+F13+G13 -> 1773 | I13: 호표 10 | M13: 토목 12-3-3-1
A14: 5E5834DAC117DD820A7E1CCC73EECA | B14: 보도포장 | C14: 소형고압블럭(재사용) | D14: ㎡ | E14: =일위대가!F89 -> 1428 | F14: =일위대가!H89 -> 3617 | G14: =일위대가!J89 -> 0 | H14: =E14+F14+G14 -> 5045 | I14: 호표 11 | M14: 토목 12-3-3-1
A15: 5E5834AE7117C472C270F2D237CDD6 | B15: 디자인덕트(관급자재) 설치 | C15: 알루미늄, 제작사양 | D15: M | E15: =일위대가!F95 -> 2319 | F15: =일위대가!H95 -> 77310 | G15: =일위대가!J95 -> 0 | H15: =E15+F15+G15 -> 79629 | I15: 호표 12 | M15: 전기 5-7
A16: 5E5834AE7117C472C270F2D237CDD7 | B16: 전선덕트 | C16: 알루미늄, 100*50mm | D16: M | E16: =일위대가!F101 -> 15159 | F16: =일위대가!H101 -> 38655 | G16: =일위대가!J101 -> 0 | H16: =E16+F16+G16 -> 53814 | I16: 호표 13 | M16: 전기 5-7
A17: 5E5834DF41177DCC6D78B3E14076A9 | B17: 난연 비닐절연접지용전선(F-GV) | C17: 0.6/1kv, 6㎟ | D17: M | E17: =일위대가!F108 -> 1750 | F17: =일위대가!H108 -> 4141 | G17: =일위대가!J108 -> 0 | H17: =E17+F17+G17 -> 5891 | I17: 호표 14 | M17: 전기 3-38
A18: 5E5834DF4117636A157B07A2339178 | B18: 0.6/1kv 난연 전력케이블(F-CV) | C18: 2C*2.5㎟ | D18: M | E18: =일위대가!F116 -> 2123 | F18: =일위대가!H116 -> 3097 | G18: =일위대가!J116 -> 0 | H18: =E18+F18+G18 -> 5220 | I18: 호표 15 | M18: 전기 4-34
A19: 5E5834DF4117636A157B07A2339054 | B19: 0.6/1kv 난연 전력케이블(F-CV) | C19: 2C*4㎟ | D19: M | E19: =일위대가!F124 -> 2902 | F19: =일위대가!H124 -> 3097 | G19: =일위대가!J124 -> 0 | H19: =E19+F19+G19 -> 5999 | I19: 호표 16 | M19: 전기 4-34
A20: 5E5834DAC1175824D875E385635E28 | B20: DATA CABLE | C20: RS-485 24AWG 4P | D20: m | E20: =일위대가!F130 -> 13573 | F20: =일위대가!H130 -> 7963 | G20: =일위대가!J130 -> 0 | H20: =E20+F20+G20 -> 21536 | I20: 호표 17 | M20: 전기 5-13
A21: 5E5834DAC117DD825170BFC3070410BEDC6A | B21: 서브함체(관급자재) 설치 | C21: W900*H1500*D250, 옥외방수형 | D21: 면 | E21: =일위대가!F136 -> 10188 | F21: =일위대가!H136 -> 339612 | G21: =일위대가!J136 -> 0 | H21: =E21+F21+G21 -> 349800 | I21: 호표 18 | M21: 전기 5-4
A22: 5E5834DF4117C5E1EE75630F6706E61D | B22: LED 경관조명기구(관급자재) 설치 | C22: LINEAR / LED 14.4W / 3,000K / 120˚ | D22: EA | E22: =일위대가!F143 -> 670 | F22: =일위대가!H143 -> 22364 | G22: =일위대가!J143 -> 0 | H22: =E22+F22+G22 -> 23034 | I22: 호표 19 | M22: 전기 5-25-3
A23: 5E5834DF4117408A2676A62924E58ED3 | B23: 1종금속제가요전선관 | C23: 비닐피복, 22mm, 방수 | D23: M | E23: =일위대가!F151 -> 2037 | F23: =일위대가!H151 -> 16290 | G23: =일위대가!J151 -> 0 | H23: =E23+F23+G23 -> 18327 | I23: 호표 20 | M23: 전기 5-1
A24: 5E5834DF4117408A2676A62924E23A | B24: 1종금속제가요전선관 | C24: 비닐피복, 28mm, 방수 | D24: M | E24: =일위대가!F159 -> 2753 | F24: =일위대가!H159 -> 19879 | G24: =일위대가!J159 -> 0 | H24: =E24+F24+G24 -> 22632 | I24: 호표 21 | M24: 전기 5-1
A25: 5E5834DAC117DD825170BFC3070410BEDC6B | B25: SMPS함체(관급자재) 설치 | C25: W400*H500*D150, 옥외방수형 | D25: 면 | E25: =일위대가!F165 -> 5466 | F25: =일위대가!H165 -> 182231 | G25: =일위대가!J165 -> 0 | H25: =E25+F25+G25 -> 187697 | I25: 호표 22 | M25: 전기 5-4
A26: 5E5834DF4117C5E1EE75630F6706E61C | B26: LED 경관조명기구(관급자재) 설치 | C26: LINEAR / LED 18W / 3,000K / 10˚ * 60˚ | D26: EA | E26: =일위대가!F171 -> 472 | F26: =일위대가!H171 -> 15738 | G26: =일위대가!J171 -> 0 | H26: =E26+F26+G26 -> 16210 | I26: 호표 23 | M26: 전기 5-25-3
A27: 5E5834DF4117C5E1EE75630F6706E61F | B27: LED 경관조명기구(관급자재) 설치 | C27: POINT / LED 1W / RGB / 직경38mm | D27: EA | E27: =일위대가!F178 -> 1565 | F27: =일위대가!H178 -> 52184 | G27: =일위대가!J178 -> 0 | H27: =E27+F27+G27 -> 53749 | I27: 호표 24 | M27: 전기 5-25-3
A28: 5E5834DF4117C5E1EE75630F6706E61E | B28: LED 경관조명기구(관급자재) 설치 | C28: FLEXIBLE LINE / LED 10W / RGB / - | D28: EA | E28: =일위대가!F184 -> 256 | F28: =일위대가!H184 -> 8559 | G28: =일위대가!J184 -> 0 | H28: =E28+F28+G28 -> 8815 | I28: 호표 25 | M28: 전기 5-25-3
A29: 590184A77117746CE3718B7285AC377A49A87C49 | B29: 트럭탑재형크레인-전기 | C29: 5.0ton | D29: HR | E29: =일위대가!F191 -> 7227 | F29: =일위대가!H191 -> 50008 | G29: =일위대가!J191 -> 9994 | H29: =E29+F29+G29 -> 67229 | I29: 호표 26 | K29: A | M29: 전기 1-37 | N29: T
A30: 590184A7711774400F7FD1D9EBF0CF05AF2114A4 | B30: 굴삭기(무한궤도) | C30: 0.7㎥ | D30: HR | E30: =일위대가!F198 -> 16713 | F30: =일위대가!H198 -> 59025 | G30: =일위대가!J198 -> 23128 | H30: =E30+F30+G30 -> 98866 | I30: 호표 27 | K30: A | M30: 공통 8-3,4(0201) | N30: T
A31: 590184A771177452E37B1D79A910ED34A4FD43D7 | B31: 플레이트 콤팩터 | C31: 1.5ton | D31: HR | E31: =일위대가!F205 -> 1648 | F31: =일위대가!H205 -> 36604 | G31: =일위대가!J205 -> 582 | H31: =E31+F31+G31 -> 38834 | I31: 호표 28 | K31: A | M31: 공통 8-3,4(1730) | N31: T

Sheet 일위대가
A1: [ 원주천 교량(월운정교) 야간경관 개선 경관조명 설치공사 ]
A2: 품 명 | B2: 규 격 | C2: 단위 | D2: 수량 | E2: 재 료 비 | G2: 노 무 비 | I2: 경 비 | K2: 합 계 | M2: 비 고 | N2: 일위대가 | O2: 품목코드 | P2: 일위 | Q2: 단산 | R2: 자재 | S2: 손료적용 | T2: 손료저장 | U2: 적용율 | V2: JUK1 | W2: JUK2 | X2: JUK3 | Y2: JUK4 | Z2: JUK5 | AA2: JUK6 | AB2: JUK7 | AC2: JUK8 | AD2: JUK9 | AE2: JUK10 | AF2: JUK11 | AG2: JUK12 | AH2: JUK13 | AI2: JUK14 | AJ2: JUK15 | AK2: JUK16 | AL2: JUK17 | AM2: JUK18 | AN2: JUK19 | AO2: JUK20 | AP2: 할증적용 | AQ2: 할증저장 | AR2: 할증율 | AS2: HAL1 | AT2: HAL2 | AU2: HAL3 | AV2: 자재구분 | AW2: 일위대가+자재 | AX2: 장비일위 | AY2: 설정 | AZ2: 할증체크
E3: 단 가 | F3: 금 액 | G3: 단 가 | H3: 금 액 | I3: 단 가 | J3: 금 액 | K3: 단 가 | L3: 금 액
A4: 강제전선관 아연도, 36mm M 전기 5-1 ( 호표 1 ) | N4: 5E5834DF4117408A307C06B42565C9
A5: 강제전선관 | B5: 강제전선관, 후강전선관, 아연도, 36mm | C5: M | D5: 1.1 | E5: =단가대비표!O29 -> 5134 | F5: =TRUNC(E5*D5,1) -> 5647.4 | G5: =단가대비표!P29 -> 0 | H5: =TRUNC(G5*D5,1) -> 0 | I5: =단가대비표!V29 -> 0 | J5: =TRUNC(I5*D5,1) -> 0 | K5: =TRUNC(E5+G5+I5,1) -> 5134 | L5: =TRUNC(F5+H5+J5,1) -> 5647.4 | N5: 5E5834DF4117408A307C06B42565C9 | O5: 593E448EF117965D967FC1CE5EB44DDAD4954F | P5: F | Q5: F | R5: T | V5: 1 | W5: 2 | AW5: 5E5834DF4117408A307C06B42565C9593E448EF117965D967FC1CE5EB44DDAD4954F
A6: 잡재료비 | B6: 배관배선의 5% | C6: 식 | D6: 1 | E6: =TRUNC(SUMIF(V5:V9, RIGHTB(O6, 1), F5:F9)*U6, 2) -> 282.37 | F6: =TRUNC(E6*D6,1) -> 282.3 | G6: 0 | H6: =TRUNC(G6*D6,1) -> 0 | I6: 0 | J6: =TRUNC(I6*D6,1) -> 0 | K6: =TRUNC(E6+G6+I6,1) -> 282.3 | L6: =TRUNC(F6+H6+J6,1) -> 282.3 | N6: 5E5834DF4117408A307C06B42565C9 | O6: 5F0E049E811770B5487B16F372F1001 | P6: F | Q6: F | R6: F | S6: 0 | T6: 0 | U6: 0.05 | AW6: 5E5834DF4117408A307C06B42565C95F0E049E811770B5487B16F372F1001
A7: 전선관부속품비 | B7: 전선관의 15% | C7: 식 | D7: 1 | E7: =TRUNC(SUMIF(W5:W9, RIGHTB(O7, 1), F5:F9)*U7, 2) -> 847.11 | F7: =TRUNC(E7*D7,1) -> 847.1 | G7: 0 | H7: =TRUNC(G7*D7,1) -> 0 | I7: 0 | J7: =TRUNC(I7*D7,1) -> 0 | K7: =TRUNC(E7+G7+I7,1) -> 847.1 | L7: =TRUNC(F7+H7+J7,1) -> 847.1 | N7: 5E5834DF4117408A307C06B42565C9 | O7: 5F0E049E811770B5487B16F372F2002 | P7: F | Q7: F | R7: F | S7: 0 | T7: 0 | U7: 0.15 | AW7: 5E5834DF4117408A307C06B42565C95F0E049E811770B5487B16F372F1001
A8: 내선전공 | B8: 일반공사 직종 | C8: 인 | D8: =공량산출근거서_일위대가!K6 -> 0.2 | E8: =단가대비표!O48 -> 0 | F8: =TRUNC(E8*D8,1) -> 0 | G8: =단가대비표!P48 -> 276108 | H8: =TRUNC(G8*D8,1) -> 55221.6 | I8: =단가대비표!V48 -> 0 | J8: =TRUNC(I8*D8,1) -> 0 | K8: =TRUNC(E8+G8+I8,1) -> 276108 | L8: =TRUNC(F8+H8+J8,1) -> 55221.6 | N8: 5E5834DF4117408A307C06B42565C9 | O8: 5EC2540591178118FC7E18478FB85274AB5ABA | P8: F | Q8: F | R8: T | X8: 3 | AW8: 5E5834DF4117408A307C06B42565C95EC2540591178118FC7E18478FB85274AB5ABA
A9: 공구손료 | B9: 인력품의 3% | C9: 식 | D9: 1 | E9: =TRUNC(SUMIF(X5:X9, RIGHTB(O9, 1), H5:H9)*U9, 2) -> 1656.64 | F9: =TRUNC(E9*D9,1) -> 1656.6 | G9: 0 | H9: =TRUNC(G9*D9,1) -> 0 | I9: 0 | J9: =TRUNC(I9*D9,1) -> 0 | K9: =TRUNC(E9+G9+I9,1) -> 1656.6 | L9: =TRUNC(F9+H9+J9,1) -> 1656.6 | N9: 5E5834DF4117408A307C06B42565C9 | O9: 5F0E049E811770B5487B16F372F3003 | P9: F | Q9: F | R9: F | S9: 1 | T9: 0 | U9: 0.03 | AW9: 5E5834DF4117408A307C06B42565C95F0E049E811770B5487B16F372F3003
A10: [ 합 계 ] | F10: =TRUNC(SUMIF(N5:N9, N4, F5:F9),0) -> 8433 | H10: =TRUNC(SUMIF(N5:N9, N4, H5:H9),0) -> 55221 | J10: =TRUNC(SUMIF(N5:N9, N4, J5:J9),0) -> 0 | L10: =F10+H10+J10 -> 63654 | N10: TOTAL | O10: TOTAL
A12: 파상형경질폴리에틸렌전선관 50㎜ M 전기 4-31 ( 호표 2 ) | N12: 5E5834DF4117408A0B78C9DA3919C1
A13: 파상형경질폴리에틸렌전선관 | B13: 파상형경질폴리에틸렌전선관, ELP, 50mm | C13: M | D13: 1.03 | E13: =단가대비표!O30 -> 680 | F13: =TRUNC(E13*D13,1) -> 700.4 | G13: =단가대비표!P30 -> 0 | H13: =TRUNC(G13*D13,1) -> 0 | I13: =단가대비표!V30 -> 0 | J13: =TRUNC(I13*D13,1) -> 0 | K13: =TRUNC(E13+G13+I13,1) -> 680 | L13: =TRUNC(F13+H13+J13,1) -> 700.4 | N13: 5E5834DF4117408A0B78C9DA3919C1 | O13: 593E448EF117965D967FC1CE5EB44DDBE58F32 | P13: F | Q13: F | R13: T | V13: 1 | W13: 2 | AW13: 5E5834DF4117408A0B78C9DA3919C1593E448EF117965D967FC1CE5EB44DDBE58F32
A14: 잡재료비 | B14: 배관배선의 5% | C14: 식 | D14: 1 | E14: =TRUNC(SUMIF(V13:V18, RIGHTB(O14, 1), F13:F18)*U14, 2) -> 35.02 | F14: =TRUNC(E14*D14,1) -> 35 | G14: 0 | H14: =TRUNC(G14*D14,1) -> 0 | I14: 0 | J14: =TRUNC(I14*D14,1) -> 0 | K14: =TRUNC(E14+G14+I14,1) -> 35 | L14: =TRUNC(F14+H14+J14,1) -> 35 | N14: 5E5834DF4117408A0B78C9DA3919C1 | O14: 5F0E049E811770B5487B16F372F1001 | P14: F | Q14: F | R14: F | S14: 0 | T14: 0 | U14: 0.05 | AW14: 5E5834DF4117408A0B78C9DA3919C15F0E049E811770B5487B16F372F1001
A15: 전선관부속품비 | B15: 전선관의 15% | C15: 식 | D15: 1 | E15: =TRUNC(SUMIF(W13:W18, RIGHTB(O15, 1), F13:F18)*U15, 2) -> 105.06 | F15: =TRUNC(E15*D15,1) -> 105 | G15: 0 | H15: =TRUNC(G15*D15,1) -> 0 | I15: 0 | J15: =TRUNC(I15*D15,1) -> 0 | K15: =TRUNC(E15+G15+I15,1) -> 105 | L15: =TRUNC(F15+H15+J15,1) -> 105 | N15: 5E5834DF4117408A0B78C9DA3919C1 | O15: 5F0E049E811770B5487B16F372F2002 | P15: F | Q15: F | R15: F | S15: 0 | T15: 0 | U15: 0.15 | AW15: 5E5834DF4117408A0B78C9DA3919C15F0E049E811770B5487B16F372F3003
A16: 보통인부 | B16: 일반공사 직종 | C16: 인 | D16: =공량산출근거서_일위대가!K10 -> 0.018 | E16: =단가대비표!O42 -> 0 | F16: =TRUNC(E16*D16,1) -> 0 | G16: =단가대비표!P42 -> 172698 | H16: =TRUNC(G16*D16,1) -> 3108.5 | I16: =단가대비표!V42 -> 0 | J16: =TRUNC(I16*D16,1) -> 0 | K16: =TRUNC(E16+G16+I16,1) -> 172698 | L16: =TRUNC(F16+H16+J16,1) -> 3108.5 | N16: 5E5834DF4117408A0B78C9DA3919C1 | O16: 5EC2540591178118FC7E18478FB85274AB5D76 | P16: F | Q16: F | R16: T | X16: 3 | AW16: 5E5834DF4117408A0B78C9DA3919C15EC2540591178118FC7E18478FB85274AB5D76
A17: 배전전공 | B17: 일반공사 직종 | C17: 인 | D17: =공량산출근거서_일위대가!K11 -> 0.007 | E17: =단가대비표!O50 -> 0 | F17: =TRUNC(E17*D17,1) -> 0 | G17: =단가대비표!P50 -> 420978 | H17: =TRUNC(G17*D17,1) -> 2946.8 | I17: =단가대비표!V50 -> 0 | J17: =TRUNC(I17*D17,1) -> 0 | K17: =TRUNC(E17+G17+I17,1) -> 420978 | L17: =TRUNC(F17+H17+J17,1) -> 2946.8 | N17: 5E5834DF4117408A0B78C9DA3919C1 | O17: 5EC2540591178118FC7E18478FB85274AB553F | P17: F | Q17: F | R17: T | X17: 3 | AW17: 5E5834DF4117408A0B78C9DA3919C15EC2540591178118FC7E18478FB85274AB553F
A18: 공구손료 | B18: 인력품의 3% | C18: 식 | D18: 1 | E18: =TRUNC(SUMIF(X13:X18, RIGHTB(O18, 1), H13:H18)*U18, 2) -> 181.65 | F18: =TRUNC(E18*D18,1) -> 181.6 | G18: 0 | H18: =TRUNC(G18*D18,1) -> 0 | I18: 0 | J18: =TRUNC(I18*D18,1) -> 0 | K18: =TRUNC(E18+G18+I18,1) -> 181.6 | L18: =TRUNC(F18+H18+J18,1) -> 181.6 | N18: 5E5834DF4117408A0B78C9DA3919C1 | O18: 5F0E049E811770B5487B16F372F3003 | P18: F | Q18: F | R18: F | S18: 1 | T18: 0 | U18: 0.03 | AW18: 5E5834DF4117408A0B78C9DA3919C15F0E049E811770B5487B16F372F2002
A19: [ 합 계 ] | F19: =TRUNC(SUMIF(N13:N18, N12, F13:F18),0) -> 1022 | H19: =TRUNC(SUMIF(N13:N18, N12, H13:H18),0) -> 6055 | J19: =TRUNC(SUMIF(N13:N18, N12, J13:J18),0) -> 0 | L19: =F19+H19+J19 -> 7077 | N19: TOTAL | O19: TOTAL
A21: 난연 비닐절연접지용전선(F-GV) 0.6/1kv, 10㎟ M 전기 3-38 ( 호표 3 ) | N21: 5E5834DF41177DCC6D78B3E1407127
A22: 접지용비닐절연전선 | B22: 접지용비닐절연전선, F-GV, 10㎟ | C22: M | D22: 1.1 | E22: =단가대비표!O12 -> 2090 | F22: =TRUNC(E22*D22,1) -> 2299 | G22: =단가대비표!P12 -> 0 | H22: =TRUNC(G22*D22,1) -> 0 | I22: =단가대비표!V12 -> 0 | J22: =TRUNC(I22*D22,1) -> 0 | K22: =TRUNC(E22+G22+I22,1) -> 2090 | L22: =TRUNC(F22+H22+J22,1) -> 2299 | N22: 5E5834DF41177DCC6D78B3E1407127 | O22: 592C04B871175D4F83731B2CF5D26A3ACCD3AF | P22: F | Q22: F | R22: T | V22: 1 | AW22: 5E5834DF41177DCC6D78B3E1407127592C04B871175D4F83731B2CF5D26A3ACCD3AF
A23: 잡재료비 | B23: 배관배선의 5% | C23: 식 | D23: 1 | E23: =TRUNC(SUMIF(V22:V25, RIGHTB(O23, 1), F22:F25)*U23, 2) -> 114.95 | F23: =TRUNC(E23*D23,1) -> 114.9 | G23: 0 | H23: =TRUNC(G23*D23,1) -> 0 | I23: 0 | J23: =TRUNC(I23*D23,1) -> 0 | K23: =TRUNC(E23+G23+I23,1) -> 114.9 | L23: =TRUNC(F23+H23+J23,1) -> 114.9 | N23: 5E5834DF41177DCC6D78B3E1407127 | O23: 5F0E049E811770B5487B16F372F1001 | P23: F | Q23: F | R23: F | S23: 0 | T23: 0 | U23: 0.05 | AW23: 5E5834DF41177DCC6D78B3E14071275F0E049E811770B5487B16F372F1001
A24: 내선전공 | B24: 일반공사 직종 | C24: 인 | D24: =공량산출근거서_일위대가!K14 -> 0.006 | E24: =단가대비표!O48 -> 0 | F24: =TRUNC(E24*D24,1) -> 0 | G24: =단가대비표!P48 -> 276108 | H24: =TRUNC(G24*D24,1) -> 1656.6 | I24: =단가대비표!V48 -> 0 | J24: =TRUNC(I24*D24,1) -> 0 | K24: =TRUNC(E24+G24+I24,1) -> 276108 | L24: =TRUNC(F24+H24+J24,1) -> 1656.6 | N24: 5E5834DF41177DCC6D78B3E1407127 | O24: 5EC2540591178118FC7E18478FB85274AB5ABA | P24: F | Q24: F | R24: T | W24: 2 | AW24: 5E5834DF41177DCC6D78B3E14071275EC2540591178118FC7E18478FB85274AB5ABA
A25: 공구손료 | B25: 인력품의 3% | C25: 식 | D25: 1 | E25: =TRUNC(SUMIF(W22:W25, RIGHTB(O25, 1), H22:H25)*U25, 2) -> 49.69 | F25: =TRUNC(E25*D25,1) -> 49.6 | G25: 0 | H25: =TRUNC(G25*D25,1) -> 0 | I25: 0 | J25: =TRUNC(I25*D25,1) -> 0 | K25: =TRUNC(E25+G25+I25,1) -> 49.6 | L25: =TRUNC(F25+H25+J25,1) -> 49.6 | N25: 5E5834DF41177DCC6D78B3E1407127 | O25: 5F0E049E811770B5487B16F372F2002 | P25: F | Q25: F | R25: F | S25: 1 | T25: 0 | U25: 0.03 | AW25: 5E5834DF41177DCC6D78B3E14071275F0E049E811770B5487B16F372F2002
A26: [ 합 계 ] | F26: =TRUNC(SUMIF(N22:N25, N21, F22:F25),0) -> 2463 | H26: =TRUNC(SUMIF(N22:N25, N21, H22:H25),0) -> 1656 | J26: =TRUNC(SUMIF(N22:N25, N21, J22:J25),0) -> 0 | L26: =F26+H26+J26 -> 4119 | N26: TOTAL | O26: TOTAL
A28: 0.6/1kv 난연 전력케이블(F-CV) 2C*10㎟ M 전기 4-34 ( 호표 4 ) | N28: 5E5834DF4117636A157B07A2339051
A29: 600V폴리에틸렌케이블 | B29: 0.6/1kv, F-CV, 2C*10㎟ | C29: M | D29: 1.05 | E29: =단가대비표!O14 -> 5105 | F29: =TRUNC(E29*D29,1) -> 5360.2 | G29: =단가대비표!P14 -> 0 | H29: =TRUNC(G29*D29,1) -> 0 | I29: =단가대비표!V14 -> 0 | J29: =TRUNC(I29*D29,1) -> 0 | K29: =TRUNC(E29+G29+I29,1) -> 5105 | L29: =TRUNC(F29+H29+J29,1) -> 5360.2 | N29: 5E5834DF4117636A157B07A2339051 | O29: 592C04B871175D4FB874403DEB5455FB1F9263 | P29: F | Q29: F | R29: T | V29: 1 | AW29: 5E5834DF4117636A157B07A2339051592C04B871175D4FB874403DEB5455FB1F9263
A30: 잡재료비 | B30: 배관배선의 5% | C30: 식 | D30: 1 | E30: =TRUNC(SUMIF(V29:V33, RIGHTB(O30, 1), F29:F33)*U30, 2) -> 268.01 | F30: =TRUNC(E30*D30,1) -> 268 | G30: 0 | H30: =TRUNC(G30*D30,1) -> 0 | I30: 0 | J30: =TRUNC(I30*D30,1) -> 0 | K30: =TRUNC(E30+G30+I30,1) -> 268 | L30: =TRUNC(F30+H30+J30,1) -> 268 | N30: 5E5834DF4117636A157B07A2339051 | O30: 5F0E049E811770B5487B16F372F1001 | P30: F | Q30: F | R30: F | S30: 0 | T30: 0 | U30: 0.05 | AW30: 5E5834DF4117636A157B07A23390515F0E049E811770B5487B16F372F1001
A31: 보통인부 | B31: 일반공사 직종 | C31: 인 | D31: =공량산출근거서_일위대가!K18 -> 0.006776 | E31: =단가대비표!O42 -> 0 | F31: =TRUNC(E31*D31,1) -> 0 | G31: =단가대비표!P42 -> 172698 | H31: =TRUNC(G31*D31,1) -> 1170.2 | I31: =단가대비표!V42 -> 0 | J31: =TRUNC(I31*D31,1) -> 0 | K31: =TRUNC(E31+G31+I31,1) -> 172698 | L31: =TRUNC(F31+H31+J31,1) -> 1170.2 | N31: 5E5834DF4117636A157B07A2339051 | O31: 5EC2540591178118FC7E18478FB85274AB5D76 | P31: F | Q31: F | R31: T | W31: 2 | AW31: 5E5834DF4117636A157B07A23390515EC2540591178118FC7E18478FB85274AB5D76
A32: 저압케이블전공 | B32: 일반공사 직종 | C32: 인 | D32: =공량산출근거서_일위대가!K19 -> 0.006776 | E32: =단가대비표!O49 -> 0 | F32: =TRUNC(E32*D32,1) -> 0 | G32: =단가대비표!P49 -> 306274 | H32: =TRUNC(G32*D32,1) -> 2075.3 | I32: =단가대비표!V49 -> 0 | J32: =TRUNC(I32*D32,1) -> 0 | K32: =TRUNC(E32+G32+I32,1) -> 306274 | L32: =TRUNC(F32+H32+J32,1) -> 2075.3 | N32: 5E5834DF4117636A157B07A2339051 | O32: 5EC2540591178118FC7E18478FB85274AB5AB7 | P32: F | Q32: F | R32: T | W32: 2 | AW32: 5E5834DF4117636A157B07A23390515EC2540591178118FC7E18478FB85274AB5AB7
A33: 공구손료 | B33: 인력품의 3% | C33: 식 | D33: 1 | E33: =TRUNC(SUMIF(W29:W33, RIGHTB(O33, 1), H29:H33)*U33, 2) -> 97.36 | F33: =TRUNC(E33*D33,1) -> 97.3 | G33: 0 | H33: =TRUNC(G33*D33,1) -> 0 | I33: 0 | J33: =TRUNC(I33*D33,1) -> 0 | K33: =TRUNC(E33+G33+I33,1) -> 97.3 | L33: =TRUNC(F33+H33+J33,1) -> 97.3 | N33: 5E5834DF4117636A157B07A2339051 | O33: 5F0E049E811770B5487B16F372F2002 | P33: F | Q33: F | R33: F | S33: 1 | T33: 0 | U33: 0.03 | AW33: 5E5834DF4117636A157B07A23390515F0E049E811770B5487B16F372F2002
A34: [ 합 계 ] | F34: =TRUNC(SUMIF(N29:N33, N28, F29:F33),0) -> 5725 | H34: =TRUNC(SUMIF(N29:N33, N28, H29:H33),0) -> 3245 | J34: =TRUNC(SUMIF(N29:N33, N28, J29:J33),0) -> 0 | L34: =F34+H34+J34 -> 8970 | N34: TOTAL | O34: TOTAL
A36: 조명제어기(관급자재) 설치 6회로, 무선양방향 면 ( 호표 5 ) | N36: 5E5834DCF1170C91EB7ADA8523487B
A37: 조명제어기(관급자재) | B37: 6회로, 무선양방향 | C37: 면 | D37: 1 | E37: =단가대비표!O24 -> 0 | F37: =TRUNC(E37*D37,1) -> 0 | G37: =단가대비표!P24 -> 0 | H37: =TRUNC(G37*D37,1) -> 0 | I37: =단가대비표!V24 -> 0 | J37: =TRUNC(I37*D37,1) -> 0 | K37: =TRUNC(E37+G37+I37,1) -> 0 | L37: =TRUNC(F37+H37+J37,1) -> 0 | N37: 5E5834DCF1170C91EB7ADA8523487B | O37: 593E448EF11785C3EF7E1CB97473E016DCD20B | P37: F | Q37: F | R37: T | AW37: 5E5834DCF1170C91EB7ADA8523487B593E448EF11785C3EF7E1CB97473E016DCD20B
A38: 내선전공 | B38: 일반공사 직종 | C38: 인 | D38: =공량산출근거서_일위대가!K22 -> 1.02 | E38: =단가대비표!O48 -> 0 | F38: =TRUNC(E38*D38,1) -> 0 | G38: =단가대비표!P48 -> 276108 | H38: =TRUNC(G38*D38,1) -> 281630.1 | I38: =단가대비표!V48 -> 0 | J38: =TRUNC(I38*D38,1) -> 0 | K38: =TRUNC(E38+G38+I38,1) -> 276108 | L38: =TRUNC(F38+H38+J38,1) -> 281630.1 | N38: 5E5834DCF1170C91EB7ADA8523487B | O38: 5EC2540591178118FC7E18478FB85274AB5ABA | P38: F | Q38: F | R38: T | V38: 1 | AW38: 5E5834DCF1170C91EB7ADA8523487B5EC2540591178118FC7E18478FB85274AB5ABA
A39: 공구손료 | B39: 인력품의 3% | C39: 식 | D39: 1 | E39: =TRUNC(SUMIF(V37:V39, RIGHTB(O39, 1), H37:H39)*U39, 2) -> 8448.9 | F39: =TRUNC(E39*D39,1) -> 8448.9 | G39: 0 | H39: =TRUNC(G39*D39,1) -> 0 | I39: 0 | J39: =TRUNC(I39*D39,1) -> 0 | K39: =TRUNC(E39+G39+I39,1) -> 8448.9 | L39: =TRUNC(F39+H39+J39,1) -> 8448.9 | N39: 5E5834DCF1170C91EB7ADA8523487B | O39: 5F0E049E811770B5487B16F372F1001 | P39: F | Q39: F | R39: F | S39: 1 | T39: 0 | U39: 0.03 | AW39: 5E5834DCF1170C91EB7ADA8523487B5F0E049E811770B5487B16F372F1001
A40: [ 합 계 ] | F40: =TRUNC(SUMIF(N37:N39, N36, F37:F39),0) -> 8448 | H40: =TRUNC(SUMIF(N37:N39, N36, H37:H39),0) -> 281630 | J40: =TRUNC(SUMIF(N37:N39, N36, J37:J39),0) -> 0 | L40: =F40+H40+J40 -> 290078 | N40: TOTAL | O40: TOTAL
A42: 가로등제어기기초 (기계화설치) 400x500x800, 앙카포함 개소 ( 호표 6 ) | N42: 5E5834DF41170AD737753833CCC3CE
A43: 가로등기초(기성품) 설치 | B43: 기계화 작업 | C43: 본 | D43: 1 | E43: =중기단가목록!E6 -> 6342 | F43: =TRUNC(E43*D43,1) -> 6342 | G43: =중기단가목록!F6 -> 30392 | H43: =TRUNC(G43*D43,1) -> 30392 | I43: =중기단가목록!G6 -> 6804 | J43: =TRUNC(I43*D43,1) -> 6804 | K43: =TRUNC(E43+G43+I43,1) -> 43538 | L43: =TRUNC(F43+H43+J43,1) -> 43538 | M43: 산근 3 | N43: 5E5834DF41170AD737753833CCC3CE | O43: 5E5834CF3117BC33B27D323615C775 | P43: F | Q43: T | R43: F | AW43: 5E5834DF41170AD737753833CCC3CE5E5834CF3117BC33B27D323615C775
A44: 가로등제어기기초 | B44: 400x500x800, 앙카포함 | C44: 조 | D44: 1 | E44: =단가대비표!O51 -> 49000 | F44: =TRUNC(E44*D44,1) -> 49000 | G44: =단가대비표!P51 -> 0 | H44: =TRUNC(G44*D44,1) -> 0 | I44: =단가대비표!V51 -> 0 | J44: =TRUNC(I44*D44,1) -> 0 | K44: =TRUNC(E44+G44+I44,1) -> 49000 | L44: =TRUNC(F44+H44+J44,1) -> 49000 | N44: 5E5834DF41170AD737753833CCC3CE | O44: 5FAF04E2611747FAD07DA8E8CCD7578C8912DC | P44: F | Q44: F | R44: T | AW44: 5E5834DF41170AD737753833CCC3CE5FAF04E2611747FAD07DA8E8CCD7578C8912DC
A45: 내선전공 | B45: 일반공사 직종 | C45: 인 | D45: =공량산출근거서_일위대가!K27 -> 0.08 | E45: =단가대비표!O48 -> 0 | F45: =TRUNC(E45*D45,1) -> 0 | G45: =단가대비표!P48 -> 276108 | H45: =TRUNC(G45*D45,1) -> 22088.6 | I45: =단가대비표!V48 -> 0 | J45: =TRUNC(I45*D45,1) -> 0 | K45: =TRUNC(E45+G45+I45,1) -> 276108 | L45: =TRUNC(F45+H45+J45,1) -> 22088.6 | N45: 5E5834DF41170AD737753833CCC3CE | O45: 5EC2540591178118FC7E18478FB85274AB5ABA | P45: F | Q45: F | R45: T | V45: 1 | AW45: 5E5834DF41170AD737753833CCC3CE5EC2540591178118FC7E18478FB85274AB5ABA
...

Sheet 중기단가목록
B1: 중 기 단 가 목 록
B2: [ 원주천 교량(월운정교) 야간경관 개선 경관조명 설치공사 ]
A3: 코 드 | B3: 품 명 | C3: 규 격 | D3: 단위 | E3: 재 료 비 | F3: 노 무 비 | G3: 경 비 | H3: 합 계 | I3: 번 호 | J3: 비 고 | K3: START | L3: 품셈개요
A4: 5E3BC43CE11717BDD771CD31B5E5FF | B4: 터파기/토사 | C4: 보통, 굴삭기 0.7m3 90%, 인력10% | D4: ㎥ | E4: =중기단가산출서!B27 -> 255 | F4: =중기단가산출서!C27 -> 4342 | G4: =중기단가산출서!D27 -> 352 | H4: =중기단가산출서!E27 -> 4949 | I4: 산근 1 | K4: 5E3BC43CE11717BDD771CD31B5E5FF | L4: 공통 8-2-3
A5: 5E3BC431D1177DAF707DF81F66B73A | B5: 되메우기/토사, 두께 10cm | C5: 보통, 굴삭기 0.7m3+플레이트콤팩터 1.5ton+인력 10% | D5: ㎥ | E5: =중기단가산출서!B65 -> 350 | F5: =중기단가산출서!C65 -> 6690 | G5: =중기단가산출서!D65 -> 315 | H5: =중기단가산출서!E65 -> 7355 | I5: 산근 2 | K5: 5E3BC431D1177DAF707DF81F66B73A | L5: 공통 8-2-3+10
A6: 5E5834CF3117BC33B27D323615C775 | B6: 가로등기초(기성품) 설치 | C6: 기계화 작업 | D6: 본 | E6: =중기단가산출서!B81 -> 6342 | F6: =중기단가산출서!C81 -> 30392 | G6: =중기단가산출서!D81 -> 6804 | H6: =중기단가산출서!E81 -> 43538 | I6: 산근 3 | K6: 5E5834CF3117BC33B27D323615C775 | L6: 전기 1-34, 5-27-2

Sheet 중기단가산출서
A1: 중 기 단 가 산 출 서
A2: [ 원주천 교량(월운정교) 야간경관 개선 경관조명 설치공사 ]
A3: 산 출 내 역 | B3: 재 료 비 | C3: 노 무 비 | D3: 경 비 | E3: 합 계 | F3: 비 고 | G3: START | H3: 코드 | I3: 품명 | J3: 규격 | K3: 단위 | L3: 수량 | M3: 변수 | N3: 값 | O3: 소계 | P3: 소계 | Q3: 소계 | R3: 소계 | S3: 소계 | T3: 총계
A4: 터파기/토사 보통, 굴삭기 0.7m3 90%, 인력10% ㎥ 공통 8-2-3 ( 산근 1 ) | G4: 5E3BC43CE11717BDD771CD31B5E5FF | I4: 터파기/토사 | J4: 보통, 굴삭기 0.7m3 90%, 인력10% | K4: ㎥
G5: 5E3BC43CE11717BDD771CD31B5E5FF | H5: C | L5: 1
A6: 굴삭기(무한궤도),0.7㎥90%+인력10% M3 | B6: 0 | C6: 0 | D6: 0 | E6: 0 | G6: 5E3BC43CE11717BDD771CD31B5E5FF | H6: C! | I6: '굴삭기(무한궤도),0.7㎥90%+인력10% M3'
B7: 0 | C7: 0 | D7: 0 | E7: 0 | G7: 5E3BC43CE11717BDD771CD31B5E5FF | H7: C!
A8: Q1 바켓용량(M3) =0.70 | B8: 0 | C8: 0 | D8: 0 | E8: 0 | G8: 5E3BC43CE11717BDD771CD31B5E5FF | H8: C! | I8: q1 '바켓용량(M3)' =0.70
A9: K 바켓계수(양호1.1,보통0.90,불량0.70,파쇄암0.55) = 0.90 | B9: 0 | C9: 0 | D9: 0 | E9: 0 | G9: 5E3BC43CE11717BDD771CD31B5E5FF | H9: C! | I9: k '바켓계수(양호1.1,보통0.90,불량0.70,파쇄암0.55)'= 0.90
A10: F 토량환산계수(1/L) = 1/1.25= 0.8 | B10: 0 | C10: 0 | D10: 0 | E10: 0 | G10: 5E3BC43CE11717BDD771CD31B5E5FF | H10: C! | I10: f '토량환산계수(1/L)'= 1/1.25=?
A11: E1 터파기에 대하여 -0.05 =0.05 | B11: 0 | C11: 0 | D11: 0 | E11: 0 | G11: 5E3BC43CE11717BDD771CD31B5E5FF | H11: C! | I11: E1 '터파기에 대하여 -0.05'=0.05
A12: E 작업효율사질토(양호0.85,보통0.70,불량0.55) = 0.70-E1= 0.65 | B12: 0 | C12: 0 | D12: 0 | E12: 0 | G12: 5E3BC43CE11717BDD771CD31B5E5FF | H12: C! | I12: E '작업효율사질토(양호0.85,보통0.70,불량0.55)'= 0.70-E1=?
A13: CM 1회 싸이클시간(135˚SEC) =20 | B13: 0 | C13: 0 | D13: 0 | E13: 0 | G13: 5E3BC43CE11717BDD771CD31B5E5FF | H13: C! | I13: Cm '1회 싸이클시간(135˚SEC)'=20
A14: Q 시간당 작업량 (M3/HR) = 3600*Q1*K*F*E/CM/0.9= 65.52 | B14: 0 | C14: 0 | D14: 0 | E14: 0 | G14: 5E3BC43CE11717BDD771CD31B5E5FF | H14: C! | I14: Q '시간당 작업량 (M3/Hr)'= 3600*q1*k*f*E/Cm/0.9=?
B15: 0 | C15: 0 | D15: 0 | E15: 0 | G15: 5E3BC43CE11717BDD771CD31B5E5FF | H15: C!
A16: 재료비: 16713 / 65.52 = 255 | B16: 255 | C16: 0 | D16: 0 | E16: 255 | G16: 5E3BC43CE11717BDD771CD31B5E5FF | H16: C! | I16: '재료비:' ~00000201007000000.M~ / {Q} =?MA+
A17: 노무비: 59020 / 65.52 = 900.7 | B17: 0 | C17: 900.7 | D17: 0 | E17: 900.7 | G17: 5E3BC43CE11717BDD771CD31B5E5FF | H17: C! | I17: '노무비:' ~00000201007000000.L~ / {Q} =?LA+
A18: 경 비: 23128 / 65.52 = 352.9 | B18: 0 | C18: 0 | D18: 352.9 | E18: 352.9 | G18: 5E3BC43CE11717BDD771CD31B5E5FF | H18: C! | I18: '경 비:' ~00000201007000000.E~ / {Q} =?EQ+
A19: 소 계 | B19: 255 | C19: 900.7 | D19: 352.9 | E19: 1508.6 | G19: 5E3BC43CE11717BDD771CD31B5E5FF | H19: C! | I19: >'소 계'
B20: 0 | C20: 0 | D20: 0 | E20: 0 | G20: 5E3BC43CE11717BDD771CD31B5E5FF | H20: C!
A21: 인력터파기,0-1m,보통인부0.2인*10% | B21: 0 | C21: 0 | D21: 0 | E21: 0 | G21: 5E3BC43CE11717BDD771CD31B5E5FF | H21: C! | I21: '인력터파기,0-1m,보통인부0.2인*10%'
A22: Q 시간당 작업량 (M3/HR) = 1/8/0.2/0.1= 6.25 | B22: 0 | C22: 0 | D22: 0 | E22: 0 | G22: 5E3BC43CE11717BDD771CD31B5E5FF | H22: C! | I22: Q '시간당 작업량 (M3/Hr)'= 1/8/0.2/0.1=?
B23: 0 | C23: 0 | D23: 0 | E23: 0 | G23: 5E3BC43CE11717BDD771CD31B5E5FF | H23: C!
A24: 보통인부 1인/8HR*작업시간 | B24: 0 | C24: 0 | D24: 0 | E24: 0 | G24: 5E3BC43CE11717BDD771CD31B5E5FF | H24: C! | I24: '보통인부 1인/8HR*작업시간
A25: 노무비: 172068*1/8/6.25 = 3441.3 | B25: 0 | C25: 3441.3 | D25: 0 | E25: 3441.3 | G25: 5E3BC43CE11717BDD771CD31B5E5FF | H25: C! | I25: '노무비:' ~L001010101000002.L~*1/8/{Q} =?LA+
A26: 소 계 | B26: 0 | C26: 3441.3 | D26: 0 | E26: 3441.3 | G26: 5E3BC43CE11717BDD771CD31B5E5FF | H26: C! | I26: >'소 계'
A27: 총 계 | B27: 255 | C27: 4342 | D27: 352 | E27: 4949
A29: 되메우기/토사, 두께 10cm 보통, 굴삭기 0.7m3+플레이트콤팩터 1.5ton+인력 10% ㎥ 공통 8-2-3+10 ( 산근 2 ) | G29: 5E3BC431D1177DAF707DF81F66B73A | I29: 되메우기/토사, 두께 10cm | J29: 보통, 굴삭기 0.7m3+플레이트콤팩터 1.5ton+인력 10% | K29: ㎥
G30: 5E3BC431D1177DAF707DF81F66B73A | H30: C | K30: M3 | L30: 1
A31: 1.굴삭기 (무한궤도)0.7㎥M3 | B31: 0 | C31: 0 | D31: 0 | E31: 0 | G31: 5E3BC431D1177DAF707DF81F66B73A | H31: C! | I31: '1.굴삭기 (무한궤도)0.7㎥M3 '
A32: Q1 바켓용량(M3) = 0.7 | B32: 0 | C32: 0 | D32: 0 | E32: 0 | G32: 5E3BC431D1177DAF707DF81F66B73A | H32: C! | I32: q1 '바켓용량(M3)'= 0.7
A33: k 바켓계수 = 1.1 | B33: 0 | C33: 0 | D33: 0 | E33: 0 | G33: 5E3BC431D1177DAF707DF81F66B73A | H33: C! | I33: k '바켓계수'= 1.1
A34: L1 흐트러진상태 =1.25 | B34: 0 | C34: 0 | D34: 0 | E34: 0 | G34: 5E3BC431D1177DAF707DF81F66B73A | H34: C! | I34: L1 '흐트러진상태' =1.25
A35: C 다져진상태 =0.875 | B35: 0 | C35: 0 | D35: 0 | E35: 0 | G35: 5E3BC431D1177DAF707DF81F66B73A | H35: C! | I35: C '다져진상태'=0.875
A36: F 토량환산계(C/L) =C/L1= 0.7 | B36: 0 | C36: 0 | D36: 0 | E36: 0 | G36: 5E3BC431D1177DAF707DF81F66B73A | H36: C! | I36: f '토량환산계(C/L)'=C/L1=?
A37: E 작업효율(양호0.9,보통0.75,불량0.6) = 0.75 | B37: 0 | C37: 0 | D37: 0 | E37: 0 | G37: 5E3BC431D1177DAF707DF81F66B73A | H37: C! | I37: E '작업효율(양호0.9,보통0.75,불량0.6)'= 0.75
A38: CM 1회 싸이클시간(90˚SEC) =18 | B38: 0 | C38: 0 | D38: 0 | E38: 0 | G38: 5E3BC431D1177DAF707DF81F66B73A | H38: C! | I38: Cm '1회 싸이클시간(90˚sec)'=18
A39: Q 시간당 작업량 (M3/HR) = 3600*Q1*K*F*E/CM/0.9= 89.833 | B39: 0 | C39: 0 | D39: 0 | E39: 0 | G39: 5E3BC431D1177DAF707DF81F66B73A | H39: C! | I39: Q '시간당 작업량 (M3/Hr)'= 3600*q1*k*f*E/Cm/0.9=?
A40: 재료비: 16713 / 89.833 = 186 | B40: 186 | C40: 0 | D40: 0 | E40: 186 | G40: 5E3BC431D1177DAF707DF81F66B73A | H40: C! | I40: '재료비:' ~00000201007000000.M~ / {Q} =?MA+
A41: 노무비: 59020 / 89.833 = 656.9 | B41: 0 | C41: 656.9 | D41: 0 | E41: 656.9 | G41: 5E3BC431D1177DAF707DF81F66B73A | H41: C! | I41: '노무비:' ~00000201007000000.L~ / {Q} =?LA+
...

Sheet 공량산출근거서_일위대가
A1: 공 량 산 출 근 거 서
A2: [ 원주천 교량(월운정교) 야간경관 개선 경관조명 설치공사 ]
A3: 코 드 | B3: 품 명 | C3: 규 격 | D3: 단위 | E3: 품 셈 목 록 | F3: 수 량 | G3: 할증 | H3: 노임할증-1 | I3: 노임할증-2 | J3: 노임할증-3 | K3: 내역수량 | L3: 직 종 명 | M3: 공 량 | N3: 계 | O3: 번 호 | P3: 비 고 | T3: 일위대가목록+자재 | V3: 내선전공 | W3: 일반공사 직종 | X3: 보통인부 | Y3: 배전전공 | Z3: 저압케이블전공 | AA3: 작업반장 | AB3: 특별인부 | AC3: 줄눈공
B4: 강제전선관 아연도, 36mm M (호표 1)
A5: 593E448EF117965D967FC1CE5EB44DDAD4954F | B5: 강제전선관 | C5: 강제전선관, 후강전선관, 아연도, 36mm | D5: M | E5: 전기품셈 5-1 | F5: 1 | G5: 10 | K5: 1.1 | L5: 내선전공 | M5: =0.2*(H5+100)/100*(I5+100)/100*(J5+100)/100 -> 0.2 | N5: =F5*M5 -> 0.2 | O5: 노임 8 | Q5: 5E5834DF4117408A307C06B42565C9 | R5: 5EC2540591178118FC7E18478FB85274AB5ABA | S5: 0.2 | T5: 5E5834DF4117408A307C06B42565C9593E448EF117965D967FC1CE5EB44DDAD4954F | V5: =N5 -> 0.2
A6: 5EC2540591178118FC7E18478FB85274AB5ABA | B6: 내선전공 | C6: 일반공사 직종 | D6: 인 | F6: =SUM(V5:V5) -> 0.2 | K6: =TRUNC(ROUNDDOWN(F6,공량설정_일위대가!C3+1)*공량설정_일위대가!B2/100, 공량설정_일위대가!C3) -> 0.2 | O6: 노임 8 | Q6: 5E5834DF4117408A307C06B42565C9 | T6: 5E5834DF4117408A307C06B42565C95EC2540591178118FC7E18478FB85274AB5ABA
B7: 파상형경질폴리에틸렌전선관 50㎜ M (호표 2)
A8: 593E448EF117965D967FC1CE5EB44DDBE58F32 | B8: 파상형경질폴리에틸렌전선관 | C8: 파상형경질폴리에틸렌전선관, ELP, 50mm | D8: M | E8: 전기품셈 4-31 | F8: 1 | G8: 3 | K8: 1.03 | L8: 보통인부 | M8: =0.018*(H8+100)/100*(I8+100)/100*(J8+100)/100 -> 0.018 | N8: =F8*M8 -> 0.018 | O8: 노임 2 | Q8: 5E5834DF4117408A0B78C9DA3919C1 | R8: 5EC2540591178118FC7E18478FB85274AB5D76 | S8: 0.018 | T8: 5E5834DF4117408A0B78C9DA3919C1593E448EF117965D967FC1CE5EB44DDBE58F32 | X8: =N8 -> 0.018
L9: 배전전공 | M9: =0.007*(H8+100)/100*(I8+100)/100*(J8+100)/100 -> 0.007 | N9: =F8*M9 -> 0.007 | O9: 노임 10 | Q9: 5E5834DF4117408A0B78C9DA3919C1 | R9: 5EC2540591178118FC7E18478FB85274AB553F | S9: 0.007 | T9: 5E5834DF4117408A0B78C9DA3919C1593E448EF117965D967FC1CE5EB44DDBE58F32 | Y9: =N9 -> 0.007
A10: 5EC2540591178118FC7E18478FB85274AB5D76 | B10: 보통인부 | C10: 일반공사 직종 | D10: 인 | F10: =SUM(X8:X9) -> 0.018 | K10: =TRUNC(ROUNDDOWN(F10,공량설정_일위대가!C5+1)*공량설정_일위대가!B4/100, 공량설정_일위대가!C5) -> 0.018 | O10: 노임 2 | Q10: 5E5834DF4117408A0B78C9DA3919C1 | T10: 5E5834DF4117408A0B78C9DA3919C15EC2540591178118FC7E18478FB85274AB5D76
A11: 5EC2540591178118FC7E18478FB85274AB553F | B11: 배전전공 | C11: 일반공사 직종 | D11: 인 | F11: =SUM(Y8:Y9) -> 0.007 | K11: =TRUNC(ROUNDDOWN(F11,공량설정_일위대가!C6+1)*공량설정_일위대가!B4/100, 공량설정_일위대가!C6) -> 0.007 | O11: 노임 10 | Q11: 5E5834DF4117408A0B78C9DA3919C1 | T11: 5E5834DF4117408A0B78C9DA3919C15EC2540591178118FC7E18478FB85274AB553F
B12: 난연 비닐절연접지용전선(F-GV) 0.6/1kv, 10㎟ M (호표 3)
A13: 592C04B871175D4F83731B2CF5D26A3ACCD3AF | B13: 접지용비닐절연전선 | C13: 접지용비닐절연전선, F-GV, 10㎟ | D13: M | E13: 전기 3-38 | F13: 1 | G13: 10 | K13: 1.1 | L13: 내선전공 | M13: =0.006*(H13+100)/100*(I13+100)/100*(J13+100)/100 -> 0.006 | N13: =F13*M13 -> 0.006 | O13: 노임 8 | Q13: 5E5834DF41177DCC6D78B3E1407127 | R13: 5EC2540591178118FC7E18478FB85274AB5ABA | S13: 0.006 | T13: 5E5834DF41177DCC6D78B3E1407127592C04B871175D4F83731B2CF5D26A3ACCD3AF | V13: =N13 -> 0.006
A14: 5EC2540591178118FC7E18478FB85274AB5ABA | B14: 내선전공 | C14: 일반공사 직종 | D14: 인 | F14: =SUM(V13:V13) -> 0.006 | K14: =TRUNC(ROUNDDOWN(F14,공량설정_일위대가!C8+1)*공량설정_일위대가!B7/100, 공량설정_일위대가!C8) -> 0.006 | O14: 노임 8 | Q14: 5E5834DF41177DCC6D78B3E1407127 | T14: 5E5834DF41177DCC6D78B3E14071275EC2540591178118FC7E18478FB85274AB5ABA
B15: 0.6/1kv 난연 전력케이블(F-CV) 2C*10㎟ M (호표 4)
A16: 592C04B871175D4FB874403DEB5455FB1F9263 | B16: 600V폴리에틸렌케이블 | C16: 0.6/1kv, F-CV, 2C*10㎟ | D16: M | E16: 전기품셈 4-34 | F16: 1 | G16: 5 | H16: 40 | K16: 1.05 | L16: 보통인부 | M16: =0.00484*(H16+100)/100*(I16+100)/100*(J16+100)/100 -> 0.006776 | N16: =F16*M16 -> 0.006776 | O16: 노임 2 | Q16: 5E5834DF4117636A157B07A2339051 | R16: 5EC2540591178118FC7E18478FB85274AB5D76 | S16: 0.00484 | T16: 5E5834DF4117636A157B07A2339051592C04B871175D4FB874403DEB5455FB1F9263 | X16: =N16 -> 0.006776
L17: 저압케이블전공 | M17: =0.00484*(H16+100)/100*(I16+100)/100*(J16+100)/100 -> 0.006776 | N17: =F16*M17 -> 0.006776 | O17: 노임 9 | Q17: 5E5834DF4117636A157B07A2339051 | R17: 5EC2540591178118FC7E18478FB85274AB5AB7 | S17: 0.00484 | T17: 5E5834DF4117636A157B07A2339051592C04B871175D4FB874403DEB5455FB1F9263 | Z17: =N17 -> 0.006776
A18: 5EC2540591178118FC7E18478FB85274AB5D76 | B18: 보통인부 | C18: 일반공사 직종 | D18: 인 | F18: =SUM(X16:X17) -> 0.006776 | K18: =TRUNC(ROUNDDOWN(F18,공량설정_일위대가!C10+1)*공량설정_일위대가!B9/100, 공량설정_일위대가!C10) -> 0.006776 | O18: 노임 2 | Q18: 5E5834DF4117636A157B07A2339051 | T18: 5E5834DF4117636A157B07A23390515EC2540591178118FC7E18478FB85274AB5D76
A19: 5EC2540591178118FC7E18478FB85274AB5AB7 | B19: 저압케이블전공 | C19: 일반공사 직종 | D19: 인 | F19: =SUM(Z16:Z17) -> 0.006776 | K19: =TRUNC(ROUNDDOWN(F19,공량설정_일위대가!C11+1)*공량설정_일위대가!B9/100, 공량설정_일위대가!C11) -> 0.006776 | O19: 노임 9 | Q19: 5E5834DF4117636A157B07A2339051 | T19: 5E5834DF4117636A157B07A23390515EC2540591178118FC7E18478FB85274AB5AB7
B20: 조명제어기(관급자재) 설치 상시,격등6회로 면 (호표 5)
A21: 593E448EF11785C3EF7E1CB97473E016DCD20B | B21: 조명제어기(관급자재) | C21: 상시,격등6회로 | D21: 면 | E21: 전기품셈 5-18-2 | F21: 1 | G21: 0 | K21: 1 | L21: 내선전공 | M21: =1.02*(H21+100)/100*(I21+100)/100*(J21+100)/100 -> 1.02 | N21: =F21*M21 -> 1.02 | O21: 노임 8 | Q21: 5E5834DCF1170C91EB7ADA8523487B | R21: 5EC2540591178118FC7E18478FB85274AB5ABA | S21: 1.23 | T21: 5E5834DCF1170C91EB7ADA8523487B593E448EF11785C3EF7E1CB97473E016DCD20B | V21: =N21 -> 1.02
A22: 5EC2540591178118FC7E18478FB85274AB5ABA | B22: 내선전공 | C22: 일반공사 직종 | D22: 인 | F22: =SUM(V21:V21) -> 1.02 | K22: =TRUNC(ROUNDDOWN(F22,공량설정_일위대가!C13+1)*공량설정_일위대가!B12/100, 공량설정_일위대가!C13) -> 1.02 | O22: 노임 8 | Q22: 5E5834DCF1170C91EB7ADA8523487B | T22: 5E5834DCF1170C91EB7ADA8523487B5EC2540591178118FC7E18478FB85274AB5ABA
B23: 가로등제어기기초 (기계화설치) 400x500x800, 앙카포함 개소 (호표 6)
A24: 5FAF04E2611747FAD07DA8E8CCD7578C8912DC | B24: 가로등제어기기초 | C24: 400x500x800, 앙카포함 | D24: 조 | F24: 1 | G24: 0 | K24: 1 | L24: 보통인부 | M24: =0.19*(H24+100)/100*(I24+100)/100*(J24+100)/100 -> 0.19 | N24: =F24*M24 -> 0.19 | O24: 노임 2 | Q24: 5E5834DF41170AD737753833CCC3CE | R24: 5EC2540591178118FC7E18478FB85274AB5D76 | S24: 0.19 | T24: 5E5834DF41170AD737753833CCC3CE5FAF04E2611747FAD07DA8E8CCD7578C8912DC | X24: =N24 -> 0.19
L25: 내선전공 | M25: =0.08*(H24+100)/100*(I24+100)/100*(J24+100)/100 -> 0.08 | N25: =F24*M25 -> 0.08 | O25: 노임 8 | Q25: 5E5834DF41170AD737753833CCC3CE | R25: 5EC2540591178118FC7E18478FB85274AB5ABA | S25: 0.08 | T25: 5E5834DF41170AD737753833CCC3CE5FAF04E2611747FAD07DA8E8CCD7578C8912DC | V25: =N25 -> 0.08
A26: 5EC2540591178118FC7E18478FB85274AB5D76 | B26: 보통인부 | C26: 일반공사 직종 | D26: 인 | F26: =SUM(X24:X25) -> 0.19 | K26: =TRUNC(ROUNDDOWN(F26,공량설정_일위대가!C16+1)*공량설정_일위대가!B14/100, 공량설정_일위대가!C16) -> 0.19 | O26: 노임 2 | Q26: 5E5834DF41170AD737753833CCC3CE | T26: 5E5834DF41170AD737753833CCC3CE5EC2540591178118FC7E18478FB85274AB5D76
A27: 5EC2540591178118FC7E18478FB85274AB5ABA | B27: 내선전공 | C27: 일반공사 직종 | D27: 인 | F27: =SUM(V24:V25) -> 0.08 | K27: =TRUNC(ROUNDDOWN(F27,공량설정_일위대가!C15+1)*공량설정_일위대가!B14/100, 공량설정_일위대가!C15) -> 0.08 | O27: 노임 8 | Q27: 5E5834DF41170AD737753833CCC3CE | T27: 5E5834DF41170AD737753833CCC3CE5EC2540591178118FC7E18478FB85274AB5ABA
B28: 접지봉매설 지하 0.75M매설, 3본연결 개소 (호표 8)
A29: 5974A4CAD117E2B16A75159FB87E03A6E70BFC | B29: 접지봉(지하0.75m기준) | C29: 길이 1~2m x 3본 연결 | D29: 개 | E29: 전기품셈 3-38 | F29: 1 | G29: 0 | K29: 1 | L29: 보통인부 | M29: =0.2*(H29+100)/100*(I29+100)/100*(J29+100)/100 -> 0.2 | N29: =F29*M29 -> 0.2 | O29: 노임 2 | P29: 노무비 | Q29: 5E5834DAC117DD820A7E1CCC72C61C | R29: 5EC2540591178118FC7E18478FB85274AB5D76 | S29: 0.2 | T29: 5E5834DAC117DD820A7E1CCC72C61C5974A4CAD117E2B16A75159FB87E03A6E70BFC | X29: =N29 -> 0.2
L30: 내선전공 | M30: =0.24*(H29+100)/100*(I29+100)/100*(J29+100)/100 -> 0.24 | N30: =F29*M30 -> 0.24 | O30: 노임 8 | Q30: 5E5834DAC117DD820A7E1CCC72C61C | R30: 5EC2540591178118FC7E18478FB85274AB5ABA | S30: 0.24 | T30: 5E5834DAC117DD820A7E1CCC72C61C5974A4CAD117E2B16A75159FB87E03A6E70BFC | V30: =N30 -> 0.24
A31: 5EC2540591178118FC7E18478FB85274AB5D76 | B31: 보통인부 | C31: 일반공사 직종 | D31: 인 | F31: =SUM(X29:X30) -> 0.2 | K31: =TRUNC(ROUNDDOWN(F31,공량설정_일위대가!C20+1)*공량설정_일위대가!B19/100, 공량설정_일위대가!C20) -> 0.2 | O31: 노임 2 | Q31: 5E5834DAC117DD820A7E1CCC72C61C | T31: 5E5834DAC117DD820A7E1CCC72C61C5EC2540591178118FC7E18478FB85274AB5D76
A32: 5EC2540591178118FC7E18478FB85274AB5ABA | B32: 내선전공 | C32: 일반공사 직종 | D32: 인 | F32: =SUM(V29:V30) -> 0.24 | K32: =TRUNC(ROUNDDOWN(F32,공량설정_일위대가!C21+1)*공량설정_일위대가!B19/100, 공량설정_일위대가!C21) -> 0.24 | O32: 노임 8 | Q32: 5E5834DAC117DD820A7E1CCC72C61C | T32: 5E5834DAC117DD820A7E1CCC72C61C5EC2540591178118FC7E18478FB85274AB5ABA
B33: 전력맨홀(콘크리트,KS) 800*800*800 개소 (호표 9)
A34: 593ED4EAB117F2863479F7DF5F9CDCDF7DC9D1 | B34: 핸드홀 | C34: 800*800*800 | D34: 조 | E34: 전기 4-43-3 | F34: 1 | G34: 0 | K34: 1 | L34: 작업반장 | M34: =0.28*(H34+100)/100*(I34+100)/100*(J34+100)/100 -> 0.28 | N34: =F34*M34 -> 0.28 | O34: 노임 1 | Q34: 5E5834DF41170AD7417CA7468DED0A | R34: 5EC2540591178118FC7E18478FB85274AB5D75 | S34: 0.28 | T34: 5E5834DF41170AD7417CA7468DED0A593ED4EAB117F2863479F7DF5F9CDCDF7DC9D1 | AA34: =N34 -> 0.28
L35: 특별인부 | M35: =1.33*(H34+100)/100*(I34+100)/100*(J34+100)/100 -> 1.33 | N35: =F34*M35 -> 1.33 | O35: 노임 3 | Q35: 5E5834DF41170AD7417CA7468DED0A | R35: 5EC2540591178118FC7E18478FB85274AB5D77 | S35: 1.33 | T35: 5E5834DF41170AD7417CA7468DED0A593ED4EAB117F2863479F7DF5F9CDCDF7DC9D1 | AB35: =N35 -> 1.33
L36: 줄눈공 | M36: =0.03*(H34+100)/100*(I34+100)/100*(J34+100)/100 -> 0.03 | N36: =F34*M36 -> 0.03 | O36: 노임 4 | Q36: 5E5834DF41170AD7417CA7468DED0A | R36: 5EC2540591178118FC7E18478FB85274AB5E1E | S36: 0.03 | T36: 5E5834DF41170AD7417CA7468DED0A593ED4EAB117F2863479F7DF5F9CDCDF7DC9D1 | AC36: =N36 -> 0.03
A37: 5EC2540591178118FC7E18478FB85274AB5D75 | B37: 작업반장 | C37: 일반공사 직종 | D37: 인 | F37: =SUM(AA34:AA36) -> 0.28 | K37: =TRUNC(ROUNDDOWN(F37,공량설정_일위대가!C23+1)*공량설정_일위대가!B22/100, 공량설정_일위대가!C23) -> 0.28 | O37: 노임 1 | Q37: 5E5834DF41170AD7417CA7468DED0A | T37: 5E5834DF41170AD7417CA7468DED0A5EC2540591178118FC7E18478FB85274AB5D75
A38: 5EC2540591178118FC7E18478FB85274AB5D77 | B38: 특별인부 | C38: 일반공사 직종 | D38: 인 | F38: =SUM(AB34:AB36) -> 1.33 | K38: =TRUNC(ROUNDDOWN(F38,공량설정_일위대가!C24+1)*공량설정_일위대가!B22/100, 공량설정_일위대가!C24) -> 1.33 | O38: 노임 3 | Q38: 5E5834DF41170AD7417CA7468DED0A | T38: 5E5834DF41170AD7417CA7468DED0A5EC2540591178118FC7E18478FB85274AB5D77
A39: 5EC2540591178118FC7E18478FB85274AB5E1E | B39: 줄눈공 | C39: 일반공사 직종 | D39: 인 | F39: =SUM(AC34:AC36) -> 0.03 | K39: =TRUNC(ROUNDDOWN(F39,공량설정_일위대가!C25+1)*공량설정_일위대가!B22/100, 공량설정_일위대가!C25) -> 0.03 | O39: 노임 4 | Q39: 5E5834DF41170AD7417CA7468DED0A | T39: 5E5834DF41170AD7417CA7468DED0A5EC2540591178118FC7E18478FB85274AB5E1E
B40: 보도블럭 철거 ㎡ (호표 10)
...

Sheet 단가대비표
A1: 단 가 대 비 표
A2: [ 원주천 교량(월운정교) 야간경관 개선 경관조명 설치공사 ]
A3: 코 드 | B3: 품 명 | C3: 규격 | D3: 단위 | E3: 재 료 비 | P3: 노 무 비 | Q3: 경 비 | W3: 번 호 | X3: 비 고 | Y3: 품목구분 | Z3: 노임구분 | AA3: 소수점처리 | AB3: 자재구분
E4: 조달청가격 | F4: PAGE | G4: 거래가격 | H4: PAGE | I4: 유통물가 | J4: PAGE | K4: 물가자료 | L4: PAGE | M4: 조사가격 | N4: PAGE | O4: 적용단가 | Q4: 조달청가격 | R4: 거래가격 | S4: 유통물가 | T4: 물가자료 | U4: 조사가격 | V4: 적용단가
A5: 590184A7711774400F7FD1D9EBF0CF05AF2114 | B5: 굴삭기(무한궤도) | C5: 0.7㎥ | D5: 대 | E5: 0 | G5: 0 | I5: 0 | K5: 0 | M5: 0 | O5: 0 | P5: 0 | Q5: 0 | R5: 0 | S5: 0 | T5: 0 | U5: 110926 | V5: =SMALL(Q5:U5,COUNTIF(Q5:U5,0)+1) -> 110926 | W5: 자재 1 | X5: 천원
A6: 590184A771177452E37B1D79A910ED34A4FD43 | B6: 플레이트 콤팩터 | C6: 1.5ton | D6: 대 | E6: 0 | G6: 0 | I6: 0 | K6: 0 | M6: 0 | O6: 0 | P6: 0 | Q6: 0 | R6: 0 | S6: 0 | T6: 0 | U6: 1570 | V6: =SMALL(Q6:U6,COUNTIF(Q6:U6,0)+1) -> 1570 | W6: 자재 2 | X6: 천원
A7: 590184A77117746CE3718B7285AC377A49A87C | B7: 트럭탑재형 크레인 | C7: 5ton | D7: 대 | E7: 0 | G7: 0 | I7: 0 | K7: 0 | M7: 0 | O7: 0 | P7: 0 | Q7: 0 | R7: 0 | S7: 0 | T7: 0 | U7: 38469 | V7: =SMALL(Q7:U7,COUNTIF(Q7:U7,0)+1) -> 38469 | W7: 자재 3 | X7: 천원
A8: 5913E4ABF117775F9077CB6768CE3B893DF1C8 | B8: 모래 | C8: 모래(육상), 도착도 | D8: M3 | E8: 0 | G8: 30000 | H8: 101 | I8: 33000 | J8: 61 | K8: 0 | M8: 0 | O8: =SMALL(E8:M8,COUNTIF(E8:M8,0)+1) -> 30000 | P8: 0 | Q8: 0 | R8: 0 | S8: 0 | T8: 0 | U8: 0 | V8: 0 | W8: 자재 4
A9: 5913A4CE711775A8D973DDB461CCD370FA803C | B9: 경유 | C9: 경유, 저유황 | D9: L | E9: 1181 | G9: 1864.54 | H9: 1451 | I9: 1748.18 | J9: 1189 | K9: 0 | M9: 0 | O9: =SMALL(E9:M9,COUNTIF(E9:M9,0)+1) -> 1181 | P9: 0 | Q9: 0 | R9: 0 | S9: 0 | T9: 0 | U9: 0 | V9: 0 | W9: 자재 5
A10: 5913A4CE711775A8D973DE5F4625058A0FD9EC | B10: 공업용휘발유 | C10: 공업용휘발유, 무연 | D10: L | E10: 1374 | G10: 1834.54 | H10: 1451 | I10: 1755.45 | J10: 1189 | K10: 0 | M10: 0 | O10: =SMALL(E10:M10,COUNTIF(E10:M10,0)+1) -> 1374 | P10: 0 | Q10: 0 | R10: 0 | S10: 0 | T10: 0 | U10: 0 | V10: 0 | W10: 자재 6
A11: 592C04B871175D4F83731B2CF5D26A3ACCD3A0 | B11: 접지용비닐절연전선 | C11: 접지용비닐절연전선, F-GV, 6㎟ | D11: M | E11: 1408 | G11: 1912 | H11: 994 | I11: 1765 | J11: 833 | K11: 0 | M11: 0 | O11: =SMALL(E11:M11,COUNTIF(E11:M11,0)+1) -> 1408 | P11: 0 | Q11: 0 | R11: 0 | S11: 0 | T11: 0 | U11: 0 | V11: 0 | W11: 자재 7
A12: 592C04B871175D4F83731B2CF5D26A3ACCD3AF | B12: 접지용비닐절연전선 | C12: 접지용비닐절연전선, F-GV, 10㎟ | D12: M | E12: 2090 | G12: 3009 | H12: 994 | I12: 2971 | J12: 833 | K12: 0 | M12: 0 | O12: =SMALL(E12:M12,COUNTIF(E12:M12,0)+1) -> 2090 | P12: 0 | Q12: 0 | R12: 0 | S12: 0 | T12: 0 | U12: 0 | V12: 0 | W12: 자재 8
A13: 592C04B871175D4FB874403DEB5455FB1F9264 | B13: 600V폴리에틸렌케이블 | C13: 0.6/1kv, F-CV, 2C*2.5㎟ | D13: M | E13: 1842 | G13: 2138 | H13: 993 | I13: 2037 | J13: 834 | K13: 0 | M13: 0 | O13: =SMALL(E13:M13,COUNTIF(E13:M13,0)+1) -> 1842 | P13: 0 | Q13: 0 | R13: 0 | S13: 0 | T13: 0 | U13: 0 | V13: 0 | W13: 자재 9
A14: 592C04B871175D4FB874403DEB5455FB1F9263 | B14: 600V폴리에틸렌케이블 | C14: 0.6/1kv, F-CV, 2C*10㎟ | D14: M | E14: 5105 | G14: 6114 | H14: 993 | I14: 5810 | J14: 834 | K14: 0 | M14: 0 | O14: =SMALL(E14:M14,COUNTIF(E14:M14,0)+1) -> 5105 | P14: 0 | Q14: 0 | R14: 0 | S14: 0 | T14: 0 | U14: 0 | V14: 0 | W14: 자재 10
A15: 592C04B871175D4FB874403DEB5455FB1F9304 | B15: 600V폴리에틸렌케이블 | C15: 0.6/1kv, F-CV, 2C*4㎟ | D15: M | E15: 2548 | G15: 2971 | H15: 993 | I15: 2816 | J15: 834 | K15: 0 | M15: 0 | O15: =SMALL(E15:M15,COUNTIF(E15:M15,0)+1) -> 2548 | P15: 0 | Q15: 0 | R15: 0 | S15: 0 | T15: 0 | U15: 0 | V15: 0 | W15: 자재 11
A16: 593ED4EAB117F2863479F7DF5F9CDCDF7DC9D1 | B16: 핸드홀 | C16: 800*800*800 | D16: 조 | E16: 0 | G16: 130000 | H16: 223 | I16: 320000 | J16: 197 | K16: 0 | M16: 0 | O16: =SMALL(E16:M16,COUNTIF(E16:M16,0)+1) -> 130000 | P16: 0 | Q16: 0 | R16: 0 | S16: 0 | T16: 0 | U16: 0 | V16: 0 | W16: 자재 12
A17: 593ED4EAB117F2863479F7DF5F9CDCDF7DC8CE | B17: 핸드홀카바-1호 | C17: 주철각형 K.S (1120x620x132) | D17: 조 | E17: 0 | G17: 430000 | H17: 223 | I17: 540000 | J17: 203 | K17: 0 | M17: 0 | O17: =SMALL(E17:M17,COUNTIF(E17:M17,0)+1) -> 430000 | P17: 0 | Q17: 0 | R17: 0 | S17: 0 | T17: 0 | U17: 0 | V17: 0 | W17: 자재 13
A18: 593E448EF117B10E0172A76C7ACBD7A1CF1DABEC | B18: 경관조명기구(관급자재) | C18: LINEAR / LED 14.4W / 3,000K / 120˚ | D18: 등 | E18: 0 | G18: 0 | I18: 0 | K18: 0 | M18: 170000 | O18: =SMALL(E18:M18,COUNTIF(E18:M18,0)+1) -> 170000 | P18: 0 | Q18: 0 | R18: 0 | S18: 0 | T18: 0 | U18: 0 | V18: 0 | W18: 자재 14
A19: 593E448EF117B10E0172A76C7ACBD7A1CF1DABED | B19: 경관조명기구(관급자재) | C19: LINEAR / LED 18W / 3,000K / 10˚ * 60˚ | D19: 등 | E19: 0 | G19: 0 | I19: 0 | K19: 0 | M19: 300000 | O19: =SMALL(E19:M19,COUNTIF(E19:M19,0)+1) -> 300000 | P19: 0 | Q19: 0 | R19: 0 | S19: 0 | T19: 0 | U19: 0 | V19: 0 | W19: 자재 15
A20: 593E448EF117B10E0172A76C7ACBD7A1CF1DABEE | B20: 경관조명기구(관급자재) | C20: POINT / LED 1W / RGB / 직경38mm | D20: 등 | E20: 0 | G20: 0 | I20: 0 | K20: 0 | M20: 140000 | O20: =SMALL(E20:M20,COUNTIF(E20:M20,0)+1) -> 140000 | P20: 0 | Q20: 0 | R20: 0 | S20: 0 | T20: 0 | U20: 0 | V20: 0 | W20: 자재 16
A21: 593E448EF117B10E0172A76C7ACBD7A1CF1DABEF | B21: 경관조명기구(관급자재) | C21: FLEXIBLE LINE / LED 10W / RGB / - | D21: 등 | E21: 0 | G21: 0 | I21: 0 | K21: 0 | M21: 180000 | O21: =SMALL(E21:M21,COUNTIF(E21:M21,0)+1) -> 180000 | P21: 0 | Q21: 0 | R21: 0 | S21: 0 | T21: 0 | U21: 0 | V21: 0 | W21: 자재 17
A22: 593E448EF117B10E0172A76C7ACBD7A1CF1DABE0 | B22: 조명용 빛가림판(관급자재) | C22: 덕트포함 | D22: m | E22: 0 | G22: 0 | I22: 0 | K22: 0 | M22: 100000 | O22: =SMALL(E22:M22,COUNTIF(E22:M22,0)+1) -> 100000 | P22: 0 | Q22: 0 | R22: 0 | S22: 0 | T22: 0 | U22: 0 | V22: 0 | W22: 자재 18
A23: 593E448EF117B10E0172A76C7ACBD7A1CF1DABE1 | B23: 조명케이스(관급자재) | C23: ㅁ70*70 | D23: 개 | E23: 0 | G23: 0 | I23: 0 | K23: 0 | M23: 100000 | O23: =SMALL(E23:M23,COUNTIF(E23:M23,0)+1) -> 100000 | P23: 0 | Q23: 0 | R23: 0 | S23: 0 | T23: 0 | U23: 0 | V23: 0 | W23: 자재 19
A24: 593E448EF11785C3EF7E1CB97473E016DCD20B | B24: 조명제어기(관급자재) | C24: 상시,격등8회로 | D24: 면 | E24: 0 | G24: 0 | I24: 0 | K24: 0 | M24: 0 | O24: 0 | P24: 0 | Q24: 0 | R24: 0 | S24: 0 | T24: 0 | U24: 0 | V24: 0 | W24: 자재 20
A25: 593E448EF11785C3B27B85E053EC165C25F9C9 | B25: 볼트형커넥터 | C25: 볼트형커넥터, 일반형, ∮16mm | D25: 개 | E25: 843 | G25: 0 | I25: 1200 | J25: 925 | K25: 0 | M25: 0 | O25: =SMALL(E25:M25,COUNTIF(E25:M25,0)+1) -> 843 | P25: 0 | Q25: 0 | R25: 0 | S25: 0 | T25: 0 | U25: 0 | V25: 0 | W25: 자재 21
A26: 593E448EF11785C3977C00428AF28AC191156F | B26: 접지봉 | C26: 접지봉, 16∮*1800mm | D26: 개 | E26: 5118 | G26: 12788 | H26: 1134 | I26: 6900 | J26: 925 | K26: 0 | M26: 0 | O26: =SMALL(E26:M26,COUNTIF(E26:M26,0)+1) -> 5118 | P26: 0 | Q26: 0 | R26: 0 | S26: 0 | T26: 0 | U26: 0 | V26: 0 | W26: 자재 22
A27: 593E448EF11785C39774CA4075B9F7D64B4B09 | B27: 접지 저항 저감제 | C27: 아스론 10kg | D27: set | E27: 10035 | G27: 50000 | H27: 1074 | I27: 10500 | J27: 925 | K27: 0 | M27: 0 | O27: =SMALL(E27:M27,COUNTIF(E27:M27,0)+1) -> 10035 | P27: 0 | Q27: 0 | R27: 0 | S27: 0 | T27: 0 | U27: 0 | V27: 0 | W27: 자재 23
A28: 593E448EF11785FF267C5AF9FDED86F2A07173 | B28: 전주용밴드 | C28: 암타이밴드, 1-3 | D28: 개 | E28: 0 | G28: 4402 | H28: 1133 | I28: 4430 | J28: 974 | K28: 0 | M28: 0 | O28: =SMALL(E28:M28,COUNTIF(E28:M28,0)+1) -> 4402 | P28: 0 | Q28: 0 | R28: 0 | S28: 0 | T28: 0 | U28: 0 | V28: 0 | W28: 자재 24
A29: 593E448EF117965D967FC1CE5EB44DDAD4954F | B29: 강제전선관 | C29: 강제전선관, 후강전선관, 아연도, 36mm | D29: M | E29: 5134 | G29: 6040 | H29: 1029 | I29: 7379 | J29: 864 | K29: 0 | M29: 0 | O29: =SMALL(E29:M29,COUNTIF(E29:M29,0)+1) -> 5134 | P29: 0 | Q29: 0 | R29: 0 | S29: 0 | T29: 0 | U29: 0 | V29: 0 | W29: 자재 25
A30: 593E448EF117965D967FC1CE5EB44DDBE58F32 | B30: 파상형경질폴리에틸렌전선관 | C30: 파상형경질폴리에틸렌전선관, ELP, 50mm | D30: M | E30: 680 | G30: 1143 | H30: 1025 | I30: 860 | J30: 861 | K30: 0 | M30: 0 | O30: =SMALL(E30:M30,COUNTIF(E30:M30,0)+1) -> 680 | P30: 0 | Q30: 0 | R30: 0 | S30: 0 | T30: 0 | U30: 0 | V30: 0 | W30: 자재 26
A31: 593E448EF117965D967FC1CDB8D02FD770ADE767 | B31: 1종금속제가요전선관 | C31: 1종금속제가요전선관, 비닐피복, 22mm, 방수 | D31: M | E31: 1173 | G31: 2880 | H31: 1027 | I31: 0 | K31: 0 | M31: 0 | O31: =SMALL(E31:M31,COUNTIF(E31:M31,0)+1) -> 1173 | P31: 0 | Q31: 0 | R31: 0 | S31: 0 | T31: 0 | U31: 0 | V31: 0 | W31: 자재 27
A32: 593E448EF117965D967FC1CDB8D02FD770ADE0 | B32: 1종금속제가요전선관 | C32: 1종금속제가요전선관, 비닐피복, 28mm, 방수 | D32: M | E32: 1634 | G32: 3470 | H32: 1027 | I32: 0 | K32: 0 | M32: 0 | O32: =SMALL(E32:M32,COUNTIF(E32:M32,0)+1) -> 1634 | P32: 0 | Q32: 0 | R32: 0 | S32: 0 | T32: 0 | U32: 0 | V32: 0 | W32: 자재 28
