Workbook

Sheet Sheet2
B1: 공사비
B2: 도급공사비 | C2: 관급 | D2: 수수료 | E2: 계
A3: 건축 | B3: =원가계산서!E32 -> 488801000 | C3: =[1]공종별집계표!L19-337 -> 134213000 | E3: =B3+C3+D3 -> 623014000
A4: 전기 | B4: 21843000 | C4: =[2]원가!$D$34 -> 11540000 | D4: =[2]원가!$D$38 -> 1107000 | E4: =B4+C4+D4 -> 34490000
A5: 합계 | B5: =B3+B4 -> 510644000 | C5: =C3+C4 -> 145753000 | D5: =D3+D4 -> 1107000 | E5: =E3+E4 -> 657504000
A7: 0.9 | B7: =B5*90% -> 459579600 | C7: =C5 -> 145753000 | D7: =D5 -> 1107000 | E7: =B7+C7+D7 -> 606439600
A10: 바닥 포장제외

Sheet 원가계산서
B1: 공 사 원 가 계 산 서
B2: 공사명 : 2026년고성능임업기계장비 장비고 신축공사(건축) | F2: 금액 : 육억이천삼백일만사천원(￦623,014,000)
B3: 비 목 | E3: 금 액 | F3: 구 성 비 | G3: 비 고
A4: A1 | B4: 순 공 사 원 가 | C4: 재 료 비 | D4: 직 접 재 료 비 | E4: =TRUNC(공종별집계표!F5, 0) -> 174904660
A5: A2 | D5: 간 접 재 료 비 | E5: 0
A6: A3 | D6: 작업설, 부산물(△) | E6: 0
A7: AS | D7: [ 소 계 ] | E7: =TRUNC(E4+E5-E6, 0) -> 174904660
A8: B1 | C8: 노 무 비 | D8: 직 접 노 무 비 | E8: =TRUNC(공종별집계표!H5, 0) -> 111463710
A9: B2 | D9: 간 접 노 무 비 | E9: =TRUNC(E8*0.175, 0) -> 19506149 | F9: 직접노무비 * 17.5%
A10: BS | D10: [ 소 계 ] | E10: =TRUNC(E8+E9, 0) -> 130969859
A11: C2 | C11: 경 비 | D11: 경 비 | E11: =TRUNC(공종별집계표!J5, 0) -> 25393437
A12: C4 | D12: 산 재 보 험 료 | E12: =TRUNC(E10*0.0356, 0) -> 4662526 | F12: 노무비 * 3.56%
A13: C5 | D13: 고 용 보 험 료 | E13: =TRUNC(E10*0.0101, 0) -> 1322795 | F13: 노무비 * 1.01%
A14: C6 | D14: 국민 건강 보험료 | E14: =TRUNC(E8*0.03595, 0) -> 4007120 | F14: 직접노무비 * 3.595%
A15: C7 | D15: 국민 연금 보험료 | E15: =TRUNC(E8*0.0475, 0) -> 5294526 | F15: 직접노무비 * 4.75%
A16: C8 | D16: 퇴직 공제 부금비 | E16: =TRUNC(E8*0.023, 0) -> 2563665 | F16: 직접노무비 * 2.3%
A17: CA | D17: 산업안전보건관리비 | E17: =TRUNC((E7+E8+(E33/1.1))*0.0311, 0) -> 10855687 | F17: (재료비+직노+관급자재비) * 3.11%
A18: CB | D18: 노인장기요양보험료 | E18: =TRUNC(E14*0.1314, 0) -> 526535 | F18: 건강보험료 * 13.14%
A19: CG | D19: 기 타 경 비 | E19: =TRUNC((E7+E10)*0.05, 0) -> 15293725 | F19: (재료비+노무비) * 5%
A20: CH | D20: 환 경 보 전 비 | E20: =TRUNC((E7+E8+E11)*0.005, 0) -> 1558809 | F20: (재료비+직노+경비) * 0.5%
A21: CK | D21: 하도급지급보증수수료 | E21: =TRUNC((E7+E8+E11)*0.00081, 0) -> 252527 | F21: (재료비+직노+경비) * 0.081% | G21: 최저가대상공사
A22: CL | D22: 건설기계대여금지급보증서발급수수료 | E22: =TRUNC((E7+E8+E11)*0.0007, 0) -> 218233 | F22: (재료비+직노+경비) * 0.07%
A23: CM | D23: 석 면 분 담 금 | E23: =TRUNC(E10*0.00006, 0) -> 7858 | F23: 노무비 * 0.006%
A24: CN | D24: 임 금 채 권 부 담 금 | E24: =TRUNC(E10*0.0009, 0) -> 117872 | F24: 노무비 * 0.09%
D25: 품질관리비 | E25: =공종별집계표!L17 -> 955408
A26: CS | D26: [ 소 계 ] | E26: =TRUNC(E11+E12+E13+E14+E15+E16+E17+E18+E19+E20+E21+E22+E23+E24+E25, 0) -> 73030723
A27: S1 | B27: 계 | E27: =TRUNC(E7+E10+E26, 0) -> 378905242
A28: D1 | B28: 일 반 관 리 비 | E28: =TRUNC(E27*0.08, 0) -> 30312419 | F28: 계 * 8%
A29: D2 | B29: 이 윤 | E29: =TRUNC((E10+E26+E28)*0.15, 0) -> 35146950 | F29: (노무비+경비+일반관리비) * 15%
A30: D9 | B30: 공 급 가 액 | E30: =TRUNC(E27+E28+E29, 0) -> 444364611
A31: DB | B31: 부 가 가 치 세 | E31: =TRUNC(E30*0.1, 0) -> 44436461 | F31: 공급가액 * 10%
A32: DH | B32: 도 급 액 | E32: =TRUNC(E30+E31, -3) -> 488801000
A33: DJ | B33: 관 급 자 재 비(도급자) | E33: =공종별내역서!L348-253 -> 68958000
B34: 관 급 자 재 비(관급자) | E34: =공종별내역서!L352-84 -> 65255000
A35: S2 | B35: 총 공 사 비 | E35: =TRUNC(E32+E33+E34, 0) -> 623014000

Sheet 공종별집계표
A1: 공 종 별 집 계 표
A2: [ 2026년고성능임업기계장비 장비고 신축공사 ]
A3: 품 명 | B3: 규 격 | C3: 단위 | D3: 수량 | E3: 재 료 비 | G3: 노 무 비 | I3: 경 비 | K3: 합 계 | M3: 비 고 | N3: 공종코드 | O3: 변수 | P3: 상위공종 | Q3: 공종구분 | R3: 공종레벨 | S3: 공종소계 | T3: 원가계산서 연결금액
E4: 단 가 | F4: 금 액 | G4: 단 가 | H4: 금 액 | I4: 단 가 | J4: 금 액 | K4: 단 가 | L4: 금 액
A5: 2026년고성능임업기계장비 장비고 신축공사 | D5: 1 | E5: =F6+F18 -> 174904660 | F5: =E5*D5 -> 174904660 | G5: =H6+H18 -> 111463710 | H5: =G5*D5 -> 111463710 | I5: =J6+J18 -> 25393437 | J5: =I5*D5 -> 25393437 | K5: =E5+G5+I5 -> 311761807 | L5: =F5+H5+J5 -> 311761807 | N5: 01 | R5: 1
A6: 건축공사 | D6: 1 | E6: =F7+F8+F9+F10+F11+F12+F13+F14+F15+F16 -> 164479415 | F6: =E6*D6 -> 164479415 | G6: =H7+H8+H9+H10+H11+H12+H13+H14+H15+H16 -> 101022203 | H6: =G6*D6 -> 101022203 | I6: =J7+J8+J9+J10+J11+J12+J13+J14+J15+J16 -> 19969141 | J6: =I6*D6 -> 19969141 | K6: =E6+G6+I6 -> 285470759 | L6: =F6+H6+J6 -> 285470759 | N6: 0101 | P6: 01 | R6: 2
A7: 가 설 공 사 | D7: 1 | E7: =공종별내역서!F29 -> 132596 | F7: =E7*D7 -> 132596 | G7: =공종별내역서!H29 -> 6293304 | H7: =G7*D7 -> 6293304 | I7: =공종별내역서!J29 -> 1017136 | J7: =I7*D7 -> 1017136 | K7: =E7+G7+I7 -> 7443036 | L7: =F7+H7+J7 -> 7443036 | N7: 010101 | P7: 0101 | R7: 3
A8: 기초 및 토공사 | D8: 1 | E8: =공종별내역서!F55 -> 501951 | F8: =E8*D8 -> 501951 | G8: =공종별내역서!H55 -> 4077692 | H8: =G8*D8 -> 4077692 | I8: =공종별내역서!J55 -> 327183 | J8: =I8*D8 -> 327183 | K8: =E8+G8+I8 -> 4906826 | L8: =F8+H8+J8 -> 4906826 | N8: 010102 | P8: 0101 | R8: 3
A9: 철근콘크리트공사 | D9: 1 | E9: =공종별내역서!F81 -> 1194358 | F9: =E9*D9 -> 1194358 | G9: =공종별내역서!H81 -> 28417659 | H9: =G9*D9 -> 28417659 | I9: =공종별내역서!J81 -> 2130728 | J9: =I9*D9 -> 2130728 | K9: =E9+G9+I9 -> 31742745 | L9: =F9+H9+J9 -> 31742745 | N9: 010103 | P9: 0101 | R9: 3
A10: 철골공사 | D10: 1 | E10: =공종별내역서!F133 -> 63217822 | F10: =E10*D10 -> 63217822 | G10: =공종별내역서!H133 -> 36767812 | H10: =G10*D10 -> 36767812 | I10: =공종별내역서!J133 -> 11371335 | J10: =I10*D10 -> 11371335 | K10: =E10+G10+I10 -> 111356969 | L10: =F10+H10+J10 -> 111356969 | N10: 010104 | P10: 0101 | R10: 3
A11: 미장 및 도장 공사 | D11: 1 | E11: =공종별내역서!F159 -> 2554252 | F11: =E11*D11 -> 2554252 | G11: =공종별내역서!H159 -> 3018532 | H11: =G11*D11 -> 3018532 | I11: =공종별내역서!J159 -> 0 | J11: =I11*D11 -> 0 | K11: =E11+G11+I11 -> 5572784 | L11: =F11+H11+J11 -> 5572784 | N11: 010105 | P11: 0101 | R11: 3
A12: 금 속 공 사 | D12: 1 | E12: =공종별내역서!F185 -> 13586972 | F12: =E12*D12 -> 13586972 | G12: =공종별내역서!H185 -> 2371788 | H12: =G12*D12 -> 2371788 | I12: =공종별내역서!J185 -> 118417 | J12: =I12*D12 -> 118417 | K12: =E12+G12+I12 -> 16077177 | L12: =F12+H12+J12 -> 16077177 | N12: 010106 | P12: 0101 | R12: 3
A13: 판 넬 공 사 | D13: 1 | E13: =공종별내역서!F211 -> 18315240 | F13: =E13*D13 -> 18315240 | G13: =공종별내역서!H211 -> 18045120 | H13: =G13*D13 -> 18045120 | I13: =공종별내역서!J211 -> 3873520 | J13: =I13*D13 -> 3873520 | K13: =E13+G13+I13 -> 40233880 | L13: =F13+H13+J13 -> 40233880 | N13: 010107 | P13: 0101 | R13: 3
A14: 창 호 공 사 | D14: 1 | E14: =공종별내역서!F237 -> 32308634 | F14: =E14*D14 -> 32308634 | G14: =공종별내역서!H237 -> 2030296 | H14: =G14*D14 -> 2030296 | I14: =공종별내역서!J237 -> 18234 | J14: =I14*D14 -> 18234 | K14: =E14+G14+I14 -> 34357164 | L14: =F14+H14+J14 -> 34357164 | N14: 010108 | P14: 0101 | R14: 3
A15: 기 타 공 사 | D15: 1 | E15: =공종별내역서!F263 -> 32000000 | F15: =E15*D15 -> 32000000 | G15: =공종별내역서!H263 -> 0 | H15: =G15*D15 -> 0 | I15: =공종별내역서!J263 -> 1112588 | J15: =I15*D15 -> 1112588 | K15: =E15+G15+I15 -> 33112588 | L15: =F15+H15+J15 -> 33112588 | N15: 010109 | P15: 0101 | R15: 3
A16: 골 재 비 | D16: 1 | E16: =공종별내역서!F289 -> 667590 | F16: =E16*D16 -> 667590 | G16: =공종별내역서!H289 -> 0 | H16: =G16*D16 -> 0 | I16: =공종별내역서!J289 -> 0 | J16: =I16*D16 -> 0 | K16: =E16+G16+I16 -> 667590 | L16: =F16+H16+J16 -> 667590 | N16: 010110 | P16: 0101 | R16: 3
A17: 품 질 시 험 비 | D17: 1 | E17: =공종별내역서!F315 -> 0 | F17: =E17*D17 -> 0 | G17: =공종별내역서!H315 -> 0 | H17: =G17*D17 -> 0 | I17: =공종별내역서!J315 -> 955408 | J17: =I17*D17 -> 955408 | K17: =E17+G17+I17 -> 955408 | L17: =F17+H17+J17 -> 955408 | N17: 0102 | Q17: 7 | R17: 2 | T17: =L17*1 -> 955408
A18: 토 목 공 사 | D18: 1 | E18: =공종별내역서!F341 -> 10425245 | F18: =E18*D18 -> 10425245 | G18: =공종별내역서!H341 -> 10441507 | H18: =G18*D18 -> 10441507 | I18: =공종별내역서!J341 -> 5424296 | J18: =I18*D18 -> 5424296 | K18: =E18+G18+I18 -> 26291048 | L18: =F18+H18+J18 -> 26291048 | N18: 0103 | P18: 01 | R18: 2
A19: 관급자재비 | D19: 1 | E19: =공종별내역서!F367 -> 134213337 | F19: =E19*D19 -> 134213337 | G19: =공종별내역서!H367 -> 0 | H19: =G19*D19 -> 0 | I19: =공종별내역서!J367 -> 0 | J19: =I19*D19 -> 0 | K19: =E19+G19+I19 -> 134213337 | L19: =F19+H19+J19 -> 134213337 | N19: 0104 | Q19: 3 | R19: 2 | T19: =L19*1 -> 134213337
A29: [ 합 계 ] | F29: =F5 -> 174904660 | H29: =H5 -> 111463710 | J29: =J5 -> 25393437 | L29: =L5 -> 311761807

Sheet 공종별내역서
A1: [ 2026년고성능임업기계장비 장비고 신축공사 ]
A2: 품 명 | B2: 규 격 | C2: 단위 | D2: 수량 | E2: 재 료 비 | G2: 노 무 비 | I2: 경 비 | K2: 합 계 | M2: 비 고 | N2: 품목코드 | O2: 변수 | P2: 설정 | Q2: 공종코드 | R2: 일위 | S2: 단산 | T2: 자재 | U2: 손료적용 | V2: 손료저장 | W2: 적용율 | X2: JUK1 | Y2: JUK2 | Z2: JUK3 | AA2: JUK4 | AB2: JUK5 | AC2: JUK6 | AD2: JUK7 | AE2: JUK8 | AF2: JUK9 | AG2: JUK10 | AH2: JUK11 | AI2: JUK12 | AJ2: JUK13 | AK2: JUK14 | AL2: JUK15 | AM2: JUK16 | AN2: JUK17 | AO2: JUK18 | AP2: JUK19 | AQ2: JUK20 | AR2: 자재구분 | AS2: 공종구분 | AT2: 공종레벨 | AU2: 공종+자재 | AV2: 고유번호
E3: 단 가 | F3: 금 액 | G3: 단 가 | H3: 금 액 | I3: 단 가 | J3: 금 액 | K3: 단 가 | L3: 금 액
A4: 가 설 공 사 | Q4: 010101
A5: 콘테이너형 가설사무소 설치 및 해체 | B5: 3.0*6.0m, 3개월 | C5: 개소 | D5: 1 | E5: =TRUNC(일위대가목록!E4,0) -> 0 | F5: =TRUNC(E5*D5, 0) -> 0 | G5: =TRUNC(일위대가목록!F4,0) -> 0 | H5: =TRUNC(G5*D5, 0) -> 0 | I5: =TRUNC(일위대가목록!G4,0) -> 1017136 | J5: =TRUNC(I5*D5, 0) -> 1017136 | K5: =TRUNC(E5+G5+I5, 0) -> 1017136 | L5: =TRUNC(F5+H5+J5, 0) -> 1017136 | M5: 호표 1 | N5: 59A4A52B6E60D3F217E446BC10EA8B | Q5: 010101 | R5: T | S5: F | T5: F | AU5: 01010159A4A52B6E60D3F217E446BC10EA8B | AV5: 17
A6: 목재 평 규준틀 설치 및 철거 | C6: 개소 | D6: 4 | E6: =TRUNC(일위대가목록!E5,0) -> 8001 | F6: =TRUNC(E6*D6, 0) -> 32004 | G6: =TRUNC(일위대가목록!F5,0) -> 93266 | H6: =TRUNC(G6*D6, 0) -> 373064 | I6: =TRUNC(일위대가목록!G5,0) -> 0 | J6: =TRUNC(I6*D6, 0) -> 0 | K6: =TRUNC(E6+G6+I6, 0) -> 101267 | L6: =TRUNC(F6+H6+J6, 0) -> 405068 | M6: 호표 2 | N6: 59A4A5289B6B5AD617BF89471AB473 | Q6: 010101 | R6: T | S6: F | T6: F | AU6: 01010159A4A5289B6B5AD617BF89471AB473 | AV6: 15
A7: 목재 귀 규준틀 설치 및 철거 | C7: 개소 | D7: 8 | E7: =TRUNC(일위대가목록!E6,0) -> 12574 | F7: =TRUNC(E7*D7, 0) -> 100592 | G7: =TRUNC(일위대가목록!F6,0) -> 160723 | H7: =TRUNC(G7*D7, 0) -> 1285784 | I7: =TRUNC(일위대가목록!G6,0) -> 0 | J7: =TRUNC(I7*D7, 0) -> 0 | K7: =TRUNC(E7+G7+I7, 0) -> 173297 | L7: =TRUNC(F7+H7+J7, 0) -> 1386376 | M7: 호표 3 | N7: 59A4A5289B6B5AD617BF897C1F59EF | Q7: 010101 | R7: T | S7: F | T7: F | AU7: 01010159A4A5289B6B5AD617BF897C1F59EF | AV7: 16
A8: 건축물 현장정리 | B8: 목조, 철골조, 조적조 | C8: M2 | D8: 347.88 | E8: =TRUNC(일위대가목록!E7,0) -> 0 | F8: =TRUNC(E8*D8, 0) -> 0 | G8: =TRUNC(일위대가목록!F7,0) -> 8603 | H8: =TRUNC(G8*D8, 0) -> 2992811 | I8: =TRUNC(일위대가목록!G7,0) -> 0 | J8: =TRUNC(I8*D8, 0) -> 0 | K8: =TRUNC(E8+G8+I8, 0) -> 8603 | L8: =TRUNC(F8+H8+J8, 0) -> 2992811 | M8: 호표 4 | N8: 59A4A52D1860BDE317D64D9818B360 | Q8: 010101 | R8: T | S8: F | T8: F | AU8: 01010159A4A52D1860BDE317D64D9818B360 | AV8: 19
A9: 구조부 먹매김 | B9: 일반 | C9: M2 | D9: 347.88 | E9: =TRUNC(일위대가목록!E8,0) -> 0 | F9: =TRUNC(E9*D9, 0) -> 0 | G9: =TRUNC(일위대가목록!F8,0) -> 1388 | H9: =TRUNC(G9*D9, 0) -> 482857 | I9: =TRUNC(일위대가목록!G8,0) -> 0 | J9: =TRUNC(I9*D9, 0) -> 0 | K9: =TRUNC(E9+G9+I9, 0) -> 1388 | L9: =TRUNC(F9+H9+J9, 0) -> 482857 | M9: 호표 5 | N9: 59A4A52D1B6C1700175AEC171F2FB5 | Q9: 010101 | R9: T | S9: F | T9: F | AU9: 01010159A4A52D1B6C1700175AEC171F2FB5 | AV9: 20
A10: 거푸집 먹매김 | B10: 일반 | C10: M2 | D10: 347.88 | E10: =TRUNC(일위대가목록!E9,0) -> 0 | F10: =TRUNC(E10*D10, 0) -> 0 | G10: =TRUNC(일위대가목록!F9,0) -> 3331 | H10: =TRUNC(G10*D10, 0) -> 1158788 | I10: =TRUNC(일위대가목록!G9,0) -> 0 | J10: =TRUNC(I10*D10, 0) -> 0 | K10: =TRUNC(E10+G10+I10, 0) -> 3331 | L10: =TRUNC(F10+H10+J10, 0) -> 1158788 | M10: 호표 6 | N10: 59A4A52D1B6C1700175AC14E1BCE4C | Q10: 010101 | R10: T | S10: F | T10: F | AU10: 01010159A4A52D1B6C1700175AC14E1BCE4C | AV10: 21
Q11: 010101
Q12: 010101
Q13: 010101
Q14: 010101
Q15: 010101
Q16: 010101
Q17: 010101
Q18: 010101
Q19: 010101
Q20: 010101
Q21: 010101
Q22: 010101
... Q28: 010101
A29: [ 합 계 ] | F29: =SUMIF(Q5:Q28,"010101",F5:F28) -> 132596 | H29: =SUMIF(Q5:Q28,"010101",H5:H28) -> 6293304 | J29: =SUMIF(Q5:Q28,"010101",J5:J28) -> 1017136 | L29: =SUMIF(Q5:Q28,"010101",L5:L28) -> 7443036 | N29: TOTAL
A30: 기초 및 토공사 | Q30: 010102
A31: 터파기/토사 | B31: 보통, 굴착기 0.7m3 90%, 인력10% | C31: M3 | D31: 353.13 | E31: 393 | F31: =TRUNC(E31*D31, 0) -> 138780 | G31: 7181 | H31: =TRUNC(G31*D31, 0) -> 2535826 | I31: 374 | J31: =TRUNC(I31*D31, 0) -> 132070 | K31: =TRUNC(E31+G31+I31, 0) -> 7948 | L31: =TRUNC(F31+H31+J31, 0) -> 2806676 | M31: 산근 1 | N31: 59879504D36D104D17BB6AB81C44BB | Q31: 010102 | R31: F | S31: T | T31: F | AU31: 01010259879504D36D104D17BB6AB81C44BB | AV31: 22
A32: 토사(단지내 잔토포설) | B32: 보통, 굴착기 0.7m3 | C32: M3 | D32: 353.13 | E32: 248 | F32: =TRUNC(E32*D32, 0) -> 87576 | G32: 567 | H32: =TRUNC(G32*D32, 0) -> 200224 | I32: 236 | J32: =TRUNC(I32*D32, 0) -> 83338 | K32: =TRUNC(E32+G32+I32, 0) -> 1051 | L32: =TRUNC(F32+H32+J32, 0) -> 371138 | M32: 산근 2 | N32: 598795084F6C1BE717B33242125707 | Q32: 010102 | R32: F | S32: T | T32: F | AU32: 010102598795084F6C1BE717B33242125707 | AV32: 23
A33: 방습필름 설치 - 바닥 | B33: 폴리에틸렌필름, 두께, 0.03mm, 2겹 | C33: M2 | D33: 396.66 | E33: =TRUNC(일위대가목록!E10,0) -> 418 | F33: =TRUNC(E33*D33, 0) -> 165803 | G33: =TRUNC(일위대가목록!F10,0) -> 1456 | H33: =TRUNC(G33*D33, 0) -> 577536 | I33: =TRUNC(일위대가목록!G10,0) -> 0 | J33: =TRUNC(I33*D33, 0) -> 0 | K33: =TRUNC(E33+G33+I33, 0) -> 1874 | L33: =TRUNC(F33+H33+J33, 0) -> 743339 | M33: 호표 7 | N33: 59A445450F672840172BA1821E8ABA | Q33: 010102 | R33: T | S33: F | T33: F | AU33: 01010259A445450F672840172BA1821E8ABA | AV33: 24
A34: 기초 지정 | B34: 잡석지정 | C34: M3 | D34: 79.33 | E34: =TRUNC(일위대가목록!E11,0) -> 1384 | F34: =TRUNC(E34*D34, 0) -> 109792 | G34: =TRUNC(일위대가목록!F11,0) -> 9632 | H34: =TRUNC(G34*D34, 0) -> 764106 | I34: =TRUNC(일위대가목록!G11,0) -> 1409 | J34: =TRUNC(I34*D34, 0) -> 111775 | K34: =TRUNC(E34+G34+I34, 0) -> 12425 | L34: =TRUNC(F34+H34+J34, 0) -> 985673 | M34: 호표 8 | N34: 598795084B6664E1173A282E189C42 | Q34: 010102 | R34: T | S34: F | T34: F | AU34: 010102598795084B6664E1173A282E189C42 | AV34: 25
Q35: 010102
Q36: 010102
Q37: 010102
Q38: 010102
Q39: 010102
Q40: 010102
Q41: 010102
Q42: 010102
Q43: 010102
Q44: 010102
Q45: 010102
Q46: 010102
... Q54: 010102
A55: [ 합 계 ] | F55: =SUMIF(Q31:Q54,"010102",F31:F54) -> 501951 | H55: =SUMIF(Q31:Q54,"010102",H31:H54) -> 4077692 | J55: =SUMIF(Q31:Q54,"010102",J31:J54) -> 327183 | L55: =SUMIF(Q31:Q54,"010102",L31:L54) -> 4906826 | N55: TOTAL
A56: 철근콘크리트공사 | Q56: 010103
A57: 철근콘크리트용봉강(관급) | B57: 철근콘크리트용봉강, 이형봉강(SD400), HD-16 | C57: TON | D57: 1.7113 | M57: 관급자재 | N57: 5E8695AC4B60C65D17C9C29A1F58F04C01EA04 | R57: F | S57: F | T57: T | AR57: 관급자재 | AU57: 0101035E8695AC4B60C65D17C9C29A1F58F04C01EA04 | AV57: 26
A58: 철근콘크리트용봉강(관급) | B58: 철근콘크리트용봉강, 이형봉강(SD400), HD-22 | C58: TON | D58: 26.402 | M58: 관급자재 | N58: 5E8695AC4B60C65D17C9C29A1F58F04C01EA02 | R58: F | S58: F | T58: T | AR58: 관급자재 | AU58: 0101035E8695AC4B60C65D17C9C29A1F58F04C01EA02 | AV58: 27
A59: 레미콘(관급) | B59: 25-18-120 | C59: M3 | D59: 20.23 | M59: 관급자재 | N59: 5E8695AC4A667A3D17F077171A374657E1B871 | R59: F | S59: F | T59: T | AR59: 관급자재 | AU59: 0101035E8695AC4A667A3D17F077171A374657E1B871 | AV59: 28
A60: 레미콘(관급) | B60: 25-27-120 | C60: M3 | D60: 361.27 | M60: 관급자재 | N60: 5E8695AC4A667A3D17F077171A374650B9133B | R60: F | S60: F | T60: T | AR60: 관급자재 | AU60: 0101035E8695AC4A667A3D17F077171A374650B9133B | AV60: 29
A61: 철근 현장가공 및 현장조립 | B61: Type-Ⅰ | C61: TON | D61: 27.29 | E61: =TRUNC(일위대가목록!E12,0) -> 10101 | F61: =TRUNC(E61*D61, 0) -> 275656 | G61: =TRUNC(일위대가목록!F12,0) -> 791069 | H61: =TRUNC(G61*D61, 0) -> 21588273 | I61: =TRUNC(일위대가목록!G12,0) -> 31048 | J61: =TRUNC(I61*D61, 0) -> 847299 | K61: =TRUNC(E61+G61+I61, 0) -> 832218 | L61: =TRUNC(F61+H61+J61, 0) -> 22711228 | M61: 호표 9 | N61: 59A4F5A98A67AB091711792F158157 | Q61: 010103 | R61: T | S61: F | T61: F | AU61: 01010359A4F5A98A67AB091711792F158157 | AV61: 30
A62: 유로폼 설치 및 해체 | B62: 3회, 간단, 수직고 7m까지 | C62: M2 | D62: 90.2 | E62: =TRUNC(일위대가목록!E13,0) -> 3967 | F62: =TRUNC(E62*D62, 0) -> 357823 | G62: =TRUNC(일위대가목록!F13,0) -> 31880 | H62: =TRUNC(G62*D62, 0) -> 2875576 | I62: =TRUNC(일위대가목록!G13,0) -> 956 | J62: =TRUNC(I62*D62, 0) -> 86231 | K62: =TRUNC(E62+G62+I62, 0) -> 36803 | L62: =TRUNC(F62+H62+J62, 0) -> 3319630 | M62: 호표 10 | N62: 59A4F5AA956C6518173C776F10B780 | Q62: 010103 | R62: T | S62: F | T62: F | AU62: 01010359A4F5AA956C6518173C776F10B780 | AV62: 31
A63: 콘크리트 펌프차 타설(무근, 진동기無) | B63: slump 8~12cm, 매트기초 등, f2 : Type-Ⅰ, 32m | C63: M3 | D63: 19.83 | E63: =TRUNC(일위대가목록!E14,0) -> 1786 | F63: =TRUNC(E63*D63, 0) -> 35416 | G63: =TRUNC(일위대가목록!F14,0) -> 6736 | H63: =TRUNC(G63*D63, 0) -> 133574 | I63: =TRUNC(일위대가목록!G14,0) -> 2885 | J63: =TRUNC(I63*D63, 0) -> 57209 | K63: =TRUNC(E63+G63+I63, 0) -> 11407 | L63: =TRUNC(F63+H63+J63, 0) -> 226199 | M63: 호표 11 | N63: 59A4F5AD646237681737EB8A1168AD | Q63: 010103 | R63: T | S63: F | T63: F | AU63: 01010359A4F5AD646237681737EB8A1168AD | AV63: 32
A64: 콘크리트 펌프차 타설 | B64: slump 8~12cm, 매트기초 등, f2 : Type-Ⅰ, 32m | C64: M3 | D64: 357.7 | E64: =TRUNC(일위대가목록!E15,0) -> 2043 | F64: =TRUNC(E64*D64, 0) -> 730781 | G64: =TRUNC(일위대가목록!F15,0) -> 10680 | H64: =TRUNC(G64*D64, 0) -> 3820236 | I64: =TRUNC(일위대가목록!G15,0) -> 3187 | J64: =TRUNC(I64*D64, 0) -> 1139989 | K64: =TRUNC(E64+G64+I64, 0) -> 15910 | L64: =TRUNC(F64+H64+J64, 0) -> 5691006 | M64: 호표 12 | N64: 59A4F5AD676F212D1727964318C86E | Q64: 010103 | R64: T | S64: F | T64: F | AU64: 01010359A4F5AD676F212D1727964318C86E | AV64: 33
A65: 철강설 | B65: 철강설, 고철, 작업설부산물 | C65: kg | D65: -818 | E65: =TRUNC(단가대비표!O15,0) -> 251 | F65: =TRUNC(E65*D65, 0) -> -205318 | G65: =TRUNC(단가대비표!P15,0) -> 0 | H65: =TRUNC(G65*D65, 0) -> 0 | I65: =TRUNC(단가대비표!V15,0) -> 0 | J65: =TRUNC(I65*D65, 0) -> 0 | K65: =TRUNC(E65+G65+I65, 0) -> 251 | L65: =TRUNC(F65+H65+J65, 0) -> -205318 | M65: 수집상차도 | N65: 5EA165639E6F14C4173A86F110647457789191 | Q65: 010103 | R65: F | S65: F | T65: T | AU65: 0101035EA165639E6F14C4173A86F110647457789191 | AV65: 34
Q66: 010103
Q67: 010103
Q68: 010103
Q69: 010103
Q70: 010103
Q71: 010103
Q72: 010103
Q73: 010103
Q74: 010103
Q75: 010103
Q76: 010103
Q77: 010103
... Q80: 010103
A81: [ 합 계 ] | F81: =SUMIF(Q57:Q80,"010103",F57:F80) -> 1194358 | H81: =SUMIF(Q57:Q80,"010103",H57:H80) -> 28417659 | J81: =SUMIF(Q57:Q80,"010103",J57:J80) -> 2130728 | L81: =SUMIF(Q57:Q80,"010103",L57:L80) -> 31742745 | N81: TOTAL
A82: 철골공사 | Q82: 010104
A83: H형강 | B83: SHN275, 500*200*10*16mm, 현장도착도 | C83: TON | D83: 3.164 | E83: =TRUNC(단가대비표!O33,0) -> 1240000 | F83: =TRUNC(E83*D83, 0) -> 3923360 | G83: =TRUNC(단가대비표!P33,0) -> 0 | H83: =TRUNC(G83*D83, 0) -> 0 | I83: =TRUNC(단가대비표!V33,0) -> 0 | J83: =TRUNC(I83*D83, 0) -> 0 | K83: =TRUNC(E83+G83+I83, 0) -> 1240000 | L83: =TRUNC(F83+H83+J83, 0) -> 3923360 | M83: 89.6kg/m | N83: 5E8695AC4B60C6431771D70A1E4EDA63920FEA | Q83: 010104 | R83: F | S83: F | T83: T | AU83: 0101045E8695AC4B60C6431771D70A1E4EDA63920FEA | AV83: 141
A84: H형강 | B84: SHN275, 450*200*9*14mm, 현장도착도 | C84: TON | D84: 1.366 | E84: =TRUNC(단가대비표!O32,0) -> 1240000 | F84: =TRUNC(E84*D84, 0) -> 1693840 | G84: =TRUNC(단가대비표!P32,0) -> 0 | H84: =TRUNC(G84*D84, 0) -> 0 | I84: =TRUNC(단가대비표!V32,0) -> 0 | J84: =TRUNC(I84*D84, 0) -> 0 | K84: =TRUNC(E84+G84+I84, 0) -> 1240000 | L84: =TRUNC(F84+H84+J84, 0) -> 1693840 | M84: 76.0kg/m | N84: 5E8695AC4B60C6431771D70A1E4EDA63920C1B | Q84: 010104 | R84: F | S84: F | T84: T | AU84: 0101045E8695AC4B60C6431771D70A1E4EDA63920C1B | AV84: 142
A85: H형강 | B85: SHN275, 400*200*8*13mm, 현장도착도 | C85: TON | D85: 5.583 | E85: =TRUNC(단가대비표!O31,0) -> 1240000 | F85: =TRUNC(E85*D85, 0) -> 6922920 | G85: =TRUNC(단가대비표!P31,0) -> 0 | H85: =TRUNC(G85*D85, 0) -> 0 | I85: =TRUNC(단가대비표!V31,0) -> 0 | J85: =TRUNC(I85*D85, 0) -> 0 | K85: =TRUNC(E85+G85+I85, 0) -> 1240000 | L85: =TRUNC(F85+H85+J85, 0) -> 6922920 | M85: 66.0kg/m | N85: 5E8695AC4B60C6431771D70A1E4EDA63920D39 | Q85: 010104 | R85: F | S85: F | T85: T | AU85: 0101045E8695AC4B60C6431771D70A1E4EDA63920D39 | AV85: 143
A86: H형강 | B86: SHN275, 482*300*11*15mm, 현장도착도 | C86: TON | D86: 9.758 | E86: =TRUNC(단가대비표!O34,0) -> 1240000 | F86: =TRUNC(E86*D86, 0) -> 12099920 | G86: =TRUNC(단가대비표!P34,0) -> 0 | H86: =TRUNC(G86*D86, 0) -> 0 | I86: =TRUNC(단가대비표!V34,0) -> 0 | J86: =TRUNC(I86*D86, 0) -> 0 | K86: =TRUNC(E86+G86+I86, 0) -> 1240000 | L86: =TRUNC(F86+H86+J86, 0) -> 12099920 | M86: 114.0kg/m | N86: 5E8695AC4B60C6431771D70A1E4EDA63920FEC | Q86: 010104 | R86: F | S86: F | T86: T | AU86: 0101045E8695AC4B60C6431771D70A1E4EDA63920FEC | AV86: 144
A87: H형강 | B87: SHN275, 300*300*10*15mm, 현장도착도 | C87: TON | D87: 4.828 | E87: =TRUNC(단가대비표!O30,0) -> 1240000 | F87: =TRUNC(E87*D87, 0) -> 5986720 | G87: =TRUNC(단가대비표!P30,0) -> 0 | H87: =TRUNC(G87*D87, 0) -> 0 | I87: =TRUNC(단가대비표!V30,0) -> 0 | J87: =TRUNC(I87*D87, 0) -> 0 | K87: =TRUNC(E87+G87+I87, 0) -> 1240000 | L87: =TRUNC(F87+H87+J87, 0) -> 5986720 | M87: 94.0kg/m | N87: 5E8695AC4B60C6431771D70A1E4EDA63920B0A | Q87: 010104 | R87: F | S87: F | T87: T | AU87: 0101045E8695AC4B60C6431771D70A1E4EDA63920B0A | AV87: 145
A88: H형강 | B88: SHN275, 298*201*9*14mm, 현장도착도 | C88: TON | D88: 3.918 | E88: =TRUNC(단가대비표!O29,0) -> 1240000 | F88: =TRUNC(E88*D88, 0) -> 4858320 | G88: =TRUNC(단가대비표!P29,0) -> 0 | H88: =TRUNC(G88*D88, 0) -> 0 | I88: =TRUNC(단가대비표!V29,0) -> 0 | J88: =TRUNC(I88*D88, 0) -> 0 | K88: =TRUNC(E88+G88+I88, 0) -> 1240000 | L88: =TRUNC(F88+H88+J88, 0) -> 4858320 | M88: 65.4kg/m | N88: 5E8695AC4B60C6431771D70A1E4EDA63920B09 | Q88: 010104 | R88: F | S88: F | T88: T | AU88: 0101045E8695AC4B60C6431771D70A1E4EDA63920B09 | AV88: 146
A89: H형강 | B89: SHN275, 200*200*8*12mm, 현장도착도 | C89: TON | D89: 0.246 | E89: =TRUNC(단가대비표!O27,0) -> 1240000 | F89: =TRUNC(E89*D89, 0) -> 305040 | G89: =TRUNC(단가대비표!P27,0) -> 0 | H89: =TRUNC(G89*D89, 0) -> 0 | I89: =TRUNC(단가대비표!V27,0) -> 0 | J89: =TRUNC(I89*D89, 0) -> 0 | K89: =TRUNC(E89+G89+I89, 0) -> 1240000 | L89: =TRUNC(F89+H89+J89, 0) -> 305040 | M89: 49.9kg/m | N89: 5E8695AC4B60C6431771D70A1E4EDA63920956 | Q89: 010104 | R89: F | S89: F | T89: T | AU89: 0101045E8695AC4B60C6431771D70A1E4EDA63920956 | AV89: 147
A90: H형강 | B90: SHN275, 194*150*6*9mm, 현장도착도 | C90: TON | D90: 1.375 | E90: =TRUNC(단가대비표!O26,0) -> 1240000 | F90: =TRUNC(E90*D90, 0) -> 1705000 | G90: =TRUNC(단가대비표!P26,0) -> 0 | H90: =TRUNC(G90*D90, 0) -> 0 | I90: =TRUNC(단가대비표!V26,0) -> 0 | J90: =TRUNC(I90*D90, 0) -> 0 | K90: =TRUNC(E90+G90+I90, 0) -> 1240000 | L90: =TRUNC(F90+H90+J90, 0) -> 1705000 | M90: 30.6kg/m | N90: 5E8695AC4B60C6431771D70A1E4EDA63920957 | Q90: 010104 | R90: F | S90: F | T90: T | AU90: 0101045E8695AC4B60C6431771D70A1E4EDA63920957 | AV90: 148
A91: H형강 | B91: SHN275, 300*150*6.5*9mm, 현장도착도 | C91: TON | D91: 7.084 | E91: =TRUNC(단가대비표!O28,0) -> 1240000 | F91: =TRUNC(E91*D91, 0) -> 8784160 | G91: =TRUNC(단가대비표!P28,0) -> 0 | H91: =TRUNC(G91*D91, 0) -> 0 | I91: =TRUNC(단가대비표!V28,0) -> 0 | J91: =TRUNC(I91*D91, 0) -> 0 | K91: =TRUNC(E91+G91+I91, 0) -> 1240000 | L91: =TRUNC(F91+H91+J91, 0) -> 8784160 | M91: 36.7kg/m | N91: 5E8695AC4B60C6431771D70A1E4EDA63920B0F | Q91: 010104 | R91: F | S91: F | T91: T | AU91: 0101045E8695AC4B60C6431771D70A1E4EDA63920B0F | AV91: 149
A92: T형강 | B92: SHN275, 200*200*8*13mm, 현장도착도 | C92: TON | D92: 0.113 | E92: =TRUNC(단가대비표!O35,0) -> 1240000 | F92: =TRUNC(E92*D92, 0) -> 140120 | G92: =TRUNC(단가대비표!P35,0) -> 0 | H92: =TRUNC(G92*D92, 0) -> 0 | I92: =TRUNC(단가대비표!V35,0) -> 0 | J92: =TRUNC(I92*D92, 0) -> 0 | K92: =TRUNC(E92+G92+I92, 0) -> 1240000 | L92: =TRUNC(F92+H92+J92, 0) -> 140120 | M92: 66.0kg/m | N92: 5E8695AC4B60C6431771D70A1E4EDA6392010D | Q92: 010104 | R92: F | S92: F | T92: T | AU92: 0101045E8695AC4B60C6431771D70A1E4EDA6392010D | AV92: 161
A93: 경량형강 | B93: 경량형강, 칼라C형강, 150*50*20, t3.2 | C93: TON | D93: 3.571 | E93: =TRUNC(단가대비표!O36,0) -> 1020000 | F93: =TRUNC(E93*D93, 0) -> 3642420 | G93: =TRUNC(단가대비표!P36,0) -> 0 | H93: =TRUNC(G93*D93, 0) -> 0 | I93: =TRUNC(단가대비표!V36,0) -> 0 | J93: =TRUNC(I93*D93, 0) -> 0 | K93: =TRUNC(E93+G93+I93, 0) -> 1020000 | L93: =TRUNC(F93+H93+J93, 0) -> 3642420 | N93: 5E8695AC4B60C6431771D73613190E06E9F19F | Q93: 010104 | R93: F | S93: F | T93: T | AU93: 0101045E8695AC4B60C6431771D73613190E06E9F19F | AV93: 44
A94: ㄱ형강 | B94: ㄱ형강, 등변, 50*50*5mm | C94: kg | D94: 1119 | E94: =TRUNC(단가대비표!O20,0) -> 940 | F94: =TRUNC(E94*D94, 0) -> 1051860 | G94: =TRUNC(단가대비표!P20,0) -> 0 | H94: =TRUNC(G94*D94, 0) -> 0 | I94: =TRUNC(단가대비표!V20,0) -> 0 | J94: =TRUNC(I94*D94, 0) -> 0 | K94: =TRUNC(E94+G94+I94, 0) -> 940 | L94: =TRUNC(F94+H94+J94, 0) -> 1051860 | N94: 5E8695AC4B60C66E174A9D931ADCE5BFF24121 | Q94: 010104 | R94: F | S94: F | T94: T | AU94: 0101045E8695AC4B60C66E174A9D931ADCE5BFF24121 | AV94: 45
A95: 일반봉강 | B95: 일반봉강, SS400, ∮16mm | C95: kg | D95: 115.47 | E95: =TRUNC(단가대비표!O21,0) -> 1036 | F95: =TRUNC(E95*D95, 0) -> 119626 | G95: =TRUNC(단가대비표!P21,0) -> 0 | H95: =TRUNC(G95*D95, 0) -> 0 | I95: =TRUNC(단가대비표!V21,0) -> 0 | J95: =TRUNC(I95*D95, 0) -> 0 | K95: =TRUNC(E95+G95+I95, 0) -> 1036 | L95: =TRUNC(F95+H95+J95, 0) -> 119626 | N95: 5E8695AC4B60C65D17DB829D1A55135FF865E7 | Q95: 010104 | R95: F | S95: F | T95: T | AU95: 0101045E8695AC4B60C65D17DB829D1A55135FF865E7 | AV95: 46
A96: 일반봉강 | B96: 일반봉강, SS400, ∮25mm | C96: kg | D96: 656.5 | E96: =TRUNC(단가대비표!O22,0) -> 1036 | F96: =TRUNC(E96*D96, 0) -> 680134 | G96: =TRUNC(단가대비표!P22,0) -> 0 | H96: =TRUNC(G96*D96, 0) -> 0 | I96: =TRUNC(단가대비표!V22,0) -> 0 | J96: =TRUNC(I96*D96, 0) -> 0 | K96: =TRUNC(E96+G96+I96, 0) -> 1036 | L96: =TRUNC(F96+H96+J96, 0) -> 680134 | N96: 5E8695AC4B60C65D17DB829D1A55135FF86A62 | Q96: 010104 | R96: F | S96: F | T96: T | AU96: 0101045E8695AC4B60C65D17DB829D1A55135FF86A62 | AV96: 47
A97: 턴버클(아연도금) | B97: 16mm | C97: 개 | D97: 25 | E97: =TRUNC(단가대비표!O86,0) -> 3680 | F97: =TRUNC(E97*D97, 0) -> 92000 | G97: =TRUNC(단가대비표!P86,0) -> 0 | H97: =TRUNC(G97*D97, 0) -> 0 | I97: =TRUNC(단가대비표!V86,0) -> 0 | J97: =TRUNC(I97*D97, 0) -> 0 | K97: =TRUNC(E97+G97+I97, 0) -> 3680 | L97: =TRUNC(F97+H97+J97, 0) -> 92000 | N97: 5E8685864E63C40C170EF3381FDA790E9AF35E | Q97: 010104 | R97: F | S97: F | T97: T | AU97: 0101045E8685864E63C40C170EF3381FDA790E9AF35E | AV97: 48
A98: 턴버클(아연도금) | B98: 25mm | C98: 개 | D98: 58 | E98: =TRUNC(단가대비표!O87,0) -> 11840 | F98: =TRUNC(E98*D98, 0) -> 686720 | G98: =TRUNC(단가대비표!P87,0) -> 0 | H98: =TRUNC(G98*D98, 0) -> 0 | I98: =TRUNC(단가대비표!V87,0) -> 0 | J98: =TRUNC(I98*D98, 0) -> 0 | K98: =TRUNC(E98+G98+I98, 0) -> 11840 | L98: =TRUNC(F98+H98+J98, 0) -> 686720 | N98: 5E8685864E63C40C170EF3381FDA790E9AF50F | Q98: 010104 | R98: F | S98: F | T98: T | AU98: 0101045E8685864E63C40C170EF3381FDA790E9AF50F | AV98: 49
A99: 일반구조용압연강판 | B99: 일반구조용압연강판, t=7.0mm | C99: kg | D99: 127.66 | E99: =TRUNC(단가대비표!O37,0) -> 1193 | F99: =TRUNC(E99*D99, 0) -> 152298 | G99: =TRUNC(단가대비표!P37,0) -> 0 | H99: =TRUNC(G99*D99, 0) -> 0 | I99: =TRUNC(단가대비표!V37,0) -> 0 | J99: =TRUNC(I99*D99, 0) -> 0 | K99: =TRUNC(E99+G99+I99, 0) -> 1193 | L99: =TRUNC(F99+H99+J99, 0) -> 152298 | N99: 5E8695AC4B60F35C171D77BA1F94D2202F0F8A | Q99: 010104 | R99: F | S99: F | T99: T | AU99: 0101045E8695AC4B60F35C171D77BA1F94D2202F0F8A | AV99: 50
A100: 일반구조용압연강판 | B100: 일반구조용압연강판, 8.0mm | C100: kg | D100: 71.29 | E100: =TRUNC(단가대비표!O46,0) -> 1162 | F100: =TRUNC(E100*D100, 0) -> 82838 | G100: =TRUNC(단가대비표!P46,0) -> 0 | H100: =TRUNC(G100*D100, 0) -> 0 | I100: =TRUNC(단가대비표!V46,0) -> 0 | J100: =TRUNC(I100*D100, 0) -> 0 | K100: =TRUNC(E100+G100+I100, 0) -> 1162 | L100: =TRUNC(F100+H100+J100, 0) -> 82838 | N100: 5E8695AC4B60F35C171D77BA1DEF52E67E36D3 | Q100: 010104 | R100: F | S100: F | T100: T | AU100: 0101045E8695AC4B60F35C171D77BA1DEF52E67E36D3 | AV100: 51
A101: 일반구조용압연강판 | B101: 일반구조용압연강판, 9.0mm | C101: kg | D101: 2543.55 | E101: =TRUNC(단가대비표!O38,0) -> 1130 | F101: =TRUNC(E101*D101, 0) -> 2874211 | G101: =TRUNC(단가대비표!P38,0) -> 0 | H101: =TRUNC(G101*D101, 0) -> 0 | I101: =TRUNC(단가대비표!V38,0) -> 0 | J101: =TRUNC(I101*D101, 0) -> 0 | K101: =TRUNC(E101+G101+I101, 0) -> 1130 | L101: =TRUNC(F101+H101+J101, 0) -> 2874211 | N101: 5E8695AC4B60F35C171D77BA1F94D2202F096A | Q101: 010104 | R101: F | S101: F | T101: T | AU101: 0101045E8695AC4B60F35C171D77BA1F94D2202F096A | AV101: 52
A102: 일반구조용압연강판 | B102: 일반구조용압연강판, 10.0mm | C102: kg | D102: 150.16 | E102: =TRUNC(단가대비표!O39,0) -> 1083 | F102: =TRUNC(E102*D102, 0) -> 162623 | G102: =TRUNC(단가대비표!P39,0) -> 0 | H102: =TRUNC(G102*D102, 0) -> 0 | I102: =TRUNC(단가대비표!V39,0) -> 0 | J102: =TRUNC(I102*D102, 0) -> 0 | K102: =TRUNC(E102+G102+I102, 0) -> 1083 | L102: =TRUNC(F102+H102+J102, 0) -> 162623 | N102: 5E8695AC4B60F35C171D77BA1F94D2202F085E | Q102: 010104 | R102: F | S102: F | T102: T | AU102: 0101045E8695AC4B60F35C171D77BA1F94D2202F085E | AV102: 53
A103: 일반구조용압연강판 | B103: 일반구조용압연강판, 11.0mm | C103: kg | D103: 157.07 | E103: =TRUNC(단가대비표!O40,0) -> 1083 | F103: =TRUNC(E103*D103, 0) -> 170106 | G103: =TRUNC(단가대비표!P40,0) -> 0 | H103: =TRUNC(G103*D103, 0) -> 0 | I103: =TRUNC(단가대비표!V40,0) -> 0 | J103: =TRUNC(I103*D103, 0) -> 0 | K103: =TRUNC(E103+G103+I103, 0) -> 1083 | L103: =TRUNC(F103+H103+J103, 0) -> 170106 | N103: 5E8695AC4B60F35C171D77BA1F94D2202F085F | Q103: 010104 | R103: F | S103: F | T103: T | AU103: 0101045E8695AC4B60F35C171D77BA1F94D2202F085F | AV103: 103
A104: 일반구조용압연강판 | B104: 일반구조용압연강판, 12.0mm | C104: kg | D104: 1068.86 | E104: =TRUNC(단가대비표!O42,0) -> 1083 | F104: =TRUNC(E104*D104, 0) -> 1157575 | G104: =TRUNC(단가대비표!P42,0) -> 0 | H104: =TRUNC(G104*D104, 0) -> 0 | I104: =TRUNC(단가대비표!V42,0) -> 0 | J104: =TRUNC(I104*D104, 0) -> 0 | K104: =TRUNC(E104+G104+I104, 0) -> 1083 | L104: =TRUNC(F104+H104+J104, 0) -> 1157575 | N104: 5E8695AC4B60F35C171D77BA1F94D2202F0854 | Q104: 010104 | R104: F | S104: F | T104: T | AU104: 0101045E8695AC4B60F35C171D77BA1F94D2202F0854 | AV104: 54
A105: 일반구조용압연강판 | B105: 일반구조용압연강판, 13.0mm | C105: kg | D105: 94.29 | E105: =TRUNC(단가대비표!O45,0) -> 1083 | F105: =TRUNC(E105*D105, 0) -> 102116 | G105: =TRUNC(단가대비표!P45,0) -> 0 | H105: =TRUNC(G105*D105, 0) -> 0 | I105: =TRUNC(단가대비표!V45,0) -> 0 | J105: =TRUNC(I105*D105, 0) -> 0 | K105: =TRUNC(E105+G105+I105, 0) -> 1083 | L105: =TRUNC(F105+H105+J105, 0) -> 102116 | N105: 5E8695AC4B60F35C171D77BA1F94D2202F0B11 | Q105: 010104 | R105: F | S105: F | T105: T | AU105: 0101045E8695AC4B60F35C171D77BA1F94D2202F0B11 | AV105: 102
A106: 일반구조용압연강판 | B106: 일반구조용압연강판, 14.0mm | C106: kg | D106: 81.24 | E106: =TRUNC(단가대비표!O41,0) -> 1080 | F106: =TRUNC(E106*D106, 0) -> 87739 | G106: =TRUNC(단가대비표!P41,0) -> 0 | H106: =TRUNC(G106*D106, 0) -> 0 | I106: =TRUNC(단가대비표!V41,0) -> 0 | J106: =TRUNC(I106*D106, 0) -> 0 | K106: =TRUNC(E106+G106+I106, 0) -> 1080 | L106: =TRUNC(F106+H106+J106, 0) -> 87739 | N106: 5E8695AC4B60F35C171D77BA1F94D2202F0858 | Q106: 010104 | R106: F | S106: F | T106: T | AU106: 0101045E8695AC4B60F35C171D77BA1F94D2202F0858 | AV106: 55
A107: 일반구조용압연강판 | B107: 일반구조용압연강판, 16.0mm | C107: kg | D107: 1536.73 | E107: =TRUNC(단가대비표!O43,0) -> 1083 | F107: =TRUNC(E107*D107, 0) -> 1664278 | G107: =TRUNC(단가대비표!P43,0) -> 0 | H107: =TRUNC(G107*D107, 0) -> 0 | I107: =TRUNC(단가대비표!V43,0) -> 0 | J107: =TRUNC(I107*D107, 0) -> 0 | K107: =TRUNC(E107+G107+I107, 0) -> 1083 | L107: =TRUNC(F107+H107+J107, 0) -> 1664278 | N107: 5E8695AC4B60F35C171D77BA1F94D2202F0855 | Q107: 010104 | R107: F | S107: F | T107: T | AU107: 0101045E8695AC4B60F35C171D77BA1F94D2202F0855 | AV107: 56
A108: 일반구조용압연강판 | B108: 일반구조용압연강판, 20.0mm | C108: kg | D108: 602.93 | E108: =TRUNC(단가대비표!O44,0) -> 1083 | F108: =TRUNC(E108*D108, 0) -> 652973 | G108: =TRUNC(단가대비표!P44,0) -> 0 | H108: =TRUNC(G108*D108, 0) -> 0 | I108: =TRUNC(단가대비표!V44,0) -> 0 | J108: =TRUNC(I108*D108, 0) -> 0 | K108: =TRUNC(E108+G108+I108, 0) -> 1083 | L108: =TRUNC(F108+H108+J108, 0) -> 652973 | N108: 5E8695AC4B60F35C171D77BA1F94D2202F0B10 | Q108: 010104 | R108: F | S108: F | T108: T | AU108: 0101045E8695AC4B60F35C171D77BA1F94D2202F0B10 | AV108: 57
A109: 철골 가공 조립(적은 구조) | B109: Rolled shape, 60ton 미만 | C109: TON | D109: 42.314 | E109: =TRUNC(일위대가목록!E16,0) -> 17488 | F109: =TRUNC(E109*D109, 0) -> 739987 | G109: =TRUNC(일위대가목록!F16,0) -> 355880 | H109: =TRUNC(G109*D109, 0) -> 15058706 | I109: =TRUNC(일위대가목록!G16,0) -> 213528 | J109: =TRUNC(I109*D109, 0) -> 9035223 | K109: =TRUNC(E109+G109+I109, 0) -> 586896 | L109: =TRUNC(F109+H109+J109, 0) -> 24833916 | M109: 호표 13 | N109: 59A4E54792637FA7173DEA1E1544A2 | Q109: 010104 | R109: T | S109: F | T109: F | AU109: 01010459A4E54792637FA7173DEA1E1544A2 | AV109: 58
A110: 철골세우기 - 6층 미만 | B110: 50~55kg/m2 미만, 30∼50ton 미만 | C110: TON | D110: 42.314 | E110: =TRUNC(일위대가목록!E17,0) -> 604 | F110: =TRUNC(E110*D110, 0) -> 25557 | G110: =TRUNC(일위대가목록!F17,0) -> 206203 | H110: =TRUNC(G110*D110, 0) -> 8725273 | I110: =TRUNC(일위대가목록!G17,0) -> 0 | J110: =TRUNC(I110*D110, 0) -> 0 | K110: =TRUNC(E110+G110+I110, 0) -> 206807 | L110: =TRUNC(F110+H110+J110, 0) -> 8750830 | M110: 호표 14 | N110: 59A4E54108625AF21733FB371FB02A | Q110: 010104 | R110: T | S110: F | T110: F | AU110: 01010459A4E54108625AF21733FB371FB02A | AV110: 59
A111: 고장력 볼트 본조임 | B111: 30본/t 미만, 300ton 이상~500ton 미만 | C111: TON | D111: 34.986 | E111: =TRUNC(일위대가목록!E18,0) -> 0 | F111: =TRUNC(E111*D111, 0) -> 0 | G111: =TRUNC(일위대가목록!F18,0) -> 123550 | H111: =TRUNC(G111*D111, 0) -> 4322520 | I111: =TRUNC(일위대가목록!G18,0) -> 3706 | J111: =TRUNC(I111*D111, 0) -> 129658 | K111: =TRUNC(E111+G111+I111, 0) -> 127256 | L111: =TRUNC(F111+H111+J111, 0) -> 4452178 | M111: 호표 15 | N111: 59A4E541036A24D9173FEDB3118418 | Q111: 010104 | R111: T | S111: F | T111: F | AU111: 01010459A4E541036A24D9173FEDB3118418 | AV111: 60
A112: 고장력볼트 | B112: 고장력볼트, F10T, M24*95mm | C112: 조 | D112: 42 | E112: =TRUNC(단가대비표!O82,0) -> 1891 | F112: =TRUNC(E112*D112, 0) -> 79422 | G112: =TRUNC(단가대비표!P82,0) -> 0 | H112: =TRUNC(G112*D112, 0) -> 0 | I112: =TRUNC(단가대비표!V82,0) -> 0 | J112: =TRUNC(I112*D112, 0) -> 0 | K112: =TRUNC(E112+G112+I112, 0) -> 1891 | L112: =TRUNC(F112+H112+J112, 0) -> 79422 | N112: 5E8685864E63F1A317116436147096957909B4 | Q112: 010104 | R112: F | S112: F | T112: T | AU112: 0101045E8685864E63F1A317116436147096957909B4 | AV112: 62
A113: 고장력볼트 | B113: 고장력볼트, F10T, M20*85mm | C113: 조 | D113: 1762 | E113: =TRUNC(단가대비표!O81,0) -> 1045 | F113: =TRUNC(E113*D113, 0) -> 1841290 | G113: =TRUNC(단가대비표!P81,0) -> 0 | H113: =TRUNC(G113*D113, 0) -> 0 | I113: =TRUNC(단가대비표!V81,0) -> 0 | J113: =TRUNC(I113*D113, 0) -> 0 | K113: =TRUNC(E113+G113+I113, 0) -> 1045 | L113: =TRUNC(F113+H113+J113, 0) -> 1841290 | N113: 5E8685864E63F1A317116436147096957A2BD3 | Q113: 010104 | R113: F | S113: F | T113: T | AU113: 0101045E8685864E63F1A317116436147096957A2BD3 | AV113: 61
A114: 고장력볼트 | B114: 고장력볼트, F10T, M16*80mm | C114: 조 | D114: 484 | E114: =TRUNC(단가대비표!O80,0) -> 681 | F114: =TRUNC(E114*D114, 0) -> 329604 | G114: =TRUNC(단가대비표!P80,0) -> 0 | H114: =TRUNC(G114*D114, 0) -> 0 | I114: =TRUNC(단가대비표!V80,0) -> 0 | J114: =TRUNC(I114*D114, 0) -> 0 | K114: =TRUNC(E114+G114+I114, 0) -> 681 | L114: =TRUNC(F114+H114+J114, 0) -> 329604 | N114: 5E8685864E63F1A317116436147096957A2D88 | Q114: 010104 | R114: F | S114: F | T114: T | AU114: 0101045E8685864E63F1A317116436147096957A2D88 | AV114: 63
...

Sheet 일위대가목록
B1: 일 위 대 가 목 록
B2: [ 2026년고성능임업기계장비 장비고 신축공사 ]
A3: 코 드 | B3: 품 명 | C3: 규 격 | D3: 단위 | E3: 재 료 비 | F3: 노 무 비 | G3: 경 비 | H3: 합 계 | I3: 번 호 | J3: 비 고 | K3: 노임계수 | L3: 할증 | M3: 품셈개요 | N3: 장비일위
A4: 59A4A52B6E60D3F217E446BC10EA8B | B4: 콘테이너형 가설사무소 설치 및 해체 | C4: 3.0*6.0m, 3개월 | D4: 개소 | E4: =일위대가!F8 -> 0 | F4: =일위대가!H8 -> 0 | G4: =일위대가!J8 -> 1017136 | H4: =E4+F4+G4 -> 1017136 | I4: 호표 1 | M4: 공통 2-3-2, 2-2-3.2
A5: 59A4A5289B6B5AD617BF89471AB473 | B5: 목재 평 규준틀 설치 및 철거 | D5: 개소 | E5: =일위대가!F14 -> 8001 | F5: =일위대가!H14 -> 93266 | G5: =일위대가!J14 -> 0 | H5: =E5+F5+G5 -> 101267 | I5: 호표 2 | M5: 공통 2-5-4, 2-2-7
A6: 59A4A5289B6B5AD617BF897C1F59EF | B6: 목재 귀 규준틀 설치 및 철거 | D6: 개소 | E6: =일위대가!F20 -> 12574 | F6: =일위대가!H20 -> 160723 | G6: =일위대가!J20 -> 0 | H6: =E6+F6+G6 -> 173297 | I6: 호표 3 | M6: 공통 2-5-4, 2-2-7
A7: 59A4A52D1860BDE317D64D9818B360 | B7: 건축물 현장정리 | C7: 목조, 철골조, 조적조 | D7: M2 | E7: =일위대가!F24 -> 0 | F7: =일위대가!H24 -> 8603 | G7: =일위대가!J24 -> 0 | H7: =E7+F7+G7 -> 8603 | I7: 호표 4 | M7: 공통 2-11-2
A8: 59A4A52D1B6C1700175AEC171F2FB5 | B8: 구조부 먹매김 | C8: 일반 | D8: M2 | E8: =일위대가!F28 -> 0 | F8: =일위대가!H28 -> 1388 | G8: =일위대가!J28 -> 0 | H8: =E8+F8+G8 -> 1388 | I8: 호표 5 | M8: 건축 4-1-1
A9: 59A4A52D1B6C1700175AC14E1BCE4C | B9: 거푸집 먹매김 | C9: 일반 | D9: M2 | E9: =일위대가!F32 -> 0 | F9: =일위대가!H32 -> 3331 | G9: =일위대가!J32 -> 0 | H9: =E9+F9+G9 -> 3331 | I9: 호표 6 | M9: 건축 4-1-1
A10: 59A445450F672840172BA1821E8ABA | B10: 방습필름 설치 - 바닥 | C10: 폴리에틸렌필름, 두께, 0.03mm, 2겹 | D10: M2 | E10: =일위대가!F37 -> 418 | F10: =일위대가!H37 -> 1456 | G10: =일위대가!J37 -> 0 | H10: =E10+F10+G10 -> 1874 | I10: 호표 7 | M10: 건축 5-4-8
A11: 598795084B6664E1173A282E189C42 | B11: 기초 지정 | C11: 잡석지정 | D11: M3 | E11: =일위대가!F45 -> 1384 | F11: =일위대가!H45 -> 9632 | G11: =일위대가!J45 -> 1409 | H11: =E11+F11+G11 -> 12425 | I11: 호표 8 | M11: 공통 3-4-8
A12: 59A4F5A98A67AB091711792F158157 | B12: 철근 현장가공 및 현장조립 | C12: Type-Ⅰ | D12: TON | E12: =일위대가!F50 -> 10101 | F12: =일위대가!H50 -> 791069 | G12: =일위대가!J50 -> 31048 | H12: =E12+F12+G12 -> 832218 | I12: 호표 9 | M12: 공통 6-2-2, 3
A13: 59A4F5AA956C6518173C776F10B780 | B13: 유로폼 설치 및 해체 | C13: 3회, 간단, 수직고 7m까지 | D13: M2 | E13: =일위대가!F55 -> 3967 | F13: =일위대가!H55 -> 31880 | G13: =일위대가!J55 -> 956 | H13: =E13+F13+G13 -> 36803 | I13: 호표 10 | M13: 공통 6-3-3
A14: 59A4F5AD646237681737EB8A1168AD | B14: 콘크리트 펌프차 타설(무근, 진동기無) | C14: slump 8~12cm, 매트기초 등, f2 : Type-Ⅰ, 32m | D14: M3 | E14: =일위대가!F65 -> 1786 | F14: =일위대가!H65 -> 6736 | G14: =일위대가!J65 -> 2885 | H14: =E14+F14+G14 -> 11407 | I14: 호표 11 | M14: 공통 6-1-4
A15: 59A4F5AD676F212D1727964318C86E | B15: 콘크리트 펌프차 타설 | C15: slump 8~12cm, 매트기초 등, f2 : Type-Ⅰ, 32m | D15: M3 | E15: =일위대가!F75 -> 2043 | F15: =일위대가!H75 -> 10680 | G15: =일위대가!J75 -> 3187 | H15: =E15+F15+G15 -> 15910 | I15: 호표 12 | M15: 공통 6-1-4
A16: 59A4E54792637FA7173DEA1E1544A2 | B16: 철골 가공 조립(적은 구조) | C16: Rolled shape, 60ton 미만 | D16: TON | E16: =일위대가!F81 -> 17488 | F16: =일위대가!H81 -> 355880 | G16: =일위대가!J81 -> 213528 | H16: =E16+F16+G16 -> 586896 | I16: 호표 13 | M16: 건축 1-1-1, 1-1-2
A17: 59A4E54108625AF21733FB371FB02A | B17: 철골세우기 - 6층 미만 | C17: 50~55kg/m2 미만, 30∼50ton 미만 | D17: TON | E17: =일위대가!F86 -> 604 | F17: =일위대가!H86 -> 206203 | G17: =일위대가!J86 -> 0 | H17: =E17+F17+G17 -> 206807 | I17: 호표 14 | M17: 건축 1-2-1
A18: 59A4E541036A24D9173FEDB3118418 | B18: 고장력 볼트 본조임 | C18: 30본/t 미만, 300ton 이상~500ton 미만 | D18: TON | E18: =일위대가!F90 -> 0 | F18: =일위대가!H90 -> 123550 | G18: =일위대가!J90 -> 3706 | H18: =E18+F18+G18 -> 127256 | I18: 호표 15 | M18: 건축 1-2-4
A19: 59A4E5468C6EB46D17882A69156B53 | B19: 앵커 볼트 설치 | C19: ∮24 이하 | D19: 개 | E19: =일위대가!F96 -> 0 | F19: =일위대가!H96 -> 41623 | G19: =일위대가!J96 -> 832 | H19: =E19+F19+G19 -> 42455 | I19: 호표 16 | M19: 건축 1-2-6
A20: 59A4E5468C6EB46D17882A69156FCE | B20: 앵커 볼트 설치 | C20: ∮20 이하 | D20: 개 | E20: =일위대가!F102 -> 0 | F20: =일위대가!H102 -> 26994 | G20: =일위대가!J102 -> 539 | H20: =E20+F20+G20 -> 27533 | I20: 호표 17 | M20: 건축 1-2-6
A21: 59A4E5406460EF54172885AE1BB999 | B21: 부대철골 설치 | D21: TON | E21: =일위대가!F108 -> 71540 | F21: =일위대가!H108 -> 664431 | G21: =일위대가!J108 -> 226110 | H21: =E21+F21+G21 -> 962081 | I21: 호표 18 | M21: 건축 1-4-1
A22: 5EB3D50CD26DD5851776E61B19655F1660583819 | B22: 크레인(타이어) | C22: 10ton | D22: HR | E22: =일위대가!F115 -> 9627 | F22: =일위대가!H115 -> 59020 | G22: =일위대가!J115 -> 31344 | H22: =E22+F22+G22 -> 99991 | I22: 호표 19 | K22: A | M22: 공통 8-3,4(2104) | N22: T
A23: 59A4E541036A35481754F59D18C8EC | B23: 주각부 무수축 모르타르 충전 | C23: 400*400*50mm, 재료비 포함 | D23: 개소 | E23: =일위대가!F120 -> 6240 | F23: =일위대가!H120 -> 52967 | G23: =일위대가!J120 -> 0 | H23: =E23+F23+G23 -> 59207 | I23: 호표 20 | M23: 건축 9-3-3
A24: 59A4F5B9176F8C6A1787D5E516E007 | B24: 표면 마무리 | D24: M2 | E24: =일위대가!F124 -> 0 | F24: =일위대가!H124 -> 942 | G24: =일위대가!J124 -> 0 | H24: =E24+F24+G24 -> 942 | I24: 호표 21 | M24: 공통 6-1-3
A25: 59A455A5B76946F917130817194C07 | B25: 조합페인트 뿜칠2회2급 | C25: 철재면, 2회 2급 | D25: M2 | E25: =일위대가!F132 -> 1700 | F25: =일위대가!H132 -> 1867 | G25: =일위대가!J132 -> 0 | H25: =E25+F25+G25 -> 3567 | I25: 호표 22 | M25: 건축 11-2-5
A26: 59A455A5B76946F917130817194C04 | B26: 녹막이페인트 뿜칠1회2종 | C26: 철재면, 2회 2급 | D26: M2 | E26: =일위대가!F140 -> 1004 | F26: =일위대가!H140 -> 933 | G26: =일위대가!J140 -> 0 | H26: =E26+F26+G26 -> 1937 | I26: 호표 23 | M26: 건축 11-2-5
A27: 59A41501986382681775AFEE10DF6A | B27: 잡철물 제작 및 설치 | C27: 규격철물 설치(단순), 일반철재 | D27: kg | E27: =일위대가!F149 -> 82 | F27: =일위대가!H149 -> 2764 | G27: =일위대가!J149 -> 138 | H27: =E27+F27+G27 -> 2984 | I27: 호표 24 | M27: 건축 8-3-1, 비고
A28: 5EB3D50CD26DD5851776CB4E142E6B301D309D20 | B28: 고소작업차 | C28: 5ton | D28: HR | E28: =일위대가!F156 -> 11154 | F28: =일위대가!H156 -> 49778 | G28: =일위대가!J156 -> 36594 | H28: =E28+F28+G28 -> 97526 | I28: 호표 25 | K28: A | M28: 공통 8-3,4(2106) | N28: T
A29: 59A475F4716ABF2A178B2FDA178621 | B29: 1/AST | C29: 방풍셔터.7.9*4.65 | D29: 개소 | E29: =일위대가!F160 -> 10500000 | F29: =일위대가!H160 -> 0 | G29: =일위대가!J160 -> 0 | H29: =E29+F29+G29 -> 10500000 | I29: 호표 26 | M29: 건축 10-1-2
A30: 59A475F4716ABF2A178B2FDA178620 | B30: 2/AST | C30: 방풍셔터3.7*4.65 | D30: 개소 | E30: =일위대가!F164 -> 6800000 | F30: =일위대가!H164 -> 0 | G30: =일위대가!J164 -> 0 | H30: =E30+F30+G30 -> 6800000 | I30: 호표 27 | M30: 건축 10-1-2
A31: 59A475F4716ABF2A178B2FDA178622 | B31: 1/SD | C31: 0.9*2.1 | D31: 개소 | E31: =일위대가!F172 -> 455991 | F31: =일위대가!H172 -> 124508 | G31: =일위대가!J172 -> 3735 | H31: =E31+F31+G31 -> 584234 | I31: 호표 28 | M31: 건축 10-1-2
A32: 59A475F4716ABF2A178B2FDA178627 | B32: 1/PW | C32: 2.4*1.2 | D32: 개소 | E32: =일위대가!F182 -> 399628 | F32: =일위대가!H182 -> 197920 | G32: =일위대가!J182 -> 1196 | H32: =E32+F32+G32 -> 598744 | I32: 호표 29 | M32: 건축 10-1-2
A33: 5987C5B12B6C05B51778B6551B55A7 | B33: 노체 | C33: 평판재하 | D33: 회 | E33: =일위대가!F188 -> 0 | F33: =일위대가!H188 -> 0 | G33: =일위대가!J188 -> 187814 | H33: =E33+F33+G33 -> 187814 | I33: 호표 30 | M33: 국토~부 고시 별표 4
A34: 59A4A52D1B6C0691176A1716164AE2 | B34: 굳지 아니한 콘크리트(레미콘 포함) | C34: 온도 | D34: 회 | E34: =일위대가!F193 -> 0 | F34: =일위대가!H193 -> 0 | G34: =일위대가!J193 -> 9317 | H34: =E34+F34+G34 -> 9317 | I34: 호표 31 | M34: 국토~부 고시 별표 4
A35: 59A4A52D1B6C0691176A1716164DB6 | B35: 굳지 아니한 콘크리트(레미콘 포함) | C35: 슬럼프 또는 슬럼프플로 | D35: 회 | E35: =일위대가!F199 -> 0 | F35: =일위대가!H199 -> 0 | G35: =일위대가!J199 -> 2071 | H35: =E35+F35+G35 -> 2071 | I35: 호표 32 | M35: 국토~부 고시 별표 4
A36: 59A4A52D1B6C0691176A1716164C90 | B36: 굳지 아니한 콘크리트(레미콘 포함) | C36: 공기량 | D36: 회 | E36: =일위대가!F206 -> 0 | F36: =일위대가!H206 -> 0 | G36: =일위대가!J206 -> 10812 | H36: =E36+F36+G36 -> 10812 | I36: 호표 33 | M36: 국토~부 고시 별표 4
A37: 59A4A52D1B6C0691176A1716164E5D | B37: 굳지 아니한 콘크리트(레미콘 포함) | C37: 염화물 함유량 | D37: 회 | E37: =일위대가!F213 -> 0 | F37: =일위대가!H213 -> 0 | G37: =일위대가!J213 -> 9372 | H37: =E37+F37+G37 -> 9372 | I37: 호표 34 | M37: 국토~부 고시 별표 4
A38: 59A4A52D1B6C0691176A17161640FF | B38: 굳지 아니한 콘크리트(레미콘 포함) | C38: 압축강도(3개 한 조) | D38: 회 | E38: =일위대가!F220 -> 0 | F38: =일위대가!H220 -> 0 | G38: =일위대가!J220 -> 6049 | H38: =E38+F38+G38 -> 6049 | I38: 호표 35 | M38: 국토~부 고시 별표 4
A39: 59A4A52D1B6C0691176A1716176FDE | B39: 굳지 아니한 콘크리트(레미콘 포함) | C39: 공시체제작 | D39: 회 | E39: =일위대가!F226 -> 0 | F39: =일위대가!H226 -> 0 | G39: =일위대가!J226 -> 40865 | H39: =E39+F39+G39 -> 40865 | I39: 호표 36 | M39: 국토~부 고시 별표 4
A40: 59A4A52D1B6C068017FB6E9A13857C | B40: 건축구조용 압연강재 | C40: 초음파 탐상 | D40: 회 | E40: =일위대가!F233 -> 0 | F40: =일위대가!H233 -> 0 | G40: =일위대가!J233 -> 99049 | H40: =E40+F40+G40 -> 99049 | I40: 호표 37 | M40: 국토~부 고시 별표 4
A41: 59A4A52B6E60D3F21760EAAA118877 | B41: 콘테이너형 가설건축물 설치 및 해체 | C41: 3.0*6.0m | D41: 개소 | E41: =일위대가!F240 -> 0 | F41: =일위대가!H240 -> 0 | G41: =일위대가!J240 -> 440388 | H41: =E41+F41+G41 -> 440388 | I41: 호표 38 | M41: 공통 2-3-2
A42: 5EB3D50CD26DF040176BFDEB16AF6DB42190314E | B42: 굴착기(무한궤도) | C42: 0.7㎥ | D42: HR | E42: =일위대가!F247 -> 25795 | F42: =일위대가!H247 -> 59020 | G42: =일위대가!J247 -> 24554 | H42: =E42+F42+G42 -> 109369 | I42: 호표 39 | K42: A | M42: 공통 8-3,4(0201) | N42: T
A43: 59A445450F67286C17FE6ABC1DC86C | B43: 방습필름 설치 | C43: 바닥 | D43: M2 | E43: =일위대가!F252 -> 0 | F43: =일위대가!H252 -> 1456 | G43: =일위대가!J252 -> 0 | H43: =E43+F43+G43 -> 1456 | I43: 호표 40 | M43: 건축 5-4-8
A44: 5EB3D50CD26DF040176BFDEB16AAEB79B93C6A11 | B44: 굴착기(무한궤도) | C44: 0.2㎥ | D44: HR | E44: =일위대가!F259 -> 11027 | F44: =일위대가!H259 -> 59020 | G44: =일위대가!J259 -> 13873 | H44: =E44+F44+G44 -> 83920 | I44: 호표 41 | K44: A | M44: 공통 8-3,4(0201) | N44: T
A45: 5EB3D50CD26DE7CA17D0826E1EBA0C5738F816B5 | B45: 진동롤러(핸드가이드식) | C45: 0.7ton | D45: HR | E45: =일위대가!F266 -> 4531 | F45: =일위대가!H266 -> 36248 | G45: =일위대가!J266 -> 1967 | H45: =E45+F45+G45 -> 42746 | I45: 호표 42 | K45: A | M45: 공통 8-3,4(1305) | N45: T
A46: 59A4F5A98A67AB091711792F14FBAB | B46: 철근 현장가공 | C46: Type-Ⅰ | D46: TON | E46: =일위대가!F272 -> 0 | F46: =일위대가!H272 -> 217540 | G46: =일위대가!J272 -> 19578 | H46: =E46+F46+G46 -> 237118 | I46: 호표 43 | M46: 공통 6-2-2
A47: 59A4F5A98A67AB091711792F14F8D7 | B47: 철근 현장조립 | C47: Type-Ⅰ | D47: TON | E47: =일위대가!F279 -> 10101 | F47: =일위대가!H279 -> 573529 | G47: =일위대가!J279 -> 11470 | H47: =E47+F47+G47 -> 595100 | I47: 호표 44 | M47: 공통 6-2-3
A48: 59A4F5AA956C651817220CD71477E6 | B48: 유로폼 - 재료비 | C48: 3회, 간단 | D48: 10M2 | E48: =일위대가!F284 -> 39671 | F48: =일위대가!H284 -> 0 | G48: =일위대가!J284 -> 0 | H48: =E48+F48+G48 -> 39671 | I48: 호표 45 | M48: 공통 6-3-3.2
A49: 59A4F5AA956C651817222FA619AD40 | B49: 유로폼 - 인력투입 | C49: 간단, 수직고 7m까지 | D49: M2 | E49: =일위대가!F290 -> 0 | F49: =일위대가!H290 -> 31880 | G49: =일위대가!J290 -> 956 | H49: =E49+F49+G49 -> 32836 | I49: 호표 46 | M49: 공통 6-3-3.3
A50: 5EB3D50CD26DBAE51779DA16195427FC9E7872AC | B50: 콘크리트 펌프차 | C50: 32m(80∼95㎥/hr) | D50: HR | E50: =일위대가!F297 -> 42569 | F50: =일위대가!H297 -> 59020 | G50: =일위대가!J297 -> 72600 | H50: =E50+F50+G50 -> 174189 | I50: 호표 47 | K50: A | M50: 공통 8-3,4(4504) | N50: T
A51: 59A4E54792637FA7173DEA0D1F78EE | B51: 철골공수 산정방법<소요 부자재량> | C51: H형강부재(Rolled shape) | D51: TON | E51: =일위대가!F304 -> 17488 | F51: =일위대가!H304 -> 0 | G51: =일위대가!J304 -> 0 | H51: =E51+F51+G51 -> 17488 | I51: 호표 48 | M51: 건축 1-1-2
A52: 59A4E54108625AF21733FB1B12C3C2 | B52: 철골세우기 - 표준단가 | C52: 6층 미만 | D52: TON | E52: =일위대가!F310 -> 0 | F52: =일위대가!H310 -> 138671 | G52: =일위대가!J310 -> 0 | H52: =E52+F52+G52 -> 138671 | I52: 호표 49 | M52: 건축 1-2-1
A53: 59A4E541036A24D9172E6B5B1139E3 | B53: 고장력 볼트 본조임 - 표준단가 | C53: 30본/t 미만 | D53: TON | E53: =일위대가!F316 -> 0 | F53: =일위대가!H316 -> 135770 | G53: =일위대가!J316 -> 4073 | H53: =E53+F53+G53 -> 139843 | I53: 호표 50 | M53: 건축 1-2-4
A54: 5EB3D50CD26DD5851776E61B1961E4CD0FA11589 | B54: 크레인(타이어) | C54: 50ton | D54: HR | E54: =일위대가!F323 -> 28616 | F54: =일위대가!H323 -> 59020 | G54: =일위대가!J323 -> 90444 | H54: =E54+F54+G54 -> 178080 | I54: 호표 51 | K54: A | M54: 공통 8-3,4(2104) | N54: T
A55: 59A4E541036A3548170CC7D01E4DD6 | B55: 주각부 무수축 모르타르 충전 | C55: 400*400*50mm, 재료 별도 | D55: 개소 | E55: =일위대가!F328 -> 0 | F55: =일위대가!H328 -> 52967 | G55: =일위대가!J328 -> 0 | H55: =E55+F55+G55 -> 52967 | I55: 호표 52 | M55: 건축 9-3-3
A56: 59A475F4716ABF2A178B2FDA17809B | B56: 강재창호 설치 / 여닫이 | C56: 창호면적 m2, 1.0 ~ 3.0 이하 | D56: 개소 | E56: =일위대가!F334 -> 0 | F56: =일위대가!H334 -> 124508 | G56: =일위대가!J334 -> 3735 | H56: =E56+F56+G56 -> 128243 | I56: 호표 53 | M56: 건축 10-1-2
A57: 59A475F7C36FB0811718024E1F222C | B57: 합성수지창호 설치 / 미서기 단창 | C57: 창호면적 m2, 1.0 ~ 3.0 미만 | D57: 개소 | E57: =일위대가!F340 -> 0 | F57: =일위대가!H340 -> 59824 | G57: =일위대가!J340 -> 1196 | H57: =E57+F57+G57 -> 61020 | I57: 호표 54 | M57: 건축 10-1-5
A58: 59A475FD6D6E63C017C440E615ED00 | B58: 창호유리설치 / 복층유리 | C58: 유리두께 24mm 이하 | D58: M2 | E58: =일위대가!F345 -> 0 | F58: =일위대가!H345 -> 34880 | G58: =일위대가!J345 -> 0 | H58: =E58+F58+G58 -> 34880 | I58: 호표 55 | M58: 건축 10-3-1
A59: 59A475FD64683CAE17C9DD231BAA71 | B59: 복층유리주위 코킹 | C59: 5*5, 실리콘 | D59: M | E59: =일위대가!F349 -> 311 | F59: =일위대가!H349 -> 0 | G59: =일위대가!J349 -> 0 | H59: =E59+F59+G59 -> 311 | I59: 호표 56 | M59: 건축 6-6-1
A60: 59A4355C066A93CF1714F9D5134426 | B60: 수밀코킹(실리콘) | C60: 삼각, 10mm, 창호주위 | D60: M | E60: =일위대가!F354 -> 622 | F60: =일위대가!H354 -> 5228 | G60: =일위대가!J354 -> 0 | H60: =E60+F60+G60 -> 5850 | I60: 호표 57 | M60: 건축 6-6-1
A61: 59A4355C05685EA017908852178B83 | B61: 수밀코킹 | C61: 재료비 별도 | D61: M | E61: =일위대가!F358 -> 0 | F61: =일위대가!H358 -> 5228 | G61: =일위대가!J358 -> 0 | H61: =E61+F61+G61 -> 5228 | I61: 호표 58 | M61: 건축 6-6-1
A62: 5EB3D50CD26DD5EE17057F6710215F9765001362 | B62: 트럭 트랙터 및 평판트레일러 | C62: 20ton | D62: HR | E62: =일위대가!F365 -> 41803 | F62: =일위대가!H365 -> 59020 | G62: =일위대가!J365 -> 17314 | H62: =E62+F62+G62 -> 118137 | I62: 호표 59 | K62: A | M62: 공통 8-3,4(2702) | N62: T
A63: 5EB3D50CD26DD5851776F08213B79B400B5A6681 | B63: 트럭탑재형 크레인 | C63: 10ton | D63: HR | E63: =일위대가!F372 -> 22528 | F63: =일위대가!H372 -> 49778 | G63: =일위대가!J372 -> 23795 | H63: =E63+F63+G63 -> 96101 | I63: 호표 60 | K63: A | M63: 공통 8-3,4(2105) | N63: T

Sheet 일위대가
A1: [ 2026년고성능임업기계장비 장비고 신축공사 ]
A2: 품 명 | B2: 규 격 | C2: 단위 | D2: 수량 | E2: 재 료 비 | G2: 노 무 비 | I2: 경 비 | K2: 합 계 | M2: 비 고 | N2: 일위대가 | O2: 품목코드 | P2: 일위 | Q2: 단산 | R2: 자재 | S2: 손료적용 | T2: 손료저장 | U2: 적용율 | V2: JUK1 | W2: JUK2 | X2: JUK3 | Y2: JUK4 | Z2: JUK5 | AA2: JUK6 | AB2: JUK7 | AC2: JUK8 | AD2: JUK9 | AE2: JUK10 | AF2: JUK11 | AG2: JUK12 | AH2: JUK13 | AI2: JUK14 | AJ2: JUK15 | AK2: JUK16 | AL2: JUK17 | AM2: JUK18 | AN2: JUK19 | AO2: JUK20 | AP2: 할증적용 | AQ2: 할증저장 | AR2: 할증율 | AS2: HAL1 | AT2: HAL2 | AU2: HAL3 | AV2: 자재구분 | AW2: 일위대가+자재 | AX2: 장비일위 | AY2: 설정 | AZ2: 할증체크
E3: 단 가 | F3: 금 액 | G3: 단 가 | H3: 금 액 | I3: 단 가 | J3: 금 액 | K3: 단 가 | L3: 금 액
A4: 콘테이너형 가설사무소 설치 및 해체 3.0*6.0m, 3개월 개소 공통 2-3-2, 2-2-3.2 ( 호표 1 ) | N4: 59A4A52B6E60D3F217E446BC10EA8B
A5: 컨테이너하우스 | B5: 컨테이너하우스, 사무실용, 3.0*6.0*2.6m | C5: 개 | D5: 0.18 | E5: =단가대비표!O76 -> 3204160 | F5: =TRUNC(E5*D5,1) -> 576748.8 | G5: =단가대비표!P76 -> 0 | H5: =TRUNC(G5*D5,1) -> 0 | I5: =단가대비표!V76 -> 0 | J5: =TRUNC(I5*D5,1) -> 0 | K5: =TRUNC(E5+G5+I5,1) -> 3204160 | L5: =TRUNC(F5+H5+J5,1) -> 576748.8 | M5: 금액제외 | O5: 5E8695AF1C61698317FBFBFC1EAADDCAE3B78D | P5: F | Q5: F | R5: T | V5: 1 | AW5: 59A4A52B6E60D3F217E446BC10EA8B5E8695AF1C61698317FBFBFC1EAADDCAE3B78D | AY5: -
A6: 콘테이너형 가설건축물 설치 및 해체 | B6: 3.0*6.0m | C6: 개소 | D6: 1 | E6: =일위대가목록!E41 -> 0 | F6: =TRUNC(E6*D6,1) -> 0 | G6: =일위대가목록!F41 -> 0 | H6: =TRUNC(G6*D6,1) -> 0 | I6: =일위대가목록!G41 -> 440388 | J6: =TRUNC(I6*D6,1) -> 440388 | K6: =TRUNC(E6+G6+I6,1) -> 440388 | L6: =TRUNC(F6+H6+J6,1) -> 440388 | M6: 금액제외 | O6: 59A4A52B6E60D3F21760EAAA118877 | P6: T | Q6: F | R6: F | V6: 1 | AW6: 59A4A52B6E60D3F217E446BC10EA8B59A4A52B6E60D3F21760EAAA118877 | AY6: -
A7: 경비로 적용 | B7: 합계의 100% | C7: 식 | D7: 1 | E7: 0 | F7: =TRUNC(E7*D7,1) -> 0 | G7: 0 | H7: =TRUNC(G7*D7,1) -> 0 | I7: =TRUNC(SUMIF(V5:V7, RIGHTB(O7, 1), L5:L7)*U7, 2) -> 1017136.8 | J7: =TRUNC(I7*D7,1) -> 1017136.8 | K7: =TRUNC(E7+G7+I7,1) -> 1017136.8 | L7: =TRUNC(F7+H7+J7,1) -> 1017136.8 | N7: 59A4A52B6E60D3F217E446BC10EA8B | O7: 58BD6567A069BB70171459E610D0001 | P7: F | Q7: F | R7: F | S7: 3 | T7: 2 | U7: 1 | AW7: 59A4A52B6E60D3F217E446BC10EA8B58BD6567A069BB70171459E610D0001
A8: [ 합 계 ] | F8: =TRUNC(SUMIF(N5:N7, N4, F5:F7),0) -> 0 | H8: =TRUNC(SUMIF(N5:N7, N4, H5:H7),0) -> 0 | J8: =TRUNC(SUMIF(N5:N7, N4, J5:J7),0) -> 1017136 | L8: =F8+H8+J8 -> 1017136 | N8: TOTAL | O8: TOTAL
A10: 목재 평 규준틀 설치 및 철거 개소 공통 2-5-4, 2-2-7 ( 호표 2 ) | N10: 59A4A5289B6B5AD617BF89471AB473
A11: 각재 | B11: 각재, 외송 | C11: M3 | D11: 0.014 | E11: =단가대비표!O47 -> 571556 | F11: =TRUNC(E11*D11,1) -> 8001.7 | G11: =단가대비표!P47 -> 0 | H11: =TRUNC(G11*D11,1) -> 0 | I11: =단가대비표!V47 -> 0 | J11: =TRUNC(I11*D11,1) -> 0 | K11: =TRUNC(E11+G11+I11,1) -> 571556 | L11: =TRUNC(F11+H11+J11,1) -> 8001.7 | N11: 59A4A5289B6B5AD617BF89471AB473 | O11: 5E8695AC4B60E1601779356F188D9A9F5D2224 | P11: F | Q11: F | R11: T | AW11: 59A4A5289B6B5AD617BF89471AB4735E8695AC4B60E1601779356F188D9A9F5D2224
A12: 건축목공 | B12: 일반공사 직종 | C12: 인 | D12: 0.15 | E12: =단가대비표!O105 -> 0 | F12: =TRUNC(E12*D12,1) -> 0 | G12: =단가대비표!P105 -> 277642 | H12: =TRUNC(G12*D12,1) -> 41646.3 | I12: =단가대비표!V105 -> 0 | J12: =TRUNC(I12*D12,1) -> 0 | K12: =TRUNC(E12+G12+I12,1) -> 277642 | L12: =TRUNC(F12+H12+J12,1) -> 41646.3 | N12: 59A4A5289B6B5AD617BF89471AB473 | O12: 597675753A6F38FB17C959F51424FC7EA0F34E | P12: F | Q12: F | R12: T | AW12: 59A4A5289B6B5AD617BF89471AB473597675753A6F38FB17C959F51424FC7EA0F34E
A13: 보통인부 | B13: 일반공사 직종 | C13: 인 | D13: 0.3 | E13: =단가대비표!O96 -> 0 | F13: =TRUNC(E13*D13,1) -> 0 | G13: =단가대비표!P96 -> 172068 | H13: =TRUNC(G13*D13,1) -> 51620.4 | I13: =단가대비표!V96 -> 0 | J13: =TRUNC(I13*D13,1) -> 0 | K13: =TRUNC(E13+G13+I13,1) -> 172068 | L13: =TRUNC(F13+H13+J13,1) -> 51620.4 | N13: 59A4A5289B6B5AD617BF89471AB473 | O13: 597675753A6F38FB17C959F51424FC7EA0F19D | P13: F | Q13: F | R13: T | AW13: 59A4A5289B6B5AD617BF89471AB473597675753A6F38FB17C959F51424FC7EA0F19D
A14: [ 합 계 ] | F14: =TRUNC(SUMIF(N11:N13, N10, F11:F13),0) -> 8001 | H14: =TRUNC(SUMIF(N11:N13, N10, H11:H13),0) -> 93266 | J14: =TRUNC(SUMIF(N11:N13, N10, J11:J13),0) -> 0 | L14: =F14+H14+J14 -> 101267 | N14: TOTAL | O14: TOTAL
A16: 목재 귀 규준틀 설치 및 철거 개소 공통 2-5-4, 2-2-7 ( 호표 3 ) | N16: 59A4A5289B6B5AD617BF897C1F59EF
A17: 각재 | B17: 각재, 외송 | C17: M3 | D17: 0.022 | E17: =단가대비표!O47 -> 571556 | F17: =TRUNC(E17*D17,1) -> 12574.2 | G17: =단가대비표!P47 -> 0 | H17: =TRUNC(G17*D17,1) -> 0 | I17: =단가대비표!V47 -> 0 | J17: =TRUNC(I17*D17,1) -> 0 | K17: =TRUNC(E17+G17+I17,1) -> 571556 | L17: =TRUNC(F17+H17+J17,1) -> 12574.2 | N17: 59A4A5289B6B5AD617BF897C1F59EF | O17: 5E8695AC4B60E1601779356F188D9A9F5D2224 | P17: F | Q17: F | R17: T | AW17: 59A4A5289B6B5AD617BF897C1F59EF5E8695AC4B60E1601779356F188D9A9F5D2224
A18: 건축목공 | B18: 일반공사 직종 | C18: 인 | D18: 0.3 | E18: =단가대비표!O105 -> 0 | F18: =TRUNC(E18*D18,1) -> 0 | G18: =단가대비표!P105 -> 277642 | H18: =TRUNC(G18*D18,1) -> 83292.6 | I18: =단가대비표!V105 -> 0 | J18: =TRUNC(I18*D18,1) -> 0 | K18: =TRUNC(E18+G18+I18,1) -> 277642 | L18: =TRUNC(F18+H18+J18,1) -> 83292.6 | N18: 59A4A5289B6B5AD617BF897C1F59EF | O18: 597675753A6F38FB17C959F51424FC7EA0F34E | P18: F | Q18: F | R18: T | AW18: 59A4A5289B6B5AD617BF897C1F59EF597675753A6F38FB17C959F51424FC7EA0F34E
A19: 보통인부 | B19: 일반공사 직종 | C19: 인 | D19: 0.45 | E19: =단가대비표!O96 -> 0 | F19: =TRUNC(E19*D19,1) -> 0 | G19: =단가대비표!P96 -> 172068 | H19: =TRUNC(G19*D19,1) -> 77430.6 | I19: =단가대비표!V96 -> 0 | J19: =TRUNC(I19*D19,1) -> 0 | K19: =TRUNC(E19+G19+I19,1) -> 172068 | L19: =TRUNC(F19+H19+J19,1) -> 77430.6 | N19: 59A4A5289B6B5AD617BF897C1F59EF | O19: 597675753A6F38FB17C959F51424FC7EA0F19D | P19: F | Q19: F | R19: T | AW19: 59A4A5289B6B5AD617BF897C1F59EF597675753A6F38FB17C959F51424FC7EA0F19D
A20: [ 합 계 ] | F20: =TRUNC(SUMIF(N17:N19, N16, F17:F19),0) -> 12574 | H20: =TRUNC(SUMIF(N17:N19, N16, H17:H19),0) -> 160723 | J20: =TRUNC(SUMIF(N17:N19, N16, J17:J19),0) -> 0 | L20: =F20+H20+J20 -> 173297 | N20: TOTAL | O20: TOTAL
A22: 건축물 현장정리 목조, 철골조, 조적조 M2 공통 2-11-2 ( 호표 4 ) | N22: 59A4A52D1860BDE317D64D9818B360
A23: 보통인부 | B23: 일반공사 직종 | C23: 인 | D23: 0.05 | E23: =단가대비표!O96 -> 0 | F23: =TRUNC(E23*D23,1) -> 0 | G23: =단가대비표!P96 -> 172068 | H23: =TRUNC(G23*D23,1) -> 8603.4 | I23: =단가대비표!V96 -> 0 | J23: =TRUNC(I23*D23,1) -> 0 | K23: =TRUNC(E23+G23+I23,1) -> 172068 | L23: =TRUNC(F23+H23+J23,1) -> 8603.4 | N23: 59A4A52D1860BDE317D64D9818B360 | O23: 597675753A6F38FB17C959F51424FC7EA0F19D | P23: F | Q23: F | R23: T | AW23: 59A4A52D1860BDE317D64D9818B360597675753A6F38FB17C959F51424FC7EA0F19D
A24: [ 합 계 ] | F24: =TRUNC(SUMIF(N23:N23, N22, F23:F23),0) -> 0 | H24: =TRUNC(SUMIF(N23:N23, N22, H23:H23),0) -> 8603 | J24: =TRUNC(SUMIF(N23:N23, N22, J23:J23),0) -> 0 | L24: =F24+H24+J24 -> 8603 | N24: TOTAL | O24: TOTAL
A26: 구조부 먹매김 일반 M2 건축 4-1-1 ( 호표 5 ) | N26: 59A4A52D1B6C1700175AEC171F2FB5
A27: 건축목공 | B27: 일반공사 직종 | C27: 인 | D27: 0.005 | E27: =단가대비표!O105 -> 0 | F27: =TRUNC(E27*D27,1) -> 0 | G27: =단가대비표!P105 -> 277642 | H27: =TRUNC(G27*D27,1) -> 1388.2 | I27: =단가대비표!V105 -> 0 | J27: =TRUNC(I27*D27,1) -> 0 | K27: =TRUNC(E27+G27+I27,1) -> 277642 | L27: =TRUNC(F27+H27+J27,1) -> 1388.2 | N27: 59A4A52D1B6C1700175AEC171F2FB5 | O27: 597675753A6F38FB17C959F51424FC7EA0F34E | P27: F | Q27: F | R27: T | AW27: 59A4A52D1B6C1700175AEC171F2FB5597675753A6F38FB17C959F51424FC7EA0F34E
A28: [ 합 계 ] | F28: =TRUNC(SUMIF(N27:N27, N26, F27:F27),0) -> 0 | H28: =TRUNC(SUMIF(N27:N27, N26, H27:H27),0) -> 1388 | J28: =TRUNC(SUMIF(N27:N27, N26, J27:J27),0) -> 0 | L28: =F28+H28+J28 -> 1388 | N28: TOTAL | O28: TOTAL
A30: 거푸집 먹매김 일반 M2 건축 4-1-1 ( 호표 6 ) | N30: 59A4A52D1B6C1700175AC14E1BCE4C
A31: 건축목공 | B31: 일반공사 직종 | C31: 인 | D31: 0.012 | E31: =단가대비표!O105 -> 0 | F31: =TRUNC(E31*D31,1) -> 0 | G31: =단가대비표!P105 -> 277642 | H31: =TRUNC(G31*D31,1) -> 3331.7 | I31: =단가대비표!V105 -> 0 | J31: =TRUNC(I31*D31,1) -> 0 | K31: =TRUNC(E31+G31+I31,1) -> 277642 | L31: =TRUNC(F31+H31+J31,1) -> 3331.7 | N31: 59A4A52D1B6C1700175AC14E1BCE4C | O31: 597675753A6F38FB17C959F51424FC7EA0F34E | P31: F | Q31: F | R31: T | AW31: 59A4A52D1B6C1700175AC14E1BCE4C597675753A6F38FB17C959F51424FC7EA0F34E
A32: [ 합 계 ] | F32: =TRUNC(SUMIF(N31:N31, N30, F31:F31),0) -> 0 | H32: =TRUNC(SUMIF(N31:N31, N30, H31:H31),0) -> 3331 | J32: =TRUNC(SUMIF(N31:N31, N30, J31:J31),0) -> 0 | L32: =F32+H32+J32 -> 3331 | N32: TOTAL | O32: TOTAL
A34: 방습필름 설치 - 바닥 폴리에틸렌필름, 두께, 0.03mm, 2겹 M2 건축 5-4-8 ( 호표 7 ) | N34: 59A445450F672840172BA1821E8ABA
A35: 폴리에틸렌필름 | B35: 폴리에틸렌필름, 두께, 0.03mm | C35: M2 | D35: 2.3 | E35: =단가대비표!O17 -> 182 | F35: =TRUNC(E35*D35,1) -> 418.6 | G35: =단가대비표!P17 -> 0 | H35: =TRUNC(G35*D35,1) -> 0 | I35: =단가대비표!V17 -> 0 | J35: =TRUNC(I35*D35,1) -> 0 | K35: =TRUNC(E35+G35+I35,1) -> 182 | L35: =TRUNC(F35+H35+J35,1) -> 418.6 | N35: 59A445450F672840172BA1821E8ABA | O35: 5EA145B4146EE88B1799AF4C1D4FA2CD7868DA | P35: F | Q35: F | R35: T | AW35: 59A445450F672840172BA1821E8ABA5EA145B4146EE88B1799AF4C1D4FA2CD7868DA
A36: 방습필름 설치 | B36: 바닥 | C36: M2 | D36: 1 | E36: =일위대가목록!E43 -> 0 | F36: =TRUNC(E36*D36,1) -> 0 | G36: =일위대가목록!F43 -> 1456 | H36: =TRUNC(G36*D36,1) -> 1456 | I36: =일위대가목록!G43 -> 0 | J36: =TRUNC(I36*D36,1) -> 0 | K36: =TRUNC(E36+G36+I36,1) -> 1456 | L36: =TRUNC(F36+H36+J36,1) -> 1456 | M36: 호표 40 | N36: 59A445450F672840172BA1821E8ABA | O36: 59A445450F67286C17FE6ABC1DC86C | P36: T | Q36: F | R36: F | AW36: 59A445450F672840172BA1821E8ABA59A445450F67286C17FE6ABC1DC86C
A37: [ 합 계 ] | F37: =TRUNC(SUMIF(N35:N36, N34, F35:F36),0) -> 418 | H37: =TRUNC(SUMIF(N35:N36, N34, H35:H36),0) -> 1456 | J37: =TRUNC(SUMIF(N35:N36, N34, J35:J36),0) -> 0 | L37: =F37+H37+J37 -> 1874 | N37: TOTAL | O37: TOTAL
A39: 기초 지정 잡석지정 M3 공통 3-4-8 ( 호표 8 ) | N39: 598795084B6664E1173A282E189C42
A40: 특별인부 | B40: 일반공사 직종 | C40: 인 | D40: 0.011 | E40: =단가대비표!O97 -> 0 | F40: =TRUNC(E40*D40,1) -> 0 | G40: =단가대비표!P97 -> 226122 | H40: =TRUNC(G40*D40,1) -> 2487.3 | I40: =단가대비표!V97 -> 0 | J40: =TRUNC(I40*D40,1) -> 0 | K40: =TRUNC(E40+G40+I40,1) -> 226122 | L40: =TRUNC(F40+H40+J40,1) -> 2487.3 | N40: 598795084B6664E1173A282E189C42 | O40: 597675753A6F38FB17C959F51424FC7EA0F19C | P40: F | Q40: F | R40: T | AW40: 598795084B6664E1173A282E189C42597675753A6F38FB17C959F51424FC7EA0F19C
A41: 보통인부 | B41: 일반공사 직종 | C41: 인 | D41: 0.011 | E41: =단가대비표!O96 -> 0 | F41: =TRUNC(E41*D41,1) -> 0 | G41: =단가대비표!P96 -> 172068 | H41: =TRUNC(G41*D41,1) -> 1892.7 | I41: =단가대비표!V96 -> 0 | J41: =TRUNC(I41*D41,1) -> 0 | K41: =TRUNC(E41+G41+I41,1) -> 172068 | L41: =TRUNC(F41+H41+J41,1) -> 1892.7 | N41: 598795084B6664E1173A282E189C42 | O41: 597675753A6F38FB17C959F51424FC7EA0F19D | P41: F | Q41: F | R41: T | AW41: 598795084B6664E1173A282E189C42597675753A6F38FB17C959F51424FC7EA0F19D
A42: 굴착기(무한궤도) | B42: 0.2㎥ | C42: HR | D42: 0.089 | E42: =일위대가목록!E44 -> 11027 | F42: =TRUNC(E42*D42,1) -> 981.4 | G42: =일위대가목록!F44 -> 59020 | H42: =TRUNC(G42*D42,1) -> 5252.7 | I42: =일위대가목록!G44 -> 13873 | J42: =TRUNC(I42*D42,1) -> 1234.6 | K42: =TRUNC(E42+G42+I42,1) -> 83920 | L42: =TRUNC(F42+H42+J42,1) -> 7468.7 | M42: 호표 41 | N42: 598795084B6664E1173A282E189C42 | O42: 5EB3D50CD26DF040176BFDEB16AAEB79B93C6A11 | P42: T | Q42: F | R42: F | AW42: 598795084B6664E1173A282E189C425EB3D50CD26DF040176BFDEB16AAEB79B93C6A11
A43: 진동롤러(핸드가이드식) | B43: 0.7ton | C43: HR | D43: 0.089 | E43: =일위대가목록!E45 -> 4531 | F43: =TRUNC(E43*D43,1) -> 403.2 | G43: =일위대가목록!F45 -> 36248 | H43: =TRUNC(G43*D43,1) -> 3226 | I43: =일위대가목록!G45 -> 1967 | J43: =TRUNC(I43*D43,1) -> 175 | K43: =TRUNC(E43+G43+I43,1) -> 42746 | L43: =TRUNC(F43+H43+J43,1) -> 3804.2 | M43: 호표 42 | N43: 598795084B6664E1173A282E189C42 | O43: 5EB3D50CD26DE7CA17D0826E1EBA0C5738F816B5 | P43: T | Q43: F | R43: F | V43: 1 | AW43: 598795084B6664E1173A282E189C425EB3D50CD26DE7CA17D0826E1EBA0C5738F816B5
A44: 진동롤러(핸드가이드식) 조정원 계산안함 | B44: 조정원의 100% | C44: 식 | D44: -1 | E44: 0 | F44: =TRUNC(E44*D44,1) -> 0 | G44: =TRUNC(SUMIF(V40:V44, RIGHTB(O44, 1), H40:H44)*U44, 2) -> 3226 | H44: =TRUNC(G44*D44,1) -> -3226 | I44: 0 | J44: =TRUNC(I44*D44,1) -> 0 | K44: =TRUNC(E44+G44+I44,1) -> 3226 | L44: =TRUNC(F44+H44+J44,1) -> -3226 | N44: 598795084B6664E1173A282E189C42 | O44: 58BD6567A069BB70171459E610D0001 | P44: F | Q44: F | R44: F | S44: 1 | T44: 1 | U44: 1 | AW44: 598795084B6664E1173A282E189C4258BD6567A069BB70171459E610D0001
A45: [ 합 계 ] | F45: =TRUNC(SUMIF(N40:N44, N39, F40:F44),0) -> 1384 | H45: =TRUNC(SUMIF(N40:N44, N39, H40:H44),0) -> 9632 | J45: =TRUNC(SUMIF(N40:N44, N39, J40:J44),0) -> 1409 | L45: =F45+H45+J45 -> 12425 | N45: TOTAL | O45: TOTAL
A47: 철근 현장가공 및 현장조립 Type-Ⅰ TON 공통 6-2-2, 3 ( 호표 9 ) | N47: 59A4F5A98A67AB091711792F158157
A48: 철근 현장가공 | B48: Type-Ⅰ | C48: TON | D48: 1 | E48: =일위대가목록!E46 -> 0 | F48: =TRUNC(E48*D48,1) -> 0 | G48: =일위대가목록!F46 -> 217540 | H48: =TRUNC(G48*D48,1) -> 217540 | I48: =일위대가목록!G46 -> 19578 | J48: =TRUNC(I48*D48,1) -> 19578 | K48: =TRUNC(E48+G48+I48,1) -> 237118 | L48: =TRUNC(F48+H48+J48,1) -> 237118 | M48: 호표 43 | N48: 59A4F5A98A67AB091711792F158157 | O48: 59A4F5A98A67AB091711792F14FBAB | P48: T | Q48: F | R48: F | AW48: 59A4F5A98A67AB091711792F15815759A4F5A98A67AB091711792F14FBAB
A49: 철근 현장조립 | B49: Type-Ⅰ | C49: TON | D49: 1 | E49: =일위대가목록!E47 -> 10101 | F49: =TRUNC(E49*D49,1) -> 10101 | G49: =일위대가목록!F47 -> 573529 | H49: =TRUNC(G49*D49,1) -> 573529 | I49: =일위대가목록!G47 -> 11470 | J49: =TRUNC(I49*D49,1) -> 11470 | K49: =TRUNC(E49+G49+I49,1) -> 595100 | L49: =TRUNC(F49+H49+J49,1) -> 595100 | M49: 호표 44 | N49: 59A4F5A98A67AB091711792F158157 | O49: 59A4F5A98A67AB091711792F14F8D7 | P49: T | Q49: F | R49: F | AW49: 59A4F5A98A67AB091711792F15815759A4F5A98A67AB091711792F14F8D7
A50: [ 합 계 ] | F50: =TRUNC(SUMIF(N48:N49, N47, F48:F49),0) -> 10101 | H50: =TRUNC(SUMIF(N48:N49, N47, H48:H49),0) -> 791069 | J50: =TRUNC(SUMIF(N48:N49, N47, J48:J49),0) -> 31048 | L50: =F50+H50+J50 -> 832218 | N50: TOTAL | O50: TOTAL
A52: 유로폼 설치 및 해체 3회, 간단, 수직고 7m까지 M2 공통 6-3-3 ( 호표 10 ) | N52: 59A4F5AA956C6518173C776F10B780
A53: 유로폼 - 재료비 | B53: 3회, 간단 | C53: 10M2 | D53: 0.1 | E53: =일위대가목록!E48 -> 39671 | F53: =TRUNC(E53*D53,1) -> 3967.1 | G53: =일위대가목록!F48 -> 0 | H53: =TRUNC(G53*D53,1) -> 0 | I53: =일위대가목록!G48 -> 0 | J53: =TRUNC(I53*D53,1) -> 0 | K53: =TRUNC(E53+G53+I53,1) -> 39671 | L53: =TRUNC(F53+H53+J53,1) -> 3967.1 | M53: 호표 45 | N53: 59A4F5AA956C6518173C776F10B780 | O53: 59A4F5AA956C651817220CD71477E6 | P53: T | Q53: F | R53: F | AW53: 59A4F5AA956C6518173C776F10B78059A4F5AA956C651817220CD71477E6
A54: 유로폼 - 인력투입 | B54: 간단, 수직고 7m까지 | C54: M2 | D54: 1 | E54: =일위대가목록!E49 -> 0 | F54: =TRUNC(E54*D54,1) -> 0 | G54: =일위대가목록!F49 -> 31880 | H54: =TRUNC(G54*D54,1) -> 31880 | I54: =일위대가목록!G49 -> 956 | J54: =TRUNC(I54*D54,1) -> 956 | K54: =TRUNC(E54+G54+I54,1) -> 32836 | L54: =TRUNC(F54+H54+J54,1) -> 32836 | M54: 호표 46 | N54: 59A4F5AA956C6518173C776F10B780 | O54: 59A4F5AA956C651817222FA619AD40 | P54: T | Q54: F | R54: F | AW54: 59A4F5AA956C6518173C776F10B78059A4F5AA956C651817222FA619AD40
A55: [ 합 계 ] | F55: =TRUNC(SUMIF(N53:N54, N52, F53:F54),0) -> 3967 | H55: =TRUNC(SUMIF(N53:N54, N52, H53:H54),0) -> 31880 | J55: =TRUNC(SUMIF(N53:N54, N52, J53:J54),0) -> 956 | L55: =F55+H55+J55 -> 36803 | N55: TOTAL | O55: TOTAL
A57: 콘크리트 펌프차 타설(무근, 진동기無) slump 8~12cm, 매트기초 등, f2 : Type-Ⅰ, 32m M3 공통 6-1-4 ( 호표 11 ) | N57: 59A4F5AD646237681737EB8A1168AD
A58: 콘크리트공 | B58: 일반공사 직종 | C58: 인 | D58: 0.0092 | E58: =단가대비표!O104 -> 0 | F58: =TRUNC(E58*D58,1) -> 0 | G58: =단가대비표!P104 -> 273540 | H58: =TRUNC(G58*D58,1) -> 2516.5 | I58: =단가대비표!V104 -> 0 | J58: =TRUNC(I58*D58,1) -> 0 | K58: =TRUNC(E58+G58+I58,1) -> 273540 | L58: =TRUNC(F58+H58+J58,1) -> 2516.5 | N58: 59A4F5AD646237681737EB8A1168AD | O58: 597675753A6F38FB17C959F51424FC7EA0F0FB | P58: F | Q58: F | R58: T | V58: 1 | W58: 2 | AW58: 59A4F5AD646237681737EB8A1168AD597675753A6F38FB17C959F51424FC7EA0F0FB
A59: 특별인부 | B59: 일반공사 직종 | C59: 인 | E59: =단가대비표!O97 -> 0 | F59: =TRUNC(E59*D59,1) -> 0 | G59: =단가대비표!P97 -> 226122 | H59: =TRUNC(G59*D59,1) -> 0 | I59: =단가대비표!V97 -> 0 | J59: =TRUNC(I59*D59,1) -> 0 | K59: =TRUNC(E59+G59+I59,1) -> 226122 | L59: =TRUNC(F59+H59+J59,1) -> 0 | N59: 59A4F5AD646237681737EB8A1168AD | O59: 597675753A6F38FB17C959F51424FC7EA0F19C | P59: F | Q59: F | R59: T | V59: 1 | W59: 2 | AW59: 59A4F5AD646237681737EB8A1168AD597675753A6F38FB17C959F51424FC7EA0F19C
A60: 형틀목공 | B60: 일반공사 직종 | C60: 인 | D60: 0.0046 | E60: =단가대비표!O99 -> 0 | F60: =TRUNC(E60*D60,1) -> 0 | G60: =단가대비표!P99 -> 275790 | H60: =TRUNC(G60*D60,1) -> 1268.6 | I60: =단가대비표!V99 -> 0 | J60: =TRUNC(I60*D60,1) -> 0 | K60: =TRUNC(E60+G60+I60,1) -> 275790 | L60: =TRUNC(F60+H60+J60,1) -> 1268.6 | N60: 59A4F5AD646237681737EB8A1168AD | O60: 597675753A6F38FB17C959F51424FC7EA0F198 | P60: F | Q60: F | R60: T | V60: 1 | W60: 2 | AW60: 59A4F5AD646237681737EB8A1168AD597675753A6F38FB17C959F51424FC7EA0F198
A61: 보통인부 | B61: 일반공사 직종 | C61: 인 | D61: 0.0046 | E61: =단가대비표!O96 -> 0 | F61: =TRUNC(E61*D61,1) -> 0 | G61: =단가대비표!P96 -> 172068 | H61: =TRUNC(G61*D61,1) -> 791.5 | I61: =단가대비표!V96 -> 0 | J61: =TRUNC(I61*D61,1) -> 0 | K61: =TRUNC(E61+G61+I61,1) -> 172068 | L61: =TRUNC(F61+H61+J61,1) -> 791.5 | N61: 59A4F5AD646237681737EB8A1168AD | O61: 597675753A6F38FB17C959F51424FC7EA0F19D | P61: F | Q61: F | R61: T | V61: 1 | W61: 2 | AW61: 59A4F5AD646237681737EB8A1168AD597675753A6F38FB17C959F51424FC7EA0F19D
A62: 공구손료 | B62: 인력품의 5% | C62: 식 | D62: 1 | E62: 0 | F62: =TRUNC(E62*D62,1) -> 0 | G62: 0 | H62: =TRUNC(G62*D62,1) -> 0 | I62: =TRUNC(SUMIF(V58:V64, RIGHTB(O62, 1), H58:H64)*U62, 2) -> 228.83 | J62: =TRUNC(I62*D62,1) -> 228.8 | K62: =TRUNC(E62+G62+I62,1) -> 228.8 | L62: =TRUNC(F62+H62+J62,1) -> 228.8 | N62: 59A4F5AD646237681737EB8A1168AD | O62: 58BD6567A069BB70171459E610D0001 | P62: F | Q62: F | R62: F | S62: 1 | T62: 2 | U62: 0.05 | AW62: 59A4F5AD646237681737EB8A1168AD58BD6567A069BB70171459E610D0001
A63: 콘크리트 펌프차 | B63: 32m(80∼95㎥/hr) | C63: HR | D63: 0.0366 | E63: =일위대가목록!E50 -> 42569 | F63: =TRUNC(E63*D63,1) -> 1558 | G63: =일위대가목록!F50 -> 59020 | H63: =TRUNC(G63*D63,1) -> 2160.1 | I63: =일위대가목록!G50 -> 72600 | J63: =TRUNC(I63*D63,1) -> 2657.1 | K63: =TRUNC(E63+G63+I63,1) -> 174189 | L63: =TRUNC(F63+H63+J63,1) -> 6375.2 | M63: 호표 47 | N63: 59A4F5AD646237681737EB8A1168AD | O63: 5EB3D50CD26DBAE51779DA16195427FC9E7872AC | P63: T | Q63: F | R63: F | AW63: 59A4F5AD646237681737EB8A1168AD5EB3D50CD26DBAE51779DA16195427FC9E7872AC
A64: 잔여 콘크리트 | B64: 인력품의 5% | C64: 식 | D64: 1 | E64: =TRUNC(SUMIF(W58:W64, RIGHTB(O64, 1), H58:H64)*U64, 2) -> 228.83 | F64: =TRUNC(E64*D64,1) -> 228.8 | G64: 0 | H64: =TRUNC(G64*D64,1) -> 0 | I64: 0 | J64: =TRUNC(I64*D64,1) -> 0 | K64: =TRUNC(E64+G64+I64,1) -> 228.8 | L64: =TRUNC(F64+H64+J64,1) -> 228.8 | N64: 59A4F5AD646237681737EB8A1168AD | O64: 58BD6567A069BB70171459E610D3002 | P64: F | Q64: F | R64: F | S64: 1 | T64: 0 | U64: 0.05 | AW64: 59A4F5AD646237681737EB8A1168AD58BD6567A069BB70171459E610D3002
A65: [ 합 계 ] | F65: =TRUNC(SUMIF(N58:N64, N57, F58:F64),0) -> 1786 | H65: =TRUNC(SUMIF(N58:N64, N57, H58:H64),0) -> 6736 | J65: =TRUNC(SUMIF(N58:N64, N57, J58:J64),0) -> 2885 | L65: =F65+H65+J65 -> 11407 | N65: TOTAL | O65: TOTAL
A67: 콘크리트 펌프차 타설 slump 8~12cm, 매트기초 등, f2 : Type-Ⅰ, 32m M3 공통 6-1-4 ( 호표 12 ) | N67: 59A4F5AD676F212D1727964318C86E
A68: 콘크리트공 | B68: 일반공사 직종 | C68: 인 | D68: 0.019 | E68: =단가대비표!O104 -> 0 | F68: =TRUNC(E68*D68,1) -> 0 | G68: =단가대비표!P104 -> 273540 | H68: =TRUNC(G68*D68,1) -> 5197.2 | I68: =단가대비표!V104 -> 0 | J68: =TRUNC(I68*D68,1) -> 0 | K68: =TRUNC(E68+G68+I68,1) -> 273540 | L68: =TRUNC(F68+H68+J68,1) -> 5197.2 | N68: 59A4F5AD676F212D1727964318C86E | O68: 597675753A6F38FB17C959F51424FC7EA0F0FB | P68: F | Q68: F | R68: T | V68: 1 | W68: 2 | AW68: 59A4F5AD676F212D1727964318C86E597675753A6F38FB17C959F51424FC7EA0F0FB
A69: 특별인부 | B69: 일반공사 직종 | C69: 인 | D69: 0.0048 | E69: =단가대비표!O97 -> 0 | F69: =TRUNC(E69*D69,1) -> 0 | G69: =단가대비표!P97 -> 226122 | H69: =TRUNC(G69*D69,1) -> 1085.3 | I69: =단가대비표!V97 -> 0 | J69: =TRUNC(I69*D69,1) -> 0 | K69: =TRUNC(E69+G69+I69,1) -> 226122 | L69: =TRUNC(F69+H69+J69,1) -> 1085.3 | N69: 59A4F5AD676F212D1727964318C86E | O69: 597675753A6F38FB17C959F51424FC7EA0F19C | P69: F | Q69: F | R69: T | V69: 1 | W69: 2 | AW69: 59A4F5AD676F212D1727964318C86E597675753A6F38FB17C959F51424FC7EA0F19C
A70: 형틀목공 | B70: 일반공사 직종 | C70: 인 | D70: 0.0048 | E70: =단가대비표!O99 -> 0 | F70: =TRUNC(E70*D70,1) -> 0 | G70: =단가대비표!P99 -> 275790 | H70: =TRUNC(G70*D70,1) -> 1323.7 | I70: =단가대비표!V99 -> 0 | J70: =TRUNC(I70*D70,1) -> 0 | K70: =TRUNC(E70+G70+I70,1) -> 275790 | L70: =TRUNC(F70+H70+J70,1) -> 1323.7 | N70: 59A4F5AD676F212D1727964318C86E | O70: 597675753A6F38FB17C959F51424FC7EA0F198 | P70: F | Q70: F | R70: T | V70: 1 | W70: 2 | AW70: 59A4F5AD676F212D1727964318C86E597675753A6F38FB17C959F51424FC7EA0F198
A71: 보통인부 | B71: 일반공사 직종 | C71: 인 | D71: 0.0048 | E71: =단가대비표!O96 -> 0 | F71: =TRUNC(E71*D71,1) -> 0 | G71: =단가대비표!P96 -> 172068 | H71: =TRUNC(G71*D71,1) -> 825.9 | I71: =단가대비표!V96 -> 0 | J71: =TRUNC(I71*D71,1) -> 0 | K71: =TRUNC(E71+G71+I71,1) -> 172068 | L71: =TRUNC(F71+H71+J71,1) -> 825.9 | N71: 59A4F5AD676F212D1727964318C86E | O71: 597675753A6F38FB17C959F51424FC7EA0F19D | P71: F | Q71: F | R71: T | V71: 1 | W71: 2 | AW71: 59A4F5AD676F212D1727964318C86E597675753A6F38FB17C959F51424FC7EA0F19D
A72: 공구손료 | B72: 인력품의 5% | C72: 식 | D72: 1 | E72: 0 | F72: =TRUNC(E72*D72,1) -> 0 | G72: 0 | H72: =TRUNC(G72*D72,1) -> 0 | I72: =TRUNC(SUMIF(V68:V74, RIGHTB(O72, 1), H68:H74)*U72, 2) -> 421.6 | J72: =TRUNC(I72*D72,1) -> 421.6 | K72: =TRUNC(E72+G72+I72,1) -> 421.6 | L72: =TRUNC(F72+H72+J72,1) -> 421.6 | N72: 59A4F5AD676F212D1727964318C86E | O72: 58BD6567A069BB70171459E610D0001 | P72: F | Q72: F | R72: F | S72: 1 | T72: 2 | U72: 0.05 | AW72: 59A4F5AD676F212D1727964318C86E58BD6567A069BB70171459E610D0001
A73: 콘크리트 펌프차 | B73: 32m(80∼95㎥/hr) | C73: HR | D73: 0.0381 | E73: =일위대가목록!E50 -> 42569 | F73: =TRUNC(E73*D73,1) -> 1621.8 | G73: =일위대가목록!F50 -> 59020 | H73: =TRUNC(G73*D73,1) -> 2248.6 | I73: =일위대가목록!G50 -> 72600 | J73: =TRUNC(I73*D73,1) -> 2766 | K73: =TRUNC(E73+G73+I73,1) -> 174189 | L73: =TRUNC(F73+H73+J73,1) -> 6636.4 | M73: 호표 47 | N73: 59A4F5AD676F212D1727964318C86E | O73: 5EB3D50CD26DBAE51779DA16195427FC9E7872AC | P73: T | Q73: F | R73: F | AW73: 59A4F5AD676F212D1727964318C86E5EB3D50CD26DBAE51779DA16195427FC9E7872AC
A74: 잔여 콘크리트 | B74: 인력품의 5% | C74: 식 | D74: 1 | E74: =TRUNC(SUMIF(W68:W74, RIGHTB(O74, 1), H68:H74)*U74, 2) -> 421.6 | F74: =TRUNC(E74*D74,1) -> 421.6 | G74: 0 | H74: =TRUNC(G74*D74,1) -> 0 | I74: 0 | J74: =TRUNC(I74*D74,1) -> 0 | K74: =TRUNC(E74+G74+I74,1) -> 421.6 | L74: =TRUNC(F74+H74+J74,1) -> 421.6 | N74: 59A4F5AD676F212D1727964318C86E | O74: 58BD6567A069BB70171459E610D3002 | P74: F | Q74: F | R74: F | S74: 1 | T74: 0 | U74: 0.05 | AW74: 59A4F5AD676F212D1727964318C86E58BD6567A069BB70171459E610D3002
A75: [ 합 계 ] | F75: =TRUNC(SUMIF(N68:N74, N67, F68:F74),0) -> 2043 | H75: =TRUNC(SUMIF(N68:N74, N67, H68:H74),0) -> 10680 | J75: =TRUNC(SUMIF(N68:N74, N67, J68:J74),0) -> 3187 | L75: =F75+H75+J75 -> 15910 | N75: TOTAL | O75: TOTAL
A77: 철골 가공 조립(적은 구조) Rolled shape, 60ton 미만 TON 건축 1-1-1, 1-1-2 ( 호표 13 ) | N77: 59A4E54792637FA7173DEA1E1544A2
A78: 철골공수 산정방법<소요 부자재량> | B78: H형강부재(Rolled shape) | C78: TON | D78: 1 | E78: =일위대가목록!E51 -> 17488 | F78: =TRUNC(E78*D78,1) -> 17488 | G78: =일위대가목록!F51 -> 0 | H78: =TRUNC(G78*D78,1) -> 0 | I78: =일위대가목록!G51 -> 0 | J78: =TRUNC(I78*D78,1) -> 0 | K78: =TRUNC(E78+G78+I78,1) -> 17488 | L78: =TRUNC(F78+H78+J78,1) -> 17488 | M78: 호표 48 | N78: 59A4E54792637FA7173DEA1E1544A2 | O78: 59A4E54792637FA7173DEA0D1F78EE | P78: T | Q78: F | R78: F | AW78: 59A4E54792637FA7173DEA1E1544A259A4E54792637FA7173DEA0D1F78EE
A79: 철골공 | B79: 일반공사 직종 | C79: 인 | D79: 1.40864 | E79: =단가대비표!O102 -> 0 | F79: =TRUNC(E79*D79,1) -> 0 | G79: =단가대비표!P102 -> 252641 | H79: =TRUNC(G79*D79,1) -> 355880.2 | I79: =단가대비표!V102 -> 0 | J79: =TRUNC(I79*D79,1) -> 0 | K79: =TRUNC(E79+G79+I79,1) -> 252641 | L79: =TRUNC(F79+H79+J79,1) -> 355880.2 | N79: 59A4E54792637FA7173DEA1E1544A2 | O79: 597675753A6F38FB17C959F51424FC7EA0F0F9 | P79: F | Q79: F | R79: T | V79: 1 | AW79: 59A4E54792637FA7173DEA1E1544A2597675753A6F38FB17C959F51424FC7EA0F0F9
A80: 제경비 | B80: 인력품의 60% | C80: 식 | D80: 1 | E80: 0 | F80: =TRUNC(E80*D80,1) -> 0 | G80: 0 | H80: =TRUNC(G80*D80,1) -> 0 | I80: =TRUNC(SUMIF(V78:V80, RIGHTB(O80, 1), H78:H80)*U80, 2) -> 213528.12 | J80: =TRUNC(I80*D80,1) -> 213528.1 | K80: =TRUNC(E80+G80+I80,1) -> 213528.1 | L80: =TRUNC(F80+H80+J80,1) -> 213528.1 | N80: 59A4E54792637FA7173DEA1E1544A2 | O80: 58BD6567A069BB70171459E610D0001 | P80: F | Q80: F | R80: F | S80: 1 | T80: 2 | U80: 0.6 | AW80: 59A4E54792637FA7173DEA1E1544A258BD6567A069BB70171459E610D0001
A81: [ 합 계 ] | F81: =TRUNC(SUMIF(N78:N80, N77, F78:F80),0) -> 17488 | H81: =TRUNC(SUMIF(N78:N80, N77, H78:H80),0) -> 355880 | J81: =TRUNC(SUMIF(N78:N80, N77, J78:J80),0) -> 213528 | L81: =F81+H81+J81 -> 586896 | N81: TOTAL | O81: TOTAL
A83: 철골세우기 - 6층 미만 50~55kg/m2 미만, 30∼50ton 미만 TON 건축 1-2-1 ( 호표 14 ) | N83: 59A4E54108625AF21733FB371FB02A
A84: 육각볼트 | B84: 육각볼트, M20*100 | C84: 개 | D84: 0.8 | E84: =단가대비표!O83 -> 755 | F84: =TRUNC(E84*D84,1) -> 604 | G84: =단가대비표!P83 -> 0 | H84: =TRUNC(G84*D84,1) -> 0 | I84: =단가대비표!V83 -> 0 | J84: =TRUNC(I84*D84,1) -> 0 | K84: =TRUNC(E84+G84+I84,1) -> 755 | L84: =TRUNC(F84+H84+J84,1) -> 604 | N84: 59A4E54108625AF21733FB371FB02A | O84: 5E8685864E63F1A31723C45315FFCFC1EE1215 | P84: F | Q84: F | R84: T | AW84: 59A4E54108625AF21733FB371FB02A5E8685864E63F1A31723C45315FFCFC1EE1215
A85: 철골세우기 - 표준단가 | B85: 6층 미만 | C85: TON | D85: 1.487 | E85: =일위대가목록!E52 -> 0 | F85: =TRUNC(E85*D85,1) -> 0 | G85: =일위대가목록!F52 -> 138671 | H85: =TRUNC(G85*D85,1) -> 206203.7 | I85: =일위대가목록!G52 -> 0 | J85: =TRUNC(I85*D85,1) -> 0 | K85: =TRUNC(E85+G85+I85,1) -> 138671 | L85: =TRUNC(F85+H85+J85,1) -> 206203.7 | M85: 호표 49 | N85: 59A4E54108625AF21733FB371FB02A | O85: 59A4E54108625AF21733FB1B12C3C2 | P85: T | Q85: F | R85: F | AW85: 59A4E54108625AF21733FB371FB02A59A4E54108625AF21733FB1B12C3C2
A86: [ 합 계 ] | F86: =TRUNC(SUMIF(N84:N85, N83, F84:F85),0) -> 604 | H86: =TRUNC(SUMIF(N84:N85, N83, H84:H85),0) -> 206203 | J86: =TRUNC(SUMIF(N84:N85, N83, J84:J85),0) -> 0 | L86: =F86+H86+J86 -> 206807 | N86: TOTAL | O86: TOTAL
A88: 고장력 볼트 본조임 30본/t 미만, 300ton 이상~500ton 미만 TON 건축 1-2-4 ( 호표 15 ) | N88: 59A4E541036A24D9173FEDB3118418
A89: 고장력 볼트 본조임 - 표준단가 | B89: 30본/t 미만 | C89: TON | D89: 0.91 | E89: =일위대가목록!E53 -> 0 | F89: =TRUNC(E89*D89,1) -> 0 | G89: =일위대가목록!F53 -> 135770 | H89: =TRUNC(G89*D89,1) -> 123550.7 | I89: =일위대가목록!G53 -> 4073 | J89: =TRUNC(I89*D89,1) -> 3706.4 | K89: =TRUNC(E89+G89+I89,1) -> 139843 | L89: =TRUNC(F89+H89+J89,1) -> 127257.1 | M89: 호표 50 | N89: 59A4E541036A24D9173FEDB3118418 | O89: 59A4E541036A24D9172E6B5B1139E3 | P89: T | Q89: F | R89: F | AW89: 59A4E541036A24D9173FEDB311841859A4E541036A24D9172E6B5B1139E3
A90: [ 합 계 ] | F90: =TRUNC(SUMIF(N89:N89, N88, F89:F89),0) -> 0 | H90: =TRUNC(SUMIF(N89:N89, N88, H89:H89),0) -> 123550 | J90: =TRUNC(SUMIF(N89:N89, N88, J89:J89),0) -> 3706 | L90: =F90+H90+J90 -> 127256 | N90: TOTAL | O90: TOTAL
N92: 59A4E5468C6EB46D17882A69156B53
A93: 철골공 | B93: 일반공사 직종 | C93: 인 | D93: 0.12 | E93: =단가대비표!O102 -> 0 | F93: =TRUNC(E93*D93,1) -> 0 | G93: =단가대비표!P102 -> 252641 | H93: =TRUNC(G93*D93,1) -> 30316.9 | I93: =단가대비표!V102 -> 0 | J93: =TRUNC(I93*D93,1) -> 0 | K93: =TRUNC(E93+G93+I93,1) -> 252641 | L93: =TRUNC(F93+H93+J93,1) -> 30316.9 | N93: 59A4E5468C6EB46D17882A69156B53 | O93: 597675753A6F38FB17C959F51424FC7EA0F0F9 | P93: F | Q93: F | R93: T | V93: 1 | AW93: 59A4E5468C6EB46D17882A69156B53597675753A6F38FB17C959F51424FC7EA0F0F9
A94: 특별인부 | B94: 일반공사 직종 | C94: 인 | D94: 0.05 | E94: =단가대비표!O97 -> 0 | F94: =TRUNC(E94*D94,1) -> 0 | G94: =단가대비표!P97 -> 226122 | H94: =TRUNC(G94*D94,1) -> 11306.1 | I94: =단가대비표!V97 -> 0 | J94: =TRUNC(I94*D94,1) -> 0 | K94: =TRUNC(E94+G94+I94,1) -> 226122 | L94: =TRUNC(F94+H94+J94,1) -> 11306.1 | N94: 59A4E5468C6EB46D17882A69156B53 | O94: 597675753A6F38FB17C959F51424FC7EA0F19C | P94: F | Q94: F | R94: T | V94: 1 | AW94: 59A4E5468C6EB46D17882A69156B53597675753A6F38FB17C959F51424FC7EA0F19C
A95: 공구손료 | B95: 인력품의 2% | C95: 식 | D95: 1 | E95: 0 | F95: =TRUNC(E95*D95,1) -> 0 | G95: 0 | H95: =TRUNC(G95*D95,1) -> 0 | I95: =TRUNC(SUMIF(V93:V95, RIGHTB(O95, 1), H93:H95)*U95, 2) -> 832.46 | J95: =TRUNC(I95*D95,1) -> 832.4 | K95: =TRUNC(E95+G95+I95,1) -> 832.4 | L95: =TRUNC(F95+H95+J95,1) -> 832.4 | N95: 59A4E5468C6EB46D17882A69156B53 | O95: 58BD6567A069BB70171459E610D0001 | P95: F | Q95: F | R95: F | S95: 1 | T95: 2 | U95: 0.02 | AW95: 59A4E5468C6EB46D17882A69156B5358BD6567A069BB70171459E610D0001
A96: [ 합 계 ] | F96: =TRUNC(SUMIF(N93:N95, N92, F93:F95),0) -> 0 | H96: =TRUNC(SUMIF(N93:N95, N92, H93:H95),0) -> 41623 | J96: =TRUNC(SUMIF(N93:N95, N92, J93:J95),0) -> 832 | L96: =F96+H96+J96 -> 42455 | N96: TOTAL | O96: TOTAL
A98: 앵커 볼트 설치 ∮20 이하 개 건축 1-2-6 ( 호표 17 ) | N98: 59A4E5468C6EB46D17882A69156FCE
A99: 철골공 | B99: 일반공사 직종 | C99: 인 | D99: 0.08 | E99: =단가대비표!O102 -> 0 | F99: =TRUNC(E99*D99,1) -> 0 | G99: =단가대비표!P102 -> 252641 | H99: =TRUNC(G99*D99,1) -> 20211.2 | I99: =단가대비표!V102 -> 0 | J99: =TRUNC(I99*D99,1) -> 0 | K99: =TRUNC(E99+G99+I99,1) -> 252641 | L99: =TRUNC(F99+H99+J99,1) -> 20211.2 | N99: 59A4E5468C6EB46D17882A69156FCE | O99: 597675753A6F38FB17C959F51424FC7EA0F0F9 | P99: F | Q99: F | R99: T | V99: 1 | AW99: 59A4E5468C6EB46D17882A69156FCE597675753A6F38FB17C959F51424FC7EA0F0F9
A100: 특별인부 | B100: 일반공사 직종 | C100: 인 | D100: 0.03 | E100: =단가대비표!O97 -> 0 | F100: =TRUNC(E100*D100,1) -> 0 | G100: =단가대비표!P97 -> 226122 | H100: =TRUNC(G100*D100,1) -> 6783.6 | I100: =단가대비표!V97 -> 0 | J100: =TRUNC(I100*D100,1) -> 0 | K100: =TRUNC(E100+G100+I100,1) -> 226122 | L100: =TRUNC(F100+H100+J100,1) -> 6783.6 | N100: 59A4E5468C6EB46D17882A69156FCE | O100: 597675753A6F38FB17C959F51424FC7EA0F19C | P100: F | Q100: F | R100: T | V100: 1 | AW100: 59A4E5468C6EB46D17882A69156FCE597675753A6F38FB17C959F51424FC7EA0F19C
A101: 공구손료 | B101: 인력품의 2% | C101: 식 | D101: 1 | E101: 0 | F101: =TRUNC(E101*D101,1) -> 0 | G101: 0 | H101: =TRUNC(G101*D101,1) -> 0 | I101: =TRUNC(SUMIF(V99:V101, RIGHTB(O101, 1), H99:H101)*U101, 2) -> 539.89 | J101: =TRUNC(I101*D101,1) -> 539.8 | K101: =TRUNC(E101+G101+I101,1) -> 539.8 | L101: =TRUNC(F101+H101+J101,1) -> 539.8 | N101: 59A4E5468C6EB46D17882A69156FCE | O101: 58BD6567A069BB70171459E610D0001 | P101: F | Q101: F | R101: F | S101: 1 | T101: 2 | U101: 0.02 | AW101: 59A4E5468C6EB46D17882A69156FCE58BD6567A069BB70171459E610D0001
A102: [ 합 계 ] | F102: =TRUNC(SUMIF(N99:N101, N98, F99:F101),0) -> 0 | H102: =TRUNC(SUMIF(N99:N101, N98, H99:H101),0) -> 26994 | J102: =TRUNC(SUMIF(N99:N101, N98, J99:J101),0) -> 539 | L102: =F102+H102+J102 -> 27533 | N102: TOTAL | O102: TOTAL
A104: 부대철골 설치 TON 건축 1-4-1 ( 호표 18 ) | N104: 59A4E5406460EF54172885AE1BB999
A105: 철골공 | B105: 일반공사 직종 | C105: 인 | D105: 1.67 | E105: =단가대비표!O102 -> 0 | F105: =TRUNC(E105*D105,1) -> 0 | G105: =단가대비표!P102 -> 252641 | H105: =TRUNC(G105*D105,1) -> 421910.4 | I105: =단가대비표!V102 -> 0 | J105: =TRUNC(I105*D105,1) -> 0 | K105: =TRUNC(E105+G105+I105,1) -> 252641 | L105: =TRUNC(F105+H105+J105,1) -> 421910.4 | N105: 59A4E5406460EF54172885AE1BB999 | O105: 597675753A6F38FB17C959F51424FC7EA0F0F9 | P105: F | Q105: F | R105: T | AW105: 59A4E5406460EF54172885AE1BB999597675753A6F38FB17C959F51424FC7EA0F0F9
A106: 특별인부 | B106: 일반공사 직종 | C106: 인 | D106: 0.42 | E106: =단가대비표!O97 -> 0 | F106: =TRUNC(E106*D106,1) -> 0 | G106: =단가대비표!P97 -> 226122 | H106: =TRUNC(G106*D106,1) -> 94971.2 | I106: =단가대비표!V97 -> 0 | J106: =TRUNC(I106*D106,1) -> 0 | K106: =TRUNC(E106+G106+I106,1) -> 226122 | L106: =TRUNC(F106+H106+J106,1) -> 94971.2 | N106: 59A4E5406460EF54172885AE1BB999 | O106: 597675753A6F38FB17C959F51424FC7EA0F19C | P106: F | Q106: F | R106: T | AW106: 59A4E5406460EF54172885AE1BB999597675753A6F38FB17C959F51424FC7EA0F19C
A107: 크레인(타이어) | B107: 50ton | C107: HR | D107: 2.5 | E107: =일위대가목록!E54 -> 28616 | F107: =TRUNC(E107*D107,1) -> 71540 | G107: =일위대가목록!F54 -> 59020 | H107: =TRUNC(G107*D107,1) -> 147550 | I107: =일위대가목록!G54 -> 90444 | J107: =TRUNC(I107*D107,1) -> 226110 | K107: =TRUNC(E107+G107+I107,1) -> 178080 | L107: =TRUNC(F107+H107+J107,1) -> 445200 | M107: 호표 51 | N107: 59A4E5406460EF54172885AE1BB999 | O107: 5EB3D50CD26DD5851776E61B1961E4CD0FA11589 | P107: T | Q107: F | R107: F | AW107: 59A4E5406460EF54172885AE1BB9995EB3D50CD26DD5851776E61B1961E4CD0FA11589
A108: [ 합 계 ] | F108: =TRUNC(SUMIF(N105:N107, N104, F105:F107),0) -> 71540 | H108: =TRUNC(SUMIF(N105:N107, N104, H105:H107),0) -> 664431 | J108: =TRUNC(SUMIF(N105:N107, N104, J105:J107),0) -> 226110 | L108: =F108+H108+J108 -> 962081 | N108: TOTAL | O108: TOTAL
A110: 크레인(타이어) 10ton HR 공통 8-3,4(2104) ( 호표 19 ) | N110: 5EB3D50CD26DD5851776E61B19655F1660583819
A111: 크레인(타이어) | B111: 10ton | C111: 대 | D111: 0.2298 | E111: =단가대비표!O8 -> 0 | F111: =TRUNC(E111*D111,1) -> 0 | G111: =단가대비표!P8 -> 0 | H111: =TRUNC(G111*D111,1) -> 0 | I111: =단가대비표!V8 -> 136400 | J111: =TRUNC(I111*D111,1) -> 31344.7 | K111: =TRUNC(E111+G111+I111,1) -> 136400 | L111: =TRUNC(F111+H111+J111,1) -> 31344.7 | M111: 천원 | N111: 5EB3D50CD26DD5851776E61B19655F1660583819 | O111: 5EB3D50CD26DD5851776E61B19655F16605838 | P111: F | Q111: F | R111: T | AW111: 5EB3D50CD26DD5851776E61B19655F16605838195EB3D50CD26DD5851776E61B19655F16605838
A112: 경유 | B112: 경유, 저유황 | C112: L | D112: 3.8 | E112: =단가대비표!O18 -> 1822.72 | F112: =TRUNC(E112*D112,1) -> 6926.3 | G112: =단가대비표!P18 -> 0 | H112: =TRUNC(G112*D112,1) -> 0 | I112: =단가대비표!V18 -> 0 | J112: =TRUNC(I112*D112,1) -> 0 | K112: =TRUNC(E112+G112+I112,1) -> 1822.7 | L112: =TRUNC(F112+H112+J112,1) -> 6926.3 | N112: 5EB3D50CD26DD5851776E61B19655F1660583819 | O112: 5EA12589EE698A251748AEB118522186FFE81B | P112: F | Q112: F | R112: T | V112: 1 | AW112: 5EB3D50CD26DD5851776E61B19655F16605838195EA12589EE698A251748AEB118522186FFE81B
A113: 잡재료 | B113: 주연료비의 39% | C113: 식 | D113: 1 | E113: =TRUNC(SUMIF(V111:V114, RIGHTB(O113, 1), F111:F114)*U113, 2) -> 2701.25 | F113: =TRUNC(E113*D113,1) -> 2701.2 | G113: 0 | H113: =TRUNC(G113*D113,1) -> 0 | I113: 0 | J113: =TRUNC(I113*D113,1) -> 0 | K113: =TRUNC(E113+G113+I113,1) -> 2701.2 | L113: =TRUNC(F113+H113+J113,1) -> 2701.2 | N113: 5EB3D50CD26DD5851776E61B19655F1660583819 | O113: 58BD6567A069BB70171459E610D0001 | P113: F | Q113: F | R113: F | S113: 0 | T113: 0 | U113: 0.39 | AW113: 5EB3D50CD26DD5851776E61B19655F166058381958BD6567A069BB70171459E610D0001
A114: 건설기계운전사 | B114: 일반공사 직종 | C114: 인 | D114: 1 | E114: =TRUNC(단가대비표!O111*1/8*16/12*25/20, 1) -> 0 | F114: =TRUNC(E114*D114,1) -> 0 | G114: =TRUNC(단가대비표!P111*1/8*16/12*25/20, 1) -> 59020.2 | H114: =TRUNC(G114*D114,1) -> 59020.2 | I114: =TRUNC(단가대비표!V111*1/8*16/12*25/20, 1) -> 0 | J114: =TRUNC(I114*D114,1) -> 0 | K114: =TRUNC(E114+G114+I114,1) -> 59020.2 | L114: =TRUNC(F114+H114+J114,1) -> 59020.2 | N114: 5EB3D50CD26DD5851776E61B19655F1660583819 | O114: 597675753A6F38FB17C959F51424FC7EA0F572 | P114: F | Q114: F | R114: T | AW114: 5EB3D50CD26DD5851776E61B19655F1660583819597675753A6F38FB17C959F51424FC7EA0F572 | AX114: T
A115: [ 합 계 ] | F115: =TRUNC(SUMIF(N111:N114, N110, F111:F114),0) -> 9627 | H115: =TRUNC(SUMIF(N111:N114, N110, H111:H114),0) -> 59020 | J115: =TRUNC(SUMIF(N111:N114, N110, J111:J114),0) -> 31344 | L115: =F115+H115+J115 -> 99991 | N115: TOTAL | O115: TOTAL
A117: 주각부 무수축 모르타르 충전 400*400*50mm, 재료비 포함 개소 건축 9-3-3 ( 호표 20 ) | N117: 59A4E541036A35481754F59D18C8EC
A118: 주각부 무수축 모르타르 충전 | B118: 400*400*50mm, 재료 별도 | C118: 개소 | D118: 1 | E118: =일위대가목록!E55 -> 0 | F118: =TRUNC(E118*D118,1) -> 0 | G118: =일위대가목록!F55 -> 52967 | H118: =TRUNC(G118*D118,1) -> 52967 | I118: =일위대가목록!G55 -> 0 | J118: =TRUNC(I118*D118,1) -> 0 | K118: =TRUNC(E118+G118+I118,1) -> 52967 | L118: =TRUNC(F118+H118+J118,1) -> 52967 | M118: 호표 52 | N118: 59A4E541036A35481754F59D18C8EC | O118: 59A4E541036A3548170CC7D01E4DD6 | P118: T | Q118: F | R118: F | AW118: 59A4E541036A35481754F59D18C8EC59A4E541036A3548170CC7D01E4DD6
A119: 무수축모르타르 | B119: GP600 | C119: kg | D119: 15.6 | E119: =단가대비표!O49 -> 400 | F119: =TRUNC(E119*D119,1) -> 6240 | G119: =단가대비표!P49 -> 0 | H119: =TRUNC(G119*D119,1) -> 0 | I119: =단가대비표!V49 -> 0 | J119: =TRUNC(I119*D119,1) -> 0 | K119: =TRUNC(E119+G119+I119,1) -> 400 | L119: =TRUNC(F119+H119+J119,1) -> 6240 | N119: 59A4E541036A35481754F59D18C8EC | O119: 5E8695AC4A667A3D17F066EE136ECF037A4057 | P119: F | Q119: F | R119: T | AW119: 59A4E541036A35481754F59D18C8EC5E8695AC4A667A3D17F066EE136ECF037A4057
...

Sheet 단가대비표
A1: 단 가 대 비 표
A2: [ 2026년고성능임업기계장비 장비고 신축공사 ]
A3: 코 드 | B3: 품 명 | C3: 규격 | D3: 단위 | E3: 재 료 비 | P3: 노 무 비 | Q3: 경 비 | W3: 번 호 | X3: 비 고 | Y3: 품목구분 | Z3: 노임구분 | AA3: 소수점처리 | AB3: 자재구분
E4: 조달청가격 | F4: PAGE | G4: 거래가격 | H4: PAGE | I4: 유통물가 | J4: PAGE | K4: 조사가격1 | L4: PAGE | M4: 조사가격2 | N4: PAGE | O4: 적용단가 | Q4: 조달청가격 | R4: 거래가격 | S4: 유통물가 | T4: 조사가격1 | U4: 조사가격2 | V4: 적용단가
A5: 5EB3D50CD26DF040176BFDEB16AAEB79B93C6A | B5: 굴착기(무한궤도) | C5: 0.2㎥ | D5: 대 | E5: 0 | G5: 0 | I5: 0 | K5: 0 | M5: 0 | O5: 0 | P5: 0 | Q5: 0 | R5: 0 | S5: 0 | T5: 0 | U5: 66538 | V5: =SMALL(Q5:U5,COUNTIF(Q5:U5,0)+1) -> 66538 | W5: 자재 1 | X5: 천원
A6: 5EB3D50CD26DF040176BFDEB16AF6DB4219031 | B6: 굴착기(무한궤도) | C6: 0.7㎥ | D6: 대 | E6: 0 | G6: 0 | I6: 0 | K6: 0 | M6: 0 | O6: 0 | P6: 0 | Q6: 0 | R6: 0 | S6: 0 | T6: 0 | U6: 117766 | V6: =SMALL(Q6:U6,COUNTIF(Q6:U6,0)+1) -> 117766 | W6: 자재 2 | X6: 천원
A7: 5EB3D50CD26DE7CA17D0826E1EBA0C5738F816 | B7: 진동롤러(핸드가이드식) | C7: 0.7ton | D7: 대 | E7: 0 | G7: 0 | I7: 0 | K7: 0 | M7: 0 | O7: 0 | P7: 0 | Q7: 0 | R7: 0 | S7: 0 | T7: 0 | U7: 6966 | V7: =SMALL(Q7:U7,COUNTIF(Q7:U7,0)+1) -> 6966 | W7: 자재 3 | X7: 천원
A8: 5EB3D50CD26DD5851776E61B19655F16605838 | B8: 크레인(타이어) | C8: 10ton | D8: 대 | E8: 0 | G8: 0 | I8: 0 | K8: 0 | M8: 0 | O8: 0 | P8: 0 | Q8: 0 | R8: 0 | S8: 0 | T8: 0 | U8: 136400 | V8: =SMALL(Q8:U8,COUNTIF(Q8:U8,0)+1) -> 136400 | W8: 자재 4 | X8: 천원
A9: 5EB3D50CD26DD5851776E61B1961E4CD0FA115 | B9: 크레인(타이어) | C9: 50ton | D9: 대 | E9: 0 | G9: 0 | I9: 0 | K9: 0 | M9: 0 | O9: 0 | P9: 0 | Q9: 0 | R9: 0 | S9: 0 | T9: 0 | U9: 520694 | V9: =SMALL(Q9:U9,COUNTIF(Q9:U9,0)+1) -> 520694 | W9: 자재 5 | X9: 천원
A10: 5EB3D50CD26DD5851776F08213B79B400B5A66 | B10: 트럭탑재형 크레인 | C10: 10ton | D10: 대 | E10: 0 | G10: 0 | I10: 0 | K10: 0 | M10: 0 | O10: 0 | P10: 0 | Q10: 0 | R10: 0 | S10: 0 | T10: 0 | U10: 91593 | V10: =SMALL(Q10:U10,COUNTIF(Q10:U10,0)+1) -> 91593 | W10: 자재 6 | X10: 천원
A11: 5EB3D50CD26DD5851776CB4E142E6B301D309D | B11: 고소작업차 | C11: 5ton | D11: 대 | E11: 0 | G11: 0 | I11: 0 | K11: 0 | M11: 0 | O11: 0 | P11: 0 | Q11: 0 | R11: 0 | S11: 0 | T11: 0 | U11: 140857 | V11: =SMALL(Q11:U11,COUNTIF(Q11:U11,0)+1) -> 140857 | W11: 자재 7 | X11: 천원
A12: 5EB3D50CD26DD5EE17057F6710215F97650013 | B12: 트럭 트랙터 및 평판트레일러 | C12: 20ton | D12: 대 | E12: 0 | G12: 0 | I12: 0 | K12: 0 | M12: 0 | O12: 0 | P12: 0 | Q12: 0 | R12: 0 | S12: 0 | T12: 0 | U12: 67216 | V12: =SMALL(Q12:U12,COUNTIF(Q12:U12,0)+1) -> 67216 | W12: 자재 8 | X12: 천원
A13: 5EB3D50CD26DBAE51779DA16195427FC9E7872 | B13: 콘크리트 펌프차 | C13: 32m(80∼95㎥/hr) | D13: 대 | E13: 0 | G13: 0 | I13: 0 | K13: 0 | M13: 0 | O13: 0 | P13: 0 | Q13: 0 | R13: 0 | S13: 0 | T13: 0 | U13: 275000 | V13: =SMALL(Q13:U13,COUNTIF(Q13:U13,0)+1) -> 275000 | W13: 자재 9 | X13: 천원
A14: 5EA165639E6F14C4173A86F110647457789192 | B14: 철강설 | C14: 철강설, 고철, 작업설부산물 | D14: TON | E14: 251750 | G14: 365000 | H14: 1472 | I14: 438000 | J14: 1198 | K14: 0 | M14: 0 | O14: =SMALL(E14:M14,COUNTIF(E14:M14,0)+1) -> 251750 | P14: 0 | Q14: 0 | R14: 0 | S14: 0 | T14: 0 | U14: 0 | V14: 0 | W14: 자재 10 | X14: 수집상차도
A15: 5EA165639E6F14C4173A86F110647457789191 | B15: 철강설 | C15: 철강설, 고철, 작업설부산물 | D15: kg | E15: 251 | G15: 365 | H15: 1472 | I15: 438 | J15: 1198 | K15: 0 | M15: 0 | O15: =SMALL(E15:M15,COUNTIF(E15:M15,0)+1) -> 251 | P15: 0 | Q15: 0 | R15: 0 | S15: 0 | T15: 0 | U15: 0 | V15: 0 | W15: 자재 11 | X15: 수집상차도
A16: 5EA1555D48699CB1173EA70417573041A34F8D | B16: 산소가스 | C16: 산소가스, 기체(㎥) | D16: M3 | E16: 0 | G16: 4375 | H16: 1451 | I16: 3333.33 | J16: 1190 | K16: 0 | M16: 0 | O16: =SMALL(E16:M16,COUNTIF(E16:M16,0)+1) -> 3333.33 | P16: 0 | Q16: 0 | R16: 0 | S16: 0 | T16: 0 | U16: 0 | V16: 0 | W16: 자재 12 | X16: 대기압상태기준
A17: 5EA145B4146EE88B1799AF4C1D4FA2CD7868DA | B17: 폴리에틸렌필름 | C17: 폴리에틸렌필름, 두께, 0.03mm | D17: M2 | E17: 182 | G17: 183.91 | H17: 1460 | I17: 240.07 | J17: 1182 | K17: 0 | M17: 0 | O17: =SMALL(E17:M17,COUNTIF(E17:M17,0)+1) -> 182 | P17: 0 | Q17: 0 | R17: 0 | S17: 0 | T17: 0 | U17: 0 | V17: 0 | W17: 자재 13
A18: 5EA12589EE698A251748AEB118522186FFE81B | B18: 경유 | C18: 경유, 저유황 | D18: L | E18: 0 | G18: 1839.09 | H18: 1451 | I18: 1822.72 | J18: 1189 | K18: 0 | M18: 0 | O18: =SMALL(E18:M18,COUNTIF(E18:M18,0)+1) -> 1822.72 | P18: 0 | Q18: 0 | R18: 0 | S18: 0 | T18: 0 | U18: 0 | V18: 0 | W18: 자재 14
A19: 5EA12589EF6A143A17CFE4D01213221280A809 | B19: 액화석유가스 | C19: 액화석유가스, 건설용 LPG | D19: kg | E19: 2076 | G19: 0 | I19: 0 | K19: 0 | M19: 0 | O19: =SMALL(E19:M19,COUNTIF(E19:M19,0)+1) -> 2076 | P19: 0 | Q19: 0 | R19: 0 | S19: 0 | T19: 0 | U19: 0 | V19: 0 | W19: 자재 15
A20: 5E8695AC4B60C66E174A9D931ADCE5BFF24121 | B20: ㄱ형강 | C20: ㄱ형강, 등변, 50*50*5mm | D20: kg | E20: 940 | G20: 0 | I20: 1100 | J20: 21 | K20: 0 | M20: 0 | O20: =SMALL(E20:M20,COUNTIF(E20:M20,0)+1) -> 940 | P20: 0 | Q20: 0 | R20: 0 | S20: 0 | T20: 0 | U20: 0 | V20: 0 | W20: 자재 16
A21: 5E8695AC4B60C65D17DB829D1A55135FF865E7 | B21: 일반봉강 | C21: 일반봉강, SS400, ∮16mm | D21: kg | E21: 0 | G21: 1080 | H21: 50 | I21: 1036 | J21: 18 | K21: 0 | M21: 0 | O21: =SMALL(E21:M21,COUNTIF(E21:M21,0)+1) -> 1036 | P21: 0 | Q21: 0 | R21: 0 | S21: 0 | T21: 0 | U21: 0 | V21: 0 | W21: 자재 17
A22: 5E8695AC4B60C65D17DB829D1A55135FF86A62 | B22: 일반봉강 | C22: 일반봉강, SS400, ∮25mm | D22: kg | E22: 0 | G22: 1080 | H22: 50 | I22: 1036 | J22: 18 | K22: 0 | M22: 0 | O22: =SMALL(E22:M22,COUNTIF(E22:M22,0)+1) -> 1036 | P22: 0 | Q22: 0 | R22: 0 | S22: 0 | T22: 0 | U22: 0 | V22: 0 | W22: 자재 18
A23: 5E8695AC4B60C65D17C9C29A1F58F04C01EA04 | B23: 철근콘크리트용봉강(관급) | C23: 철근콘크리트용봉강, 이형봉강(SD400), HD-16 | D23: TON | E23: 822800 | G23: 0 | I23: 0 | K23: 0 | M23: 0 | O23: =SMALL(E23:M23,COUNTIF(E23:M23,0)+1) -> 822800 | P23: 0 | Q23: 0 | R23: 0 | S23: 0 | T23: 0 | U23: 0 | V23: 0 | W23: 자재 19 | X23: 별도
A24: 5E8695AC4B60C65D17C9C29A1F58F04C01EA02 | B24: 철근콘크리트용봉강(관급) | C24: 철근콘크리트용봉강, 이형봉강(SD400), HD-22 | D24: TON | E24: 822800 | G24: 0 | I24: 0 | K24: 0 | M24: 0 | O24: =SMALL(E24:M24,COUNTIF(E24:M24,0)+1) -> 822800 | P24: 0 | Q24: 0 | R24: 0 | S24: 0 | T24: 0 | U24: 0 | V24: 0 | W24: 자재 20 | X24: 별도
A25: 5E8695AC4B60C6431771D70A1F55CA0CC14DD3 | B25: 보조강재 | C25: 대강 | D25: kg | E25: 0 | G25: 1080 | H25: 53 | I25: 0 | K25: 0 | M25: 0 | O25: =SMALL(E25:M25,COUNTIF(E25:M25,0)+1) -> 1080 | P25: 0 | Q25: 0 | R25: 0 | S25: 0 | T25: 0 | U25: 0 | V25: 0 | W25: 자재 21
A26: 5E8695AC4B60C6431771D70A1E4EDA63920957 | B26: H형강 | C26: SHN275, 194*150*6*9mm, 현장도착도 | D26: TON | E26: 0 | G26: 0 | I26: 1240000 | J26: 19 | K26: 0 | M26: 0 | O26: =SMALL(E26:M26,COUNTIF(E26:M26,0)+1) -> 1240000 | P26: 0 | Q26: 0 | R26: 0 | S26: 0 | T26: 0 | U26: 0 | V26: 0 | W26: 자재 22 | X26: 30.6kg/m
A27: 5E8695AC4B60C6431771D70A1E4EDA63920956 | B27: H형강 | C27: SHN275, 200*200*8*12mm, 현장도착도 | D27: TON | E27: 0 | G27: 1250000 | H27: 56 | I27: 1240000 | J27: 19 | K27: 0 | M27: 0 | O27: =SMALL(E27:M27,COUNTIF(E27:M27,0)+1) -> 1240000 | P27: 0 | Q27: 0 | R27: 0 | S27: 0 | T27: 0 | U27: 0 | V27: 0 | W27: 자재 23 | X27: 49.9kg/m
A28: 5E8695AC4B60C6431771D70A1E4EDA63920B0F | B28: H형강 | C28: SHN275, 300*150*6.5*9mm, 현장도착도 | D28: TON | E28: 0 | G28: 1250000 | H28: 56 | I28: 1240000 | J28: 19 | K28: 0 | M28: 0 | O28: =SMALL(E28:M28,COUNTIF(E28:M28,0)+1) -> 1240000 | P28: 0 | Q28: 0 | R28: 0 | S28: 0 | T28: 0 | U28: 0 | V28: 0 | W28: 자재 24 | X28: 36.7kg/m
A29: 5E8695AC4B60C6431771D70A1E4EDA63920B09 | B29: H형강 | C29: SHN275, 298*201*9*14mm, 현장도착도 | D29: TON | E29: 0 | G29: 1250000 | H29: 56 | I29: 1240000 | J29: 19 | K29: 0 | M29: 0 | O29: =SMALL(E29:M29,COUNTIF(E29:M29,0)+1) -> 1240000 | P29: 0 | Q29: 0 | R29: 0 | S29: 0 | T29: 0 | U29: 0 | V29: 0 | W29: 자재 25 | X29: 65.4kg/m
A30: 5E8695AC4B60C6431771D70A1E4EDA63920B0A | B30: H형강 | C30: SHN275, 300*300*10*15mm, 현장도착도 | D30: TON | E30: 0 | G30: 1250000 | H30: 56 | I30: 1240000 | J30: 19 | K30: 0 | M30: 0 | O30: =SMALL(E30:M30,COUNTIF(E30:M30,0)+1) -> 1240000 | P30: 0 | Q30: 0 | R30: 0 | S30: 0 | T30: 0 | U30: 0 | V30: 0 | W30: 자재 26 | X30: 94.0kg/m
A31: 5E8695AC4B60C6431771D70A1E4EDA63920D39 | B31: H형강 | C31: SHN275, 400*200*8*13mm, 현장도착도 | D31: TON | E31: 0 | G31: 1250000 | H31: 56 | I31: 1240000 | J31: 19 | K31: 0 | M31: 0 | O31: =SMALL(E31:M31,COUNTIF(E31:M31,0)+1) -> 1240000 | P31: 0 | Q31: 0 | R31: 0 | S31: 0 | T31: 0 | U31: 0 | V31: 0 | W31: 자재 27 | X31: 66.0kg/m
A32: 5E8695AC4B60C6431771D70A1E4EDA63920C1B | B32: H형강 | C32: SHN275, 450*200*9*14mm, 현장도착도 | D32: TON | E32: 0 | G32: 1250000 | H32: 56 | I32: 1240000 | J32: 19 | K32: 0 | M32: 0 | O32: =SMALL(E32:M32,COUNTIF(E32:M32,0)+1) -> 1240000 | P32: 0 | Q32: 0 | R32: 0 | S32: 0 | T32: 0 | U32: 0 | V32: 0 | W32: 자재 28 | X32: 76.0kg/m
A33: 5E8695AC4B60C6431771D70A1E4EDA63920FEA | B33: H형강 | C33: SHN275, 500*200*10*16mm, 현장도착도 | D33: TON | E33: 0 | G33: 1250000 | H33: 56 | I33: 1240000 | J33: 19 | K33: 0 | M33: 0 | O33: =SMALL(E33:M33,COUNTIF(E33:M33,0)+1) -> 1240000 | P33: 0 | Q33: 0 | R33: 0 | S33: 0 | T33: 0 | U33: 0 | V33: 0 | W33: 자재 29 | X33: 89.6kg/m
A34: 5E8695AC4B60C6431771D70A1E4EDA63920FEC | B34: H형강 | C34: SHN275, 482*300*11*15mm, 현장도착도 | D34: TON | E34: 0 | G34: 1250000 | H34: 56 | I34: 1240000 | J34: 19 | K34: 0 | M34: 0 | O34: =SMALL(E34:M34,COUNTIF(E34:M34,0)+1) -> 1240000 | P34: 0 | Q34: 0 | R34: 0 | S34: 0 | T34: 0 | U34: 0 | V34: 0 | W34: 자재 30 | X34: 114.0kg/m
A35: 5E8695AC4B60C6431771D70A1E4EDA6392010D | B35: T형강 | C35: SHN275, 200*200*8*13mm, 현장도착도 | D35: TON | E35: 0 | G35: 1250000 | H35: 56 | I35: 1240000 | J35: 19 | K35: 0 | M35: 0 | O35: =SMALL(E35:M35,COUNTIF(E35:M35,0)+1) -> 1240000 | P35: 0 | Q35: 0 | R35: 0 | S35: 0 | T35: 0 | U35: 0 | V35: 0 | W35: 자재 31 | X35: 66.0kg/m
A36: 5E8695AC4B60C6431771D73613190E06E9F19F | B36: 경량형강 | C36: 경량형강, 칼라C형강, 150*50*20, t3.2 | D36: TON | E36: 1020000 | G36: 1100000 | H36: 58 | I36: 1097000 | J36: 24 | K36: 0 | M36: 0 | O36: =SMALL(E36:M36,COUNTIF(E36:M36,0)+1) -> 1020000 | P36: 0 | Q36: 0 | R36: 0 | S36: 0 | T36: 0 | U36: 0 | V36: 0 | W36: 자재 32
A37: 5E8695AC4B60F35C171D77BA1F94D2202F0F8A | B37: 일반구조용압연강판 | C37: 일반구조용압연강판, t=7.0mm | D37: kg | E37: 0 | G37: 1193.5 | H37: 62 | I37: 0 | K37: 0 | M37: 0 | O37: =SMALL(E37:M37,COUNTIF(E37:M37,0)+1) -> 1193.5 | P37: 0 | Q37: 0 | R37: 0 | S37: 0 | T37: 0 | U37: 0 | V37: 0 | W37: 자재 33
A38: 5E8695AC4B60F35C171D77BA1F94D2202F096A | B38: 일반구조용압연강판 | C38: 일반구조용압연강판, 9.0mm | D38: kg | E38: 0 | G38: 1130.6 | H38: 62 | I38: 0 | K38: 0 | M38: 0 | O38: =SMALL(E38:M38,COUNTIF(E38:M38,0)+1) -> 1130.6 | P38: 0 | Q38: 0 | R38: 0 | S38: 0 | T38: 0 | U38: 0 | V38: 0 | W38: 자재 34
A39: 5E8695AC4B60F35C171D77BA1F94D2202F085E | B39: 일반구조용압연강판 | C39: 일반구조용압연강판, 10.0mm | D39: kg | E39: 0 | G39: 1083.5 | H39: 62 | I39: 0 | K39: 0 | M39: 0 | O39: =SMALL(E39:M39,COUNTIF(E39:M39,0)+1) -> 1083.5 | P39: 0 | Q39: 0 | R39: 0 | S39: 0 | T39: 0 | U39: 0 | V39: 0 | W39: 자재 35
A40: 5E8695AC4B60F35C171D77BA1F94D2202F085F | B40: 일반구조용압연강판 | C40: 일반구조용압연강판, 11.0mm | D40: kg | E40: 0 | G40: 1083.5 | H40: 62 | I40: 0 | K40: 0 | M40: 0 | O40: =SMALL(E40:M40,COUNTIF(E40:M40,0)+1) -> 1083.5 | P40: 0 | Q40: 0 | R40: 0 | S40: 0 | T40: 0 | U40: 0 | V40: 0 | W40: 자재 36
A41: 5E8695AC4B60F35C171D77BA1F94D2202F0858 | B41: 일반구조용압연강판 | C41: 일반구조용압연강판, 14.0mm | D41: kg | E41: 0 | G41: 1080 | H41: 62 | I41: 0 | K41: 0 | M41: 0 | O41: =SMALL(E41:M41,COUNTIF(E41:M41,0)+1) -> 1080 | P41: 0 | Q41: 0 | R41: 0 | S41: 0 | T41: 0 | U41: 0 | V41: 0 | W41: 자재 37
A42: 5E8695AC4B60F35C171D77BA1F94D2202F0854 | B42: 일반구조용압연강판 | C42: 일반구조용압연강판, 12.0mm | D42: kg | E42: 0 | G42: 1083.5 | H42: 62 | I42: 0 | K42: 0 | M42: 0 | O42: =SMALL(E42:M42,COUNTIF(E42:M42,0)+1) -> 1083.5 | P42: 0 | Q42: 0 | R42: 0 | S42: 0 | T42: 0 | U42: 0 | V42: 0 | W42: 자재 38
A43: 5E8695AC4B60F35C171D77BA1F94D2202F0855 | B43: 일반구조용압연강판 | C43: 일반구조용압연강판, 16.0mm | D43: kg | E43: 0 | G43: 1083.5 | H43: 62 | I43: 0 | K43: 0 | M43: 0 | O43: =SMALL(E43:M43,COUNTIF(E43:M43,0)+1) -> 1083.5 | P43: 0 | Q43: 0 | R43: 0 | S43: 0 | T43: 0 | U43: 0 | V43: 0 | W43: 자재 39
A44: 5E8695AC4B60F35C171D77BA1F94D2202F0B10 | B44: 일반구조용압연강판 | C44: 일반구조용압연강판, 20.0mm | D44: kg | E44: 0 | G44: 1083.5 | H44: 62 | I44: 0 | K44: 0 | M44: 0 | O44: =SMALL(E44:M44,COUNTIF(E44:M44,0)+1) -> 1083.5 | P44: 0 | Q44: 0 | R44: 0 | S44: 0 | T44: 0 | U44: 0 | V44: 0 | W44: 자재 40
A45: 5E8695AC4B60F35C171D77BA1F94D2202F0B11 | B45: 일반구조용압연강판 | C45: 일반구조용압연강판, 13.0mm | D45: kg | E45: 0 | G45: 1083.5 | H45: 62 | I45: 0 | K45: 0 | M45: 0 | O45: =SMALL(E45:M45,COUNTIF(E45:M45,0)+1) -> 1083.5 | P45: 0 | Q45: 0 | R45: 0 | S45: 0 | T45: 0 | U45: 0 | V45: 0 | W45: 자재 41
A46: 5E8695AC4B60F35C171D77BA1DEF52E67E36D3 | B46: 일반구조용압연강판 | C46: 일반구조용압연강판, 8.0mm | D46: kg | E46: 0 | G46: 1162.2 | H46: 62 | I46: 0 | K46: 0 | M46: 0 | O46: =SMALL(E46:M46,COUNTIF(E46:M46,0)+1) -> 1162.2 | P46: 0 | Q46: 0 | R46: 0 | S46: 0 | T46: 0 | U46: 0 | V46: 0 | W46: 자재 42
A47: 5E8695AC4B60E1601779356F188D9A9F5D2224 | B47: 각재 | C47: 각재, 외송 | D47: M3 | E47: 571556 | G47: 634730.53 | H47: 147 | I47: 571556.88 | J47: 73 | K47: 0 | M47: 0 | O47: =SMALL(E47:M47,COUNTIF(E47:M47,0)+1) -> 571556 | P47: 0 | Q47: 0 | R47: 0 | S47: 0 | T47: 0 | U47: 0 | V47: 0 | W47: 자재 43
A48: 5E8695AC4B6042471734EF821F9BED6BA4008E | B48: 쇄석자갈 | C48: 쇄석자갈, 전주, 도착도, 40mm | D48: M3 | E48: 0 | G48: 0 | I48: 33000 | J48: 61 | K48: 0 | M48: 0 | O48: =SMALL(E48:M48,COUNTIF(E48:M48,0)+1) -> 33000 | P48: 0 | Q48: 0 | R48: 0 | S48: 0 | T48: 0 | U48: 0 | V48: 0 | W48: 자재 44
A49: 5E8695AC4A667A3D17F066EE136ECF037A4057 | B49: 무수축모르타르 | C49: GP600 | D49: kg | E49: 0 | G49: 400 | H49: 105 | I49: 0 | K49: 0 | M49: 0 | O49: =SMALL(E49:M49,COUNTIF(E49:M49,0)+1) -> 400 | P49: 0 | Q49: 0 | R49: 0 | S49: 0 | T49: 0 | U49: 0 | V49: 0 | W49: 자재 45
A50: 5E8695AC4A667A3D17F077171A374657E1B871 | B50: 레미콘(관급) | C50: 25-18-120 | D50: M3 | E50: 107390 | G50: 0 | I50: 0 | K50: 0 | M50: 0 | O50: =SMALL(E50:M50,COUNTIF(E50:M50,0)+1) -> 107390 | P50: 0 | Q50: 0 | R50: 0 | S50: 0 | T50: 0 | U50: 0 | V50: 0 | W50: 자재 46
A51: 5E8695AC4A667A3D17F077171A374650B9133B | B51: 레미콘(관급) | C51: 25-27-120 | D51: M3 | E51: 119810 | G51: 0 | I51: 0 | K51: 0 | M51: 0 | O51: =SMALL(E51:M51,COUNTIF(E51:M51,0)+1) -> 119810 | P51: 0 | Q51: 0 | R51: 0 | S51: 0 | T51: 0 | U51: 0 | V51: 0 | W51: 자재 47
A52: 5E8695AC4E6C0E1B171559BC1585224AAAF870 | B52: 내풍압셔터 | C52: 7.9*4.65 | D52: 개소 | E52: 0 | G52: 0 | I52: 0 | K52: 10500000 | M52: 0 | O52: =SMALL(E52:M52,COUNTIF(E52:M52,0)+1) -> 10500000 | P52: 0 | Q52: 0 | R52: 0 | S52: 0 | T52: 0 | U52: 0 | V52: 0 | W52: 자재 48
A53: 5E8695AC4E6C0E1B171559BC1585224AAAF873 | B53: 내풍압셔터 | C53: 3.7*4.65 | D53: 개소 | E53: 0 | G53: 0 | I53: 0 | K53: 6800000 | M53: 0 | O53: =SMALL(E53:M53,COUNTIF(E53:M53,0)+1) -> 6800000 | P53: 0 | Q53: 0 | R53: 0 | S53: 0 | T53: 0 | U53: 0 | V53: 0 | W53: 자재 49
A54: 5E8695AC4E6C0E1B17156A23161DADA86E303A | B54: 알루미늄 시트패널 | C54: 평판 t=3 불소수지 | D54: M2 | E54: 0 | G54: 0 | I54: 0 | K54: 182000 | L54: 443물가자 | M54: 0 | O54: =SMALL(E54:M54,COUNTIF(E54:M54,0)+1) -> 182000 | P54: 0 | Q54: 0 | R54: 0 | S54: 0 | T54: 0 | U54: 0 | V54: 0 | W54: 자재 50
A55: 5E8695AC4D63B0361773850C125CD08DF838E5 | B55: 글라스울 패널100T | C55: STW-GP-10100 | D55: M2 | E55: 60700 | G55: 0 | I55: 0 | K55: 0 | M55: 0 | O55: =SMALL(E55:M55,COUNTIF(E55:M55,0)+1) -> 60700 | P55: 0 | Q55: 0 | R55: 0 | S55: 0 | T55: 0 | U55: 0 | V55: 0 | W55: 자재 51
A56: 5E8695AC4D63B0361773850C125CD08DF838E4 | B56: 글라스울 패널150T | C56: STR-GP-10150 | D56: M2 | E56: 71000 | G56: 0 | I56: 0 | K56: 0 | M56: 0 | O56: =SMALL(E56:M56,COUNTIF(E56:M56,0)+1) -> 71000 | P56: 0 | Q56: 0 | R56: 0 | S56: 0 | T56: 0 | U56: 0 | V56: 0 | W56: 자재 52
A57: 5E8695AC4D63B0361773850C125CD08DF838E3 | B57: 의자 베이스 | C57: G.I 1.6T | D57: M | E57: 0 | G57: 0 | I57: 0 | K57: 15000 | M57: 0 | O57: =SMALL(E57:M57,COUNTIF(E57:M57,0)+1) -> 15000 | P57: 10000 | Q57: 0 | R57: 0 | S57: 0 | T57: 0 | U57: 0 | V57: 0 | W57: 자재 53
A58: 5E8695AC4D63B0361773850C125CD08DF838E2 | B58: 베이스 커버후레싱 | C58: 0.5T C/S, 지정색 | D58: M | E58: 0 | G58: 0 | I58: 0 | K58: 8000 | M58: 0 | O58: =SMALL(E58:M58,COUNTIF(E58:M58,0)+1) -> 8000 | P58: 8000 | Q58: 0 | R58: 0 | S58: 0 | T58: 0 | U58: 0 | V58: 0 | W58: 자재 54
A59: 5E8695AC4D63B0361773850C125CD08DF838E1 | B59: 코너후레싱 | C59: 0.5T C/S, 지정색 | D59: M | E59: 0 | G59: 0 | I59: 0 | K59: 8000 | M59: 0 | O59: =SMALL(E59:M59,COUNTIF(E59:M59,0)+1) -> 8000 | P59: 8000 | Q59: 0 | R59: 0 | S59: 0 | T59: 0 | U59: 0 | V59: 0 | W59: 자재 55
A60: 5E8695AC4D63B0361773850C125CD08DF838E0 | B60: 조인트후레싱 | C60: 0.5T C/S, 지정색 | D60: M | E60: 0 | G60: 0 | I60: 0 | K60: 8000 | M60: 0 | O60: =SMALL(E60:M60,COUNTIF(E60:M60,0)+1) -> 8000 | P60: 8000 | Q60: 0 | R60: 0 | S60: 0 | T60: 0 | U60: 0 | V60: 0 | W60: 자재 56
A61: 5E8695AC4D63B0361773850C125CD08DF838EF | B61: 창호후레싱 | C61: 0.5T C/S, 지정색 | D61: M | E61: 0 | G61: 0 | I61: 0 | K61: 8000 | M61: 0 | O61: =SMALL(E61:M61,COUNTIF(E61:M61,0)+1) -> 8000 | P61: 8000 | Q61: 0 | R61: 0 | S61: 0 | T61: 0 | U61: 0 | V61: 0 | W61: 자재 57
A62: 5E8695AC4D63B0361773850C125CD08DF838EE | B62: 용마루후레싱 | C62: 0.5T C/S, 지정색 | D62: M | E62: 0 | G62: 0 | I62: 0 | K62: 14000 | M62: 0 | O62: =SMALL(E62:M62,COUNTIF(E62:M62,0)+1) -> 14000 | P62: 10000 | Q62: 0 | R62: 0 | S62: 0 | T62: 0 | U62: 0 | V62: 0 | W62: 자재 58
A63: 5E8695AC4D63B0361773850C125CD08DF8398E | B63: 박공후레싱 | C63: 0.5T C/S, 지정색 | D63: M | E63: 0 | G63: 0 | I63: 0 | K63: 12000 | M63: 0 | O63: =SMALL(E63:M63,COUNTIF(E63:M63,0)+1) -> 12000 | P63: 10000 | Q63: 0 | R63: 0 | S63: 0 | T63: 0 | U63: 0 | V63: 0 | W63: 자재 59
A64: 5E8695AC4D63B0361773850C125CD08DF8398F | B64: 처마후레싱 | C64: 0.5T C/S, 지정색 | D64: M | E64: 0 | G64: 0 | I64: 0 | K64: 12000 | M64: 0 | O64: =SMALL(E64:M64,COUNTIF(E64:M64,0)+1) -> 12000 | P64: 10000 | Q64: 0 | R64: 0 | S64: 0 | T64: 0 | U64: 0 | V64: 0 | W64: 자재 60
A65: 5E8695AC4D63B0361773850C125CD08DF8398C | B65: 스노우가드 | C65: 0.5T C/S, 지정색 | D65: M | E65: 0 | G65: 0 | I65: 0 | K65: 18000 | M65: 0 | O65: =SMALL(E65:M65,COUNTIF(E65:M65,0)+1) -> 18000 | P65: 12000 | Q65: 0 | R65: 0 | S65: 0 | T65: 0 | U65: 0 | V65: 0 | W65: 자재 61
A66: 5E8695AC4D63B0361773850C125CD08DF8398D | B66: 밴틸레이터 | C66: 좌대 및 마감포함 | D66: M | E66: 0 | G66: 0 | I66: 0 | K66: 700000 | M66: 0 | O66: =SMALL(E66:M66,COUNTIF(E66:M66,0)+1) -> 700000 | P66: 0 | Q66: 0 | R66: 0 | S66: 0 | T66: 0 | U66: 0 | V66: 0 | W66: 자재 62
A67: 5E8695AC4D63B0361773850C125CD08DF8398A | B67: 외벽패널 하지철물 | C67: 아연각 100*50*2.0T | D67: ㎡ | E67: 0 | G67: 0 | I67: 0 | K67: 18000 | M67: 0 | O67: =SMALL(E67:M67,COUNTIF(E67:M67,0)+1) -> 18000 | P67: 0 | Q67: 0 | R67: 0 | S67: 0 | T67: 0 | U67: 0 | V67: 0 | W67: 자재 63
A68: 5E8695AC4D63B0361773850C125CD08DF8398B | B68: 하지철물 설치 | C68: 화스너,용접봉 포함 | D68: ㎡ | E68: 0 | G68: 0 | I68: 0 | K68: 0 | M68: 0 | O68: 0 | P68: 15400 | Q68: 2000 | R68: 0 | S68: 0 | T68: 0 | U68: 0 | V68: =SMALL(Q68:U68,COUNTIF(Q68:U68,0)+1) -> 2000 | W68: 자재 64
A69: 5E8695AC4D63B0361773850C125CD08DF83988 | B69: 토목공사 | D69: 식 | E69: 0 | G69: 0 | I69: 0 | K69: 10425245 | M69: 0 | O69: =SMALL(E69:M69,COUNTIF(E69:M69,0)+1) -> 10425245 | P69: 10441507 | Q69: 5424296 | R69: 0 | S69: 0 | T69: 0 | U69: 0 | V69: =SMALL(Q69:U69,COUNTIF(Q69:U69,0)+1) -> 5424296 | W69: 자재 65
A70: 5E8695AC4C61507317E8E8321EA7A7E92CE2C2 | B70: 철재일반도아(일반분체), 문틀 포함 | C70: 100*45*1.6T, 0.9*2.1, 편개 | D70: M2 | E70: 161900 | G70: 0 | I70: 0 | K70: 0 | M70: 0 | O70: =SMALL(E70:M70,COUNTIF(E70:M70,0)+1) -> 161900 | P70: 0 | Q70: 0 | R70: 0 | S70: 0 | T70: 0 | U70: 0 | V70: 0 | W70: 자재 66
A71: 5E8695AC4C61507317F95F1A19D48AFAB37C15 | B71: 도어클로저 | C71: 도어클로저, K-1620, KS2호, 중급스톱형, 25∼45kg | D71: 조 | E71: 45000 | G71: 50000 | H71: 656 | I71: 0 | K71: 0 | M71: 0 | O71: =SMALL(E71:M71,COUNTIF(E71:M71,0)+1) -> 45000 | P71: 0 | Q71: 0 | R71: 0 | S71: 0 | T71: 0 | U71: 0 | V71: 0 | W71: 자재 67
A72: 5E8695AC4C615046173F87DB1CA6AE1A82B40B | B72: PVC방충망(백색) | D72: M2 | E72: 0 | G72: 0 | I72: 19100 | J72: 437 | K72: 0 | M72: 0 | O72: =SMALL(E72:M72,COUNTIF(E72:M72,0)+1) -> 19100 | P72: 0 | Q72: 0 | R72: 0 | S72: 0 | T72: 0 | U72: 0 | V72: 0 | W72: 자재 68
A73: 5E8695AC4C615046173F87DB1CA6AE1A82B40E | B73: 플라스틱창호 | C73: 116mm, 백색 | D73: M2 | E73: 0 | G73: 0 | I73: 88000 | J73: 434 | K73: 0 | M73: 0 | O73: =SMALL(E73:M73,COUNTIF(E73:M73,0)+1) -> 88000 | P73: 0 | Q73: 0 | R73: 0 | S73: 0 | T73: 0 | U73: 0 | V73: 0 | W73: 자재 69 | X73: 시공도
A74: 5E8695AC4C6150571784A5DA1F87DE8FF34D23 | B74: 복층유리 | C74: 복층유리, 투명, 22mm | D74: M2 | E74: 0 | G74: 38100 | H74: 663 | I74: 38100 | J74: 460 | K74: 0 | M74: 0 | O74: =SMALL(E74:M74,COUNTIF(E74:M74,0)+1) -> 38100 | P74: 0 | Q74: 0 | R74: 0 | S74: 0 | T74: 0 | U74: 0 | V74: 0 | W74: 자재 70
A75: 5E8695AC426190D617FE7B2F1346295AA6F176 | B75: 건설용거푸집 | C75: 건설용거푸집, 강, 600*1200*63.5mm | D75: 매 | E75: 26885 | G75: 29000 | H75: 167 | I75: 0 | K75: 0 | M75: 0 | O75: =SMALL(E75:M75,COUNTIF(E75:M75,0)+1) -> 26885 | P75: 0 | Q75: 0 | R75: 0 | S75: 0 | T75: 0 | U75: 0 | V75: 0 | W75: 자재 71
A76: 5E8695AF1C61698317FBFBFC1EAADDCAE3B78D | B76: 컨테이너하우스 | C76: 컨테이너하우스, 사무실용, 3.0*6.0*2.6m | D76: 개 | E76: 3204160 | G76: 3400000 | H76: 749 | I76: 0 | K76: 0 | M76: 0 | O76: =SMALL(E76:M76,COUNTIF(E76:M76,0)+1) -> 3204160 | P76: 0 | Q76: 0 | R76: 0 | S76: 0 | T76: 0 | U76: 0 | V76: 0 | W76: 자재 72
A77: 5E8685864D61E92217A87822124A901CA720AA | B77: 철선 | C77: 철선, 어닐링, ∮0.9mm | D77: kg | E77: 1554 | G77: 1780 | H77: 83 | I77: 1830 | J77: 42 | K77: 0 | M77: 0 | O77: =SMALL(E77:M77,COUNTIF(E77:M77,0)+1) -> 1554 | P77: 0 | Q77: 0 | R77: 0 | S77: 0 | T77: 0 | U77: 0 | V77: 0 | W77: 자재 73
A78: 5E8685864E63F1A31700F6DE19198389758940 | B78: 기초앵커볼트(L형) | C78: M20 L:700 | D78: 개 | E78: 0 | G78: 5180 | H78: 93 | I78: 5230 | J78: 53 | K78: 0 | M78: 0 | O78: =SMALL(E78:M78,COUNTIF(E78:M78,0)+1) -> 5180 | P78: 0 | Q78: 0 | R78: 0 | S78: 0 | T78: 0 | U78: 0 | V78: 0 | W78: 자재 74
A79: 5E8685864E63F1A31700F6DE19198389758EC1 | B79: 기초앵커볼트(L형) | C79: M24, L:700 | D79: 개 | E79: 0 | G79: 6670 | H79: 93 | I79: 6730 | J79: 53 | K79: 0 | M79: 0 | O79: =SMALL(E79:M79,COUNTIF(E79:M79,0)+1) -> 6670 | P79: 0 | Q79: 0 | R79: 0 | S79: 0 | T79: 0 | U79: 0 | V79: 0 | W79: 자재 75
A80: 5E8685864E63F1A317116436147096957A2D88 | B80: 고장력볼트 | C80: 고장력볼트, F10T, M16*80mm | D80: 조 | E80: 681 | G80: 687 | H80: 91 | I80: 893 | J80: 49 | K80: 0 | M80: 0 | O80: =SMALL(E80:M80,COUNTIF(E80:M80,0)+1) -> 681 | P80: 0 | Q80: 0 | R80: 0 | S80: 0 | T80: 0 | U80: 0 | V80: 0 | W80: 자재 76
A81: 5E8685864E63F1A317116436147096957A2BD3 | B81: 고장력볼트 | C81: 고장력볼트, F10T, M20*85mm | D81: 조 | E81: 1045 | G81: 1054 | H81: 91 | I81: 0 | K81: 0 | M81: 0 | O81: =SMALL(E81:M81,COUNTIF(E81:M81,0)+1) -> 1045 | P81: 0 | Q81: 0 | R81: 0 | S81: 0 | T81: 0 | U81: 0 | V81: 0 | W81: 자재 77
A82: 5E8685864E63F1A317116436147096957909B4 | B82: 고장력볼트 | C82: 고장력볼트, F10T, M24*95mm | D82: 조 | E82: 1891 | G82: 1906 | H82: 91 | I82: 0 | K82: 0 | M82: 0 | O82: =SMALL(E82:M82,COUNTIF(E82:M82,0)+1) -> 1891 | P82: 0 | Q82: 0 | R82: 0 | S82: 0 | T82: 0 | U82: 0 | V82: 0 | W82: 자재 78
A83: 5E8685864E63F1A31723C45315FFCFC1EE1215 | B83: 육각볼트 | C83: 육각볼트, M20*100 | D83: 개 | E83: 755 | G83: 948 | H83: 90 | I83: 943 | J83: 49 | K83: 0 | M83: 0 | O83: =SMALL(E83:M83,COUNTIF(E83:M83,0)+1) -> 755 | P83: 0 | Q83: 0 | R83: 0 | S83: 0 | T83: 0 | U83: 0 | V83: 0 | W83: 자재 79
A84: 5E8685864E63C4CF17A7181B14999CA1B2BC9E | B84: 피벗힌지 | C84: 피벗힌지, 100kg, 방화문용 | D84: 조 | E84: 70000 | G84: 70000 | H84: 658 | I84: 70000 | J84: 454 | K84: 0 | M84: 0 | O84: =SMALL(E84:M84,COUNTIF(E84:M84,0)+1) -> 70000 | P84: 0 | Q84: 0 | R84: 0 | S84: 0 | T84: 0 | U84: 0 | V84: 0 | W84: 자재 80
A85: 5E8685864E63C40C179C88351231D099077E0E | B85: 도어핸들 | C85: 도어핸들, LEVER 9000 황동, (현관, 방화문) | D85: 조 | E85: 0 | G85: 0 | I85: 35000 | J85: 453 | K85: 0 | M85: 0 | O85: =SMALL(E85:M85,COUNTIF(E85:M85,0)+1) -> 35000 | P85: 0 | Q85: 0 | R85: 0 | S85: 0 | T85: 0 | U85: 0 | V85: 0 | W85: 자재 81
A86: 5E8685864E63C40C170EF3381FDA790E9AF35E | B86: 턴버클(아연도금) | C86: 16mm | D86: 개 | E86: 0 | G86: 3680 | H86: 96 | I86: 0 | K86: 0 | M86: 0 | O86: =SMALL(E86:M86,COUNTIF(E86:M86,0)+1) -> 3680 | P86: 0 | Q86: 0 | R86: 0 | S86: 0 | T86: 0 | U86: 0 | V86: 0 | W86: 자재 82
A87: 5E8685864E63C40C170EF3381FDA790E9AF50F | B87: 턴버클(아연도금) | C87: 25mm | D87: 개 | E87: 0 | G87: 11840 | H87: 96 | I87: 0 | K87: 0 | M87: 0 | O87: =SMALL(E87:M87,COUNTIF(E87:M87,0)+1) -> 11840 | P87: 0 | Q87: 0 | R87: 0 | S87: 0 | T87: 0 | U87: 0 | V87: 0 | W87: 자재 83
A88: 5E868585A06051B5174858D41B2E006858BB91 | B88: 방청페인트 | C88: 방청페인트, KSM6030-1종2류, 광명단페인트 | D88: L | E88: 8400 | G88: 0 | I88: 0 | K88: 0 | M88: 0 | O88: =SMALL(E88:M88,COUNTIF(E88:M88,0)+1) -> 8400 | P88: 0 | Q88: 0 | R88: 0 | S88: 0 | T88: 0 | U88: 0 | V88: 0 | W88: 자재 84
A89: 5E868585A06051B5174811611FCB08362CA1C7 | B89: 조합페인트 | C89: 조합페인트, KSM6020-1종2급, 백색 | D89: L | E89: 5116 | G89: 6666.66 | H89: 614 | I89: 7266.66 | J89: 467 | K89: 0 | M89: 0 | O89: =SMALL(E89:M89,COUNTIF(E89:M89,0)+1) -> 5116 | P89: 0 | Q89: 0 | R89: 0 | S89: 0 | T89: 0 | U89: 0 | V89: 0 | W89: 자재 85
A90: 5E868585A060519A17F039FD1600FBEE6014E6 | B90: 실링재 | C90: 실링재, 실리콘, 비초산, 유리용, 창호주위 | D90: L | E90: 10371 | G90: 18518.51 | H90: 607 | I90: 0 | K90: 0 | M90: 0 | O90: =SMALL(E90:M90,COUNTIF(E90:M90,0)+1) -> 10371 | P90: 0 | Q90: 0 | R90: 0 | S90: 0 | T90: 0 | U90: 0 | V90: 0 | W90: 자재 86
A91: 5E868585A060516D17BAB4EC156CD4227D3194 | B91: 시너 | C91: 시너, KSM6060, 2종 | D91: L | E91: 0 | G91: 3583.33 | H91: 614 | I91: 4666.66 | J91: 466 | K91: 0 | M91: 0 | O91: =SMALL(E91:M91,COUNTIF(E91:M91,0)+1) -> 3583.33 | P91: 0 | Q91: 0 | R91: 0 | S91: 0 | T91: 0 | U91: 0 | V91: 0 | W91: 자재 87
A92: 5EF9857DC569B48C179105161DDB0DCCE6F469 | B92: 일반구조용각형강관 | C92: 일반구조용각형강관, 각형강관, 50*50*2.3mm | D92: M | E92: 3780 | G92: 4310 | H92: 69 | I92: 4880 | J92: 34 | K92: 0 | M92: 0 | O92: =SMALL(E92:M92,COUNTIF(E92:M92,0)+1) -> 3780 | P92: 0 | Q92: 0 | R92: 0 | S92: 0 | T92: 0 | U92: 0 | V92: 0 | W92: 자재 88
A93: 5EF9F5AAE262AFCA17EDD3E5187DE258A8FA2A | B93: 호이스트크레인 | C93: 2.8TON | D93: 식 | E93: 0 | G93: 0 | I93: 0 | K93: 32000000 | M93: 0 | O93: =SMALL(E93:M93,COUNTIF(E93:M93,0)+1) -> 32000000 | P93: 0 | Q93: 0 | R93: 0 | S93: 0 | T93: 0 | U93: 0 | V93: 0 | W93: 자재 89
A94: 59E965C422661A1D174A5A3A1B143DA549AD46 | B94: 상하수도요금 | D94: M3 | E94: 0 | G94: 0 | I94: 0 | K94: 0 | M94: 0 | N94: 1605 | O94: 0 | P94: 0 | Q94: 0 | R94: 0 | S94: 0 | T94: 0 | U94: 2083 | V94: =SMALL(Q94:U94,COUNTIF(Q94:U94,0)+1) -> 2083 | W94: 자재 90
A95: 59E965C422661A1D174A5A3A1B143DA549AD41 | B95: 일반경비 | C95: 전력 | D95: kwh | E95: 0 | G95: 0 | I95: 0 | K95: 0 | M95: 0 | N95: 1603 | O95: 0 | P95: 0 | Q95: 0 | R95: 0 | S95: 0 | T95: 0 | U95: 111 | V95: =SMALL(Q95:U95,COUNTIF(Q95:U95,0)+1) -> 111 | W95: 자재 91
A96: 597675753A6F38FB17C959F51424FC7EA0F19D | B96: 보통인부 | C96: 일반공사 직종 | D96: 인 | E96: 0 | G96: 0 | I96: 0 | K96: 0 | M96: 0 | O96: 0 | P96: 172068 | Q96: 0 | R96: 0 | S96: 0 | T96: 0 | U96: 0 | V96: 0 | W96: 노임 1 | Y96: B
A97: 597675753A6F38FB17C959F51424FC7EA0F19C | B97: 특별인부 | C97: 일반공사 직종 | D97: 인 | E97: 0 | G97: 0 | I97: 0 | K97: 0 | M97: 0 | O97: 0 | P97: 226122 | Q97: 0 | R97: 0 | S97: 0 | T97: 0 | U97: 0 | V97: 0 | W97: 노임 2 | Y97: B
A98: 597675753A6F38FB17C959F51424FC7EA0F199 | B98: 비계공 | C98: 일반공사 직종 | D98: 인 | E98: 0 | G98: 0 | I98: 0 | K98: 0 | M98: 0 | O98: 0 | P98: 281939 | Q98: 0 | R98: 0 | S98: 0 | T98: 0 | U98: 0 | V98: 0 | W98: 노임 3 | Y98: B
A99: 597675753A6F38FB17C959F51424FC7EA0F198 | B99: 형틀목공 | C99: 일반공사 직종 | D99: 인 | E99: 0 | G99: 0 | I99: 0 | K99: 0 | M99: 0 | O99: 0 | P99: 275790 | Q99: 0 | R99: 0 | S99: 0 | T99: 0 | U99: 0 | V99: 0 | W99: 노임 4 | Y99: B
A100: 597675753A6F38FB17C959F51424FC7EA0F197 | B100: 철근공 | C100: 일반공사 직종 | D100: 인 | E100: 0 | G100: 0 | I100: 0 | K100: 0 | M100: 0 | O100: 0 | P100: 268187 | Q100: 0 | R100: 0 | S100: 0 | T100: 0 | U100: 0 | V100: 0 | W100: 노임 5 | Y100: B
...

Sheet 자재소요량집계표
A1: 자 재 소 요 량 집 계 표
A2: [ 2026년고성능임업기계장비 장비고 신축공사 ]
A3: 코 드 | B3: 품 명 | C3: 규 격 | D3: 단위 | E3: 수 량 | F3: 단 가 | G3: 금 액 | H3: 번 호 | I3: 비 고
A4: ☞ 철근 - 관급, 별도
A5: 3010161920169933 | B5: 철근콘크리트용봉강(관급) | C5: 철근콘크리트용봉강, 이형봉강(SD400), HD-16 | D5: TON | E5: 3.4226 | F5: 822800 | G5: 2816115 | H5: 자재 19 | I5: 별도
A6: 3010161920169935 | B6: 철근콘크리트용봉강(관급) | C6: 철근콘크리트용봉강, 이형봉강(SD400), HD-22 | D6: TON | E6: 52.804 | F6: 822800 | G6: 43447131 | H6: 자재 20 | I6: 별도
B7: 소 계 | G7: 46263246
A8: ☞ 일반 봉강
A9: 3010160420286276 | B9: 일반봉강 | C9: 일반봉강, SS400, ∮16mm | D9: kg | E9: 115.47 | F9: 1036 | G9: 119626 | H9: 자재 17
A10: 3010160420286281 | B10: 일반봉강 | C10: 일반봉강, SS400, ∮25mm | D10: kg | E10: 656.5 | F10: 1036 | G10: 680134 | H10: 자재 18
B11: 소 계 | G11: 799760
A12: 기타류
A13: 3010170410061001 | B13: 보조강재 | C13: 대강 | D13: kg | E13: 84.628 | F13: 1080 | G13: 91398 | H13: 자재 21
B14: 소 계 | G14: 91398
A15: ☞ H형강 - SS275(현장도착도)
A16: 3010170411000008 | B16: H형강 | C16: SHN275, 194*150*6*9mm, 현장도착도 | D16: TON | E16: 1.375 | F16: 1240000 | G16: 1705000 | H16: 자재 22 | I16: 30.6kg/m
A17: 3010170411000009 | B17: H형강 | C17: SHN275, 200*200*8*12mm, 현장도착도 | D17: TON | E17: 0.246 | F17: 1240000 | G17: 305040 | H17: 자재 23 | I17: 49.9kg/m
A18: 3010170411000022 | B18: H형강 | C18: SHN275, 300*150*6.5*9mm, 현장도착도 | D18: TON | E18: 7.084 | F18: 1240000 | G18: 8784160 | H18: 자재 24 | I18: 36.7kg/m
A19: 3010170411000024 | B19: H형강 | C19: SHN275, 298*201*9*14mm, 현장도착도 | D19: TON | E19: 3.918 | F19: 1240000 | G19: 4858320 | H19: 자재 25 | I19: 65.4kg/m
A20: 3010170411000027 | B20: H형강 | C20: SHN275, 300*300*10*15mm, 현장도착도 | D20: TON | E20: 4.828 | F20: 1240000 | G20: 5986720 | H20: 자재 26 | I20: 94.0kg/m
A21: 3010170411000043 | B21: H형강 | C21: SHN275, 400*200*8*13mm, 현장도착도 | D21: TON | E21: 5.583 | F21: 1240000 | G21: 6922920 | H21: 자재 27 | I21: 66.0kg/m
A22: 3010170411000058 | B22: H형강 | C22: SHN275, 450*200*9*14mm, 현장도착도 | D22: TON | E22: 1.366 | F22: 1240000 | G22: 1693840 | H22: 자재 28 | I22: 76.0kg/m
A23: 3010170411000062 | B23: H형강 | C23: SHN275, 500*200*10*16mm, 현장도착도 | D23: TON | E23: 3.164 | F23: 1240000 | G23: 3923360 | H23: 자재 29 | I23: 89.6kg/m
A24: 3010170411000064 | B24: H형강 | C24: SHN275, 482*300*11*15mm, 현장도착도 | D24: TON | E24: 9.758 | F24: 1240000 | G24: 12099920 | H24: 자재 30 | I24: 114.0kg/m
A25: 3010170411000084 | B25: T형강 | C25: SHN275, 200*200*8*13mm, 현장도착도 | D25: TON | E25: 0.113 | F25: 1240000 | G25: 140120 | H25: 자재 31 | I25: 66.0kg/m
B26: 소 계 | G26: 46419400
A27: ☞ 등변(소형)
A28: 3010150420288699 | B28: ㄱ형강 | C28: ㄱ형강, 등변, 50*50*5mm | D28: kg | E28: 1119 | F28: 940 | G28: 1051860 | H28: 자재 16
B29: 소 계 | G29: 1051860
A30: ☞ 칼라
A31: 3010170420289522 | B31: 경량형강 | C31: 경량형강, 칼라C형강, 150*50*20, t3.2 | D31: TON | E31: 3.571 | F31: 1020000 | G31: 3642420 | H31: 자재 32
B32: 소 계 | G32: 3642420
A33: ☞ 후판(kg)
A34: 3010220420969821 | B34: 일반구조용압연강판 | C34: 일반구조용압연강판, t=7.0mm | D34: kg | E34: 127.66 | F34: 1193 | G34: 152298 | H34: 자재 33
A35: 3010220420969849 | B35: 일반구조용압연강판 | C35: 일반구조용압연강판, 9.0mm | D35: kg | E35: 2543.55 | F35: 1130 | G35: 2874211 | H35: 자재 34
A36: 3010220420969852 | B36: 일반구조용압연강판 | C36: 일반구조용압연강판, 10.0mm | D36: kg | E36: 150.16 | F36: 1083 | G36: 162623 | H36: 자재 35
A37: 3010220420969853 | B37: 일반구조용압연강판 | C37: 일반구조용압연강판, 11.0mm | D37: kg | E37: 157.07 | F37: 1083 | G37: 170106 | H37: 자재 36
A38: 3010220420969854 | B38: 일반구조용압연강판 | C38: 일반구조용압연강판, 14.0mm | D38: kg | E38: 81.24 | F38: 1080 | G38: 87739 | H38: 자재 37
A39: 3010220420969858 | B39: 일반구조용압연강판 | C39: 일반구조용압연강판, 12.0mm | D39: kg | E39: 1068.86 | F39: 1083 | G39: 1157575 | H39: 자재 38
A40: 3010220420969859 | B40: 일반구조용압연강판 | C40: 일반구조용압연강판, 16.0mm | D40: kg | E40: 1536.73 | F40: 1083 | G40: 1664278 | H40: 자재 39
A41: 3010220420969860 | B41: 일반구조용압연강판 | C41: 일반구조용압연강판, 20.0mm | D41: kg | E41: 602.93 | F41: 1083 | G41: 652973 | H41: 자재 40
A42: 3010220420969861 | B42: 일반구조용압연강판 | C42: 일반구조용압연강판, 13.0mm | D42: kg | E42: 94.29 | F42: 1083 | G42: 102116 | H42: 자재 41
A43: 3010220422073803 | B43: 일반구조용압연강판 | C43: 일반구조용압연강판, 8.0mm | D43: kg | E43: 71.29 | F43: 1162 | G43: 82838 | H43: 자재 42
B44: 소 계 | G44: 7106757
A45: ☞ 각관(등변) - 100 미만
A46: 4014218720110410 | B46: 일반구조용각형강관 | C46: 일반구조용각형강관, 각형강관, 50*50*2.3mm | D46: M | E46: 279.6 | F46: 3780 | G46: 1056888 | H46: 자재 88
B47: 소 계 | G47: 1056888
A48: ☞ 어닐링
A49: 3115999620286057 | B49: 철선 | C49: 철선, 어닐링, ∮0.9mm | D49: kg | E49: 177.385 | F49: 1554 | G49: 275656 | H49: 자재 73
B50: 소 계 | G50: 275656
A51: ☞ M18 ~ 20
A52: 3116162010023568 | B52: 육각볼트 | C52: 육각볼트, M20*100 | D52: 개 | E52: 76.1652 | F52: 755 | G52: 57504 | H52: 자재 79
B53: 소 계 | G53: 57504
A54: ☞ F10T M12 ~ 16
A55: 3116161320135520 | B55: 고장력볼트 | C55: 고장력볼트, F10T, M16*80mm | D55: 조 | E55: 484 | F55: 681 | G55: 329604 | H55: 자재 76
B56: 소 계 | G56: 329604
A57: ☞ F10T M20
A58: 3116161320135549 | B58: 고장력볼트 | C58: 고장력볼트, F10T, M20*85mm | D58: 조 | E58: 1762 | F58: 1045 | G58: 1841290 | H58: 자재 77
B59: 소 계 | G59: 1841290
A60: ☞ F10T M24
A61: 3116161320135607 | B61: 고장력볼트 | C61: 고장력볼트, F10T, M24*95mm | D61: 조 | E61: 42 | F61: 1891 | G61: 79422 | H61: 자재 78
B62: 소 계 | G62: 79422
A63: ☞ 앵커볼트 - 기초(L형)
A64: 3116160120160932 | B64: 기초앵커볼트(L형) | C64: M20 L:700 | D64: 개 | E64: 25 | F64: 5180 | G64: 129500 | H64: 자재 74
A65: 3116160120160942 | B65: 기초앵커볼트(L형) | C65: M24, L:700 | D65: 개 | E65: 42 | F65: 6670 | G65: 280140 | H65: 자재 75
B66: 소 계 | G66: 409640
A67: ☞ 턴버클
A68: 3116289320163621 | B68: 턴버클(아연도금) | C68: 16mm | D68: 개 | E68: 25 | F68: 3680 | G68: 92000 | H68: 자재 82
A69: 3116289320163642 | B69: 턴버클(아연도금) | C69: 25mm | D69: 개 | E69: 58 | F69: 11840 | G69: 686720 | H69: 자재 83
B70: 소 계 | G70: 778720
A71: ☞ 육송(외송) - 각재, 판재
A72: 3010369820141038 | B72: 각재 | C72: 각재, 외송 | D72: M3 | E72: 0.232 | F72: 571556 | G72: 132600 | H72: 자재 43
B73: 소 계 | G73: 132600
A74: ☞ 유류
A75: 1510150520282163 | B75: 경유 | C75: 경유, 저유황 | D75: L | E75: 1107.044 | F75: 1822.72 | G75: 2017831 | H75: 자재 14
B76: 소 계 | G76: 2017831
A77: ☞ 가스류
A78: 1214190420204087 | B78: 산소가스 | C78: 산소가스, 기체(㎥) | D78: M3 | E78: 148.099 | F78: 3333.33 | G78: 493662 | H78: 자재 12 | I78: 대기압상태기준
A79: 1511151020204251 | B79: 액화석유가스 | C79: 액화석유가스, 건설용 LPG | D79: kg | E79: 59.2396 | F79: 2076 | G79: 122981 | H79: 자재 15
B80: 소 계 | G80: 616643
A81: ☞ 공공요금
A82: E001010102000013 | B82: 상하수도요금 | D82: M3 | E82: 0.8 | F82: 2083 | G82: 1666 | H82: 자재 90
A83: E001010102000014 | B83: 일반경비 | C83: 전력 | D83: kwh | E83: 96.8 | F83: 111 | G83: 10744 | H83: 자재 91
B84: 소 계 | G84: 12410
A85: ☞ 도착도
A86: 3010990220142872 | B86: 쇄석자갈 | C86: 쇄석자갈, 전주, 도착도, 40mm | D86: M3 | E86: 20.23 | F86: 33000 | G86: 667590 | H86: 자재 44
B87: 소 계 | G87: 667590
A88: ☞ 무수축, 단열
A89: 3011150420144828 | B89: 무수축모르타르 | C89: GP600 | D89: kg | E89: 312 | F89: 400 | G89: 124800 | H89: 자재 45
B90: 소 계 | G90: 124800
A91: ☞ (관급)
A92: 3011150520143994 | B92: 레미콘(관급) | C92: 25-18-120 | D92: M3 | E92: 40.46 | F92: 107390 | G92: 4344999 | H92: 자재 46
A93: 3011150520144011 | B93: 레미콘(관급) | C93: 25-27-120 | D93: M3 | E93: 722.54 | F93: 119810 | G93: 86567517 | H93: 자재 47
B94: 소 계 | G94: 90912516
A95: ☞ 컨테이너 - 사무실
A96: 3023169920139636 | B96: 컨테이너하우스 | C96: 컨테이너하우스, 사무실용, 3.0*6.0*2.6m | D96: 개 | E96: 0.18 | F96: 3204160 | G96: 576748 | H96: 자재 72
B97: 소 계 | G97: 576748
A98: 유로폼
A99: 3019999420140323 | B99: 건설용거푸집 | C99: 건설용거푸집, 강, 600*1200*63.5mm | D99: 매 | E99: 10.7338 | F99: 26885 | G99: 288578 | H99: 자재 71
B100: 소 계 | G100: 288578
...

Sheet  공사설정 
A1: 이 Sheet는 수정하지 마십시요
A2: 공사구분 | B2: A | C2: 타이틀
A3: 확정내역 | B3: 원내역
A4: 자재단가적용 | B4: 5
A5: 경비단가적용 | B5: 5
A6: 품목코드형식 | B6: XXXX-XXXXXXXXXXXXX
A7: 내역금액소수점처리 | B7: C | C7: 1
A8: 일위대가내역소수점처리 | B8: C | C8: 2
A9: 단가명 | B9: 조달청가격 | C9: 거래가격 | D9: 유통물가 | E9: 조사가격1 | F9: 조사가격2 | G9: TTTTT
A10: 환율 | B10: 0 | C10: 0 | D10: 0
A11: 시간당작업량 | B11: R | C11: 4
A12: 1회 사이클시간 | B12: R | C12: 4
A13: 시간당 작업사이클 | B13: R | C13: 3
A14: 일반변수 | B14: C | C14: 5
A15: 시간당 노임산출 계수 | B15: A | C15: 1/8*16/12*25/20 | D15: 1/8*16/12*25/20 | E15: 1/8*16/12*25/20 | F15: 1
A16: 재료비 할증 계수 | B16: 0 | C16: 0
A17: 노무비 할증 계수 | B17: 0 | C17: 0 | D17: 0 | E17: 0 | F17: 0 | G17: 0 | H17: 0 | I17: 0 | J17: 0 | K17: 0 | L17: 0 | M17: 0
A18: 경비 할증 계수 | B18: 0 | C18: 0
A19: 내역,일위대가 품명,규격,단위 따로적용
A20: 내역단가 소수점처리 | C20: 1
A21: 코드 | B21: 공종구분명 | C21: 원가비목코드
A22: 1 | B22: 작 업 부 산 물 | C22: A3
A23: 2 | B23: 운 반 비 | C23: C1
A24: 3 | B24: 관 급 자 재 비 | C24: DJ
A25: 4 | B25: 사 급 자 재 비 | C25: D3
A26: 5 | B26: 외 자 재
A27: 6 | B27: 폐기물처리비 | C27: 폐
A28: 7 | B28: ...
A29: 8 | B29: ...
A30: 9 | B30: ...
A43: 단가 순서 | B43: 1234

Sheet Sheet1
