Workbook

Sheet Sheet2
B1: 공사비
B2: 도급공사비 | C2: 관급 | D2: 수수료 | E2: 계
A3: 건축 | B3: =원가계산서!E32 -> 488801000 | C3: =[1]공종별집계표!L19-337 -> 134213000 | E3: =B3+C3+D3 -> 623014000
A4: 전기 | B4: 21843000 | C4: =[2]원가!$D$34 -> 11540000 | D4: =[2]원가!$D$38 -> 1107000 | E4: =B4+C4+D4 -> 34490000
A5: 합계 | B5: =B3+B4 -> 510644000 | C5: =C3+C4 -> 145753000 | D5: =D3+D4 -> 1107000 | E5: =E3+E4 -> 657504000
A7: 0.9 | B7: =B5*90% -> 459579600 | C7: =C5 -> 145753000 | D7: =D5 -> 1107000 | E7: =B7+C7+D7 -> 606439600
A10: 바닥 포장제외

Sheet 원가계산서
B1: 공 사 원 가 계 산 서
B2: 공사명 : 2026년고성능임업기계장비 장비고 신축공사(건축) | F2: 금액 : 육억이천삼백일만사천원(￦623,014,000)
B3: 비 목 | E3: 금 액 | F3: 구 성 비 | G3: 비 고
A4: A1 | B4: 순 공 사 원 가 | C4: 재 료 비 | D4: 직 접 재 료 비 | E4: =TRUNC(공종별집계표!F5, 0) -> 174904660
A5: A2 | D5: 간 접 재 료 비 | E5: 0
A6: A3 | D6: 작업설, 부산물(△) | E6: 0
A7: AS | D7: [ 소 계 ] | E7: =TRUNC(E4+E5-E6, 0) -> 174904660
A8: B1 | C8: 노 무 비 | D8: 직 접 노 무 비 | E8: =TRUNC(공종별집계표!H5, 0) -> 111463710
A9: B2 | D9: 간 접 노 무 비 | E9: =TRUNC(E8*0.175, 0) -> 19506149 | F9: 직접노무비 * 17.5%
A10: BS | D10: [ 소 계 ] | E10: =TRUNC(E8+E9, 0) -> 130969859
A11: C2 | C11: 경 비 | D11: 경 비 | E11: =TRUNC(공종별집계표!J5, 0) -> 25393437
A12: C4 | D12: 산 재 보 험 료 | E12: =TRUNC(E10*0.0356, 0) -> 4662526 | F12: 노무비 * 3.56%
A13: C5 | D13: 고 용 보 험 료 | E13: =TRUNC(E10*0.0101, 0) -> 1322795 | F13: 노무비 * 1.01%
A14: C6 | D14: 국민 건강 보험료 | E14: =TRUNC(E8*0.03595, 0) -> 4007120 | F14: 직접노무비 * 3.595%
A15: C7 | D15: 국민 연금 보험료 | E15: =TRUNC(E8*0.0475, 0) -> 5294526 | F15: 직접노무비 * 4.75%
A16: C8 | D16: 퇴직 공제 부금비 | E16: =TRUNC(E8*0.023, 0) -> 2563665 | F16: 직접노무비 * 2.3%
A17: CA | D17: 산업안전보건관리비 | E17: =TRUNC((E7+E8+(E33/1.1))*0.0311, 0) -> 10855687 | F17: (재료비+직노+관급자재비) * 3.11%
A18: CB | D18: 노인장기요양보험료 | E18: =TRUNC(E14*0.1314, 0) -> 526535 | F18: 건강보험료 * 13.14%
A19: CG | D19: 기 타 경 비 | E19: =TRUNC((E7+E10)*0.05, 0) -> 15293725 | F19: (재료비+노무비) * 5%
A20: CH | D20: 환 경 보 전 비 | E20: =TRUNC((E7+E8+E11)*0.005, 0) -> 1558809 | F20: (재료비+직노+경비) * 0.5%
A21: CK | D21: 하도급지급보증수수료 | E21: =TRUNC((E7+E8+E11)*0.00081, 0) -> 252527 | F21: (재료비+직노+경비) * 0.081% | G21: 최저가대상공사
A22: CL | D22: 건설기계대여금지급보증서발급수수료 | E22: =TRUNC((E7+E8+E11)*0.0007, 0) -> 218233 | F22: (재료비+직노+경비) * 0.07%
A23: CM | D23: 석 면 분 담 금 | E23: =TRUNC(E10*0.00006, 0) -> 7858 | F23: 노무비 * 0.006%
A24: CN | D24: 임 금 채 권 부 담 금 | E24: =TRUNC(E10*0.0009, 0) -> 117872 | F24: 노무비 * 0.09%
D25: 품질관리비 | E25: =공종별집계표!L17 -> 955408
A26: CS | D26: [ 소 계 ] | E26: =TRUNC(E11+E12+E13+E14+E15+E16+E17+E18+E19+E20+E21+E22+E23+E24+E25, 0) -> 73030723
A27: S1 | B27: 계 | E27: =TRUNC(E7+E10+E26, 0) -> 378905242
A28: D1 | B28: 일 반 관 리 비 | E28: =TRUNC(E27*0.08, 0) -> 30312419 | F28: 계 * 8%
A29: D2 | B29: 이 윤 | E29: =TRUNC((E10+E26+E28)*0.15, 0) -> 35146950 | F29: (노무비+경비+일반관리비) * 15%
A30: D9 | B30: 공 급 가 액 | E30: =TRUNC(E27+E28+E29, 0) -> 444364611
A31: DB | B31: 부 가 가 치 세 | E31: =TRUNC(E30*0.1, 0) -> 44436461 | F31: 공급가액 * 10%
A32: DH | B32: 도 급 액 | E32: =TRUNC(E30+E31, -3) -> 488801000
A33: DJ | B33: 관 급 자 재 비(도급자) | E33: =공종별내역서!L348-253 -> 68958000
B34: 관 급 자 재 비(관급자) | E34: =공종별내역서!L352-84 -> 65255000
A35: S2 | B35: 총 공 사 비 | E35: =TRUNC(E32+E33+E34, 0) -> 623014000

Sheet 공종별집계표
A1: 공 종 별 집 계 표
A2: [ 2026년고성능임업기계장비 장비고 신축공사 ]
A3: 품 명 | B3: 규 격 | C3: 단위 | D3: 수량 | E3: 재 료 비 | G3: 노 무 비 | I3: 경 비 | K3: 합 계 | M3: 비 고 | N3: 공종코드 | O3: 변수 | P3: 상위공종 | Q3: 공종구분 | R3: 공종레벨 | S3: 공종소계 | T3: 원가계산서 연결금액
E4: 단 가 | F4: 금 액 | G4: 단 가 | H4: 금 액 | I4: 단 가 | J4: 금 액 | K4: 단 가 | L4: 금 액
A5: 2026년고성능임업기계장비 장비고 신축공사 | D5: 1 | E5: =F6+F18 -> 174904660 | F5: =E5*D5 -> 174904660 | G5: =H6+H18 -> 111463710 | H5: =G5*D5 -> 111463710 | I5: =J6+J18 -> 25393437 | J5: =I5*D5 -> 25393437 | K5: =E5+G5+I5 -> 311761807 | L5: =F5+H5+J5 -> 311761807 | N5: 01 | R5: 1
A6: 건축공사 | D6: 1 | E6: =F7+F8+F9+F10+F11+F12+F13+F14+F15+F16 -> 164479415 | F6: =E6*D6 -> 164479415 | G6: =H7+H8+H9+H10+H11+H12+H13+H14+H15+H16 -> 101022203 | H6: =G6*D6 -> 101022203 | I6: =J7+J8+J9+J10+J11+J12+J13+J14+J15+J16 -> 19969141 | J6: =I6*D6 -> 19969141 | K6: =E6+G6+I6 -> 285470759 | L6: =F6+H6+J6 -> 285470759 | N6: 0101 | P6: 01 | R6: 2
A7: 가 설 공 사 | D7: 1 | E7: =공종별내역서!F29 -> 132596 | F7: =E7*D7 -> 132596 | G7: =공종별내역서!H29 -> 6293304 | H7: =G7*D7 -> 6293304 | I7: =공종별내역서!J29 -> 1017136 | J7: =I7*D7 -> 1017136 | K7: =E7+G7+I7 -> 7443036 | L7: =F7+H7+J7 -> 7443036 | N7: 010101 | P7: 0101 | R7: 3
A8: 기초 및 토공사 | D8: 1 | E8: =공종별내역서!F55 -> 501951 | F8: =E8*D8 -> 501951 | G8: =공종별내역서!H55 -> 4077692 | H8: =G8*D8 -> 4077692 | I8: =공종별내역서!J55 -> 327183 | J8: =I8*D8 -> 327183 | K8: =E8+G8+I8 -> 4906826 | L8: =F8+H8+J8 -> 4906826 | N8: 010102 | P8: 0101 | R8: 3
A9: 철근콘크리트공사 | D9: 1 | E9: =공종별내역서!F81 -> 1194358 | F9: =E9*D9 -> 1194358 | G9: =공종별내역서!H81 -> 28417659 | H9: =G9*D9 -> 28417659 | I9: =공종별내역서!J81 -> 2130728 | J9: =I9*D9 -> 2130728 | K9: =E9+G9+I9 -> 31742745 | L9: =F9+H9+J9 -> 31742745 | N9: 010103 | P9: 0101 | R9: 3
A10: 철골공사 | D10: 1 | E10: =공종별내역서!F133 -> 63217822 | F10: =E10*D10 -> 63217822 | G10: =공종별내역서!H133 -> 36767812 | H10: =G10*D10 -> 36767812 | I10: =공종별내역서!J133 -> 11371335 | J10: =I10*D10 -> 11371335 | K10: =E10+G10+I10 -> 111356969 | L10: =F10+H10+J10 -> 111356969 | N10: 010104 | P10: 0101 | R10: 3
A11: 미장 및 도장 공사 | D11: 1 | E11: =공종별내역서!F159 -> 2554252 | F11: =E11*D11 -> 2554252 | G11: =공종별내역서!H159 -> 3018532 | H11: =G11*D11 -> 3018532 | I11: =공종별내역서!J159 -> 0 | J11: =I11*D11 -> 0 | K11: =E11+G11+I11 -> 5572784 | L11: =F11+H11+J11 -> 5572784 | N11: 010105 | P11: 0101 | R11: 3
A12: 금 속 공 사 | D12: 1 | E12: =공종별내역서!F185 -> 13586972 | F12: =E12*D12 -> 13586972 | G12: =공종별내역서!H185 -> 2371788 | H12: =G12*D12 -> 2371788 | I12: =공종별내역서!J185 -> 118417 | J12: =I12*D12 -> 118417 | K12: =E12+G12+I12 -> 16077177 | L12: =F12+H12+J12 -> 16077177 | N12: 010106 | P12: 0101 | R12: 3
A13: 판 넬 공 사 | D13: 1 | E13: =공종별내역서!F211 -> 18315240 | F13: =E13*D13 -> 18315240 | G13: =공종별내역서!H211 -> 18045120 | H13: =G13*D13 -> 18045120 | I13: =공종별내역서!J211 -> 3873520 | J13: =I13*D13 -> 3873520 | K13: =E13+G13+I13 -> 40233880 | L13: =F13+H13+J13 -> 40233880 | N13: 010107 | P13: 0101 | R13: 3
A14: 창 호 공 사 | D14: 1 | E14: =공종별내역서!F237 -> 32308634 | F14: =E14*D14 -> 32308634 | G14: =공종별내역서!H237 -> 2030296 | H14: =G14*D14 -> 2030296 | I14: =공종별내역서!J237 -> 18234 | J14: =I14*D14 -> 18234 | K14: =E14+G14+I14 -> 34357164 | L14: =F14+H14+J14 -> 34357164 | N14: 010108 | P14: 0101 | R14: 3
A15: 기 타 공 사 | D15: 1 | E15: =공종별내역서!F263 -> 32000000 | F15: =E15*D15 -> 32000000 | G15: =공종별내역서!H263 -> 0 | H15: =G15*D15 -> 0 | I15: =공종별내역서!J263 -> 1112588 | J15: =I15*D15 -> 1112588 | K15: =E15+G15+I15 -> 33112588 | L15: =F15+H15+J15 -> 33112588 | N15: 010109 | P15: 0101 | R15: 3
A16: 골 재 비 | D16: 1 | E16: =공종별내역서!F289 -> 667590 | F16: =E16*D16 -> 667590 | G16: =공종별내역서!H289 -> 0 | H16: =G16*D16 -> 0 | I16: =공종별내역서!J289 -> 0 | J16: =I16*D16 -> 0 | K16: =E16+G16+I16 -> 667590 | L16: =F16+H16+J16 -> 667590 | N16: 010110 | P16: 0101 | R16: 3
A17: 품 질 시 험 비 | D17: 1 | E17: =공종별내역서!F315 -> 0 | F17: =E17*D17 -> 0 | G17: =공종별내역서!H315 -> 0 | H17: =G17*D17 -> 0 | I17: =공종별내역서!J315 -> 955408 | J17: =I17*D17 -> 955408 | K17: =E17+G17+I17 -> 955408 | L17: =F17+H17+J17 -> 955408 | N17: 0102 | Q17: 7 | R17: 2 | T17: =L17*1 -> 955408
A18: 토 목 공 사 | D18: 1 | E18: =공종별내역서!F341 -> 10425245 | F18: =E18*D18 -> 10425245 | G18: =공종별내역서!H341 -> 10441507 | H18: =G18*D18 -> 10441507 | I18: =공종별내역서!J341 -> 5424296 | J18: =I18*D18 -> 5424296 | K18: =E18+G18+I18 -> 26291048 | L18: =F18+H18+J18 -> 26291048 | N18: 0103 | P18: 01 | R18: 2
A19: 관급자재비 | D19: 1 | E19: =공종별내역서!F367 -> 134213337 | F19: =E19*D19 -> 134213337 | G19: =공종별내역서!H367 -> 0 | H19: =G19*D19 -> 0 | I19: =공종별내역서!J367 -> 0 | J19: =I19*D19 -> 0 | K19: =E19+G19+I19 -> 134213337 | L19: =F19+H19+J19 -> 134213337 | N19: 0104 | Q19: 3 | R19: 2 | T19: =L19*1 -> 134213337
A29: [ 합 계 ] | F29: =F5 -> 174904660 | H29: =H5 -> 111463710 | J29: =J5 -> 25393437 | L29: =L5 -> 311761807

Sheet 공종별내역서
A1: [ 2026년고성능임업기계장비 장비고 신축공사 ]
A2: 품 명 | B2: 규 격 | C2: 단위 | D2: 수량 | E2: 재 료 비 | G2: 노 무 비 | I2: 경 비 | K2: 합 계 | M2: 비 고 | N2: 품목코드 | O2: 변수 | P2: 설정 | Q2: 공종코드 | R2: 일위 | S2: 단산 | T2: 자재 | U2: 손료적용 | V2: 손료저장 | W2: 적용율 | X2: JUK1 | Y2: JUK2 | Z2: JUK3 | AA2: JUK4 | AB2: JUK5 | AC2: JUK6 | AD2: JUK7 | AE2: JUK8 | AF2: JUK9 | AG2: JUK10 | AH2: JUK11 | AI2: JUK12 | AJ2: JUK13 | AK2: JUK14 | AL2: JUK15 | AM2: JUK16 | AN2: JUK17 | AO2: JUK18 | AP2: JUK19 | AQ2: JUK20 | AR2: 자재구분 | AS2: 공종구분 | AT2: 공종레벨 | AU2: 공종+자재 | AV2: 고유번호
E3: 단 가 | F3: 금 액 | G3: 단 가 | H3: 금 액 | I3: 단 가 | J3: 금 액 | K3: 단 가 | L3: 금 액
A4: 가 설 공 사 | Q4: 010101
A5: 콘테이너형 가설사무소 설치 및 해체 | B5: 3.0*6.0m, 3개월 | C5: 개소 | D5: 1 | E5: =TRUNC(일위대가목록!E4,0) -> 0 | F5: =TRUNC(E5*D5, 0) -> 0 | G5: =TRUNC(일위대가목록!F4,0) -> 0 | H5: =TRUNC(G5*D5, 0) -> 0 | I5: =TRUNC(일위대가목록!G4,0) -> 1017136 | J5: =TRUNC(I5*D5, 0) -> 1017136 | K5: =TRUNC(E5+G5+I5, 0) -> 1017136 | L5: =TRUNC(F5+H5+J5, 0) -> 1017136 | M5: 호표 1 | N5: 59A4A52B6E60D3F217E446BC10EA8B | Q5: 010101 | R5: T | S5: F | T5: F | AU5: 01010159A4A52B6E60D3F217E446BC10EA8B | AV5: 17
A6: 목재 평 규준틀 설치 및 철거 | C6: 개소 | D6: 4 | E6: =TRUNC(일위대가목록!E5,0) -> 8001 | F6: =TRUNC(E6*D6, 0) -> 32004 | G6: =TRUNC(일위대가목록!F5,0) -> 93266 | H6: =TRUNC(G6*D6, 0) -> 373064 | I6: =TRUNC(일위대가목록!G5,0) -> 0 | J6: =TRUNC(I6*D6, 0) -> 0 | K6: =TRUNC(E6+G6+I6, 0) -> 101267 | L6: =TRUNC(F6+H6+J6, 0) -> 405068 | M6: 호표 2 | N6: 59A4A5289B6B5AD617BF89471AB473 | Q6: 010101 | R6: T | S6: F | T6: F | AU6: 01010159A4A5289B6B5AD617BF89471AB473 | AV6: 15
A7: 목재 귀 규준틀 설치 및 철거 | C7: 개소 | D7: 8 | E7: =TRUNC(일위대가목록!E6,0) -> 12574 | F7: =TRUNC(E7*D7, 0) -> 100592 | G7: =TRUNC(일위대가목록!F6,0) -> 160723 | H7: =TRUNC(G7*D7, 0) -> 1285784 | I7: =TRUNC(일위대가목록!G6,0) -> 0 | J7: =TRUNC(I7*D7, 0) -> 0 | K7: =TRUNC(E7+G7+I7, 0) -> 173297 | L7: =TRUNC(F7+H7+J7, 0) -> 1386376 | M7: 호표 3 | N7: 59A4A5289B6B5AD617BF897C1F59EF | Q7: 010101 | R7: T | S7: F | T7: F | AU7: 01010159A4A5289B6B5AD617BF897C1F59EF | AV7: 16
A8: 건축물 현장정리 | B8: 목조, 철골조, 조적조 | C8: M2 | D8: 347.88 | E8: =TRUNC(일위대가목록!E7,0) -> 0 | F8: =TRUNC(E8*D8, 0) -> 0 | G8: =TRUNC(일위대가목록!F7,0) -> 8603 | H8: =TRUNC(G8*D8, 0) -> 2992811 | I8: =TRUNC(일위대가목록!G7,0) -> 0 | J8: =TRUNC(I8*D8, 0) -> 0 | K8: =TRUNC(E8+G8+I8, 0) -> 8603 | L8: =TRUNC(F8+H8+J8, 0) -> 2992811 | M8: 호표 4 | N8: 59A4A52D1860BDE317D64D9818B360 | Q8: 010101 | R8: T | S8: F | T8: F | AU8: 01010159A4A52D1860BDE317D64D9818B360 | AV8: 19
A9: 구조부 먹매김 | B9: 일반 | C9: M2 | D9: 347.88 | E9: =TRUNC(일위대가목록!E8,0) -> 0 | F9: =TRUNC(E9*D9, 0) -> 0 | G9: =TRUNC(일위대가목록!F8,0) -> 1388 | H9: =TRUNC(G9*D9, 0) -> 482857 | I9: =TRUNC(일위대가목록!G8,0) -> 0 | J9: =TRUNC(I9*D9, 0) -> 0 | K9: =TRUNC(E9+G9+I9, 0) -> 1388 | L9: =TRUNC(F9+H9+J9, 0) -> 482857 | M9: 호표 5 | N9: 59A4A52D1B6C1700175AEC171F2FB5 | Q9: 010101 | R9: T | S9: F | T9: F | AU9: 01010159A4A52D1B6C1700175AEC171F2FB5 | AV9: 20
A10: 거푸집 먹매김 | B10: 일반 | C10: M2 | D10: 347.88 | E10: =TRUNC(일위대가목록!E9,0) -> 0 | F10: =TRUNC(E10*D10, 0) -> 0 | G10: =TRUNC(일위대가목록!F9,0) -> 3331 | H10: =TRUNC(G10*D10, 0) -> 1158788 | I10: =TRUNC(일위대가목록!G9,0) -> 0 | J10: =TRUNC(I10*D10, 0) -> 0 | K10: =TRUNC(E10+G10+I10, 0) -> 3331 | L10: =TRUNC(F10+H10+J10, 0) -> 1158788 | M10: 호표 6 | N10: 59A4A52D1B6C1700175AC14E1BCE4C | Q10: 010101 | R10: T | S10: F | T10: F | AU10: 01010159A4A52D1B6C1700175AC14E1BCE4C | AV10: 21
Q11: 010101
Q12: 010101
Q13: 010101
Q14: 010101
Q15: 010101
Q16: 010101
Q17: 010101
Q18: 010101
Q19: 010101
Q20: 010101
Q21: 010101
Q22: 010101
... Q28: 010101
A29: [ 합 계 ] | F29: =SUMIF(Q5:Q28,"010101",F5:F28) -> 132596 | H29: =SUMIF(Q5:Q28,"010101",H5:H28) -> 6293304 | J29: =SUMIF(Q5:Q28,"010101",J5:J28) -> 1017136 | L29: =SUMIF(Q5:Q28,"010101",L5:L28) -> 7443036 | N29: TOTAL
A30: 기초 및 토공사 | Q30: 010102
A31: 터파기/토사 | B31: 보통, 굴착기 0.7m3 90%, 인력10% | C31: M3 | D31: 353.13 | E31: 393 | F31: =TRUNC(E31*D31, 0) -> 138780 | G31: 7181 | H31: =TRUNC(G31*D31, 0) -> 2535826 | I31: 374 | J31: =TRUNC(I31*D31, 0) -> 132070 | K31: =TRUNC(E31+G31+I31, 0) -> 7948 | L31: =TRUNC(F31+H31+J31, 0) -> 2806676 | M31: 산근 1 | N31: 59879504D36D104D17BB6AB81C44BB | Q31: 010102 | R31: F | S31: T | T31: F | AU31: 01010259879504D36D104D17BB6AB81C44BB | AV31: 22
A32: 토사(단지내 잔토포설) | B32: 보통, 굴착기 0.7m3 | C32: M3 | D32: 353.13 | E32: 248 | F32: =TRUNC(E32*D32, 0) -> 87576 | G32: 567 | H32: =TRUNC(G32*D32, 0) -> 200224 | I32: 236 | J32: =TRUNC(I32*D32, 0) -> 83338 | K32: =TRUNC(E32+G32+I32, 0) -> 1051 | L32: =TRUNC(F32+H32+J32, 0) -> 371138 | M32: 산근 2 | N32: 598795084F6C1BE717B33242125707 | Q32: 010102 | R32: F | S32: T | T32: F | AU32: 010102598795084F6C1BE717B33242125707 | AV32: 23
A33: 방습필름 설치 - 바닥 | B33: 폴리에틸렌필름, 두께, 0.03mm, 2겹 | C33: M2 | D33: 396.66 | E33: =TRUNC(일위대가목록!E10,0) -> 418 | F33: =TRUNC(E33*D33, 0) -> 165803 | G33: =TRUNC(일위대가목록!F10,0) -> 1456 | H33: =TRUNC(G33*D33, 0) -> 577536 | I33: =TRUNC(일위대가목록!G10,0) -> 0 | J33: =TRUNC(I33*D33, 0) -> 0 | K33: =TRUNC(E33+G33+I33, 0) -> 1874 | L33: =TRUNC(F33+H33+J33, 0) -> 743339 | M33: 호표 7 | N33: 59A445450F672840172BA1821E8ABA | Q33: 010102 | R33: T | S33: F | T33: F | AU33: 01010259A445450F672840172BA1821E8ABA | AV33: 24
A34: 기초 지정 | B34: 잡석지정 | C34: M3 | D34: 79.33 | E34: =TRUNC(일위대가목록!E11,0) -> 1384 | F34: =TRUNC(E34*D34, 0) -> 109792 | G34: =TRUNC(일위대가목록!F11,0) -> 9632 | H34: =TRUNC(G34*D34, 0) -> 764106 | I34: =TRUNC(일위대가목록!G11,0) -> 1409 | J34: =TRUNC(I34*D34, 0) -> 111775 | K34: =TRUNC(E34+G34+I34, 0) -> 12425 | L34: =TRUNC(F34+H34+J34, 0) -> 985673 | M34: 호표 8 | N34: 598795084B6664E1173A282E189C42 | Q34: 010102 | R34: T | S34: F | T34: F | AU34: 010102598795084B6664E1173A282E189C42 | AV34: 25
Q35: 010102
Q36: 010102
Q37: 010102
Q38: 010102
Q39: 010102
Q40: 010102
Q41: 010102
Q42: 010102
Q43: 010102
Q44: 010102
Q45: 010102
...

Sheet 일위대가목록
B1: 일 위 대 가 목 록
B2: [ 2026년고성능임업기계장비 장비고 신축공사 ]
A3: 코 드 | B3: 품 명 | C3: 규 격 | D3: 단위 | E3: 재 료 비 | F3: 노 무 비 | G3: 경 비 | H3: 합 계 | I3: 번 호 | J3: 비 고 | K3: 노임계수 | L3: 할증 | M3: 품셈개요 | N3: 장비일위
A4: 59A4A52B6E60D3F217E446BC10EA8B | B4: 콘테이너형 가설사무소 설치 및 해체 | C4: 3.0*6.0m, 3개월 | D4: 개소 | E4: =일위대가!F8 -> 0 | F4: =일위대가!H8 -> 0 | G4: =일위대가!J8 -> 1017136 | H4: =E4+F4+G4 -> 1017136 | I4: 호표 1 | M4: 공통 2-3-2, 2-2-3.2
A5: 59A4A5289B6B5AD617BF89471AB473 | B5: 목재 평 규준틀 설치 및 철거 | D5: 개소 | E5: =일위대가!F14 -> 8001 | F5: =일위대가!H14 -> 93266 | G5: =일위대가!J14 -> 0 | H5: =E5+F5+G5 -> 101267 | I5: 호표 2 | M5: 공통 2-5-4, 2-2-7
A6: 59A4A5289B6B5AD617BF897C1F59EF | B6: 목재 귀 규준틀 설치 및 철거 | D6: 개소 | E6: =일위대가!F20 -> 12574 | F6: =일위대가!H20 -> 160723 | G6: =일위대가!J20 -> 0 | H6: =E6+F6+G6 -> 173297 | I6: 호표 3 | M6: 공통 2-5-4, 2-2-7
A7: 59A4A52D1860BDE317D64D9818B360 | B7: 건축물 현장정리 | C7: 목조, 철골조, 조적조 | D7: M2 | E7: =일위대가!F24 -> 0 | F7: =일위대가!H24 -> 8603 | G7: =일위대가!J24 -> 0 | H7: =E7+F7+G7 -> 8603 | I7: 호표 4 | M7: 공통 2-11-2
A8: 59A4A52D1B6C1700175AEC171F2FB5 | B8: 구조부 먹매김 | C8: 일반 | D8: M2 | E8: =일위대가!F28 -> 0 | F8: =일위대가!H28 -> 1388 | G8: =일위대가!J28 -> 0 | H8: =E8+F8+G8 -> 1388 | I8: 호표 5 | M8: 건축 4-1-1
A9: 59A4A52D1B6C1700175AC14E1BCE4C | B9: 거푸집 먹매김 | C9: 일반 | D9: M2 | E9: =일위대가!F32 -> 0 | F9: =일위대가!H32 -> 3331 | G9: =일위대가!J32 -> 0 | H9: =E9+F9+G9 -> 3331 | I9: 호표 6 | M9: 건축 4-1-1
A10: 59A445450F672840172BA1821E8ABA | B10: 방습필름 설치 - 바닥 | C10: 폴리에틸렌필름, 두께, 0.03mm, 2겹 | D10: M2 | E10: =일위대가!F37 -> 418 | F10: =일위대가!H37 -> 1456 | G10: =일위대가!J37 -> 0 | H10: =E10+F10+G10 -> 1874 | I10: 호표 7 | M10: 건축 5-4-8
A11: 598795084B6664E1173A282E189C42 | B11: 기초 지정 | C11: 잡석지정 | D11: M3 | E11: =일위대가!F45 -> 1384 | F11: =일위대가!H45 -> 9632 | G11: =일위대가!J45 -> 1409 | H11: =E11+F11+G11 -> 12425 | I11: 호표 8 | M11: 공통 3-4-8
A12: 59A4F5A98A67AB091711792F158157 | B12: 철근 현장가공 및 현장조립 | C12: Type-Ⅰ | D12: TON | E12: =일위대가!F50 -> 10101 | F12: =일위대가!H50 -> 791069 | G12: =일위대가!J50 -> 31048 | H12: =E12+F12+G12 -> 832218 | I12: 호표 9 | M12: 공통 6-2-2, 3
A13: 59A4F5AA956C6518173C776F10B780 | B13: 유로폼 설치 및 해체 | C13: 3회, 간단, 수직고 7m까지 | D13: M2 | E13: =일위대가!F55 -> 3967 | F13: =일위대가!H55 -> 31880 | G13: =일위대가!J55 -> 956 | H13: =E13+F13+G13 -> 36803 | I13: 호표 10 | M13: 공통 6-3-3
A14: 59A4F5AD646237681737EB8A1168AD | B14: 콘크리트 펌프차 타설(무근, 진동기無) | C14: slump 8~12cm, 매트기초 등, f2 : Type-Ⅰ, 32m | D14: M3 | E14: =일위대가!F65 -> 1786 | F14: =일위대가!H65 -> 6736 | G14: =일위대가!J65 -> 2885 | H14: =E14+F14+G14 -> 11407 | I14: 호표 11 | M14: 공통 6-1-4
A15: 59A4F5AD676F212D1727964318C86E | B15: 콘크리트 펌프차 타설 | C15: slump 8~12cm, 매트기초 등, f2 : Type-Ⅰ, 32m | D15: M3 | E15: =일위대가!F75 -> 2043 | F15: =일위대가!H75 -> 10680 | G15: =일위대가!J75 -> 3187 | H15: =E15+F15+G15 -> 15910 | I15: 호표 12 | M15: 공통 6-1-4
A16: 59A4E54792637FA7173DEA1E1544A2 | B16: 철골 가공 조립(적은 구조) | C16: Rolled shape, 60ton 미만 | D16: TON | E16: =일위대가!F81 -> 17488 | F16: =일위대가!H81 -> 355880 | G16: =일위대가!J81 -> 213528 | H16: =E16+F16+G16 -> 586896 | I16: 호표 13 | M16: 건축 1-1-1, 1-1-2
A17: 59A4E54108625AF21733FB371FB02A | B17: 철골세우기 - 6층 미만 | C17: 50~55kg/m2 미만, 30∼50ton 미만 | D17: TON | E17: =일위대가!F86 -> 604 | F17: =일위대가!H86 -> 206203 | G17: =일위대가!J86 -> 0 | H17: =E17+F17+G17 -> 206807 | I17: 호표 14 | M17: 건축 1-2-1
A18: 59A4E541036A24D9173FEDB3118418 | B18: 고장력 볼트 본조임 | C18: 30본/t 미만, 300ton 이상~500ton 미만 | D18: TON | E18: =일위대가!F90 -> 0 | F18: =일위대가!H90 -> 123550 | G18: =일위대가!J90 -> 3706 | H18: =E18+F18+G18 -> 127256 | I18: 호표 15 | M18: 건축 1-2-4
A19: 59A4E5468C6EB46D17882A69156B53 | B19: 앵커 볼트 설치 | C19: ∮24 이하 | D19: 개 | E19: =일위대가!F96 -> 0 | F19: =일위대가!H96 -> 41623 | G19: =일위대가!J96 -> 832 | H19: =E19+F19+G19 -> 42455 | I19: 호표 16 | M19: 건축 1-2-6
A20: 59A4E5468C6EB46D17882A69156FCE | B20: 앵커 볼트 설치 | C20: ∮20 이하 | D20: 개 | E20: =일위대가!F102 -> 0 | F20: =일위대가!H102 -> 26994 | G20: =일위대가!J102 -> 539 | H20: =E20+F20+G20 -> 27533 | I20: 호표 17 | M20: 건축 1-2-6
A21: 59A4E5406460EF54172885AE1BB999 | B21: 부대철골 설치 | D21: TON | E21: =일위대가!F108 -> 71540 | F21: =일위대가!H108 -> 664431 | G21: =일위대가!J108 -> 226110 | H21: =E21+F21+G21 -> 962081 | I21: 호표 18 | M21: 건축 1-4-1
A22: 5EB3D50CD26DD5851776E61B19655F1660583819 | B22: 크레인(타이어) | C22: 10ton | D22: HR | E22: =일위대가!F115 -> 9627 | F22: =일위대가!H115 -> 59020 | G22: =일위대가!J115 -> 31344 | H22: =E22+F22+G22 -> 99991 | I22: 호표 19 | K22: A | M22: 공통 8-3,4(2104) | N22: T
A23: 59A4E541036A35481754F59D18C8EC | B23: 주각부 무수축 모르타르 충전 | C23: 400*400*50mm, 재료비 포함 | D23: 개소 | E23: =일위대가!F120 -> 6240 | F23: =일위대가!H120 -> 52967 | G23: =일위대가!J120 -> 0 | H23: =E23+F23+G23 -> 59207 | I23: 호표 20 | M23: 건축 9-3-3
A24: 59A4F5B9176F8C6A1787D5E516E007 | B24: 표면 마무리 | D24: M2 | E24: =일위대가!F124 -> 0 | F24: =일위대가!H124 -> 942 | G24: =일위대가!J124 -> 0 | H24: =E24+F24+G24 -> 942 | I24: 호표 21 | M24: 공통 6-1-3
A25: 59A455A5B76946F917130817194C07 | B25: 조합페인트 뿜칠2회2급 | C25: 철재면, 2회 2급 | D25: M2 | E25: =일위대가!F132 -> 1700 | F25: =일위대가!H132 -> 1867 | G25: =일위대가!J132 -> 0 | H25: =E25+F25+G25 -> 3567 | I25: 호표 22 | M25: 건축 11-2-5
A26: 59A455A5B76946F917130817194C04 | B26: 녹막이페인트 뿜칠1회2종 | C26: 철재면, 2회 2급 | D26: M2 | E26: =일위대가!F140 -> 1004 | F26: =일위대가!H140 -> 933 | G26: =일위대가!J140 -> 0 | H26: =E26+F26+G26 -> 1937 | I26: 호표 23 | M26: 건축 11-2-5
A27: 59A41501986382681775AFEE10DF6A | B27: 잡철물 제작 및 설치 | C27: 규격철물 설치(단순), 일반철재 | D27: kg | E27: =일위대가!F149 -> 82 | F27: =일위대가!H149 -> 2764 | G27: =일위대가!J149 -> 138 | H27: =E27+F27+G27 -> 2984 | I27: 호표 24 | M27: 건축 8-3-1, 비고
A28: 5EB3D50CD26DD5851776CB4E142E6B301D309D20 | B28: 고소작업차 | C28: 5ton | D28: HR | E28: =일위대가!F156 -> 11154 | F28: =일위대가!H156 -> 49778 | G28: =일위대가!J156 -> 36594 | H28: =E28+F28+G28 -> 97526 | I28: 호표 25 | K28: A | M28: 공통 8-3,4(2106) | N28: T
A29: 59A475F4716ABF2A178B2FDA178621 | B29: 1/AST | C29: 방풍셔터.7.9*4.65 | D29: 개소 | E29: =일위대가!F160 -> 10500000 | F29: =일위대가!H160 -> 0 | G29: =일위대가!J160 -> 0 | H29: =E29+F29+G29 -> 10500000 | I29: 호표 26 | M29: 건축 10-1-2
A30: 59A475F4716ABF2A178B2FDA178620 | B30: 2/AST | C30: 방풍셔터3.7*4.65 | D30: 개소 | E30: =일위대가!F164 -> 6800000 | F30: =일위대가!H164 -> 0 | G30: =일위대가!J164 -> 0 | H30: =E30+F30+G30 -> 6800000 | I30: 호표 27 | M30: 건축 10-1-2
A31: 59A475F4716ABF2A178B2FDA178622 | B31: 1/SD | C31: 0.9*2.1 | D31: 개소 | E31: =일위대가!F172 -> 455991 | F31: =일위대가!H172 -> 124508 | G31: =일위대가!J172 -> 3735 | H31: =E31+F31+G31 -> 584234 | I31: 호표 28 | M31: 건축 10-1-2
A32: 59A475F4716ABF2A178B2FDA178627 | B32: 1/PW | C32: 2.4*1.2 | D32: 개소 | E32: =일위대가!F182 -> 399628 | F32: =일위대가!H182 -> 197920 | G32: =일위대가!J182 -> 1196 | H32: =E32+F32+G32 -> 598744 | I32: 호표 29 | M32: 건축 10-1-2
A33: 5987C5B12B6C05B51778B6551B55A7 | B33: 노체 | C33: 평판재하 | D33: 회 | E33: =일위대가!F188 -> 0 | F33: =일위대가!H188 -> 0 | G33: =일위대가!J188 -> 187814 | H33: =E33+F33+G33 -> 187814 | I33: 호표 30 | M33: 국토~부 고시 별표 4
A34: 59A4A52D1B6C0691176A1716164AE2 | B34: 굳지 아니한 콘크리트(레미콘 포함) | C34: 온도 | D34: 회 | E34: =일위대가!F193 -> 0 | F34: =일위대가!H193 -> 0 | G34: =일위대가!J193 -> 9317 | H34: =E34+F34+G34 -> 9317 | I34: 호표 31 | M34: 국토~부 고시 별표 4
A35: 59A4A52D1B6C0691176A1716164DB6 | B35: 굳지 아니한 콘크리트(레미콘 포함) | C35: 슬럼프 또는 슬럼프플로 | D35: 회 | E35: =일위대가!F199 -> 0 | F35: =일위대가!H199 -> 0 | G35: =일위대가!J199 -> 2071 | H35: =E35+F35+G35 -> 2071 | I35: 호표 32 | M35: 국토~부 고시 별표 4
A36: 59A4A52D1B6C0691176A1716164C90 | B36: 굳지 아니한 콘크리트(레미콘 포함) | C36: 공기량 | D36: 회 | E36: =일위대가!F206 -> 0 | F36: =일위대가!H206 -> 0 | G36: =일위대가!J206 -> 10812 | H36: =E36+F36+G36 -> 10812 | I36: 호표 33 | M36: 국토~부 고시 별표 4
A37: 59A4A52D1B6C0691176A1716164E5D | B37: 굳지 아니한 콘크리트(레미콘 포함) | C37: 염화물 함유량 | D37: 회 | E37: =일위대가!F213 -> 0 | F37: =일위대가!H213 -> 0 | G37: =일위대가!J213 -> 9372 | H37: =E37+F37+G37 -> 9372 | I37: 호표 34 | M37: 국토~부 고시 별표 4
A38: 59A4A52D1B6C0691176A17161640FF | B38: 굳지 아니한 콘크리트(레미콘 포함) | C38: 압축강도(3개 한 조) | D38: 회 | E38: =일위대가!F220 -> 0 | F38: =일위대가!H220 -> 0 | G38: =일위대가!J220 -> 6049 | H38: =E38+F38+G38 -> 6049 | I38: 호표 35 | M38: 국토~부 고시 별표 4
A39: 59A4A52D1B6C0691176A1716176FDE | B39: 굳지 아니한 콘크리트(레미콘 포함) | C39: 공시체제작 | D39: 회 | E39: =일위대가!F226 -> 0 | F39: =일위대가!H226 -> 0 | G39: =일위대가!J226 -> 40865 | H39: =E39+F39+G39 -> 40865 | I39: 호표 36 | M39: 국토~부 고시 별표 4
A40: 59A4A52D1B6C068017FB6E9A13857C | B40: 건축구조용 압연강재 | C40: 초음파 탐상 | D40: 회 | E40: =일위대가!F233 -> 0 | F40: =일위대가!H233 -> 0 | G40: =일위대가!J233 -> 99049 | H40: =E40+F40+G40 -> 99049 | I40: 호표 37 | M40: 국토~부 고시 별표 4
...

Sheet 일위대가
A1: [ 2026년고성능임업기계장비 장비고 신축공사 ]
A2: 품 명 | B2: 규 격 | C2: 단위 | D2: 수량 | E2: 재 료 비 | G2: 노 무 비 | I2: 경 비 | K2: 합 계 | M2: 비 고 | N2: 일위대가 | O2: 품목코드 | P2: 일위 | Q2: 단산 | R2: 자재 | S2: 손료적용 | T2: 손료저장 | U2: 적용율 | V2: JUK1 | W2: JUK2 | X2: JUK3 | Y2: JUK4 | Z2: JUK5 | AA2: JUK6 | AB2: JUK7 | AC2: JUK8 | AD2: JUK9 | AE2: JUK10 | AF2: JUK11 | AG2: JUK12 | AH2: JUK13 | AI2: JUK14 | AJ2: JUK15 | AK2: JUK16 | AL2: JUK17 | AM2: JUK18 | AN2: JUK19 | AO2: JUK20 | AP2: 할증적용 | AQ2: 할증저장 | AR2: 할증율 | AS2: HAL1 | AT2: HAL2 | AU2: HAL3 | AV2: 자재구분 | AW2: 일위대가+자재 | AX2: 장비일위 | AY2: 설정 | AZ2: 할증체크
E3: 단 가 | F3: 금 액 | G3: 단 가 | H3: 금 액 | I3: 단 가 | J3: 금 액 | K3: 단 가 | L3: 금 액
A4: 콘테이너형 가설사무소 설치 및 해체 3.0*6.0m, 3개월 개소 공통 2-3-2, 2-2-3.2 ( 호표 1 ) | N4: 59A4A52B6E60D3F217E446BC10EA8B
A5: 컨테이너하우스 | B5: 컨테이너하우스, 사무실용, 3.0*6.0*2.6m | C5: 개 | D5: 0.18 | E5: =단가대비표!O76 -> 3204160 | F5: =TRUNC(E5*D5,1) -> 576748.8 | G5: =단가대비표!P76 -> 0 | H5: =TRUNC(G5*D5,1) -> 0 | I5: =단가대비표!V76 -> 0 | J5: =TRUNC(I5*D5,1) -> 0 | K5: =TRUNC(E5+G5+I5,1) -> 3204160 | L5: =TRUNC(F5+H5+J5,1) -> 576748.8 | M5: 금액제외 | O5: 5E8695AF1C61698317FBFBFC1EAADDCAE3B78D | P5: F | Q5: F | R5: T | V5: 1 | AW5: 59A4A52B6E60D3F217E446BC10EA8B5E8695AF1C61698317FBFBFC1EAADDCAE3B78D | AY5: -
A6: 콘테이너형 가설건축물 설치 및 해체 | B6: 3.0*6.0m | C6: 개소 | D6: 1 | E6: =일위대가목록!E41 -> 0 | F6: =TRUNC(E6*D6,1) -> 0 | G6: =일위대가목록!F41 -> 0 | H6: =TRUNC(G6*D6,1) -> 0 | I6: =일위대가목록!G41 -> 440388 | J6: =TRUNC(I6*D6,1) -> 440388 | K6: =TRUNC(E6+G6+I6,1) -> 440388 | L6: =TRUNC(F6+H6+J6,1) -> 440388 | M6: 금액제외 | O6: 59A4A52B6E60D3F21760EAAA118877 | P6: T | Q6: F | R6: F | V6: 1 | AW6: 59A4A52B6E60D3F217E446BC10EA8B59A4A52B6E60D3F21760EAAA118877 | AY6: -
A7: 경비로 적용 | B7: 합계의 100% | C7: 식 | D7: 1 | E7: 0 | F7: =TRUNC(E7*D7,1) -> 0 | G7: 0 | H7: =TRUNC(G7*D7,1) -> 0 | I7: =TRUNC(SUMIF(V5:V7, RIGHTB(O7, 1), L5:L7)*U7, 2) -> 1017136.8 | J7: =TRUNC(I7*D7,1) -> 1017136.8 | K7: =TRUNC(E7+G7+I7,1) -> 1017136.8 | L7: =TRUNC(F7+H7+J7,1) -> 1017136.8 | N7: 59A4A52B6E60D3F217E446BC10EA8B | O7: 58BD6567A069BB70171459E610D0001 | P7: F | Q7: F | R7: F | S7: 3 | T7: 2 | U7: 1 | AW7: 59A4A52B6E60D3F217E446BC10EA8B58BD6567A069BB70171459E610D0001
A8: [ 합 계 ] | F8: =TRUNC(SUMIF(N5:N7, N4, F5:F7),0) -> 0 | H8: =TRUNC(SUMIF(N5:N7, N4, H5:H7),0) -> 0 | J8: =TRUNC(SUMIF(N5:N7, N4, J5:J7),0) -> 1017136 | L8: =F8+H8+J8 -> 1017136 | N8: TOTAL | O8: TOTAL
A10: 목재 평 규준틀 설치 및 철거 개소 공통 2-5-4, 2-2-7 ( 호표 2 ) | N10: 59A4A5289B6B5AD617BF89471AB473
A11: 각재 | B11: 각재, 외송 | C11: M3 | D11: 0.014 | E11: =단가대비표!O47 -> 571556 | F11: =TRUNC(E11*D11,1) -> 8001.7 | G11: =단가대비표!P47 -> 0 | H11: =TRUNC(G11*D11,1) -> 0 | I11: =단가대비표!V47 -> 0 | J11: =TRUNC(I11*D11,1) -> 0 | K11: =TRUNC(E11+G11+I11,1) -> 571556 | L11: =TRUNC(F11+H11+J11,1) -> 8001.7 | N11: 59A4A5289B6B5AD617BF89471AB473 | O11: 5E8695AC4B60E1601779356F188D9A9F5D2224 | P11: F | Q11: F | R11: T | AW11: 59A4A5289B6B5AD617BF89471AB4735E8695AC4B60E1601779356F188D9A9F5D2224
A12: 건축목공 | B12: 일반공사 직종 | C12: 인 | D12: 0.15 | E12: =단가대비표!O105 -> 0 | F12: =TRUNC(E12*D12,1) -> 0 | G12: =단가대비표!P105 -> 277642 | H12: =TRUNC(G12*D12,1) -> 41646.3 | I12: =단가대비표!V105 -> 0 | J12: =TRUNC(I12*D12,1) -> 0 | K12: =TRUNC(E12+G12+I12,1) -> 277642 | L12: =TRUNC(F12+H12+J12,1) -> 41646.3 | N12: 59A4A5289B6B5AD617BF89471AB473 | O12: 597675753A6F38FB17C959F51424FC7EA0F34E | P12: F | Q12: F | R12: T | AW12: 59A4A5289B6B5AD617BF89471AB473597675753A6F38FB17C959F51424FC7EA0F34E
A13: 보통인부 | B13: 일반공사 직종 | C13: 인 | D13: 0.3 | E13: =단가대비표!O96 -> 0 | F13: =TRUNC(E13*D13,1) -> 0 | G13: =단가대비표!P96 -> 172068 | H13: =TRUNC(G13*D13,1) -> 51620.4 | I13: =단가대비표!V96 -> 0 | J13: =TRUNC(I13*D13,1) -> 0 | K13: =TRUNC(E13+G13+I13,1) -> 172068 | L13: =TRUNC(F13+H13+J13,1) -> 51620.4 | N13: 59A4A5289B6B5AD617BF89471AB473 | O13: 597675753A6F38FB17C959F51424FC7EA0F19D | P13: F | Q13: F | R13: T | AW13: 59A4A5289B6B5AD617BF89471AB473597675753A6F38FB17C959F51424FC7EA0F19D
A14: [ 합 계 ] | F14: =TRUNC(SUMIF(N11:N13, N10, F11:F13),0) -> 8001 | H14: =TRUNC(SUMIF(N11:N13, N10, H11:H13),0) -> 93266 | J14: =TRUNC(SUMIF(N11:N13, N10, J11:J13),0) -> 0 | L14: =F14+H14+J14 -> 101267 | N14: TOTAL | O14: TOTAL
A16: 목재 귀 규준틀 설치 및 철거 개소 공통 2-5-4, 2-2-7 ( 호표 3 ) | N16: 59A4A5289B6B5AD617BF897C1F59EF
A17: 각재 | B17: 각재, 외송 | C17: M3 | D17: 0.022 | E17: =단가대비표!O47 -> 571556 | F17: =TRUNC(E17*D17,1) -> 12574.2 | G17: =단가대비표!P47 -> 0 | H17: =TRUNC(G17*D17,1) -> 0 | I17: =단가대비표!V47 -> 0 | J17: =TRUNC(I17*D17,1) -> 0 | K17: =TRUNC(E17+G17+I17,1) -> 571556 | L17: =TRUNC(F17+H17+J17,1) -> 12574.2 | N17: 59A4A5289B6B5AD617BF897C1F59EF | O17: 5E8695AC4B60E1601779356F188D9A9F5D2224 | P17: F | Q17: F | R17: T | AW17: 59A4A5289B6B5AD617BF897C1F59EF5E8695AC4B60E1601779356F188D9A9F5D2224
A18: 건축목공 | B18: 일반공사 직종 | C18: 인 | D18: 0.3 | E18: =단가대비표!O105 -> 0 | F18: =TRUNC(E18*D18,1) -> 0 | G18: =단가대비표!P105 -> 277642 | H18: =TRUNC(G18*D18,1) -> 83292.6 | I18: =단가대비표!V105 -> 0 | J18: =TRUNC(I18*D18,1) -> 0 | K18: =TRUNC(E18+G18+I18,1) -> 277642 | L18: =TRUNC(F18+H18+J18,1) -> 83292.6 | N18: 59A4A5289B6B5AD617BF897C1F59EF | O18: 597675753A6F38FB17C959F51424FC7EA0F34E | P18: F | Q18: F | R18: T | AW18: 59A4A5289B6B5AD617BF897C1F59EF597675753A6F38FB17C959F51424FC7EA0F34E
A19: 보통인부 | B19: 일반공사 직종 | C19: 인 | D19: 0.45 | E19: =단가대비표!O96 -> 0 | F19: =TRUNC(E19*D19,1) -> 0 | G19: =단가대비표!P96 -> 172068 | H19: =TRUNC(G19*D19,1) -> 77430.6 | I19: =단가대비표!V96 -> 0 | J19: =TRUNC(I19*D19,1) -> 0 | K19: =TRUNC(E19+G19+I19,1) -> 172068 | L19: =TRUNC(F19+H19+J19,1) -> 77430.6 | N19: 59A4A5289B6B5AD617BF897C1F59EF | O19: 597675753A6F38FB17C959F51424FC7EA0F19D | P19: F | Q19: F | R19: T | AW19: 59A4A5289B6B5AD617BF897C1F59EF597675753A6F38FB17C959F51424FC7EA0F19D
A20: [ 합 계 ] | F20: =TRUNC(SUMIF(N17:N19, N16, F17:F19),0) -> 12574 | H20: =TRUNC(SUMIF(N17:N19, N16, H17:H19),0) -> 160723 | J20: =TRUNC(SUMIF(N17:N19, N16, J17:J19),0) -> 0 | L20: =F20+H20+J20 -> 173297 | N20: TOTAL | O20: TOTAL
A22: 건축물 현장정리 목조, 철골조, 조적조 M2 공통 2-11-2 ( 호표 4 ) | N22: 59A4A52D1860BDE317D64D9818B360
A23: 보통인부 | B23: 일반공사 직종 | C23: 인 | D23: 0.05 | E23: =단가대비표!O96 -> 0 | F23: =TRUNC(E23*D23,1) -> 0 | G23: =단가대비표!P96 -> 172068 | H23: =TRUNC(G23*D23,1) -> 8603.4 | I23: =단가대비표!V96 -> 0 | J23: =TRUNC(I23*D23,1) -> 0 | K23: =TRUNC(E23+G23+I23,1) -> 172068 | L23: =TRUNC(F23+H23+J23,1) -> 8603.4 | N23: 59A4A52D1860BDE317D64D9818B360 | O23: 597675753A6F38FB17C959F51424FC7EA0F19D | P23: F | Q23: F | R23: T | AW23: 59A4A52D1860BDE317D64D9818B360597675753A6F38FB17C959F51424FC7EA0F19D
A24: [ 합 계 ] | F24: =TRUNC(SUMIF(N23:N23, N22, F23:F23),0) -> 0 | H24: =TRUNC(SUMIF(N23:N23, N22, H23:H23),0) -> 8603 | J24: =TRUNC(SUMIF(N23:N23, N22, J23:J23),0) -> 0 | L24: =F24+H24+J24 -> 8603 | N24: TOTAL | O24: TOTAL
A26: 구조부 먹매김 일반 M2 건축 4-1-1 ( 호표 5 ) | N26: 59A4A52D1B6C1700175AEC171F2FB5
A27: 건축목공 | B27: 일반공사 직종 | C27: 인 | D27: 0.005 | E27: =단가대비표!O105 -> 0 | F27: =TRUNC(E27*D27,1) -> 0 | G27: =단가대비표!P105 -> 277642 | H27: =TRUNC(G27*D27,1) -> 1388.2 | I27: =단가대비표!V105 -> 0 | J27: =TRUNC(I27*D27,1) -> 0 | K27: =TRUNC(E27+G27+I27,1) -> 277642 | L27: =TRUNC(F27+H27+J27,1) -> 1388.2 | N27: 59A4A52D1B6C1700175AEC171F2FB5 | O27: 597675753A6F38FB17C959F51424FC7EA0F34E | P27: F | Q27: F | R27: T | AW27: 59A4A52D1B6C1700175AEC171F2FB5597675753A6F38FB17C959F51424FC7EA0F34E
A28: [ 합 계 ] | F28: =TRUNC(SUMIF(N27:N27, N26, F27:F27),0) -> 0 | H28: =TRUNC(SUMIF(N27:N27, N26, H27:H27),0) -> 1388 | J28: =TRUNC(SUMIF(N27:N27, N26, J27:J27),0) -> 0 | L28: =F28+H28+J28 -> 1388 | N28: TOTAL | O28: TOTAL
A30: 거푸집 먹매김 일반 M2 건축 4-1-1 ( 호표 6 ) | N30: 59A4A52D1B6C1700175AC14E1BCE4C
A31: 건축목공 | B31: 일반공사 직종 | C31: 인 | D31: 0.012 | E31: =단가대비표!O105 -> 0 | F31: =TRUNC(E31*D31,1) -> 0 | G31: =단가대비표!P105 -> 277642 | H31: =TRUNC(G31*D31,1) -> 3331.7 | I31: =단가대비표!V105 -> 0 | J31: =TRUNC(I31*D31,1) -> 0 | K31: =TRUNC(E31+G31+I31,1) -> 277642 | L31: =TRUNC(F31+H31+J31,1) -> 3331.7 | N31: 59A4A52D1B6C1700175AC14E1BCE4C | O31: 597675753A6F38FB17C959F51424FC7EA0F34E | P31: F | Q31: F | R31: T | AW31: 59A4A52D1B6C1700175AC14E1BCE4C597675753A6F38FB17C959F51424FC7EA0F34E
A32: [ 합 계 ] | F32: =TRUNC(SUMIF(N31:N31, N30, F31:F31),0) -> 0 | H32: =TRUNC(SUMIF(N31:N31, N30, H31:H31),0) -> 3331 | J32: =TRUNC(SUMIF(N31:N31, N30, J31:J31),0) -> 0 | L32: =F32+H32+J32 -> 3331 | N32: TOTAL | O32: TOTAL
A34: 방습필름 설치 - 바닥 폴리에틸렌필름, 두께, 0.03mm, 2겹 M2 건축 5-4-8 ( 호표 7 ) | N34: 59A445450F672840172BA1821E8ABA
A35: 폴리에틸렌필름 | B35: 폴리에틸렌필름, 두께, 0.03mm | C35: M2 | D35: 2.3 | E35: =단가대비표!O17 -> 182 | F35: =TRUNC(E35*D35,1) -> 418.6 | G35: =단가대비표!P17 -> 0 | H35: =TRUNC(G35*D35,1) -> 0 | I35: =단가대비표!V17 -> 0 | J35: =TRUNC(I35*D35,1) -> 0 | K35: =TRUNC(E35+G35+I35,1) -> 182 | L35: =TRUNC(F35+H35+J35,1) -> 418.6 | N35: 59A445450F672840172BA1821E8ABA | O35: 5EA145B4146EE88B1799AF4C1D4FA2CD7868DA | P35: F | Q35: F | R35: T | AW35: 59A445450F672840172BA1821E8ABA5EA145B4146EE88B1799AF4C1D4FA2CD7868DA
A36: 방습필름 설치 | B36: 바닥 | C36: M2 | D36: 1 | E36: =일위대가목록!E43 -> 0 | F36: =TRUNC(E36*D36,1) -> 0 | G36: =일위대가목록!F43 -> 1456 | H36: =TRUNC(G36*D36,1) -> 1456 | I36: =일위대가목록!G43 -> 0 | J36: =TRUNC(I36*D36,1) -> 0 | K36: =TRUNC(E36+G36+I36,1) -> 1456 | L36: =TRUNC(F36+H36+J36,1) -> 1456 | M36: 호표 40 | N36: 59A445450F672840172BA1821E8ABA | O36: 59A445450F67286C17FE6ABC1DC86C | P36: T | Q36: F | R36: F | AW36: 59A445450F672840172BA1821E8ABA59A445450F67286C17FE6ABC1DC86C
A37: [ 합 계 ] | F37: =TRUNC(SUMIF(N35:N36, N34, F35:F36),0) -> 418 | H37: =TRUNC(SUMIF(N35:N36, N34, H35:H36),0) -> 1456 | J37: =TRUNC(SUMIF(N35:N36, N34, J35:J36),0) -> 0 | L37: =F37+H37+J37 -> 1874 | N37: TOTAL | O37: TOTAL
A39: 기초 지정 잡석지정 M3 공통 3-4-8 ( 호표 8 ) | N39: 598795084B6664E1173A282E189C42
A40: 특별인부 | B40: 일반공사 직종 | C40: 인 | D40: 0.011 | E40: =단가대비표!O97 -> 0 | F40: =TRUNC(E40*D40,1) -> 0 | G40: =단가대비표!P97 -> 226122 | H40: =TRUNC(G40*D40,1) -> 2487.3 | I40: =단가대비표!V97 -> 0 | J40: =TRUNC(I40*D40,1) -> 0 | K40: =TRUNC(E40+G40+I40,1) -> 226122 | L40: =TRUNC(F40+H40+J40,1) -> 2487.3 | N40: 598795084B6664E1173A282E189C42 | O40: 597675753A6F38FB17C959F51424FC7EA0F19C | P40: F | Q40: F | R40: T | AW40: 598795084B6664E1173A282E189C42597675753A6F38FB17C959F51424FC7EA0F19C
A41: 보통인부 | B41: 일반공사 직종 | C41: 인 | D41: 0.011 | E41: =단가대비표!O96 -> 0 | F41: =TRUNC(E41*D41,1) -> 0 | G41: =단가대비표!P96 -> 172068 | H41: =TRUNC(G41*D41,1) -> 1892.7 | I41: =단가대비표!V96 -> 0 | J41: =TRUNC(I41*D41,1) -> 0 | K41: =TRUNC(E41+G41+I41,1) -> 172068 | L41: =TRUNC(F41+H41+J41,1) -> 1892.7 | N41: 598795084B6664E1173A282E189C42 | O41: 597675753A6F38FB17C959F51424FC7EA0F19D | P41: F | Q41: F | R41: T | AW41: 598795084B6664E1173A282E189C42597675753A6F38FB17C959F51424FC7EA0F19D
A42: 굴착기(무한궤도) | B42: 0.2㎥ | C42: HR | D42: 0.089 | E42: =일위대가목록!E44 -> 11027 | F42: =TRUNC(E42*D42,1) -> 981.4 | G42: =일위대가목록!F44 -> 59020 | H42: =TRUNC(G42*D42,1) -> 5252.7 | I42: =일위대가목록!G44 -> 13873 | J42: =TRUNC(I42*D42,1) -> 1234.6 | K42: =TRUNC(E42+G42+I42,1) -> 83920 | L42: =TRUNC(F42+H42+J42,1) -> 7468.7 | M42: 호표 41 | N42: 598795084B6664E1173A282E189C42 | O42: 5EB3D50CD26DF040176BFDEB16AAEB79B93C6A11 | P42: T | Q42: F | R42: F | AW42: 598795084B6664E1173A282E189C425EB3D50CD26DF040176BFDEB16AAEB79B93C6A11
A43: 진동롤러(핸드가이드식) | B43: 0.7ton | C43: HR | D43: 0.089 | E43: =일위대가목록!E45 -> 4531 | F43: =TRUNC(E43*D43,1) -> 403.2 | G43: =일위대가목록!F45 -> 36248 | H43: =TRUNC(G43*D43,1) -> 3226 | I43: =일위대가목록!G45 -> 1967 | J43: =TRUNC(I43*D43,1) -> 175 | K43: =TRUNC(E43+G43+I43,1) -> 42746 | L43: =TRUNC(F43+H43+J43,1) -> 3804.2 | M43: 호표 42 | N43: 598795084B6664E1173A282E189C42 | O43: 5EB3D50CD26DE7CA17D0826E1EBA0C5738F816B5 | P43: T | Q43: F | R43: F | V43: 1 | AW43: 598795084B6664E1173A282E189C425EB3D50CD26DE7CA17D0826E1EBA0C5738F816B5
A44: 진동롤러(핸드가이드식) 조정원 계산안함 | B44: 조정원의 100% | C44: 식 | D44: -1 | E44: 0 | F44: =TRUNC(E44*D44,1) -> 0 | G44: =TRUNC(SUMIF(V40:V44, RIGHTB(O44, 1), H40:H44)*U44, 2) -> 3226 | H44: =TRUNC(G44*D44,1) -> -3226 | I44: 0 | J44: =TRUNC(I44*D44,1) -> 0 | K44: =TRUNC(E44+G44+I44,1) -> 3226 | L44: =TRUNC(F44+H44+J44,1) -> -3226 | N44: 598795084B6664E1173A282E189C42 | O44: 58BD6567A069BB70171459E610D0001 | P44: F | Q44: F | R44: F | S44: 1 | T44: 1 | U44: 1 | AW44: 598795084B6664E1173A282E189C4258BD6567A069BB70171459E610D0001
A45: [ 합 계 ] | F45: =TRUNC(SUMIF(N40:N44, N39, F40:F44),0) -> 1384 | H45: =TRUNC(SUMIF(N40:N44, N39, H40:H44),0) -> 9632 | J45: =TRUNC(SUMIF(N40:N44, N39, J40:J44),0) -> 1409 | L45: =F45+H45+J45 -> 12425 | N45: TOTAL | O45: TOTAL
A47: 철근 현장가공 및 현장조립 Type-Ⅰ TON 공통 6-2-2, 3 ( 호표 9 ) | N47: 59A4F5A98A67AB091711792F158157
A48: 철근 현장가공 | B48: Type-Ⅰ | C48: TON | D48: 1 | E48: =일위대가목록!E46 -> 0 | F48: =TRUNC(E48*D48,1) -> 0 | G48: =일위대가목록!F46 -> 217540 | H48: =TRUNC(G48*D48,1) -> 217540 | I48: =일위대가목록!G46 -> 19578 | J48: =TRUNC(I48*D48,1) -> 19578 | K48: =TRUNC(E48+G48+I48,1) -> 237118 | L48: =TRUNC(F48+H48+J48,1) -> 237118 | M48: 호표 43 | N48: 59A4F5A98A67AB091711792F158157 | O48: 59A4F5A98A67AB091711792F14FBAB | P48: T | Q48: F | R48: F | AW48: 59A4F5A98A67AB091711792F15815759A4F5A98A67AB091711792F14FBAB
...

Sheet 단가대비표
A1: 단 가 대 비 표
A2: [ 2026년고성능임업기계장비 장비고 신축공사 ]
A3: 코 드 | B3: 품 명 | C3: 규격 | D3: 단위 | E3: 재 료 비 | P3: 노 무 비 | Q3: 경 비 | W3: 번 호 | X3: 비 고 | Y3: 품목구분 | Z3: 노임구분 | AA3: 소수점처리 | AB3: 자재구분
E4: 조달청가격 | F4: PAGE | G4: 거래가격 | H4: PAGE | I4: 유통물가 | J4: PAGE | K4: 조사가격1 | L4: PAGE | M4: 조사가격2 | N4: PAGE | O4: 적용단가 | Q4: 조달청가격 | R4: 거래가격 | S4: 유통물가 | T4: 조사가격1 | U4: 조사가격2 | V4: 적용단가
A5: 5EB3D50CD26DF040176BFDEB16AAEB79B93C6A | B5: 굴착기(무한궤도) | C5: 0.2㎥ | D5: 대 | E5: 0 | G5: 0 | I5: 0 | K5: 0 | M5: 0 | O5: 0 | P5: 0 | Q5: 0 | R5: 0 | S5: 0 | T5: 0 | U5: 66538 | V5: =SMALL(Q5:U5,COUNTIF(Q5:U5,0)+1) -> 66538 | W5: 자재 1 | X5: 천원
A6: 5EB3D50CD26DF040176BFDEB16AF6DB4219031 | B6: 굴착기(무한궤도) | C6: 0.7㎥ | D6: 대 | E6: 0 | G6: 0 | I6: 0 | K6: 0 | M6: 0 | O6: 0 | P6: 0 | Q6: 0 | R6: 0 | S6: 0 | T6: 0 | U6: 117766 | V6: =SMALL(Q6:U6,COUNTIF(Q6:U6,0)+1) -> 117766 | W6: 자재 2 | X6: 천원
A7: 5EB3D50CD26DE7CA17D0826E1EBA0C5738F816 | B7: 진동롤러(핸드가이드식) | C7: 0.7ton | D7: 대 | E7: 0 | G7: 0 | I7: 0 | K7: 0 | M7: 0 | O7: 0 | P7: 0 | Q7: 0 | R7: 0 | S7: 0 | T7: 0 | U7: 6966 | V7: =SMALL(Q7:U7,COUNTIF(Q7:U7,0)+1) -> 6966 | W7: 자재 3 | X7: 천원
A8: 5EB3D50CD26DD5851776E61B19655F16605838 | B8: 크레인(타이어) | C8: 10ton | D8: 대 | E8: 0 | G8: 0 | I8: 0 | K8: 0 | M8: 0 | O8: 0 | P8: 0 | Q8: 0 | R8: 0 | S8: 0 | T8: 0 | U8: 136400 | V8: =SMALL(Q8:U8,COUNTIF(Q8:U8,0)+1) -> 136400 | W8: 자재 4 | X8: 천원
A9: 5EB3D50CD26DD5851776E61B1961E4CD0FA115 | B9: 크레인(타이어) | C9: 50ton | D9: 대 | E9: 0 | G9: 0 | I9: 0 | K9: 0 | M9: 0 | O9: 0 | P9: 0 | Q9: 0 | R9: 0 | S9: 0 | T9: 0 | U9: 520694 | V9: =SMALL(Q9:U9,COUNTIF(Q9:U9,0)+1) -> 520694 | W9: 자재 5 | X9: 천원
A10: 5EB3D50CD26DD5851776F08213B79B400B5A66 | B10: 트럭탑재형 크레인 | C10: 10ton | D10: 대 | E10: 0 | G10: 0 | I10: 0 | K10: 0 | M10: 0 | O10: 0 | P10: 0 | Q10: 0 | R10: 0 | S10: 0 | T10: 0 | U10: 91593 | V10: =SMALL(Q10:U10,COUNTIF(Q10:U10,0)+1) -> 91593 | W10: 자재 6 | X10: 천원
A11: 5EB3D50CD26DD5851776CB4E142E6B301D309D | B11: 고소작업차 | C11: 5ton | D11: 대 | E11: 0 | G11: 0 | I11: 0 | K11: 0 | M11: 0 | O11: 0 | P11: 0 | Q11: 0 | R11: 0 | S11: 0 | T11: 0 | U11: 140857 | V11: =SMALL(Q11:U11,COUNTIF(Q11:U11,0)+1) -> 140857 | W11: 자재 7 | X11: 천원
A12: 5EB3D50CD26DD5EE17057F6710215F97650013 | B12: 트럭 트랙터 및 평판트레일러 | C12: 20ton | D12: 대 | E12: 0 | G12: 0 | I12: 0 | K12: 0 | M12: 0 | O12: 0 | P12: 0 | Q12: 0 | R12: 0 | S12: 0 | T12: 0 | U12: 67216 | V12: =SMALL(Q12:U12,COUNTIF(Q12:U12,0)+1) -> 67216 | W12: 자재 8 | X12: 천원
A13: 5EB3D50CD26DBAE51779DA16195427FC9E7872 | B13: 콘크리트 펌프차 | C13: 32m(80∼95㎥/hr) | D13: 대 | E13: 0 | G13: 0 | I13: 0 | K13: 0 | M13: 0 | O13: 0 | P13: 0 | Q13: 0 | R13: 0 | S13: 0 | T13: 0 | U13: 275000 | V13: =SMALL(Q13:U13,COUNTIF(Q13:U13,0)+1) -> 275000 | W13: 자재 9 | X13: 천원
A14: 5EA165639E6F14C4173A86F110647457789192 | B14: 철강설 | C14: 철강설, 고철, 작업설부산물 | D14: TON | E14: 251750 | G14: 365000 | H14: 1472 | I14: 438000 | J14: 1198 | K14: 0 | M14: 0 | O14: =SMALL(E14:M14,COUNTIF(E14:M14,0)+1) -> 251750 | P14: 0 | Q14: 0 | R14: 0 | S14: 0 | T14: 0 | U14: 0 | V14: 0 | W14: 자재 10 | X14: 수집상차도
A15: 5EA165639E6F14C4173A86F110647457789191 | B15: 철강설 | C15: 철강설, 고철, 작업설부산물 | D15: kg | E15: 251 | G15: 365 | H15: 1472 | I15: 438 | J15: 1198 | K15: 0 | M15: 0 | O15: =SMALL(E15:M15,COUNTIF(E15:M15,0)+1) -> 251 | P15: 0 | Q15: 0 | R15: 0 | S15: 0 | T15: 0 | U15: 0 | V15: 0 | W15: 자재 11 | X15: 수집상차도
A16: 5EA1555D48699CB1173EA70417573041A34F8D | B16: 산소가스 | C16: 산소가스, 기체(㎥) | D16: M3 | E16: 0 | G16: 4375 | H16: 1451 | I16: 3333.33 | J16: 1190 | K16: 0 | M16: 0 | O16: =SMALL(E16:M16,COUNTIF(E16:M16,0)+1) -> 3333.33 | P16: 0 | Q16: 0 | R16: 0 | S16: 0 | T16: 0 | U16: 0 | V16: 0 | W16: 자재 12 | X16: 대기압상태기준
A17: 5EA145B4146EE88B1799AF4C1D4FA2CD7868DA | B17: 폴리에틸렌필름 | C17: 폴리에틸렌필름, 두께, 0.03mm | D17: M2 | E17: 182 | G17: 183.91 | H17: 1460 | I17: 240.07 | J17: 1182 | K17: 0 | M17: 0 | O17: =SMALL(E17:M17,COUNTIF(E17:M17,0)+1) -> 182 | P17: 0 | Q17: 0 | R17: 0 | S17: 0 | T17: 0 | U17: 0 | V17: 0 | W17: 자재 13
A18: 5EA12589EE698A251748AEB118522186FFE81B | B18: 경유 | C18: 경유, 저유황 | D18: L | E18: 0 | G18: 1839.09 | H18: 1451 | I18: 1822.72 | J18: 1189 | K18: 0 | M18: 0 | O18: =SMALL(E18:M18,COUNTIF(E18:M18,0)+1) -> 1822.72 | P18: 0 | Q18: 0 | R18: 0 | S18: 0 | T18: 0 | U18: 0 | V18: 0 | W18: 자재 14
A19: 5EA12589EF6A143A17CFE4D01213221280A809 | B19: 액화석유가스 | C19: 액화석유가스, 건설용 LPG | D19: kg | E19: 2076 | G19: 0 | I19: 0 | K19: 0 | M19: 0 | O19: =SMALL(E19:M19,COUNTIF(E19:M19,0)+1) -> 2076 | P19: 0 | Q19: 0 | R19: 0 | S19: 0 | T19: 0 | U19: 0 | V19: 0 | W19: 자재 15
A20: 5E8695AC4B60C66E174A9D931ADCE5BFF24121 | B20: ㄱ형강 | C20: ㄱ형강, 등변, 50*50*5mm | D20: kg | E20: 940 | G20: 0 | I20: 1100 | J20: 21 | K20: 0 | M20: 0 | O20: =SMALL(E20:M20,COUNTIF(E20:M20,0)+1) -> 940 | P20: 0 | Q20: 0 | R20: 0 | S20: 0 | T20: 0 | U20: 0 | V20: 0 | W20: 자재 16
A21: 5E8695AC4B60C65D17DB829D1A55135FF865E7 | B21: 일반봉강 | C21: 일반봉강, SS400, ∮16mm | D21: kg | E21: 0 | G21: 1080 | H21: 50 | I21: 1036 | J21: 18 | K21: 0 | M21: 0 | O21: =SMALL(E21:M21,COUNTIF(E21:M21,0)+1) -> 1036 | P21: 0 | Q21: 0 | R21: 0 | S21: 0 | T21: 0 | U21: 0 | V21: 0 | W21: 자재 17
A22: 5E8695AC4B60C65D17DB829D1A55135FF86A62 | B22: 일반봉강 | C22: 일반봉강, SS400, ∮25mm | D22: kg | E22: 0 | G22: 1080 | H22: 50 | I22: 1036 | J22: 18 | K22: 0 | M22: 0 | O22: =SMALL(E22:M22,COUNTIF(E22:M22,0)+1) -> 1036 | P22: 0 | Q22: 0 | R22: 0 | S22: 0 | T22: 0 | U22: 0 | V22: 0 | W22: 자재 18
A23: 5E8695AC4B60C65D17C9C29A1F58F04C01EA04 | B23: 철근콘크리트용봉강(관급) | C23: 철근콘크리트용봉강, 이형봉강(SD400), HD-16 | D23: TON | E23: 822800 | G23: 0 | I23: 0 | K23: 0 | M23: 0 | O23: =SMALL(E23:M23,COUNTIF(E23:M23,0)+1) -> 822800 | P23: 0 | Q23: 0 | R23: 0 | S23: 0 | T23: 0 | U23: 0 | V23: 0 | W23: 자재 19 | X23: 별도
A24: 5E8695AC4B60C65D17C9C29A1F58F04C01EA02 | B24: 철근콘크리트용봉강(관급) | C24: 철근콘크리트용봉강, 이형봉강(SD400), HD-22 | D24: TON | E24: 822800 | G24: 0 | I24: 0 | K24: 0 | M24: 0 | O24: =SMALL(E24:M24,COUNTIF(E24:M24,0)+1) -> 822800 | P24: 0 | Q24: 0 | R24: 0 | S24: 0 | T24: 0 | U24: 0 | V24: 0 | W24: 자재 20 | X24: 별도
A25: 5E8695AC4B60C6431771D70A1F55CA0CC14DD3 | B25: 보조강재 | C25: 대강 | D25: kg | E25: 0 | G25: 1080 | H25: 53 | I25: 0 | K25: 0 | M25: 0 | O25: =SMALL(E25:M25,COUNTIF(E25:M25,0)+1) -> 1080 | P25: 0 | Q25: 0 | R25: 0 | S25: 0 | T25: 0 | U25: 0 | V25: 0 | W25: 자재 21
A26: 5E8695AC4B60C6431771D70A1E4EDA63920957 | B26: H형강 | C26: SHN275, 194*150*6*9mm, 현장도착도 | D26: TON | E26: 0 | G26: 0 | I26: 1240000 | J26: 19 | K26: 0 | M26: 0 | O26: =SMALL(E26:M26,COUNTIF(E26:M26,0)+1) -> 1240000 | P26: 0 | Q26: 0 | R26: 0 | S26: 0 | T26: 0 | U26: 0 | V26: 0 | W26: 자재 22 | X26: 30.6kg/m
A27: 5E8695AC4B60C6431771D70A1E4EDA63920956 | B27: H형강 | C27: SHN275, 200*200*8*12mm, 현장도착도 | D27: TON | E27: 0 | G27: 1250000 | H27: 56 | I27: 1240000 | J27: 19 | K27: 0 | M27: 0 | O27: =SMALL(E27:M27,COUNTIF(E27:M27,0)+1) -> 1240000 | P27: 0 | Q27: 0 | R27: 0 | S27: 0 | T27: 0 | U27: 0 | V27: 0 | W27: 자재 23 | X27: 49.9kg/m
A28: 5E8695AC4B60C6431771D70A1E4EDA63920B0F | B28: H형강 | C28: SHN275, 300*150*6.5*9mm, 현장도착도 | D28: TON | E28: 0 | G28: 1250000 | H28: 56 | I28: 1240000 | J28: 19 | K28: 0 | M28: 0 | O28: =SMALL(E28:M28,COUNTIF(E28:M28,0)+1) -> 1240000 | P28: 0 | Q28: 0 | R28: 0 | S28: 0 | T28: 0 | U28: 0 | V28: 0 | W28: 자재 24 | X28: 36.7kg/m
A29: 5E8695AC4B60C6431771D70A1E4EDA63920B09 | B29: H형강 | C29: SHN275, 298*201*9*14mm, 현장도착도 | D29: TON | E29: 0 | G29: 1250000 | H29: 56 | I29: 1240000 | J29: 19 | K29: 0 | M29: 0 | O29: =SMALL(E29:M29,COUNTIF(E29:M29,0)+1) -> 1240000 | P29: 0 | Q29: 0 | R29: 0 | S29: 0 | T29: 0 | U29: 0 | V29: 0 | W29: 자재 25 | X29: 65.4kg/m
A30: 5E8695AC4B60C6431771D70A1E4EDA63920B0A | B30: H형강 | C30: SHN275, 300*300*10*15mm, 현장도착도 | D30: TON | E30: 0 | G30: 1250000 | H30: 56 | I30: 1240000 | J30: 19 | K30: 0 | M30: 0 | O30: =SMALL(E30:M30,COUNTIF(E30:M30,0)+1) -> 1240000 | P30: 0 | Q30: 0 | R30: 0 | S30: 0 | T30: 0 | U30: 0 | V30: 0 | W30: 자재 26 | X30: 94.0kg/m
A31: 5E8695AC4B60C6431771D70A1E4EDA63920D39 | B31: H형강 | C31: SHN275, 400*200*8*13mm, 현장도착도 | D31: TON | E31: 0 | G31: 1250000 | H31: 56 | I31: 1240000 | J31: 19 | K31: 0 | M31: 0 | O31: =SMALL(E31:M31,COUNTIF(E31:M31,0)+1) -> 1240000 | P31: 0 | Q31: 0 | R31: 0 | S31: 0 | T31: 0 | U31: 0 | V31: 0 | W31: 자재 27 | X31: 66.0kg/m
A32: 5E8695AC4B60C6431771D70A1E4EDA63920C1B | B32: H형강 | C32: SHN275, 450*200*9*14mm, 현장도착도 | D32: TON | E32: 0 | G32: 1250000 | H32: 56 | I32: 1240000 | J32: 19 | K32: 0 | M32: 0 | O32: =SMALL(E32:M32,COUNTIF(E32:M32,0)+1) -> 1240000 | P32: 0 | Q32: 0 | R32: 0 | S32: 0 | T32: 0 | U32: 0 | V32: 0 | W32: 자재 28 | X32: 76.0kg/m
A33: 5E8695AC4B60C6431771D70A1E4EDA63920FEA | B33: H형강 | C33: SHN275, 500*200*10*16mm, 현장도착도 | D33: TON | E33: 0 | G33: 1250000 | H33: 56 | I33: 1240000 | J33: 19 | K33: 0 | M33: 0 | O33: =SMALL(E33:M33,COUNTIF(E33:M33,0)+1) -> 1240000 | P33: 0 | Q33: 0 | R33: 0 | S33: 0 | T33: 0 | U33: 0 | V33: 0 | W33: 자재 29 | X33: 89.6kg/m
A34: 5E8695AC4B60C6431771D70A1E4EDA63920FEC | B34: H형강 | C34: SHN275, 482*300*11*15mm, 현장도착도 | D34: TON | E34: 0 | G34: 1250000 | H34: 56 | I34: 1240000 | J34: 19 | K34: 0 | M34: 0 | O34: =SMALL(E34:M34,COUNTIF(E34:M34,0)+1) -> 1240000 | P34: 0 | Q34: 0 | R34: 0 | S34: 0 | T34: 0 | U34: 0 | V34: 0 | W34: 자재 30 | X34: 114.0kg/m
A35: 5E8695AC4B60C6431771D70A1E4EDA6392010D | B35: T형강 | C35: SHN275, 200*200*8*13mm, 현장도착도 | D35: TON | E35: 0 | G35: 1250000 | H35: 56 | I35: 1240000 | J35: 19 | K35: 0 | M35: 0 | O35: =SMALL(E35:M35,COUNTIF(E35:M35,0)+1) -> 1240000 | P35: 0 | Q35: 0 | R35: 0 | S35: 0 | T35: 0 | U35: 0 | V35: 0 | W35: 자재 31 | X35: 66.0kg/m
A36: 5E8695AC4B60C6431771D73613190E06E9F19F | B36: 경량형강 | C36: 경량형강, 칼라C형강, 150*50*20, t3.2 | D36: TON | E36: 1020000 | G36: 1100000 | H36: 58 | I36: 1097000 | J36: 24 | K36: 0 | M36: 0 | O36: =SMALL(E36:M36,COUNTIF(E36:M36,0)+1) -> 1020000 | P36: 0 | Q36: 0 | R36: 0 | S36: 0 | T36: 0 | U36: 0 | V36: 0 | W36: 자재 32
A37: 5E8695AC4B60F35C171D77BA1F94D2202F0F8A | B37: 일반구조용압연강판 | C37: 일반구조용압연강판, t=7.0mm | D37: kg | E37: 0 | G37: 1193.5 | H37: 62 | I37: 0 | K37: 0 | M37: 0 | O37: =SMALL(E37:M37,COUNTIF(E37:M37,0)+1) -> 1193.5 | P37: 0 | Q37: 0 | R37: 0 | S37: 0 | T37: 0 | U37: 0 | V37: 0 | W37: 자재 33
A38: 5E8695AC4B60F35C171D77BA1F94D2202F096A | B38: 일반구조용압연강판 | C38: 일반구조용압연강판, 9.0mm | D38: kg | E38: 0 | G38: 1130.6 | H38: 62 | I38: 0 | K38: 0 | M38: 0 | O38: =SMALL(E38:M38,COUNTIF(E38:M38,0)+1) -> 1130.6 | P38: 0 | Q38: 0 | R38: 0 | S38: 0 | T38: 0 | U38: 0 | V38: 0 | W38: 자재 34
A39: 5E8695AC4B60F35C171D77BA1F94D2202F085E | B39: 일반구조용압연강판 | C39: 일반구조용압연강판, 10.0mm | D39: kg | E39: 0 | G39: 1083.5 | H39: 62 | I39: 0 | K39: 0 | M39: 0 | O39: =SMALL(E39:M39,COUNTIF(E39:M39,0)+1) -> 1083.5 | P39: 0 | Q39: 0 | R39: 0 | S39: 0 | T39: 0 | U39: 0 | V39: 0 | W39: 자재 35
A40: 5E8695AC4B60F35C171D77BA1F94D2202F085F | B40: 일반구조용압연강판 | C40: 일반구조용압연강판, 11.0mm | D40: kg | E40: 0 | G40: 1083.5 | H40: 62 | I40: 0 | K40: 0 | M40: 0 | O40: =SMALL(E40:M40,COUNTIF(E40:M40,0)+1) -> 1083.5 | P40: 0 | Q40: 0 | R40: 0 | S40: 0 | T40: 0 | U40: 0 | V40: 0 | W40: 자재 36
...

Sheet 자재소요량집계표
A1: 자 재 소 요 량 집 계 표
A2: [ 2026년고성능임업기계장비 장비고 신축공사 ]
A3: 코 드 | B3: 품 명 | C3: 규 격 | D3: 단위 | E3: 수 량 | F3: 단 가 | G3: 금 액 | H3: 번 호 | I3: 비 고
A4: ☞ 철근 - 관급, 별도
A5: 3010161920169933 | B5: 철근콘크리트용봉강(관급) | C5: 철근콘크리트용봉강, 이형봉강(SD400), HD-16 | D5: TON | E5: 3.4226 | F5: 822800 | G5: 2816115 | H5: 자재 19 | I5: 별도
A6: 3010161920169935 | B6: 철근콘크리트용봉강(관급) | C6: 철근콘크리트용봉강, 이형봉강(SD400), HD-22 | D6: TON | E6: 52.804 | F6: 822800 | G6: 43447131 | H6: 자재 20 | I6: 별도
B7: 소 계 | G7: 46263246
A8: ☞ 일반 봉강
A9: 3010160420286276 | B9: 일반봉강 | C9: 일반봉강, SS400, ∮16mm | D9: kg | E9: 115.47 | F9: 1036 | G9: 119626 | H9: 자재 17
A10: 3010160420286281 | B10: 일반봉강 | C10: 일반봉강, SS400, ∮25mm | D10: kg | E10: 656.5 | F10: 1036 | G10: 680134 | H10: 자재 18
B11: 소 계 | G11: 799760
A12: 기타류
A13: 3010170410061001 | B13: 보조강재 | C13: 대강 | D13: kg | E13: 84.628 | F13: 1080 | G13: 91398 | H13: 자재 21
B14: 소 계 | G14: 91398
A15: ☞ H형강 - SS275(현장도착도)
A16: 3010170411000008 | B16: H형강 | C16: SHN275, 194*150*6*9mm, 현장도착도 | D16: TON | E16: 1.375 | F16: 1240000 | G16: 1705000 | H16: 자재 22 | I16: 30.6kg/m
A17: 3010170411000009 | B17: H형강 | C17: SHN275, 200*200*8*12mm, 현장도착도 | D17: TON | E17: 0.246 | F17: 1240000 | G17: 305040 | H17: 자재 23 | I17: 49.9kg/m
A18: 3010170411000022 | B18: H형강 | C18: SHN275, 300*150*6.5*9mm, 현장도착도 | D18: TON | E18: 7.084 | F18: 1240000 | G18: 8784160 | H18: 자재 24 | I18: 36.7kg/m
A19: 3010170411000024 | B19: H형강 | C19: SHN275, 298*201*9*14mm, 현장도착도 | D19: TON | E19: 3.918 | F19: 1240000 | G19: 4858320 | H19: 자재 25 | I19: 65.4kg/m
A20: 3010170411000027 | B20: H형강 | C20: SHN275, 300*300*10*15mm, 현장도착도 | D20: TON | E20: 4.828 | F20: 1240000 | G20: 5986720 | H20: 자재 26 | I20: 94.0kg/m
A21: 3010170411000043 | B21: H형강 | C21: SHN275, 400*200*8*13mm, 현장도착도 | D21: TON | E21: 5.583 | F21: 1240000 | G21: 6922920 | H21: 자재 27 | I21: 66.0kg/m
A22: 3010170411000058 | B22: H형강 | C22: SHN275, 450*200*9*14mm, 현장도착도 | D22: TON | E22: 1.366 | F22: 1240000 | G22: 1693840 | H22: 자재 28 | I22: 76.0kg/m
A23: 3010170411000062 | B23: H형강 | C23: SHN275, 500*200*10*16mm, 현장도착도 | D23: TON | E23: 3.164 | F23: 1240000 | G23: 3923360 | H23: 자재 29 | I23: 89.6kg/m
A24: 3010170411000064 | B24: H형강 | C24: SHN275, 482*300*11*15mm, 현장도착도 | D24: TON | E24: 9.758 | F24: 1240000 | G24: 12099920 | H24: 자재 30 | I24: 114.0kg/m
A25: 3010170411000084 | B25: T형강 | C25: SHN275, 200*200*8*13mm, 현장도착도 | D25: TON | E25: 0.113 | F25: 1240000 | G25: 140120 | H25: 자재 31 | I25: 66.0kg/m
B26: 소 계 | G26: 46419400
A27: ☞ 등변(소형)
A28: 3010150420288699 | B28: ㄱ형강 | C28: ㄱ형강, 등변, 50*50*5mm | D28: kg | E28: 1119 | F28: 940 | G28: 1051860 | H28: 자재 16
B29: 소 계 | G29: 1051860
A30: ☞ 칼라
A31: 3010170420289522 | B31: 경량형강 | C31: 경량형강, 칼라C형강, 150*50*20, t3.2 | D31: TON | E31: 3.571 | F31: 1020000 | G31: 3642420 | H31: 자재 32
B32: 소 계 | G32: 3642420
A33: ☞ 후판(kg)
A34: 3010220420969821 | B34: 일반구조용압연강판 | C34: 일반구조용압연강판, t=7.0mm | D34: kg | E34: 127.66 | F34: 1193 | G34: 152298 | H34: 자재 33
A35: 3010220420969849 | B35: 일반구조용압연강판 | C35: 일반구조용압연강판, 9.0mm | D35: kg | E35: 2543.55 | F35: 1130 | G35: 2874211 | H35: 자재 34
A36: 3010220420969852 | B36: 일반구조용압연강판 | C36: 일반구조용압연강판, 10.0mm | D36: kg | E36: 150.16 | F36: 1083 | G36: 162623 | H36: 자재 35
A37: 3010220420969853 | B37: 일반구조용압연강판 | C37: 일반구조용압연강판, 11.0mm | D37: kg | E37: 157.07 | F37: 1083 | G37: 170106 | H37: 자재 36
A38: 3010220420969854 | B38: 일반구조용압연강판 | C38: 일반구조용압연강판, 14.0mm | D38: kg | E38: 81.24 | F38: 1080 | G38: 87739 | H38: 자재 37
A39: 3010220420969858 | B39: 일반구조용압연강판 | C39: 일반구조용압연강판, 12.0mm | D39: kg | E39: 1068.86 | F39: 1083 | G39: 1157575 | H39: 자재 38
A40: 3010220420969859 | B40: 일반구조용압연강판 | C40: 일반구조용압연강판, 16.0mm | D40: kg | E40: 1536.73 | F40: 1083 | G40: 1664278 | H40: 자재 39
...

Sheet  공사설정 
A1: 이 Sheet는 수정하지 마십시요
A2: 공사구분 | B2: A | C2: 타이틀
A3: 확정내역 | B3: 원내역
A4: 자재단가적용 | B4: 5
A5: 경비단가적용 | B5: 5
A6: 품목코드형식 | B6: XXXX-XXXXXXXXXXXXX
A7: 내역금액소수점처리 | B7: C | C7: 1
A8: 일위대가내역소수점처리 | B8: C | C8: 2
A9: 단가명 | B9: 조달청가격 | C9: 거래가격 | D9: 유통물가 | E9: 조사가격1 | F9: 조사가격2 | G9: TTTTT
A10: 환율 | B10: 0 | C10: 0 | D10: 0
A11: 시간당작업량 | B11: R | C11: 4
A12: 1회 사이클시간 | B12: R | C12: 4
A13: 시간당 작업사이클 | B13: R | C13: 3
A14: 일반변수 | B14: C | C14: 5
A15: 시간당 노임산출 계수 | B15: A | C15: 1/8*16/12*25/20 | D15: 1/8*16/12*25/20 | E15: 1/8*16/12*25/20 | F15: 1
A16: 재료비 할증 계수 | B16: 0 | C16: 0
A17: 노무비 할증 계수 | B17: 0 | C17: 0 | D17: 0 | E17: 0 | F17: 0 | G17: 0 | H17: 0 | I17: 0 | J17: 0 | K17: 0 | L17: 0 | M17: 0
A18: 경비 할증 계수 | B18: 0 | C18: 0
A19: 내역,일위대가 품명,규격,단위 따로적용
A20: 내역단가 소수점처리 | C20: 1
A21: 코드 | B21: 공종구분명 | C21: 원가비목코드
A22: 1 | B22: 작 업 부 산 물 | C22: A3
A23: 2 | B23: 운 반 비 | C23: C1
A24: 3 | B24: 관 급 자 재 비 | C24: DJ
A25: 4 | B25: 사 급 자 재 비 | C25: D3
A26: 5 | B26: 외 자 재
A27: 6 | B27: 폐기물처리비 | C27: 폐
A28: 7 | B28: ...
A29: 8 | B29: ...
A30: 9 | B30: ...
A43: 단가 순서 | B43: 1234

Sheet Sheet1
