Workbook

Sheet 갑지
A4: 2026년도
A9: 안양 일차침전지 지배수펌프 신규 설치공사

Sheet 설계서
A1: 설 계 서 용 지
I3: 2026년 9월 일 설계
A5: 2026년도
A7: =갑지!A9 -> 안양 일차침전지 지배수펌프 신규 설치공사
C9: 위 치 : | D9: 경기도 안양시 만안구 석천로 1(안양광역공공하수처리시설 내)
C10: 공 사 개 요 : | D10: 안양 일차침전지 지배수펌프 신규 설치공사 - 1식
C12: 총 공 사 비 : | D12: 157850000 | E12: =D12 -> 157850000
C13: 공 급 가 액 : | D13: 107900000 | E13: =D13 -> 107900000
C14: 부가가치세 : | D14: 10790000 | E14: =D14 -> 10790000
C15: 관 급 자 재 : | D15: 39160000 | E15: =D15 -> 39160000

Sheet 공정표
A2: 공사예정공정표
A4: ="[공사명] : "&설계서!A7 -> [공사명] : 안양 일차침전지 지배수펌프 신규 설치공사 | AK4: 60
A5: 공 정(일) 공 종
F6: 1 | G6: 3 | H6: 5 | I6: 7 | J6: 9 | K6: 11 | L6: 13 | M6: 15 | N6: 17 | O6: 19 | P6: 21 | Q6: 23 | R6: 25 | S6: 27 | T6: 29 | U6: 31 | V6: 33 | W6: 35 | X6: 37 | Y6: 39 | Z6: 41 | AA6: 43 | AB6: 45 | AC6: 47 | AD6: 49 | AE6: 51 | AF6: 53 | AG6: 55 | AH6: 57 | AI6: 59 | AJ6: 60 | AK6: 비고
A8: 현장조사 및 서류제출
A9: 펌프 및 자재 발주/입고
A10: 펌프 설치
A11: 배관 및 비계 설치
A12: 비계 해체
A13: 가동 및 누수 테스트
A14: 준공 및 현장정리
A15: 비 고 | F15: * 현장작업 여건에 따라 공정이 변할수 있음

Sheet 설계설명서
A1: 설 계 설 명 서
A3: 1. 공 사 명 : | B3: =설계서!A7 -> 안양 일차침전지 지배수펌프 신규 설치공사
A5: 2. 공사기간 : | B5: 착공일로부터 60일간
A7: 3. 위 치 : | B7: =설계서!D9 -> 경기도 안양시 만안구 석천로 1(안양광역공공하수처리시설 내)
A9: 4. 목 적 : | B9: 안양광역공공하수처리시설 일차침전지 지배수펌프 신규 설치를 통해 원활한 지배수 작업으로 신속한 유지보수 실시 및
B10: 일차침전지 설비를 안정적으로 운영하고자 함
A12: 5. 공사개요 : | B12: 지배수펌프 설치 - 2대분
B13: ▶ 관급자재 구매 (지배수 펌프 2대) - 1식
B14: ▶ 배관 및 비계공사 - 1식
B15: ▶ 시운전 및 현장 정리 작업
A17: 6. 본 공사는 설계도서(도면, 시방서, 설계설명서)에 따라 시공하여야 하며 본서로 현장설명서를 갈음한다.
A19: 7. 설계변경 조건
A20: 1) 본 공사의 현장조건이 설계도서와 현저한 차이가 있어 감독청의 변경이 필요하다고 인정할 때
A21: 2) 품셈적용 및 단가적용 등에 착오가 있어 과다적용 되었을 때
A22: 3) 기타 감독관이 필요하다고 판단할때 및 감독청의 설계변경 요구가 있을 때
A24: 8. 공사기간의 연기
A25: 1) 천재지변으로 절대공기가 부족하다고 감독청이 인정한때
A26: 2) 설계변경 사유로 공사중지를 감독청에서 지시하였을 때
A27: 3) 공사 지체 사유가 감독청에 있을 때
A28: 4) 기타 감독청이 필요하다고 인정한 때
A30: 9. 시방 및 일반사항
A31: 1) 별도 시방서가 작성되지 아니하였을때는 본서를 시방서로 갈음한다.
... A37: 6) 본 설명서 내용에 이견이 발생 시에는 감독청의 해석에 따른다.

Sheet 공사원가계산서
A1: 공사원가계산서
A2: ="[공사명] : "&설계서!A7 -> [공사명] : 안양 일차침전지 지배수펌프 신규 설치공사 | E2: 60
A3: 구 분 비 목 | D3: 금액 | E3: 구성비(%) | F3: 비고
A4: 순 공 사 원 가 | B4: 재 료 비 | C4: 직접재료비 | D4: =INT(내역서!G47) -> 0 | E4: =(D4/$D$34) -> 0
C5: 간접재료비
C6: 작업설, 부산물등(△)
C7: 소 계 | D7: =INT(D4+D5+D6) -> 0
B8: 노 무 비 | C8: 직접노무비 | D8: =INT(내역서!I47) -> 0 | E8: =(D8/$D$34) -> 0
C9: 간접노무비 | D9: =INT(D8*G9%) -> 0 | E9: =(D9/$D$34) -> 0 | F9: 직접노무비의 17.5% | G9: 17.5
C10: 소 계 | D10: =INT(D8+D9) -> 0
B11: 경 비 | C11: 전력비
C12: 운반비
C13: 기계경비 | D13: =INT(내역서!K47) -> 0 | E13: =(D13/$D$34) -> 0
C14: 산재보험료 | D14: =INT(D10*G14%) -> 0 | E14: =(D14/$D$34) -> 0 | F14: 노무비의 3.56% | G14: 3.56
C15: 고용보험료 | D15: =INT(D10*G15%) -> 0 | E15: =(D15/$D$34) -> 0 | F15: 노무비의 1.01% | G15: 1.01
C16: 퇴직공제부금비 | D16: =INT((D8)*G16%) -> 0 | E16: =(D16/$D$34) -> 0 | F16: (직접노무비)의2.3% | G16: 2.3
C17: 건강보험료 | D17: =INT((D8)*G17%) -> 0 | E17: =(D17/$D$34) -> 0 | F17: (직접노무비)의3.595% | G17: 3.595
C18: 연금보험료 | D18: =INT((D8)*G18%) -> 0 | E18: =(D18/$D$34) -> 0 | F18: (직접노무비)의4.75% | G18: 4.75
C19: 노인장기요양보험료 | D19: =INT((D17)*G19%) -> 0 | E19: =(D19/$D$34) -> 0 | F19: (건강보험료)의13.14% | G19: 13.14
C20: 공사이행보증 수수료
C21: 산업안전관리비 | D21: =INT((D7+D8)*G21%*1.2) -> 0 | E21: =(D21/$D$34) -> 0 | F21: (재료비+직접노무비)X3.11%X1.2(적용) | G21: 3.11
D22: =INT((D7+D8+내역서!E51)*G21%) -> 0 | F22: (재료비+직접노무비+도급자관급)X3.11%
C23: 환경보전비 | D23: =INT((D4+D8+D13)*G23%) -> 0 | E23: =(D23/$D$34) -> 0 | F23: 직접공사비의 0.50% | G23: 0.5
C24: 석면분담금 | D24: =INT(D10*G24%) -> 0 | E24: =(D24/$D$34) -> 0 | F24: 노무비의 0.006% | G24: 0.006
C25: 임금채권부담금 | D25: =INT(D10*G25%) -> 0 | E25: =(D25/$D$34) -> 0 | F25: 노무비의 0.09% | G25: 0.09
C26: 기타경비 | D26: =INT((D7+D10)*G26%) -> 0 | E26: =(D26/$D$34) -> 0 | F26: (노무비+재료비)의 5% | G26: 5
C27: 소 계 | D27: =INT(SUM(D11:D26))-D22 -> 0
A28: 일 반 관 리 비 | D28: =INT((D7+D10+D27)*G28%) -> 0 | E28: =(D28/$D$34) -> 0 | F28: (노무비+재료비+경비)의 8.0% | G28: 8
A29: 이 윤 | D29: =INT((D10+D27+D28)*G29%)-47950 -> -47950 | E29: =(D29/$D$34) -> 0.90909091 | F29: (노무비+경비+일반관리비)의 14% | G29: 14
A30: 총 원 가 | D30: =D7+D10+D27+D28+D29 -> -47950
A31: 부 가 세 | D31: =(D30*0.1) -> -4795 | E31: =(D31/$D$34) -> 0.090909091
A32: 도 급 예 정 액 | D32: =INT(D30+D31) -> -52745
A33: 관 급 자 재 | D33: =내역서!E51 -> 0 | E33: =(D33/$D$34) -> 0
A34: 총 공 사 비 | D34: =INT(D32+D33) -> -52745 | E34: =(D34/$D$34) -> 1

Sheet 내역서
A1: 내 역 서
A2: =공정표!A4 -> [공사명] : 안양 일차침전지 지배수펌프 신규 설치공사
A3: 품 목 | B3: 규 격 | C3: 단 위 | D3: 수 량 | E3: 합 계 | F3: 재 료 비 | H3: 노 무 비 | J3: 경 비 | L3: 비 고
F4: 단 가 | G4: 금 액 | H4: 단 가 | I4: 금 액 | J4: 단 가 | K4: 금 액
A5: ■ 안양 일차침전지 지배수펌프 설치공사
A6: 1. 펌프 설치 | B6: 횡축 무폐쇄 나선형 200A × 150A 3.5㎥/min × 18m × 22㎾ | C6: 대 | D6: 2 | E6: =G6+I6+K6 -> 0 | I6: =H6*D6 -> 0
A7: 2. 펌프 베이스 | C7: 식 | D7: 2 | E7: =G7+I7+K7 -> 0 | G7: =D7*F7 -> 0 | I7: =D7*H7 -> 0 | L7: 견적가
A9: ■ 안양 일차침전지 지배수 배관 설치공사
A10: 1. 게이트 밸브(STS) | B10: 바깥나사, 150A | C10: EA | D10: 4 | E10: =G10+I10+K10 -> 0 | G10: =D10*F10 -> 0 | I10: =D10*H10 -> 0 | K10: =D10*J10 -> 0
A11: 2. 게이트 밸브(STS) | B11: 바깥나사, 50A | C11: EA | D11: 4 | E11: =G11+I11+K11 -> 0 | G11: =D11*F11 -> 0 | I11: =D11*H11 -> 0 | K11: =D11*J11 -> 0
A12: 3. 후렉시블조인트(STS) | B12: 150A | C12: EA | D12: 4 | E12: =G12+I12+K12 -> 0 | G12: =D12*F12 -> 0 | I12: =D12*H12 -> 0 | K12: =D12*J12 -> 0
A13: 4. 체크밸브(STS) | B13: 150A | C13: EA | D13: 2 | E13: =G13+I13+K13 -> 0 | G13: =D13*F13 -> 0 | I13: =D13*H13 -> 0 | K13: =D13*J13 -> 0
A14: 5. 플랜지(STS) | B14: 150A | C14: EA | D14: 24 | E14: =G14+I14+K14 -> 0 | G14: =D14*F14 -> 0
A15: 6. 플랜지(STS) | B15: 50A | C15: EA | D15: 8 | E15: =G15+I15+K15 -> 0 | G15: =D15*F15 -> 0
A16: 7. 배관(STS) | B16: 150A | C16: M | D16: 158 | E16: =G16+I16+K16 -> 0 | G16: =D16*F16 -> 0 | I16: =H16*D16 -> 0 | K16: =D16*J16 -> 0
A17: 8. 배관(STS) | B17: 50A | C17: M | D17: 30 | E17: =G17+I17+K17 -> 0 | G17: =D17*F17 -> 0 | I17: =H17*D17 -> 0 | K17: =D17*J17 -> 0
A18: 9. 엘보(STS) | B18: 150A | C18: EA | D18: 20 | E18: =G18+I18+K18 -> 0 | G18: =D18*F18 -> 0
A19: 10. 엘보(STS) | B19: 50A | C19: EA | D19: 6 | E19: =G19+I19+K19 -> 0 | G19: =D19*F19 -> 0
A20: 11. 티(STS) | B20: 150A | C20: EA | D20: 5 | E20: =G20+I20+K20 -> 0 | G20: =D20*F20 -> 0
A21: 12. 티(STS) | B21: 50A | C21: EA | D21: 2 | E21: =G21+I21+K21 -> 0 | G21: =D21*F21 -> 0
A22: 13. 볼트/너트(STS) | B22: M20 × 90L | C22: EA | D22: 192 | E22: =G22+I22+K22 -> 0 | G22: =D22*F22 -> 0
A23: 14. 볼트/너트(STS) | B23: M16 × 80L | C23: EA | D23: 32 | E23: =G23+I23+K23 -> 0 | G23: =D23*F23 -> 0
A24: 15. U볼트/너트(STS) | B24: STS 150A | C24: EA | D24: 55 | E24: =G24+I24+K24 -> 0 | G24: =D24*F24 -> 0
A25: 16. 기타 잡자재 | B25: 자재비의 2% | C25: % | D25: 2 | E25: =G25+I25+K25 -> 0 | G25: =SUM(G7:G24)*0.02 -> 0
A26: 17. 배관용접 | B26: STS 150A | C26: 개소 | D26: 100 | E26: =G26+I26+K26 -> 0 | I26: =D26*H26 -> 0 | K26: =D26*J26 -> 0
A27: 18. 배관용접 | B27: STS 50A | C27: 개소 | D27: 28 | E27: =G27+I27+K27 -> 0 | I27: =D27*H27 -> 0 | K27: =D27*J27 -> 0
A28: 19. 강관비계 임대(1개월)
A29: 1) 비계용 강관 | B29: 2m(Ø48.6mm × 2.3mm) | C29: EA | D29: 174 | E29: =G29+I29+K29 -> 0 | K29: =J29*D29 -> 0
A30: 2) 비계용 강관 | B30: 3m(Ø48.6mm × 2.3mm) | C30: EA | D30: 83 | E30: =G30+I30+K30 -> 0 | K30: =J30*D30 -> 0
A31: 3) 비계용 강관 | B31: 4m(Ø48.6mm × 2.3mm) | C31: EA | D31: 197 | E31: =G31+I31+K31 -> 0 | K31: =J31*D31 -> 0
A32: 4) 비계용 강관 | B32: 6m(Ø48.6mm × 2.3mm) | C32: EA | D32: 66 | E32: =G32+I32+K32 -> 0 | K32: =J32*D32 -> 0
A33: 5) 연결핀 | B33: Ø48.6mm | C33: EA | D33: 139 | E33: =G33+I33+K33 -> 0 | K33: =J33*D33 -> 0
A34: 6) 클램프 | B34: Ø48.6mm | C34: EA | D34: 666 | E34: =G34+I34+K34 -> 0 | K34: =J34*D34 -> 0
A35: 7) 안전발판 | B35: 400mm × 1,829mm | C35: EA | D35: 159 | E35: =G35+I35+K35 -> 0 | K35: =J35*D35 -> 0
A36: 8) 받침철물 | B36: 120mm × 120mm(t:6mm) | C36: EA | D36: 97 | E36: =G36+I36+K36 -> 0 | K36: =J36*D36 -> 0
A37: 9) 계단발판세트 | B37: 일체형 250mm × 914mm | C37: 장 | D37: 7 | E37: =G37+I37+K37 -> 0 | K37: =J37*D37 -> 0
A38: 10) 계단참 | B38: 500mm × 1,829mm | C38: 장 | D38: 10 | E38: =G38+I38+K38 -> 0 | K38: =J38*D38 -> 0
A39: 11) 그물망 | B39: 그물코 10㎝ 이하 | C39: ㎡ | D39: 28 | E39: =G39+I39+K39 -> 0 | K39: =J39*D39 -> 0 | L39: 구입가
A40: 20. 강관 비계 설치 및 해체 | B40: 쌍줄비계, H=10m 이하 | C40: ㎡ | D40: 76 | E40: =G40+I40+K40 -> 0 | I40: =D40*H40 -> 0 | K40: =D40*J40 -> 0
A41: 21. 수평비계 설치 및 해체 | B41: 수평비계, H=10m 이하 | C41: ㎥ | D41: 524 | E41: =G41+I41+K41 -> 0 | I41: =D41*H41 -> 0 | K41: =D41*J41 -> 0
...
