Workbook
Name _______________tt1: "tt1"
Name ______________tt1: "tt1"
Name _____________tt1: "tt1"
Name ____________tt1: "tt1"
Name ___________tt1: "tt1"
Name __________tt1: "tt1"
Name _________tt1: "tt1"
Name ________tt1: "tt1"
Name _______tt1: "tt1"
Name ______tt1: "tt1"
Name _____tt1: "tt1"
Name ____tt1: "tt1"
Name ___tt1: "tt1"
Name __123Graph_C: '[2]1062-X방향 '!$A$61:$A$102
Name __AE1: BlankMacro1
Name __AE1: BlankMacro1
Name __AE1: BlankMacro1
Name __AE2: BlankMacro1
Name __AE2: BlankMacro1
Name __AE2: BlankMacro1
Name __AE3: BlankMacro1
Name __AE3: BlankMacro1
Name __AE3: BlankMacro1
Name __DemandLoad: TRUE
Name __E1: BlankMacro1
Name __E1: BlankMacro1
Name __E1: BlankMacro1
Name __E10: BlankMacro1
Name __E10: BlankMacro1
Name __E10: BlankMacro1
Name __E2: BlankMacro1
Name __E2: BlankMacro1
Name __E2: BlankMacro1
Name __E3: BlankMacro1
Name __E3: BlankMacro1
Name __E3: BlankMacro1
Name __E4: BlankMacro1
Name __E4: BlankMacro1
Name __E4: BlankMacro1
Name __E5: BlankMacro1
Name __E5: BlankMacro1
Name __E5: BlankMacro1
Name __E6: BlankMacro1
Name __E6: BlankMacro1
Name __E6: BlankMacro1
Name __E7: BlankMacro1
Name __E7: BlankMacro1
Name __E7: BlankMacro1
Name __E8: BlankMacro1
Name __E8: BlankMacro1
Name __E8: BlankMacro1
Name __E9: BlankMacro1
Name __E9: BlankMacro1
Name __E9: BlankMacro1
Name __EW1: BlankMacro1
Name __EW1: BlankMacro1
Name __EW1: BlankMacro1
Name __EW2: BlankMacro1
Name __EW2: BlankMacro1
Name __EW2: BlankMacro1

Sheet 원가계산서
B1: 원가계산서
B3: 비 목 | E3: 구분 | F3: 금 액 | G3: 요율 | H3: 산 출 근 거
B4: 순 공 사 원 가 | C4: 재 료 비 | D4: 직 접 재 료 비 | E4: 1 | F4: =내역서!I6 -> 155972007
D5: 간 접 재 료 비 | E5: 2
D6: 소 계 | E6: A | F6: =TRUNC((F4+F5),0) -> 155972007 | H6: ( 1 + 2 )
C7: 노 무 비 | D7: 직 접 노 무 비 | E7: 3 | F7: =내역서!K6 -> 162827789
D8: 간 접 노 무 비 | E8: 4 | F8: =TRUNC(F7*G8,0) -> 31751418 | G8: 0.195 | H8: 3 × 0.195
D9: 소 계 | E9: B | F9: =TRUNC(F7+F8,0) -> 194579207 | H9: ( 3 + 4 )
C10: 경 비 | D10: 경 비 | E10: 5 | F10: =내역서!M6 -> 16529262
D11: 산 재 보 험 료 | E11: 6 | F11: =TRUNC(F9*G11,0) -> 6927019 | G11: 0.0356 | H11: B × 0.0356
D12: 고 용 보 험 료 | E12: 7 | F12: =TRUNC(F9*G12,0) -> 1965249 | G12: 0.0101 | H12: B × 0.0101
D13: 건 강 보 험 료 | E13: 8 | F13: =TRUNC(F7*G13,0) -> 5853659 | G13: 0.03595 | H13: 3 × 0.03595
D14: 연 금 보 험 료 | E14: 9 | F14: =TRUNC(F7*G14,0) -> 7734319 | G14: 0.0475 | H14: 3 × 0.0475
D15: 노인장기요양 보 험 료 | E15: 10 | F15: =TRUNC(F13*G15,0) -> 769170 | G15: 0.1314 | H15: 8 × 0.1314
D16: 퇴 직 공 제 부 금 비 | E16: 11 | F16: =TRUNC(F7*G16,0) -> 3745039 | G16: 0.023 | H16: 3 × 0.023
D17: 건설기계대여금지급보증서발급액 | E17: 12 | F17: =TRUNC((F4+F7+F10)*G17,0) -> 335329 | G17: 0.001 | H17: ( 1 + 3 + 5 ) × 0.001
D18: 산 업 안 전 보건관리비 | E18: 13 | F18: =TRUNC((F6+F7)*G18,0) -> 10042193 | G18: 0.0315 | H18: ( A + 3 ) × 0.0315
D19: 환 경 보 전 비 | E19: 14 | F19: =TRUNC((F4+F7+F10)*G19,0) -> 2682632 | G19: 0.008 | H19: ( 1 + 3 + 5 ) × 0.008
D20: 기 타 경 비 | E20: 15 | F20: =TRUNC((F6+F9)*G20,0) -> 19981419 | G20: 0.057 | H20: ( A + B ) × 0.057
D21: 석 면 분 담 금 | E21: 16 | F21: =TRUNC(F9*G21,0) -> 11674 | G21: 6e-05 | H21: B × 0.00006
D22: 임 금 채 권 부 담 금 | E22: 17 | F22: =TRUNC(F9*G22,0) -> 175121 | G22: 0.0009 | H22: B × 0.0009
D23: 하도급대금지급보증수수료 | E23: 18 | F23: =TRUNC((F6+F7+F10)*G23,0) -> 271616 | G23: 0.00081 | H23: (A + 4 + 5) ×0.081
D24: 기타법정경비(시민안전관리비) | E24: 19 | F24: =TRUNC((F6+F7)*G24,0) -> 637599 | G24: 0.002 | H24: ( A + 3 ) × 0.002
D25: 소 계 | E25: C | F25: =TRUNC(SUM(F10:F24),0) -> 77661300 | H25: ( 5:19 )
D26: 순 공 사 원 가 | E26: D | F26: =TRUNC((F6+F9+F25),0) -> 428212514 | H26: ( A + B + C )
D27: 일 반 관 리 비 | E27: E | F27: =TRUNC(F26*G27,0) -> 27833813 | G27: 0.065 | H27: D × 0.065
D28: 이 윤 | E28: F | F28: =TRUNC((F9+F25+F27)*G28-(3073/1.1),0) -> 45008354 | G28: 0.15 | H28: ( B + C + E ) × 0.15
D29: 품 질 시 험 비 | E29: G | F29: =내역서!G24 -> 3283000
D30: 열차접근경보앱 및 연동장치 | E30: H | F30: =내역서!G25 -> 1980368
D31: 폐 기 물 처 리 비 | E31: I | F31: =내역서!G26 -> 2681951
D32: 공 급 가 액 | E32: J | F32: =TRUNC(F26+F27+F28+F31+F30+F29) -> 509000000 | H32: ( D + E + F + G + H + I )
D33: 부 가 가 치 세 | E33: K | F33: =TRUNC(F32*G33,0) -> 50900000 | G33: 0.1 | H33: J × 0.1
D34: 도 급 액 | E34: L | F34: =TRUNC((F32+F33),0) -> 559900000 | H34: ( J + K )
D35: 관 급 자 재 대 | E35: M
D36: 총 공 사 비 | E36: N | F36: =TRUNC((F34+F35),0) -> 559900000 | H36: ( L + M )
F38: =내역서!G4 -> 559900000
F41: =636510000-559900000 -> 76610000
L51: =RIGHT(F32*0.1,3) -> 000

Sheet 도급예산내역서
A1: 도 급 예 산 내 역 서
A2: 공 사 명 | B2: 영동선 오십천19교 외 6개소 교량 단면보강 개량공사
A3: 공 사 금 액 | B3: ="일금 "&NUMBERSTRING(F5,1)&"원정(\"&TEXT(F5,"#,###")&")" -> 일금 오억오천구백구십만원정(\559,900,000)
A4: 공 사 종 류 | B4: 규 격 | C4: 단 위 | D4: 수 량 | E4: 단 가 | F4: 금 액 | G4: 기 사
A5: ▣ 영동선 오십천19교 외 6개소 교량 단면보강 개량공사 | F5: =F30 -> 559900000
A6: Ⅰ. 순공사비 | F6: 428212514
A7: 가. 공사비 | C7: 식 | D7: 1 | E7: 335329058 | F7: 335329058
A8: 나. 간접노무비 | B8: 직노×19.5% | C8: 식 | D8: 1 | F8: 31751418
A9: 다. 산재보험료 | B9: 노무비×3.56% | C9: 식 | D9: 1 | F9: 6927019
A10: 라. 고용보험료 | B10: 노무비×1.01% | C10: 식 | D10: 1 | F10: 1965249
A11: 마. 건강보험료 | B11: 직노×3.595% | C11: 식 | D11: 1 | F11: 5853659
A12: 바. 연금보험료 | B12: 직노×4.75% | C12: 식 | D12: 1 | F12: 7734319
A13: 사. 노인장기요양보험료 | B13: 건보×13.14% | C13: 식 | D13: 1 | F13: 769170
A14: 아. 퇴직공제부금비 | B14: 직노×2.3% | C14: 식 | D14: 1 | F14: 3745039
A15: 자. 건설기계대여대금지급보증서발급금액 | B15: 직접공사비×0.1% | C15: 식 | D15: 1 | F15: 335329
A16: 차. 산업안전보건관리비 | B16: (재+직노)×3.15% | C16: 식 | D16: 1 | F16: 10042193
A17: 카. 환경보전비 | B17: 직접공사비×0.8% | C17: 식 | D17: 1 | F17: 2682632
A18: 타. 기타 경비 | B18: (재+노)×5.7% | C18: 식 | D18: 1 | F18: 19981419
A19: 파. 석면분담금 | B19: 노무비×0.006% | C19: 식 | D19: 1 | F19: 11674
... A24: Ⅲ. 이 윤 | B24: (노+경+일반관리비)×15.0% | C24: 식 | D24: 1 | F24: 45008354
A25: Ⅳ. 품질시험비 | C25: 식 | D25: 1 | E25: 3283000 | F25: 3283000
A26: Ⅴ. 열차접근경보앱 및 장치 | C26: 식 | D26: 1 | E26: 1980368 | F26: 1980368
A27: Ⅵ. 폐기물처리비 | C27: 식 | D27: 1 | E27: 2681951 | F27: 2681951
A28: Ⅶ. 공 급 가 액 | C28: 식 | D28: 1 | F28: 509000000
A29: Ⅷ. 부가 가치세 | B29: 10% | C29: 식 | D29: 1 | F29: 50900000
A30: Ⅸ. 도 급 금 액 | C30: 식 | D30: 1 | F30: 559900000
F31: 0
A32: 가. 직접공사비 | C32: 식 | D32: 1 | F32: 335329058
A33: 1. 초막천교 | C33: 식 | D33: 1 | E33: 173795887 | F33: 173795887
A34: 2. 오십천19교 | C34: 식 | D34: 1 | E34: 10168609 | F34: 10168609
A35: 3. 고사천교 | C35: 식 | D35: 1 | E35: 7431495 | F35: 7431495
A36: 4. 지가교 | C36: 식 | D36: 1 | E36: 1655239 | F36: 1655239
A37: 5. 전천교(영동선) | C37: 식 | D37: 1 | E37: 41827208 | F37: 41827208
A38: 6. 전천교(삼척선) | C38: 식 | D38: 1 | E38: 15980513 | F38: 15980513
A39: 7. 평릉천교(묵호항선) | C39: 식 | D39: 1 | E39: 2014332 | F39: 2014332
A40: 8. 부대공 | C40: 식 | D40: 1 | E40: 82455775 | F40: 82455775
F41: 0
A42: 1. 초막천교 | C42: 식 | D42: 1 | F42: 173795887
A43: 1.1 보수공 | F43: 166120702
A44: 1) 단면보수 | F44: 19027906
...

Sheet 내역서
B1: 내역서
B2: 공 종 명 | C2: 규 격 | D2: 수량 | E2: 단위 | F2: 합 계 | H2: 재 료 비 | J2: 노 무 비 | L2: 경 비 | N2: 비 고
F3: 단 가 | G3: 금 액 | H3: 단 가 | I3: 금 액 | J3: 단 가 | K3: 금 액 | L3: 단 가 | M3: 금 액 | T3: 할 증 | U3: 화폐변환 | V3: OP값 | W3: EQ | X3: LA | Y3: MA | Z3: 금액계상
B4: ▣영동선 오십천19교 외 6개소 교량 단면보강 개량공사 | D4: 1 | E4: 식 | G4: =I4+K4+M4 -> 559900000 | I4: =TRUNC(I6+I7+I8+I9+I10+I11+I12+I13+I14+I15+I16+I17+I18+I19+I21+I22+I23+I24+I25+I26+I28,0) -> 155972007 | K4: =TRUNC(K6+K7+K8+K9+K10+K11+K12+K13+K14+K15+K16+K17+K18+K19+K21+K22+K23+K24+K25+K26+K28,0) -> 194579207 | M4: =TRUNC(M6+M7+M8+M9+M10+M11+M12+M13+M14+M15+M16+M17+M18+M19+M20+M21+M22+M23+M24+M25+M26+M28,0) -> 209348786 | O4: ★신화 | P4: DD2605C
B5: Ⅰ. 순공사비 | E5: 식 | F5: =H5+J5+L5 -> 0 | G5: =I5+K5+M5 -> 428212514 | I5: =TRUNC(I6+I7+I8+I9+I10+I11+I12+I13+I14+I15+I16+I17+I18+I19+I21,0) -> 155972007 | K5: =TRUNC(K6+K7+K8+K9+K10+K11+K12+K13+K14+K15+K16+K17+K18+K19+K21,0) -> 194579207 | M5: =TRUNC(M6+M7+M8+M9+M10+M11+M12+M13+M14+M15+M16+M17+M18+M19+M20+M21,0) -> 77661300 | Q5: 10 | BM5: =SUM(G32:G38,G118,G119)/G31 -> 0.75929226 | CD5: .
B6: 가. 공사비 | D6: 1 | E6: 식 | F6: =H6+J6+L6 -> 335329058 | G6: =I6+K6+M6 -> 335329058 | H6: =I31 -> 155972007 | I6: =TRUNC(H6*D6,0) -> 155972007 | J6: =K31 -> 162827789 | K6: =TRUNC(J6*D6,0) -> 162827789 | L6: =M31 -> 16529262 | M6: =TRUNC(L6*D6,0) -> 16529262 | Q6: 20 | S6: DD2605C-1 | BK6: =HYPERLINK("#내역서!A30","DD2605C-1 →") -> DD2605C-1 → | CD6: ..
B7: 나. 간접노무비 | C7: 직노×19.5% | D7: 1 | E7: 식 | F7: =H7+J7+L7 -> 0 | G7: =I7+K7+M7 -> 31751418 | I7: 0 | K7: =TRUNC((K6*19.5/100),0) -> 31751418 | M7: 0 | O7: ◇직공10억미만 8개월 | Q7: 30 | S7: F | Y7: '공사규모 : 직접공사비 10억 미만, 8개월이하'_x000D_ .LA=LA(20)*19.5/100_x000D_ | AB7: EQ+ = | AC7: =(내역서!K6+내역서!K7)*3.56/100 -> 6927019.8 | AD7: EQ = | AE7: =$AC7 -> 6927019.8 | CD7: ..
B8: 다. 산재보험료 | C8: 노무비×3.56% | D8: 1 | E8: 식 | F8: =H8+J8+L8 -> 0 | G8: =I8+K8+M8 -> 6927019 | I8: 0 | K8: 0 | M8: =TRUNC(((K6+K7)*3.56/100),0) -> 6927019 | Q8: 40 | S8: F | Y8: .EQ=LA(20,30)*3.56/100_x000D_ | CD8: ..
B9: 라. 고용보험료 | C9: 노무비×1.01% | D9: 1 | E9: 식 | F9: =H9+J9+L9 -> 0 | G9: =I9+K9+M9 -> 1965249 | I9: 0 | K9: 0 | M9: =TRUNC(((K6+K7)*1.01/100),0) -> 1965249 | O9: ◇7등급(추정금액(총공사비) | Q9: 50 | S9: F | Y9: '공사규모 : 추정금액(총공사비) 7등급'_x000D_ .EQ=LA(20,30)*1.01/100_x000D_ | AB9: EQ+ = | AC9: =내역서!K6*3.595/100 -> 5853659 | AD9: EQ = | AE9: =$AC9 -> 5853659 | CD9: ..
B10: 마. 건강보험료 | C10: 직노×3.595% | D10: 1 | E10: 식 | F10: =H10+J10+L10 -> 0 | G10: =I10+K10+M10 -> 5853659 | I10: 0 | K10: 0 | M10: =TRUNC((K6*3.595/100),0) -> 5853659 | Q10: 60 | S10: F | Y10: .EQ=LA(20)*3.595/100_x000D_ | AB10: EQ+ = | AC10: =내역서!K6*4.75/100 -> 7734320 | AD10: EQ = | AE10: =$AC10 -> 7734320 | CD10: ..
B11: 바. 연금보험료 | C11: 직노×4.75% | D11: 1 | E11: 식 | F11: =H11+J11+L11 -> 0 | G11: =I11+K11+M11 -> 7734319 | I11: 0 | K11: 0 | M11: =TRUNC((K6*4.75/100),0) -> 7734319 | Q11: 70 | S11: F | Y11: .EQ=LA(20)*4.75/100_x000D_ | AB11: EQ+ = | AC11: =내역서!M10*13.14/100 -> 769170.79 | AD11: EQ = | AE11: =$AC11 -> 769170.79 | CD11: ..
B12: 사. 노인장기요양보험료 | C12: 건보×13.14% | D12: 1 | E12: 식 | F12: =H12+J12+L12 -> 0 | G12: =I12+K12+M12 -> 769170 | I12: 0 | K12: 0 | M12: =TRUNC((M10*13.14/100),0) -> 769170 | Q12: 80 | S12: F | Y12: .EQ=EQ(60)*13.14/100_x000D_ | AB12: EQ+ = | AC12: =내역서!K6*2.3/100 -> 3745039.1 | AD12: EQ = | AE12: =$AC12 -> 3745039.1 | CD12: ..
B13: 아. 퇴직공제부금비 | C13: 직노×2.3% | D13: 1 | E13: 식 | F13: =H13+J13+L13 -> 0 | G13: =I13+K13+M13 -> 3745039 | I13: 0 | K13: 0 | M13: =TRUNC((K6*2.3/100),0) -> 3745039 | Q13: 90 | S13: F | Y13: .EQ=LA(20)*2.3/100_x000D_ | CD13: ..
B14: 자. 건설기계대여대금지급보증서발급금액 | C14: 직접공사비×0.1% | D14: 1 | E14: 식 | F14: =H14+J14+L14 -> 0 | G14: =I14+K14+M14 -> 335329 | I14: 0 | K14: 0 | M14: =TRUNC(((I6+K6+M6)*0.1/100),0) -> 335329 | O14: ◇전문(그외) | Q14: 100 | S14: F | Y14: '전문건설업, 그외'_x000D_ .EQ=TOT(20)*0.1/100_x000D_ | AB14: EQ+ = | AC14: =(내역서!I6+내역서!K6+내역서!M6)*0.1/100 -> 335329.06 | AD14: EQ = | AE14: =$AC14 -> 335329.06 | CD14: ..
B15: 차. 산업안전보건관리비 | C15: (재+직노)×3.15% | D15: 1 | E15: 식 | F15: =H15+J15+L15 -> 0 | G15: =I15+K15+M15 -> 10042193 | I15: 0 | K15: 0 | M15: =TRUNC(((K6+I6)*3.15/100),0) -> 10042193 | O15: ◇토목(재+노5~50억) | Q15: 110 | S15: F | Y15: '공사규모 : 재료비(도급자관급포함)+직접노무비의 합계, 토목공사'_x000D_ .EQ=(LA(20)+MA(20))*2.53/100+3300000_x000D_ | AB15: EQ+ = | AC15: =(내역서!K6+내역서!I6)*2.53/100+3300000 -> 11365635 | AD15: EQ = | AE15: =$AC15 -> 11365635 | CD15: ..
B16: 카. 환경보전비 | C16: 직접공사비×0.8% | D16: 1 | E16: 식 | F16: =H16+J16+L16 -> 0 | G16: =I16+K16+M16 -> 2682632 | I16: 0 | K16: 0 | M16: =TRUNC(((I6+K6+M6)*0.8/100),0) -> 2682632 | O16: △토목그외 | Q16: 120 | S16: F | Y16: '토목,그외'_x000D_ .EQ=TOT(20)*0.8/100_x000D_ | AB16: EQ+ = | AC16: =(내역서!I6+내역서!K6+내역서!M6)*0.8/100 -> 2682632.5 | AD16: EQ = | AE16: =$AC16 -> 2682632.5 | CD16: ..
B17: 타. 기타 경비 | C17: (재+노)×5.7% | D17: 1 | E17: 식 | F17: =H17+J17+L17 -> 0 | G17: =I17+K17+M17 -> 19981419 | I17: 0 | K17: 0 | M17: =TRUNC(((I6+(K6+K7))*5.7/100),0) -> 19981419 | O17: ◇직공10억미만 8개월 | Q17: 130 | S17: F | Y17: '공사규모 : 직접공사비 10억 미만, 8개월이하'_x000D_ .EQ=(MA(20)+LA(20,30))*5.7/100_x000D_ | AB17: EQ+ = | AC17: =(내역서!K6+내역서!K7)*0.006/100 -> 11674.752 | AD17: EQ = | AE17: =$AC17 -> 11674.752 | CD17: ..
B18: 파. 석면분담금 | C18: 노무비×0.006% | D18: 1 | E18: 식 | F18: =H18+J18+L18 -> 0 | G18: =I18+K18+M18 -> 11674 | I18: 0 | K18: 0 | M18: =TRUNC(((K6+K7)*0.006/100),0) -> 11674 | Q18: 140 | S18: F | Y18: .EQ=LA(20,30)*0.006/100_x000D_ | AB18: EQ+ = | AC18: =(내역서!K6+내역서!K7)*0.09/100 -> 175121.29 | AD18: EQ = | AE18: =$AC18 -> 175121.29 | CD18: ..
B19: 하. 임금채권부담금 | C19: 노무비×0.09% | D19: 1 | E19: 식 | F19: =H19+J19+L19 -> 0 | G19: =I19+K19+M19 -> 175121 | I19: 0 | K19: 0 | M19: =TRUNC(((K6+K7)*0.09/100),0) -> 175121 | Q19: 150 | S19: F | Y19: .EQ=LA(20,30)*0.09/100_x000D_ | AB19: EQ+ = | AC19: =(내역서!K6+내역서!I6)*0.2/100 -> 637599.59 | AD19: EQ = | AE19: =$AC19 -> 637599.59 | CD19: ..
B20: 거. 하도급대금지급보증수수료 | C20: 직접공사비×0.081 | D20: 1 | E20: 식 | F20: =H20+J20+L20 -> 0 | G20: =I20+K20+M20 -> 271616 | I20: 0 | K20: 0 | M20: =TRUNC(((I6+K6+M6)*0.081/100),0) -> 271616 | O20: ◇전문(그외) | Q20: 100 | S20: F | Y20: '전문건설업, 그외'_x000D_ .EQ=TOT(20)*0.1/100_x000D_ | AB20: EQ+ = | AC20: =(내역서!I11+내역서!K11+내역서!M11)*0.1/100 -> 7734.319 | AD20: EQ = | AE20: =$AC20 -> 7734.319 | CD20: ..
B21: 너. 기타법정경비(시민안전관리비) | C21: (재+직노)×0.2% | D21: 1 | E21: 식 | F21: =H21+J21+L21 -> 0 | G21: =I21+K21+M21 -> 637599 | I21: 0 | K21: 0 | M21: =TRUNC(((K6+I6)*0.2/100),0) -> 637599 | Q21: 160 | S21: F | Y21: .EQ=(LA(20)+MA(20))*0.2/100_x000D_ | CD21: ..
B22: Ⅱ. 일반 관리비 | C22: (재+노+경)×6.5% | D22: 1 | E22: 식 | F22: =H22+J22+L22 -> 0 | G22: =I22+K22+M22 -> 27833813 | I22: 0 | K22: 0 | M22: =TRUNC(((I5+K5+M5)*6.5/100),0) -> 27833813 | O22: ◇추정가격(공급가액)5-30억미만 | Q22: 170 | S22: F | Y22: '추정가격(공급가액) 5-30억미만-전문공사'_x000D_ .EQ=TOT(10)*6.5/100_x000D_ | AB22: EQ+ = | AC22: =(내역서!I5+내역서!K5+내역서!M5)*6.5/100 -> 27833813 | AD22: EQ = | AE22: =$AC22 -> 27833813 | CD22: .
B23: Ⅲ. 이 윤 | C23: (노+경+일반관리비)×15.0% | D23: 1 | E23: 식 | F23: =H23+J23+L23 -> 0 | G23: =I23+K23+M23 -> 45008354 | I23: 0 | K23: 0 | M23: =원가계산서!F28 -> 45008354 | O23: ◇추정가격(공급가액)5-30억미만 | Q23: 180 | S23: F | Y23: '추정가격(공급가액) 5-30억미만-전문공사'_x000D_ .EQ=(LA(10)+EQ(10)+EQ(170))*15/100-951/1.1+1_x000D_ | AB23: EQ+ = | AC23: =(내역서!K5+내역서!M5+내역서!M22)*15/100-951/1.1+1 -> 45010284 | AD23: EQ = | AE23: =$AC23 -> 45010284 | CD23: .
B24: Ⅳ. 품질시험비 | D24: 1 | E24: 식 | F24: =H24+J24+L24 -> 3283000 | G24: =I24+K24+M24 -> 3283000 | H24: =I129 -> 0 | I24: =TRUNC(H24*D24,0) -> 0 | J24: =K129 -> 0 | K24: =TRUNC(J24*D24,0) -> 0 | L24: =M129 -> 3283000 | M24: =TRUNC(L24*D24,0) -> 3283000 | Q24: 190 | S24: DD2605C-2 | CD24: .
B25: Ⅴ. 열차접근경보앱 및 장치 | D25: 1 | E25: 식 | F25: =H25+J25+L25 -> 1980368 | G25: =I25+K25+M25 -> 1980368 | H25: =I140 -> 0 | I25: =TRUNC(H25*D25,0) -> 0 | J25: =K140 -> 0 | K25: =TRUNC(J25*D25,0) -> 0 | L25: =M140 -> 1980368 | M25: =TRUNC(L25*D25,0) -> 1980368 | Q25: 200 | S25: DD2605C-3 | CD25: .
B26: Ⅵ. 폐기물처리비 | D26: 1 | E26: 식 | F26: =H26+J26+L26 -> 2681951 | G26: =I26+K26+M26 -> 2681951 | H26: =I144 -> 0 | I26: =TRUNC(H26*D26,0) -> 0 | J26: =K144 -> 0 | K26: =TRUNC(J26*D26,0) -> 0 | L26: =M144 -> 2681951 | M26: =TRUNC(L26*D26,0) -> 2681951 | Q26: 210 | S26: DD2605C-4 | AB26: LA+ = | AC26: =내역서!K5+(내역서!K22+내역서!K23+내역서!K24+내역서!K25+내역서!K26) -> 194579207 | AD26: LA = | AE26: =$AC26 -> 194579207 | CD26: .
B27: Ⅶ. 공 급 가 액 | D27: 1 | E27: 식 | F27: =H27+J27+L27 -> 0 | G27: =I27+K27+M27 -> 509000000 | I27: =TRUNC((I5+(I22+I23+I24+I25+I26)),0) -> 155972007 | K27: =TRUNC((K5+(K22+K23+K24+K25+K26)),0) -> 194579207 | M27: =TRUNC((M5+(M22+M23+M24+M25+M26)),0) -> 158448786 | O27: ◇추정가격 | Q27: 220 | R27: * | S27: F | Y27: .LA=LA(10)+LA(170,0,210)_x000D_ .MA=MA(10)+MA(170,0,210)_x000D_ .EQ=EQ(10)+EQ(170,0,210)_x000D_ | AB27: EQ+ = | AC27: =(내역서!I27+내역서!K27+내역서!M27)*10/100 -> 50900000 | AD27: EQ = | AE27: =$AC27 -> 50900000 | CD27: .
B28: Ⅷ. 부가 가치세 | C28: 10% | D28: 1 | E28: 식 | F28: =H28+J28+L28 -> 0 | G28: =I28+K28+M28 -> 50900000 | I28: 0 | K28: 0 | M28: =TRUNC(((I27+K27+M27)*10/100),0) -> 50900000 | Q28: 230 | S28: F | Y28: .EQ=TOT(220,0,220)*10/100_x000D_ | AB28: MA+ = | AC28: =(내역서!I27+내역서!I28) -> 155972007 | AD28: MA = | AE28: =$AC28 -> 155972007 | CD28: .
B29: Ⅸ. 도 급 금 액 | D29: 1 | E29: 식 | F29: =H29+J29+L29 -> 0 | G29: =I29+K29+M29 -> 559900000 | I29: =TRUNC((I27+I28),0) -> 155972007 | K29: =TRUNC((K27+K28),0) -> 194579207 | M29: =TRUNC((M27+M28),0) -> 209348786 | Q29: 240 | R29: * | S29: F | Y29: .MA=MA(220,0,230)_x000D_ .LA=LA(220,0,230)_x000D_ .EQ=EQ(220,0,230)_x000D_ | AB29: LA+ = | AC29: =(내역서!K27+내역서!K28) -> 194579207 | AD29: LA = | AE29: =$AC29 -> 194579207 | CD29: .
F30: =H30+J30+L30 -> 0 | G30: =I30+K30+M30 -> 0 | I30: 0 | K30: 0 | M30: 0 | Q30: 250 | R30: S | AB30: EQ+ = | AC30: =(내역서!M27+내역서!M28) -> 209348786 | AD30: EQ = | AE30: =$AC30 -> 209348786
B31: 가. 직접공사비 | D31: 1 | E31: 식 | G31: =I31+K31+M31 -> 335329058 | I31: =TRUNC(I32+I33+I34+I35+I36+I37+I38+I39,0) -> 155972007 | K31: =TRUNC(K32+K33+K34+K35+K36+K37+K38+K39,0) -> 162827789 | M31: =TRUNC(M32+M33+M34+M35+M36+M37+M38+M39,0) -> 16529262 | P31: DD2605C-1
B32: 1. 초막천교 | D32: 1 | E32: 식 | F32: =H32+J32+L32 -> 173795887 | G32: =I32+K32+M32 -> 173795887 | H32: =I41 -> 108874818 | I32: =TRUNC(H32*D32,0) -> 108874818 | J32: =K41 -> 62344282 | K32: =TRUNC(J32*D32,0) -> 62344282 | L32: =M41 -> 2576787 | M32: =TRUNC(L32*D32,0) -> 2576787 | Q32: 10 | S32: DD2605C-11
B33: 2. 오십천19교 | D33: 1 | E33: 식 | F33: =H33+J33+L33 -> 10168609 | G33: =I33+K33+M33 -> 10168609 | H33: =I55 -> 2117071 | I33: =TRUNC(H33*D33,0) -> 2117071 | J33: =K55 -> 7808406 | K33: =TRUNC(J33*D33,0) -> 7808406 | L33: =M55 -> 243132 | M33: =TRUNC(L33*D33,0) -> 243132 | Q33: 20 | S33: DD2605C-12
B34: 3. 고사천교 | D34: 1 | E34: 식 | F34: =H34+J34+L34 -> 7431495 | G34: =I34+K34+M34 -> 7431495 | H34: =I66 -> 2389169 | I34: =TRUNC(H34*D34,0) -> 2389169 | J34: =K66 -> 4880820 | K34: =TRUNC(J34*D34,0) -> 4880820 | L34: =M66 -> 161506 | M34: =TRUNC(L34*D34,0) -> 161506 | Q34: 30 | S34: DD2605C-13
B35: 4. 지가교 | D35: 1 | E35: 식 | F35: =H35+J35+L35 -> 1655239 | G35: =I35+K35+M35 -> 1655239 | H35: =I78 -> 1069646 | I35: =TRUNC(H35*D35,0) -> 1069646 | J35: =K78 -> 569732 | K35: =TRUNC(J35*D35,0) -> 569732 | L35: =M78 -> 15861 | M35: =TRUNC(L35*D35,0) -> 15861 | Q35: 40 | S35: DD2605C-14
B36: 5. 전천교(영동선) | D36: 1 | E36: 식 | F36: =H36+J36+L36 -> 41827208 | G36: =I36+K36+M36 -> 41827208 | H36: =I86 -> 24904471 | I36: =TRUNC(H36*D36,0) -> 24904471 | J36: =K86 -> 16367866 | K36: =TRUNC(J36*D36,0) -> 16367866 | L36: =M86 -> 554871 | M36: =TRUNC(L36*D36,0) -> 554871 | Q36: 50 | S36: DD2605C-15 | BM36: =SUM(G32:G38,G118,G119,G124,G126)/G31 -> 0.80650038
B37: 6. 전천교(삼척선) | D37: 1 | E37: 식 | F37: =H37+J37+L37 -> 15980513 | G37: =I37+K37+M37 -> 15980513 | H37: =I97 -> 9739656 | I37: =TRUNC(H37*D37,0) -> 9739656 | J37: =K97 -> 6047009 | K37: =TRUNC(J37*D37,0) -> 6047009 | L37: =M97 -> 193848 | M37: =TRUNC(L37*D37,0) -> 193848 | Q37: 60 | S37: DD2605C-16
B38: 7. 평릉천교(묵호항선) | D38: 1 | E38: 식 | F38: =H38+J38+L38 -> 2014332 | G38: =I38+K38+M38 -> 2014332 | H38: =I109 -> 1270921 | I38: =TRUNC(H38*D38,0) -> 1270921 | J38: =K109 -> 720854 | K38: =TRUNC(J38*D38,0) -> 720854 | L38: =M109 -> 22557 | M38: =TRUNC(L38*D38,0) -> 22557 | Q38: 70 | S38: DD2605C-17
B39: 8. 부대공 | D39: 1 | E39: 식 | F39: =H39+J39+L39 -> 82455775 | G39: =I39+K39+M39 -> 82455775 | H39: =I117 -> 5606255 | I39: =TRUNC(H39*D39,0) -> 5606255 | J39: =K117 -> 64088820 | K39: =TRUNC(J39*D39,0) -> 64088820 | L39: =M117 -> 12760700 | M39: =TRUNC(L39*D39,0) -> 12760700 | Q39: 80 | S39: DD2605C-18
F40: =H40+J40+L40 -> 0 | G40: =I40+K40+M40 -> 0 | I40: 0 | K40: 0 | M40: 0 | Q40: 90
...
