Workbook
Name _______________tt1: "tt1"
Name ______________tt1: "tt1"
Name _____________tt1: "tt1"
Name ____________tt1: "tt1"
Name ___________tt1: "tt1"
Name __________tt1: "tt1"
Name _________tt1: "tt1"
Name ________tt1: "tt1"
Name _______tt1: "tt1"
Name ______tt1: "tt1"
Name _____tt1: "tt1"
Name ____tt1: "tt1"
Name ___tt1: "tt1"
Name __123Graph_C: '[2]1062-X방향 '!$A$61:$A$102
Name __AE1: BlankMacro1
Name __AE1: BlankMacro1
Name __AE1: BlankMacro1
Name __AE2: BlankMacro1
Name __AE2: BlankMacro1
Name __AE2: BlankMacro1
Name __AE3: BlankMacro1
Name __AE3: BlankMacro1
Name __AE3: BlankMacro1
Name __DemandLoad: TRUE
Name __E1: BlankMacro1
Name __E1: BlankMacro1
Name __E1: BlankMacro1
Name __E10: BlankMacro1
Name __E10: BlankMacro1
Name __E10: BlankMacro1
Name __E2: BlankMacro1
Name __E2: BlankMacro1
Name __E2: BlankMacro1
Name __E3: BlankMacro1
Name __E3: BlankMacro1
Name __E3: BlankMacro1
Name __E4: BlankMacro1
Name __E4: BlankMacro1
Name __E4: BlankMacro1
Name __E5: BlankMacro1
Name __E5: BlankMacro1
Name __E5: BlankMacro1
Name __E6: BlankMacro1
Name __E6: BlankMacro1
Name __E6: BlankMacro1
Name __E7: BlankMacro1
Name __E7: BlankMacro1
Name __E7: BlankMacro1
Name __E8: BlankMacro1
Name __E8: BlankMacro1
Name __E8: BlankMacro1
Name __E9: BlankMacro1
Name __E9: BlankMacro1
Name __E9: BlankMacro1
Name __EW1: BlankMacro1
Name __EW1: BlankMacro1
Name __EW1: BlankMacro1
Name __EW2: BlankMacro1
Name __EW2: BlankMacro1
Name __EW2: BlankMacro1

Sheet 원가계산서
B1: 원가계산서
B3: 비 목 | E3: 구분 | F3: 금 액 | G3: 요율 | H3: 산 출 근 거
B4: 순 공 사 원 가 | C4: 재 료 비 | D4: 직 접 재 료 비 | E4: 1 | F4: =내역서!I6 -> 155972007
D5: 간 접 재 료 비 | E5: 2
D6: 소 계 | E6: A | F6: =TRUNC((F4+F5),0) -> 155972007 | H6: ( 1 + 2 )
C7: 노 무 비 | D7: 직 접 노 무 비 | E7: 3 | F7: =내역서!K6 -> 162827789
D8: 간 접 노 무 비 | E8: 4 | F8: =TRUNC(F7*G8,0) -> 31751418 | G8: 0.195 | H8: 3 × 0.195
D9: 소 계 | E9: B | F9: =TRUNC(F7+F8,0) -> 194579207 | H9: ( 3 + 4 )
C10: 경 비 | D10: 경 비 | E10: 5 | F10: =내역서!M6 -> 16529262
D11: 산 재 보 험 료 | E11: 6 | F11: =TRUNC(F9*G11,0) -> 6927019 | G11: 0.0356 | H11: B × 0.0356
D12: 고 용 보 험 료 | E12: 7 | F12: =TRUNC(F9*G12,0) -> 1965249 | G12: 0.0101 | H12: B × 0.0101
D13: 건 강 보 험 료 | E13: 8 | F13: =TRUNC(F7*G13,0) -> 5853659 | G13: 0.03595 | H13: 3 × 0.03595
D14: 연 금 보 험 료 | E14: 9 | F14: =TRUNC(F7*G14,0) -> 7734319 | G14: 0.0475 | H14: 3 × 0.0475
D15: 노인장기요양 보 험 료 | E15: 10 | F15: =TRUNC(F13*G15,0) -> 769170 | G15: 0.1314 | H15: 8 × 0.1314
D16: 퇴 직 공 제 부 금 비 | E16: 11 | F16: =TRUNC(F7*G16,0) -> 3745039 | G16: 0.023 | H16: 3 × 0.023
D17: 건설기계대여금지급보증서발급액 | E17: 12 | F17: =TRUNC((F4+F7+F10)*G17,0) -> 335329 | G17: 0.001 | H17: ( 1 + 3 + 5 ) × 0.001
D18: 산 업 안 전 보건관리비 | E18: 13 | F18: =TRUNC((F6+F7)*G18,0) -> 10042193 | G18: 0.0315 | H18: ( A + 3 ) × 0.0315
D19: 환 경 보 전 비 | E19: 14 | F19: =TRUNC((F4+F7+F10)*G19,0) -> 2682632 | G19: 0.008 | H19: ( 1 + 3 + 5 ) × 0.008
D20: 기 타 경 비 | E20: 15 | F20: =TRUNC((F6+F9)*G20,0) -> 19981419 | G20: 0.057 | H20: ( A + B ) × 0.057
D21: 석 면 분 담 금 | E21: 16 | F21: =TRUNC(F9*G21,0) -> 11674 | G21: 6e-05 | H21: B × 0.00006
D22: 임 금 채 권 부 담 금 | E22: 17 | F22: =TRUNC(F9*G22,0) -> 175121 | G22: 0.0009 | H22: B × 0.0009
D23: 하도급대금지급보증수수료 | E23: 18 | F23: =TRUNC((F6+F7+F10)*G23,0) -> 271616 | G23: 0.00081 | H23: (A + 4 + 5) ×0.081
D24: 기타법정경비(시민안전관리비) | E24: 19 | F24: =TRUNC((F6+F7)*G24,0) -> 637599 | G24: 0.002 | H24: ( A + 3 ) × 0.002
D25: 소 계 | E25: C | F25: =TRUNC(SUM(F10:F24),0) -> 77661300 | H25: ( 5:19 )
D26: 순 공 사 원 가 | E26: D | F26: =TRUNC((F6+F9+F25),0) -> 428212514 | H26: ( A + B + C )
D27: 일 반 관 리 비 | E27: E | F27: =TRUNC(F26*G27,0) -> 27833813 | G27: 0.065 | H27: D × 0.065
D28: 이 윤 | E28: F | F28: =TRUNC((F9+F25+F27)*G28-(3073/1.1),0) -> 45008354 | G28: 0.15 | H28: ( B + C + E ) × 0.15
D29: 품 질 시 험 비 | E29: G | F29: =내역서!G24 -> 3283000
D30: 열차접근경보앱 및 연동장치 | E30: H | F30: =내역서!G25 -> 1980368
D31: 폐 기 물 처 리 비 | E31: I | F31: =내역서!G26 -> 2681951
D32: 공 급 가 액 | E32: J | F32: =TRUNC(F26+F27+F28+F31+F30+F29) -> 509000000 | H32: ( D + E + F + G + H + I )
D33: 부 가 가 치 세 | E33: K | F33: =TRUNC(F32*G33,0) -> 50900000 | G33: 0.1 | H33: J × 0.1
D34: 도 급 액 | E34: L | F34: =TRUNC((F32+F33),0) -> 559900000 | H34: ( J + K )
D35: 관 급 자 재 대 | E35: M
D36: 총 공 사 비 | E36: N | F36: =TRUNC((F34+F35),0) -> 559900000 | H36: ( L + M )
F38: =내역서!G4 -> 559900000
F41: =636510000-559900000 -> 76610000
L51: =RIGHT(F32*0.1,3) -> 000

Sheet 도급예산내역서
A1: 도 급 예 산 내 역 서
A2: 공 사 명 | B2: 영동선 오십천19교 외 6개소 교량 단면보강 개량공사
A3: 공 사 금 액 | B3: ="일금 "&NUMBERSTRING(F5,1)&"원정(\"&TEXT(F5,"#,###")&")" -> 일금 오억오천구백구십만원정(\559,900,000)
A4: 공 사 종 류 | B4: 규 격 | C4: 단 위 | D4: 수 량 | E4: 단 가 | F4: 금 액 | G4: 기 사
A5: ▣ 영동선 오십천19교 외 6개소 교량 단면보강 개량공사 | F5: =F30 -> 559900000
A6: Ⅰ. 순공사비 | F6: 428212514
A7: 가. 공사비 | C7: 식 | D7: 1 | E7: 335329058 | F7: 335329058
A8: 나. 간접노무비 | B8: 직노×19.5% | C8: 식 | D8: 1 | F8: 31751418
A9: 다. 산재보험료 | B9: 노무비×3.56% | C9: 식 | D9: 1 | F9: 6927019
A10: 라. 고용보험료 | B10: 노무비×1.01% | C10: 식 | D10: 1 | F10: 1965249
A11: 마. 건강보험료 | B11: 직노×3.595% | C11: 식 | D11: 1 | F11: 5853659
A12: 바. 연금보험료 | B12: 직노×4.75% | C12: 식 | D12: 1 | F12: 7734319
A13: 사. 노인장기요양보험료 | B13: 건보×13.14% | C13: 식 | D13: 1 | F13: 769170
A14: 아. 퇴직공제부금비 | B14: 직노×2.3% | C14: 식 | D14: 1 | F14: 3745039
A15: 자. 건설기계대여대금지급보증서발급금액 | B15: 직접공사비×0.1% | C15: 식 | D15: 1 | F15: 335329
A16: 차. 산업안전보건관리비 | B16: (재+직노)×3.15% | C16: 식 | D16: 1 | F16: 10042193
A17: 카. 환경보전비 | B17: 직접공사비×0.8% | C17: 식 | D17: 1 | F17: 2682632
A18: 타. 기타 경비 | B18: (재+노)×5.7% | C18: 식 | D18: 1 | F18: 19981419
A19: 파. 석면분담금 | B19: 노무비×0.006% | C19: 식 | D19: 1 | F19: 11674
... A24: Ⅲ. 이 윤 | B24: (노+경+일반관리비)×15.0% | C24: 식 | D24: 1 | F24: 45008354
A25: Ⅳ. 품질시험비 | C25: 식 | D25: 1 | E25: 3283000 | F25: 3283000
A26: Ⅴ. 열차접근경보앱 및 장치 | C26: 식 | D26: 1 | E26: 1980368 | F26: 1980368
A27: Ⅵ. 폐기물처리비 | C27: 식 | D27: 1 | E27: 2681951 | F27: 2681951
A28: Ⅶ. 공 급 가 액 | C28: 식 | D28: 1 | F28: 509000000
A29: Ⅷ. 부가 가치세 | B29: 10% | C29: 식 | D29: 1 | F29: 50900000
A30: Ⅸ. 도 급 금 액 | C30: 식 | D30: 1 | F30: 559900000
F31: 0
A32: 가. 직접공사비 | C32: 식 | D32: 1 | F32: 335329058
A33: 1. 초막천교 | C33: 식 | D33: 1 | E33: 173795887 | F33: 173795887
A34: 2. 오십천19교 | C34: 식 | D34: 1 | E34: 10168609 | F34: 10168609
A35: 3. 고사천교 | C35: 식 | D35: 1 | E35: 7431495 | F35: 7431495
A36: 4. 지가교 | C36: 식 | D36: 1 | E36: 1655239 | F36: 1655239
A37: 5. 전천교(영동선) | C37: 식 | D37: 1 | E37: 41827208 | F37: 41827208
A38: 6. 전천교(삼척선) | C38: 식 | D38: 1 | E38: 15980513 | F38: 15980513
A39: 7. 평릉천교(묵호항선) | C39: 식 | D39: 1 | E39: 2014332 | F39: 2014332
A40: 8. 부대공 | C40: 식 | D40: 1 | E40: 82455775 | F40: 82455775
F41: 0
A42: 1. 초막천교 | C42: 식 | D42: 1 | F42: 173795887
A43: 1.1 보수공 | F43: 166120702
A44: 1) 단면보수 | F44: 19027906
A45: 단면보수 | B45: 벽체,t=30mm, 기계스프레이 | C45: m2 | D45: 56.66 | E45: 236088 | F45: 13376746
A46: 단면보수 | B46: 천정,t=30mm, 기계스프레이 | C46: m2 | D46: 20 | E46: 282558 | F46: 5651160
A47: 2) 단면보수 | B47: 방청 | F47: 147092796
A48: 단면보수 | B48: 벽체,t=50mm, 철근노출,기계스프레이 | C48: m2 | D48: 75 | E48: 387288 | F48: 29046600
A49: 단면보수 | B49: 천정,t=50mm, 철근노출,기계스프레이 | C49: m2 | D49: 262 | E49: 450558 | F49: 118046196
A50: 1.2 배수공 | F50: 7675185
A51: 1) 유도배수로 | F51: 7675185
A52: 유도배수관 | B52: 스텐강판 STS304, t=1.5mm | C52: m | D52: 45 | E52: 131397 | F52: 5912865
A53: 볼트체결(칼블록) | B53: 6X130 | C53: ea | D53: 300 | E53: 400 | F53: 120000
A54: 에폭시마감 | C54: m2 | D54: 90 | E54: 18248 | F54: 1642320
F55: 0
A56: 2. 오십천19교 | C56: 식 | D56: 1 | F56: 10168609
A57: 2.1 보수공 | F57: 10168609
A58: 1) 단면보수 | F58: 1811552
A59: 단면보수 | B59: 벽체,t=30mm, 기계스프레이 | C59: m2 | D59: 6.62 | E59: 236088 | F59: 1562902
A60: 단면보수 | B60: 천정,t=30mm, 기계스프레이 | C60: m2 | D60: 0.88 | E60: 282558 | F60: 248650
A61: 2) 단면보수 | B61: 방청 | F61: 1225517
A62: 단면보수 | B62: 천정,t=50mm, 철근노출,기계스프레이 | C62: m2 | D62: 2.72 | E62: 450558 | F62: 1225517
A63: 3) 강재재도장 | B63: 야간 | F63: 7131540
A64: 강재재도장 | B64: 녹막이1회+조합2회(붓칠)(야간할증) | C64: m2 | D64: 60 | E64: 29460 | F64: 1767600
A65: 재도장 바탕처리 | B65: B급(야간할증) | C65: m2 | D65: 60 | E65: 89399 | F65: 5363940
F66: 0
A67: 3. 고사천교 | C67: 식 | D67: 1 | F67: 7431495
A68: 3.1 보수공 | F68: 7431495
A69: 1) 단면보수 | F69: 3524793
A70: 단면보수 | B70: 벽체,t=30mm, 기계스프레이 | C70: m2 | D70: 14.93 | E70: 236088 | F70: 3524793
A71: 2) 단면보수 | B71: 방청 | F71: 198245
A72: 단면보수 | B72: 천정,t=50mm, 철근노출,기계스프레이 | C72: m2 | D72: 0.44 | E72: 450558 | F72: 198245
A73: 3) 주입보수 | B73: 0.3mm이상 | F73: 142687
A74: 주입보수 | B74: 벽체 | C74: m | D74: 3.5 | E74: 40768 | F74: 142687
A75: 4) 강재재도장 | B75: 야간 | F75: 3565770
A76: 강재재도장 | B76: 녹막이1회+조합2회(붓칠)(야간할증) | C76: m2 | D76: 30 | E76: 29460 | F76: 883800
A77: 재도장 바탕처리 | B77: B급(야간할증) | C77: m2 | D77: 30 | E77: 89399 | F77: 2681970
F78: 0
A79: 4. 지가교 | C79: 식 | D79: 1 | F79: 1655239
A80: 4.1 보수공 | F80: 1655239
A81: 1) 단면보수 | F81: 177065
A82: 단면보수 | B82: 벽체,t=30mm, 기계스프레이 | C82: m2 | D82: 0.75 | E82: 236088 | F82: 177065
A83: 2) 단면보수 | B83: 방청 | F83: 1478174
A84: 단면보수 | B84: 벽체,t=50mm, 철근노출,기계스프레이 | C84: m2 | D84: 1.49 | E84: 387288 | F84: 577058
A85: 단면보수 | B85: 천정,t=50mm, 철근노출,기계스프레이 | C85: m2 | D85: 2 | E85: 450558 | F85: 901116
F86: 0
A87: 5. 전천교(영동선) | C87: 식 | D87: 1 | F87: 41827208
A88: 5.1 보수공 | F88: 41827208
A89: 1) 단면보수 | F89: 37295095
A90: 단면보수 | B90: 벽체,t=30mm, 기계스프레이 | C90: m2 | D90: 35.2 | E90: 236088 | F90: 8310297
A91: 단면보수 | B91: 천정,t=30mm, 기계스프레이 | C91: m2 | D91: 102.58 | E91: 282558 | F91: 28984798
A92: 2) 단면보수 | B92: 방청 | F92: 4377196
A93: 단면보수 | B93: 벽체,t=50mm, 철근노출,기계스프레이 | C93: m2 | D93: 2.67 | E93: 387288 | F93: 1034057
A94: 단면보수 | B94: 천정,t=50mm, 철근노출,기계스프레이 | C94: m2 | D94: 7.42 | E94: 450558 | F94: 3343139
A95: 3) 주입보수 | B95: 0.3mm이상 | F95: 154917
A96: 주입보수 | B96: 벽체 | C96: m | D96: 3.8 | E96: 40768 | F96: 154917
F97: 0
A98: 6. 전천교(삼척선) | C98: 식 | D98: 1 | F98: 15980513
A99: 6.1 보수공 | F99: 15980513
A100: 1) 단면보수 | F100: 10545349
A101: 단면보수 | B101: 벽체,t=30mm, 기계스프레이 | C101: m2 | D101: 13.31 | E101: 236088 | F101: 3142330
A102: 단면보수 | B102: 천정,t=30mm, 기계스프레이 | C102: m2 | D102: 26.2 | E102: 282558 | F102: 7403019
A103: 2) 단면보수 | B103: 방청 | F103: 5268018
A104: 단면보수 | B104: 벽체,t=50mm, 철근노출,기계스프레이 | C104: m2 | D104: 0.91 | E104: 387288 | F104: 352431
...

Sheet 내역서
B1: 내역서
B2: 공 종 명 | C2: 규 격 | D2: 수량 | E2: 단위 | F2: 합 계 | H2: 재 료 비 | J2: 노 무 비 | L2: 경 비 | N2: 비 고
F3: 단 가 | G3: 금 액 | H3: 단 가 | I3: 금 액 | J3: 단 가 | K3: 금 액 | L3: 단 가 | M3: 금 액 | T3: 할 증 | U3: 화폐변환 | V3: OP값 | W3: EQ | X3: LA | Y3: MA | Z3: 금액계상
B4: ▣영동선 오십천19교 외 6개소 교량 단면보강 개량공사 | D4: 1 | E4: 식 | G4: =I4+K4+M4 -> 559900000 | I4: =TRUNC(I6+I7+I8+I9+I10+I11+I12+I13+I14+I15+I16+I17+I18+I19+I21+I22+I23+I24+I25+I26+I28,0) -> 155972007 | K4: =TRUNC(K6+K7+K8+K9+K10+K11+K12+K13+K14+K15+K16+K17+K18+K19+K21+K22+K23+K24+K25+K26+K28,0) -> 194579207 | M4: =TRUNC(M6+M7+M8+M9+M10+M11+M12+M13+M14+M15+M16+M17+M18+M19+M20+M21+M22+M23+M24+M25+M26+M28,0) -> 209348786 | O4: ★신화 | P4: DD2605C
B5: Ⅰ. 순공사비 | E5: 식 | F5: =H5+J5+L5 -> 0 | G5: =I5+K5+M5 -> 428212514 | I5: =TRUNC(I6+I7+I8+I9+I10+I11+I12+I13+I14+I15+I16+I17+I18+I19+I21,0) -> 155972007 | K5: =TRUNC(K6+K7+K8+K9+K10+K11+K12+K13+K14+K15+K16+K17+K18+K19+K21,0) -> 194579207 | M5: =TRUNC(M6+M7+M8+M9+M10+M11+M12+M13+M14+M15+M16+M17+M18+M19+M20+M21,0) -> 77661300 | Q5: 10 | BM5: =SUM(G32:G38,G118,G119)/G31 -> 0.75929226 | CD5: .
B6: 가. 공사비 | D6: 1 | E6: 식 | F6: =H6+J6+L6 -> 335329058 | G6: =I6+K6+M6 -> 335329058 | H6: =I31 -> 155972007 | I6: =TRUNC(H6*D6,0) -> 155972007 | J6: =K31 -> 162827789 | K6: =TRUNC(J6*D6,0) -> 162827789 | L6: =M31 -> 16529262 | M6: =TRUNC(L6*D6,0) -> 16529262 | Q6: 20 | S6: DD2605C-1 | BK6: =HYPERLINK("#내역서!A30","DD2605C-1 →") -> DD2605C-1 → | CD6: ..
B7: 나. 간접노무비 | C7: 직노×19.5% | D7: 1 | E7: 식 | F7: =H7+J7+L7 -> 0 | G7: =I7+K7+M7 -> 31751418 | I7: 0 | K7: =TRUNC((K6*19.5/100),0) -> 31751418 | M7: 0 | O7: ◇직공10억미만 8개월 | Q7: 30 | S7: F | Y7: '공사규모 : 직접공사비 10억 미만, 8개월이하'_x000D_ .LA=LA(20)*19.5/100_x000D_ | AB7: EQ+ = | AC7: =(내역서!K6+내역서!K7)*3.56/100 -> 6927019.8 | AD7: EQ = | AE7: =$AC7 -> 6927019.8 | CD7: ..
B8: 다. 산재보험료 | C8: 노무비×3.56% | D8: 1 | E8: 식 | F8: =H8+J8+L8 -> 0 | G8: =I8+K8+M8 -> 6927019 | I8: 0 | K8: 0 | M8: =TRUNC(((K6+K7)*3.56/100),0) -> 6927019 | Q8: 40 | S8: F | Y8: .EQ=LA(20,30)*3.56/100_x000D_ | CD8: ..
B9: 라. 고용보험료 | C9: 노무비×1.01% | D9: 1 | E9: 식 | F9: =H9+J9+L9 -> 0 | G9: =I9+K9+M9 -> 1965249 | I9: 0 | K9: 0 | M9: =TRUNC(((K6+K7)*1.01/100),0) -> 1965249 | O9: ◇7등급(추정금액(총공사비) | Q9: 50 | S9: F | Y9: '공사규모 : 추정금액(총공사비) 7등급'_x000D_ .EQ=LA(20,30)*1.01/100_x000D_ | AB9: EQ+ = | AC9: =내역서!K6*3.595/100 -> 5853659 | AD9: EQ = | AE9: =$AC9 -> 5853659 | CD9: ..
B10: 마. 건강보험료 | C10: 직노×3.595% | D10: 1 | E10: 식 | F10: =H10+J10+L10 -> 0 | G10: =I10+K10+M10 -> 5853659 | I10: 0 | K10: 0 | M10: =TRUNC((K6*3.595/100),0) -> 5853659 | Q10: 60 | S10: F | Y10: .EQ=LA(20)*3.595/100_x000D_ | AB10: EQ+ = | AC10: =내역서!K6*4.75/100 -> 7734320 | AD10: EQ = | AE10: =$AC10 -> 7734320 | CD10: ..
B11: 바. 연금보험료 | C11: 직노×4.75% | D11: 1 | E11: 식 | F11: =H11+J11+L11 -> 0 | G11: =I11+K11+M11 -> 7734319 | I11: 0 | K11: 0 | M11: =TRUNC((K6*4.75/100),0) -> 7734319 | Q11: 70 | S11: F | Y11: .EQ=LA(20)*4.75/100_x000D_ | AB11: EQ+ = | AC11: =내역서!M10*13.14/100 -> 769170.79 | AD11: EQ = | AE11: =$AC11 -> 769170.79 | CD11: ..
B12: 사. 노인장기요양보험료 | C12: 건보×13.14% | D12: 1 | E12: 식 | F12: =H12+J12+L12 -> 0 | G12: =I12+K12+M12 -> 769170 | I12: 0 | K12: 0 | M12: =TRUNC((M10*13.14/100),0) -> 769170 | Q12: 80 | S12: F | Y12: .EQ=EQ(60)*13.14/100_x000D_ | AB12: EQ+ = | AC12: =내역서!K6*2.3/100 -> 3745039.1 | AD12: EQ = | AE12: =$AC12 -> 3745039.1 | CD12: ..
B13: 아. 퇴직공제부금비 | C13: 직노×2.3% | D13: 1 | E13: 식 | F13: =H13+J13+L13 -> 0 | G13: =I13+K13+M13 -> 3745039 | I13: 0 | K13: 0 | M13: =TRUNC((K6*2.3/100),0) -> 3745039 | Q13: 90 | S13: F | Y13: .EQ=LA(20)*2.3/100_x000D_ | CD13: ..
B14: 자. 건설기계대여대금지급보증서발급금액 | C14: 직접공사비×0.1% | D14: 1 | E14: 식 | F14: =H14+J14+L14 -> 0 | G14: =I14+K14+M14 -> 335329 | I14: 0 | K14: 0 | M14: =TRUNC(((I6+K6+M6)*0.1/100),0) -> 335329 | O14: ◇전문(그외) | Q14: 100 | S14: F | Y14: '전문건설업, 그외'_x000D_ .EQ=TOT(20)*0.1/100_x000D_ | AB14: EQ+ = | AC14: =(내역서!I6+내역서!K6+내역서!M6)*0.1/100 -> 335329.06 | AD14: EQ = | AE14: =$AC14 -> 335329.06 | CD14: ..
B15: 차. 산업안전보건관리비 | C15: (재+직노)×3.15% | D15: 1 | E15: 식 | F15: =H15+J15+L15 -> 0 | G15: =I15+K15+M15 -> 10042193 | I15: 0 | K15: 0 | M15: =TRUNC(((K6+I6)*3.15/100),0) -> 10042193 | O15: ◇토목(재+노5~50억) | Q15: 110 | S15: F | Y15: '공사규모 : 재료비(도급자관급포함)+직접노무비의 합계, 토목공사'_x000D_ .EQ=(LA(20)+MA(20))*2.53/100+3300000_x000D_ | AB15: EQ+ = | AC15: =(내역서!K6+내역서!I6)*2.53/100+3300000 -> 11365635 | AD15: EQ = | AE15: =$AC15 -> 11365635 | CD15: ..
B16: 카. 환경보전비 | C16: 직접공사비×0.8% | D16: 1 | E16: 식 | F16: =H16+J16+L16 -> 0 | G16: =I16+K16+M16 -> 2682632 | I16: 0 | K16: 0 | M16: =TRUNC(((I6+K6+M6)*0.8/100),0) -> 2682632 | O16: △토목그외 | Q16: 120 | S16: F | Y16: '토목,그외'_x000D_ .EQ=TOT(20)*0.8/100_x000D_ | AB16: EQ+ = | AC16: =(내역서!I6+내역서!K6+내역서!M6)*0.8/100 -> 2682632.5 | AD16: EQ = | AE16: =$AC16 -> 2682632.5 | CD16: ..
B17: 타. 기타 경비 | C17: (재+노)×5.7% | D17: 1 | E17: 식 | F17: =H17+J17+L17 -> 0 | G17: =I17+K17+M17 -> 19981419 | I17: 0 | K17: 0 | M17: =TRUNC(((I6+(K6+K7))*5.7/100),0) -> 19981419 | O17: ◇직공10억미만 8개월 | Q17: 130 | S17: F | Y17: '공사규모 : 직접공사비 10억 미만, 8개월이하'_x000D_ .EQ=(MA(20)+LA(20,30))*5.7/100_x000D_ | AB17: EQ+ = | AC17: =(내역서!K6+내역서!K7)*0.006/100 -> 11674.752 | AD17: EQ = | AE17: =$AC17 -> 11674.752 | CD17: ..
B18: 파. 석면분담금 | C18: 노무비×0.006% | D18: 1 | E18: 식 | F18: =H18+J18+L18 -> 0 | G18: =I18+K18+M18 -> 11674 | I18: 0 | K18: 0 | M18: =TRUNC(((K6+K7)*0.006/100),0) -> 11674 | Q18: 140 | S18: F | Y18: .EQ=LA(20,30)*0.006/100_x000D_ | AB18: EQ+ = | AC18: =(내역서!K6+내역서!K7)*0.09/100 -> 175121.29 | AD18: EQ = | AE18: =$AC18 -> 175121.29 | CD18: ..
B19: 하. 임금채권부담금 | C19: 노무비×0.09% | D19: 1 | E19: 식 | F19: =H19+J19+L19 -> 0 | G19: =I19+K19+M19 -> 175121 | I19: 0 | K19: 0 | M19: =TRUNC(((K6+K7)*0.09/100),0) -> 175121 | Q19: 150 | S19: F | Y19: .EQ=LA(20,30)*0.09/100_x000D_ | AB19: EQ+ = | AC19: =(내역서!K6+내역서!I6)*0.2/100 -> 637599.59 | AD19: EQ = | AE19: =$AC19 -> 637599.59 | CD19: ..
B20: 거. 하도급대금지급보증수수료 | C20: 직접공사비×0.081 | D20: 1 | E20: 식 | F20: =H20+J20+L20 -> 0 | G20: =I20+K20+M20 -> 271616 | I20: 0 | K20: 0 | M20: =TRUNC(((I6+K6+M6)*0.081/100),0) -> 271616 | O20: ◇전문(그외) | Q20: 100 | S20: F | Y20: '전문건설업, 그외'_x000D_ .EQ=TOT(20)*0.1/100_x000D_ | AB20: EQ+ = | AC20: =(내역서!I11+내역서!K11+내역서!M11)*0.1/100 -> 7734.319 | AD20: EQ = | AE20: =$AC20 -> 7734.319 | CD20: ..
B21: 너. 기타법정경비(시민안전관리비) | C21: (재+직노)×0.2% | D21: 1 | E21: 식 | F21: =H21+J21+L21 -> 0 | G21: =I21+K21+M21 -> 637599 | I21: 0 | K21: 0 | M21: =TRUNC(((K6+I6)*0.2/100),0) -> 637599 | Q21: 160 | S21: F | Y21: .EQ=(LA(20)+MA(20))*0.2/100_x000D_ | CD21: ..
B22: Ⅱ. 일반 관리비 | C22: (재+노+경)×6.5% | D22: 1 | E22: 식 | F22: =H22+J22+L22 -> 0 | G22: =I22+K22+M22 -> 27833813 | I22: 0 | K22: 0 | M22: =TRUNC(((I5+K5+M5)*6.5/100),0) -> 27833813 | O22: ◇추정가격(공급가액)5-30억미만 | Q22: 170 | S22: F | Y22: '추정가격(공급가액) 5-30억미만-전문공사'_x000D_ .EQ=TOT(10)*6.5/100_x000D_ | AB22: EQ+ = | AC22: =(내역서!I5+내역서!K5+내역서!M5)*6.5/100 -> 27833813 | AD22: EQ = | AE22: =$AC22 -> 27833813 | CD22: .
B23: Ⅲ. 이 윤 | C23: (노+경+일반관리비)×15.0% | D23: 1 | E23: 식 | F23: =H23+J23+L23 -> 0 | G23: =I23+K23+M23 -> 45008354 | I23: 0 | K23: 0 | M23: =원가계산서!F28 -> 45008354 | O23: ◇추정가격(공급가액)5-30억미만 | Q23: 180 | S23: F | Y23: '추정가격(공급가액) 5-30억미만-전문공사'_x000D_ .EQ=(LA(10)+EQ(10)+EQ(170))*15/100-951/1.1+1_x000D_ | AB23: EQ+ = | AC23: =(내역서!K5+내역서!M5+내역서!M22)*15/100-951/1.1+1 -> 45010284 | AD23: EQ = | AE23: =$AC23 -> 45010284 | CD23: .
B24: Ⅳ. 품질시험비 | D24: 1 | E24: 식 | F24: =H24+J24+L24 -> 3283000 | G24: =I24+K24+M24 -> 3283000 | H24: =I129 -> 0 | I24: =TRUNC(H24*D24,0) -> 0 | J24: =K129 -> 0 | K24: =TRUNC(J24*D24,0) -> 0 | L24: =M129 -> 3283000 | M24: =TRUNC(L24*D24,0) -> 3283000 | Q24: 190 | S24: DD2605C-2 | CD24: .
B25: Ⅴ. 열차접근경보앱 및 장치 | D25: 1 | E25: 식 | F25: =H25+J25+L25 -> 1980368 | G25: =I25+K25+M25 -> 1980368 | H25: =I140 -> 0 | I25: =TRUNC(H25*D25,0) -> 0 | J25: =K140 -> 0 | K25: =TRUNC(J25*D25,0) -> 0 | L25: =M140 -> 1980368 | M25: =TRUNC(L25*D25,0) -> 1980368 | Q25: 200 | S25: DD2605C-3 | CD25: .
B26: Ⅵ. 폐기물처리비 | D26: 1 | E26: 식 | F26: =H26+J26+L26 -> 2681951 | G26: =I26+K26+M26 -> 2681951 | H26: =I144 -> 0 | I26: =TRUNC(H26*D26,0) -> 0 | J26: =K144 -> 0 | K26: =TRUNC(J26*D26,0) -> 0 | L26: =M144 -> 2681951 | M26: =TRUNC(L26*D26,0) -> 2681951 | Q26: 210 | S26: DD2605C-4 | AB26: LA+ = | AC26: =내역서!K5+(내역서!K22+내역서!K23+내역서!K24+내역서!K25+내역서!K26) -> 194579207 | AD26: LA = | AE26: =$AC26 -> 194579207 | CD26: .
B27: Ⅶ. 공 급 가 액 | D27: 1 | E27: 식 | F27: =H27+J27+L27 -> 0 | G27: =I27+K27+M27 -> 509000000 | I27: =TRUNC((I5+(I22+I23+I24+I25+I26)),0) -> 155972007 | K27: =TRUNC((K5+(K22+K23+K24+K25+K26)),0) -> 194579207 | M27: =TRUNC((M5+(M22+M23+M24+M25+M26)),0) -> 158448786 | O27: ◇추정가격 | Q27: 220 | R27: * | S27: F | Y27: .LA=LA(10)+LA(170,0,210)_x000D_ .MA=MA(10)+MA(170,0,210)_x000D_ .EQ=EQ(10)+EQ(170,0,210)_x000D_ | AB27: EQ+ = | AC27: =(내역서!I27+내역서!K27+내역서!M27)*10/100 -> 50900000 | AD27: EQ = | AE27: =$AC27 -> 50900000 | CD27: .
B28: Ⅷ. 부가 가치세 | C28: 10% | D28: 1 | E28: 식 | F28: =H28+J28+L28 -> 0 | G28: =I28+K28+M28 -> 50900000 | I28: 0 | K28: 0 | M28: =TRUNC(((I27+K27+M27)*10/100),0) -> 50900000 | Q28: 230 | S28: F | Y28: .EQ=TOT(220,0,220)*10/100_x000D_ | AB28: MA+ = | AC28: =(내역서!I27+내역서!I28) -> 155972007 | AD28: MA = | AE28: =$AC28 -> 155972007 | CD28: .
B29: Ⅸ. 도 급 금 액 | D29: 1 | E29: 식 | F29: =H29+J29+L29 -> 0 | G29: =I29+K29+M29 -> 559900000 | I29: =TRUNC((I27+I28),0) -> 155972007 | K29: =TRUNC((K27+K28),0) -> 194579207 | M29: =TRUNC((M27+M28),0) -> 209348786 | Q29: 240 | R29: * | S29: F | Y29: .MA=MA(220,0,230)_x000D_ .LA=LA(220,0,230)_x000D_ .EQ=EQ(220,0,230)_x000D_ | AB29: LA+ = | AC29: =(내역서!K27+내역서!K28) -> 194579207 | AD29: LA = | AE29: =$AC29 -> 194579207 | CD29: .
F30: =H30+J30+L30 -> 0 | G30: =I30+K30+M30 -> 0 | I30: 0 | K30: 0 | M30: 0 | Q30: 250 | R30: S | AB30: EQ+ = | AC30: =(내역서!M27+내역서!M28) -> 209348786 | AD30: EQ = | AE30: =$AC30 -> 209348786
B31: 가. 직접공사비 | D31: 1 | E31: 식 | G31: =I31+K31+M31 -> 335329058 | I31: =TRUNC(I32+I33+I34+I35+I36+I37+I38+I39,0) -> 155972007 | K31: =TRUNC(K32+K33+K34+K35+K36+K37+K38+K39,0) -> 162827789 | M31: =TRUNC(M32+M33+M34+M35+M36+M37+M38+M39,0) -> 16529262 | P31: DD2605C-1
B32: 1. 초막천교 | D32: 1 | E32: 식 | F32: =H32+J32+L32 -> 173795887 | G32: =I32+K32+M32 -> 173795887 | H32: =I41 -> 108874818 | I32: =TRUNC(H32*D32,0) -> 108874818 | J32: =K41 -> 62344282 | K32: =TRUNC(J32*D32,0) -> 62344282 | L32: =M41 -> 2576787 | M32: =TRUNC(L32*D32,0) -> 2576787 | Q32: 10 | S32: DD2605C-11
B33: 2. 오십천19교 | D33: 1 | E33: 식 | F33: =H33+J33+L33 -> 10168609 | G33: =I33+K33+M33 -> 10168609 | H33: =I55 -> 2117071 | I33: =TRUNC(H33*D33,0) -> 2117071 | J33: =K55 -> 7808406 | K33: =TRUNC(J33*D33,0) -> 7808406 | L33: =M55 -> 243132 | M33: =TRUNC(L33*D33,0) -> 243132 | Q33: 20 | S33: DD2605C-12
B34: 3. 고사천교 | D34: 1 | E34: 식 | F34: =H34+J34+L34 -> 7431495 | G34: =I34+K34+M34 -> 7431495 | H34: =I66 -> 2389169 | I34: =TRUNC(H34*D34,0) -> 2389169 | J34: =K66 -> 4880820 | K34: =TRUNC(J34*D34,0) -> 4880820 | L34: =M66 -> 161506 | M34: =TRUNC(L34*D34,0) -> 161506 | Q34: 30 | S34: DD2605C-13
B35: 4. 지가교 | D35: 1 | E35: 식 | F35: =H35+J35+L35 -> 1655239 | G35: =I35+K35+M35 -> 1655239 | H35: =I78 -> 1069646 | I35: =TRUNC(H35*D35,0) -> 1069646 | J35: =K78 -> 569732 | K35: =TRUNC(J35*D35,0) -> 569732 | L35: =M78 -> 15861 | M35: =TRUNC(L35*D35,0) -> 15861 | Q35: 40 | S35: DD2605C-14
B36: 5. 전천교(영동선) | D36: 1 | E36: 식 | F36: =H36+J36+L36 -> 41827208 | G36: =I36+K36+M36 -> 41827208 | H36: =I86 -> 24904471 | I36: =TRUNC(H36*D36,0) -> 24904471 | J36: =K86 -> 16367866 | K36: =TRUNC(J36*D36,0) -> 16367866 | L36: =M86 -> 554871 | M36: =TRUNC(L36*D36,0) -> 554871 | Q36: 50 | S36: DD2605C-15 | BM36: =SUM(G32:G38,G118,G119,G124,G126)/G31 -> 0.80650038
B37: 6. 전천교(삼척선) | D37: 1 | E37: 식 | F37: =H37+J37+L37 -> 15980513 | G37: =I37+K37+M37 -> 15980513 | H37: =I97 -> 9739656 | I37: =TRUNC(H37*D37,0) -> 9739656 | J37: =K97 -> 6047009 | K37: =TRUNC(J37*D37,0) -> 6047009 | L37: =M97 -> 193848 | M37: =TRUNC(L37*D37,0) -> 193848 | Q37: 60 | S37: DD2605C-16
B38: 7. 평릉천교(묵호항선) | D38: 1 | E38: 식 | F38: =H38+J38+L38 -> 2014332 | G38: =I38+K38+M38 -> 2014332 | H38: =I109 -> 1270921 | I38: =TRUNC(H38*D38,0) -> 1270921 | J38: =K109 -> 720854 | K38: =TRUNC(J38*D38,0) -> 720854 | L38: =M109 -> 22557 | M38: =TRUNC(L38*D38,0) -> 22557 | Q38: 70 | S38: DD2605C-17
B39: 8. 부대공 | D39: 1 | E39: 식 | F39: =H39+J39+L39 -> 82455775 | G39: =I39+K39+M39 -> 82455775 | H39: =I117 -> 5606255 | I39: =TRUNC(H39*D39,0) -> 5606255 | J39: =K117 -> 64088820 | K39: =TRUNC(J39*D39,0) -> 64088820 | L39: =M117 -> 12760700 | M39: =TRUNC(L39*D39,0) -> 12760700 | Q39: 80 | S39: DD2605C-18
F40: =H40+J40+L40 -> 0 | G40: =I40+K40+M40 -> 0 | I40: 0 | K40: 0 | M40: 0 | Q40: 90
B41: 1. 초막천교 | D41: 1 | E41: 식 | G41: =I41+K41+M41 -> 173795887 | I41: =TRUNC(I44+I45+I47+I48+I51+I52+I53,0) -> 108874818 | K41: =TRUNC(K44+K45+K47+K48+K51+K52+K53,0) -> 62344282 | M41: =TRUNC(M44+M45+M47+M48+M51+M52+M53,0) -> 2576787 | P41: DD2605C-11
B42: 1.1 보수공 | F42: =H42+J42+L42 -> 0 | G42: =I42+K42+M42 -> 166120702 | I42: =TRUNC(I44+I45+I47+I48,0) -> 107499453 | K42: =TRUNC(K44+K45+K47+K48,0) -> 57073747 | M42: =TRUNC(M44+M45+M47+M48,0) -> 1547502 | Q42: 10 | CD42: .
B43: 1) 단면보수 | F43: =H43+J43+L43 -> 0 | G43: =I43+K43+M43 -> 19027906 | I43: =TRUNC(I44+I45,0) -> 11195608 | K43: =TRUNC(K44+K45,0) -> 7545513 | M43: =TRUNC(M44+M45,0) -> 286785 | Q43: 20 | CD43: ..
B44: 단면보수 | C44: 벽체,t=30mm, 기계스프레이 | D44: 56.66 | E44: m2 | F44: =H44+J44+L44 -> 236088 | G44: =I44+K44+M44 -> 13376746 | H44: =[1]일위대가목록!F24 -> 138800 | I44: =TRUNC(H44*D44,0) -> 7864408 | J44: =[1]일위대가목록!G24 -> 93547 | K44: =TRUNC(J44*D44,0) -> 5300373 | L44: =[1]일위대가목록!H24 -> 3741 | M44: =TRUNC(L44*D44,0) -> 211965 | N44: No.1 | O44: ◆강원본부교량 | Q44: 30 | S44: PJ4H0951301 | U44: T | CD44: ....
B45: 단면보수 | C45: 천정,t=30mm, 기계스프레이 | D45: 20 | E45: m2 | F45: =H45+J45+L45 -> 282558 | G45: =I45+K45+M45 -> 5651160 | H45: =[1]일위대가목록!F25 -> 166560 | I45: =TRUNC(H45*D45,0) -> 3331200 | J45: =[1]일위대가목록!G25 -> 112257 | K45: =TRUNC(J45*D45,0) -> 2245140 | L45: =[1]일위대가목록!H25 -> 3741 | M45: =TRUNC(L45*D45,0) -> 74820 | N45: No.2 | O45: ◆강원본부교량 | Q45: 40 | S45: PJ4H0951302 | U45: T | CD45: ....
B46: 2) 단면보수 | C46: 방청 | F46: =H46+J46+L46 -> 0 | G46: =I46+K46+M46 -> 147092796 | I46: =TRUNC(I47+I48,0) -> 96303845 | K46: =TRUNC(K47+K48,0) -> 49528234 | M46: =TRUNC(M47+M48,0) -> 1260717 | Q46: 50 | CD46: ..
B47: 단면보수 | C47: 벽체,t=50mm, 철근노출,기계스프레이 | D47: 75 | E47: m2 | F47: =H47+J47+L47 -> 387288 | G47: =I47+K47+M47 -> 29046600 | H47: =[1]일위대가목록!F26 -> 251125 | I47: =TRUNC(H47*D47,0) -> 18834375 | J47: =[1]일위대가목록!G26 -> 132422 | K47: =TRUNC(J47*D47,0) -> 9931650 | L47: =[1]일위대가목록!H26 -> 3741 | M47: =TRUNC(L47*D47,0) -> 280575 | N47: No.3 | O47: ◆강원본부교량 | Q47: 60 | S47: PJ4H0952501 | U47: T | CD47: ....
B48: 단면보수 | C48: 천정,t=50mm, 철근노출,기계스프레이 | D48: 262 | E48: m2 | F48: =H48+J48+L48 -> 450558 | G48: =I48+K48+M48 -> 118046196 | H48: =[1]일위대가목록!F27 -> 295685 | I48: =TRUNC(H48*D48,0) -> 77469470 | J48: =[1]일위대가목록!G27 -> 151132 | K48: =TRUNC(J48*D48,0) -> 39596584 | L48: =[1]일위대가목록!H27 -> 3741 | M48: =TRUNC(L48*D48,0) -> 980142 | N48: No.4 | O48: ◆강원본부교량 | Q48: 70 | S48: PJ4H0952502 | U48: T | CD48: ....
B49: 1.2 배수공 | F49: =H49+J49+L49 -> 0 | G49: =I49+K49+M49 -> 7675185 | I49: =TRUNC(I51+I52+I53,0) -> 1375365 | K49: =TRUNC(K51+K52+K53,0) -> 5270535 | M49: =TRUNC(M51+M52+M53,0) -> 1029285 | Q49: 80 | CD49: .
B50: 1) 유도배수로 | F50: =H50+J50+L50 -> 0 | G50: =I50+K50+M50 -> 7675185 | I50: =TRUNC(I51+I52+I53,0) -> 1375365 | K50: =TRUNC(K51+K52+K53,0) -> 5270535 | M50: =TRUNC(M51+M52+M53,0) -> 1029285 | Q50: 90 | CD50: ..
B51: 유도배수관 | C51: 스텐강판 STS304, t=1.5mm | D51: 45 | E51: m | F51: =H51+J51+L51 -> 131397 | G51: =I51+K51+M51 -> 5912865 | H51: =[1]일위대가목록!F17 -> 14669 | I51: =TRUNC(H51*D51,0) -> 660105 | J51: =[1]일위대가목록!G17 -> 93855 | K51: =TRUNC(J51*D51,0) -> 4223475 | L51: =[1]일위대가목록!H17 -> 22873 | M51: =TRUNC(L51*D51,0) -> 1029285 | N51: #.15 | O51: ■26품셈-영동선 | Q51: 100 | S51: PJ4E1209B1 | U51: F | CD51: ....
B52: 볼트체결(칼블록) | C52: 6X130 | D52: 300 | E52: ea | F52: =H52+J52+L52 -> 400 | G52: =I52+K52+M52 -> 120000 | H52: =[1]자재조서!E16 -> 400 | I52: =TRUNC(H52*D52,0) -> 120000 | J52: 0 | L52: 0 | N52: M2865Z01 | Q52: 110 | S52: M2865Z01 | CD52: ....
B53: 에폭시마감 | D53: 90 | E53: m2 | F53: =H53+J53+L53 -> 18248 | G53: =I53+K53+M53 -> 1642320 | H53: =[1]일위대가목록!F9 -> 6614 | I53: =TRUNC(H53*D53,0) -> 595260 | J53: =[1]일위대가목록!G9 -> 11634 | K53: =TRUNC(J53*D53,0) -> 1047060 | L53: =[1]일위대가목록!H9 -> 0 | M53: =TRUNC(L53*D53,0) -> 0 | N53: #.7 | O53: ■25품셈 | Q53: 120 | S53: K02501090H1 | U53: F | CD53: ....
F54: =H54+J54+L54 -> 0 | G54: =I54+K54+M54 -> 0 | I54: 0 | K54: 0 | M54: 0 | Q54: 130
B55: 2. 오십천19교 | D55: 1 | E55: 식 | G55: =I55+K55+M55 -> 10168609 | I55: =TRUNC(I58+I59+I61+I63+I64,0) -> 2117071 | K55: =TRUNC(K58+K59+K61+K63+K64,0) -> 7808406 | M55: =TRUNC(M58+M59+M61+M63+M64,0) -> 243132 | P55: DD2605C-12
B56: 2.1 보수공 | F56: =H56+J56+L56 -> 0 | G56: =I56+K56+M56 -> 10168609 | I56: =TRUNC(I58+I59+I61+I63+I64,0) -> 2117071 | K56: =TRUNC(K58+K59+K61+K63+K64,0) -> 7808406 | M56: =TRUNC(M58+M59+M61+M63+M64,0) -> 243132 | Q56: 10 | CD56: .
B57: 1) 단면보수 | F57: =H57+J57+L57 -> 0 | G57: =I57+K57+M57 -> 1811552 | I57: =TRUNC(I58+I59,0) -> 1065428 | K57: =TRUNC(K58+K59,0) -> 718067 | M57: =TRUNC(M58+M59,0) -> 28057 | Q57: 20 | CD57: ..
B58: 단면보수 | C58: 벽체,t=30mm, 기계스프레이 | D58: 6.62 | E58: m2 | F58: =H58+J58+L58 -> 236088 | G58: =I58+K58+M58 -> 1562902 | H58: =[1]일위대가목록!F24 -> 138800 | I58: =TRUNC(H58*D58,0) -> 918856 | J58: =[1]일위대가목록!G24 -> 93547 | K58: =TRUNC(J58*D58,0) -> 619281 | L58: =[1]일위대가목록!H24 -> 3741 | M58: =TRUNC(L58*D58,0) -> 24765 | N58: No.1 | O58: ◆강원본부교량 | Q58: 30 | S58: PJ4H0951301 | U58: T | CD58: ....
B59: 단면보수 | C59: 천정,t=30mm, 기계스프레이 | D59: 0.88 | E59: m2 | F59: =H59+J59+L59 -> 282558 | G59: =I59+K59+M59 -> 248650 | H59: =[1]일위대가목록!F25 -> 166560 | I59: =TRUNC(H59*D59,0) -> 146572 | J59: =[1]일위대가목록!G25 -> 112257 | K59: =TRUNC(J59*D59,0) -> 98786 | L59: =[1]일위대가목록!H25 -> 3741 | M59: =TRUNC(L59*D59,0) -> 3292 | N59: No.2 | O59: ◆강원본부교량 | Q59: 40 | S59: PJ4H0951302 | U59: T | CD59: ....
B60: 2) 단면보수 | C60: 방청 | F60: =H60+J60+L60 -> 0 | G60: =I60+K60+M60 -> 1225517 | I60: =TRUNC(I61,0) -> 804263 | K60: =TRUNC(K61,0) -> 411079 | M60: =TRUNC(M61,0) -> 10175 | Q60: 50 | CD60: ..
B61: 단면보수 | C61: 천정,t=50mm, 철근노출,기계스프레이 | D61: 2.72 | E61: m2 | F61: =H61+J61+L61 -> 450558 | G61: =I61+K61+M61 -> 1225517 | H61: =[1]일위대가목록!F27 -> 295685 | I61: =TRUNC(H61*D61,0) -> 804263 | J61: =[1]일위대가목록!G27 -> 151132 | K61: =TRUNC(J61*D61,0) -> 411079 | L61: =[1]일위대가목록!H27 -> 3741 | M61: =TRUNC(L61*D61,0) -> 10175 | N61: No.4 | O61: ◆강원본부교량 | Q61: 60 | S61: PJ4H0952502 | U61: T | CD61: ....
B62: 3) 강재재도장 | C62: 야간 | F62: =H62+J62+L62 -> 0 | G62: =I62+K62+M62 -> 7131540 | I62: =TRUNC(I63+I64,0) -> 247380 | K62: =TRUNC(K63+K64,0) -> 6679260 | M62: =TRUNC(M63+M64,0) -> 204900 | Q62: 70 | CD62: ..
B63: 강재재도장 | C63: 녹막이1회+조합2회(붓칠)(야간할증) | D63: 60 | E63: m2 | F63: =H63+J63+L63 -> 29460 | G63: =I63+K63+M63 -> 1767600 | H63: =[1]일위대가목록!F18 -> 2298 | I63: =TRUNC(H63*D63,0) -> 137880 | J63: =[1]일위대가목록!G18 -> 27162 | K63: =TRUNC(J63*D63,0) -> 1629720 | L63: =[1]일위대가목록!H18 -> 0 | M63: =TRUNC(L63*D63,0) -> 0 | N63: #.16 | O63: ■기타25 | Q63: 80 | S63: PJ4H010410-T | U63: F | CD63: ....
B64: 재도장 바탕처리 | C64: B급(야간할증) | D64: 60 | E64: m2 | F64: =H64+J64+L64 -> 89399 | G64: =I64+K64+M64 -> 5363940 | H64: =[1]일위대가목록!F7 -> 1825 | I64: =TRUNC(H64*D64,0) -> 109500 | J64: =[1]일위대가목록!G7 -> 84159 | K64: =TRUNC(J64*D64,0) -> 5049540 | L64: =[1]일위대가목록!H7 -> 3415 | M64: =TRUNC(L64*D64,0) -> 204900 | N64: #.5 | O64: ■25품셈 | Q64: 90 | S64: K015080C72-T | U64: F | CD64: ....
F65: =H65+J65+L65 -> 0 | G65: =I65+K65+M65 -> 0 | I65: 0 | K65: 0 | M65: 0 | Q65: 100
B66: 3. 고사천교 | D66: 1 | E66: 식 | G66: =I66+K66+M66 -> 7431495 | I66: =TRUNC(I69+I71+I73+I75+I76,0) -> 2389169 | K66: =TRUNC(K69+K71+K73+K75+K76,0) -> 4880820 | M66: =TRUNC(M69+M71+M73+M75+M76,0) -> 161506 | P66: DD2605C-13
B67: 3.1 보수공 | F67: =H67+J67+L67 -> 0 | G67: =I67+K67+M67 -> 7431495 | I67: =TRUNC(I69+I71+I73+I75+I76,0) -> 2389169 | K67: =TRUNC(K69+K71+K73+K75+K76,0) -> 4880820 | M67: =TRUNC(M69+M71+M73+M75+M76,0) -> 161506 | Q67: 10 | CD67: .
B68: 1) 단면보수 | F68: =H68+J68+L68 -> 0 | G68: =I68+K68+M68 -> 3524793 | I68: =TRUNC(I69,0) -> 2072284 | K68: =TRUNC(K69,0) -> 1396656 | M68: =TRUNC(M69,0) -> 55853 | Q68: 20 | CD68: ..
B69: 단면보수 | C69: 벽체,t=30mm, 기계스프레이 | D69: 14.93 | E69: m2 | F69: =H69+J69+L69 -> 236088 | G69: =I69+K69+M69 -> 3524793 | H69: =[1]일위대가목록!F24 -> 138800 | I69: =TRUNC(H69*D69,0) -> 2072284 | J69: =[1]일위대가목록!G24 -> 93547 | K69: =TRUNC(J69*D69,0) -> 1396656 | L69: =[1]일위대가목록!H24 -> 3741 | M69: =TRUNC(L69*D69,0) -> 55853 | N69: No.1 | O69: ◆강원본부교량 | Q69: 30 | S69: PJ4H0951301 | U69: T | CD69: ....
B70: 2) 단면보수 | C70: 방청 | F70: =H70+J70+L70 -> 0 | G70: =I70+K70+M70 -> 198245 | I70: =TRUNC(I71,0) -> 130101 | K70: =TRUNC(K71,0) -> 66498 | M70: =TRUNC(M71,0) -> 1646 | Q70: 40 | CD70: ..
B71: 단면보수 | C71: 천정,t=50mm, 철근노출,기계스프레이 | D71: 0.44 | E71: m2 | F71: =H71+J71+L71 -> 450558 | G71: =I71+K71+M71 -> 198245 | H71: =[1]일위대가목록!F27 -> 295685 | I71: =TRUNC(H71*D71,0) -> 130101 | J71: =[1]일위대가목록!G27 -> 151132 | K71: =TRUNC(J71*D71,0) -> 66498 | L71: =[1]일위대가목록!H27 -> 3741 | M71: =TRUNC(L71*D71,0) -> 1646 | N71: No.4 | O71: ◆강원본부교량 | Q71: 50 | S71: PJ4H0952502 | U71: T | CD71: ....
B72: 3) 주입보수 | C72: 0.3mm이상 | F72: =H72+J72+L72 -> 0 | G72: =I72+K72+M72 -> 142687 | I72: =TRUNC(I73,0) -> 63094 | K72: =TRUNC(K73,0) -> 78036 | M72: =TRUNC(M73,0) -> 1557 | Q72: 60 | CD72: ..
B73: 주입보수 | C73: 벽체 | D73: 3.5 | E73: m | F73: =H73+J73+L73 -> 40768 | G73: =I73+K73+M73 -> 142687 | H73: =[1]일위대가목록!F19 -> 18027 | I73: =TRUNC(H73*D73,0) -> 63094 | J73: =[1]일위대가목록!G19 -> 22296 | K73: =TRUNC(J73*D73,0) -> 78036 | L73: =[1]일위대가목록!H19 -> 445 | M73: =TRUNC(L73*D73,0) -> 1557 | N73: #.17 | O73: ■25품셈 | Q73: 70 | S73: PJ4H090164 | U73: F | CD73: ....
B74: 4) 강재재도장 | C74: 야간 | F74: =H74+J74+L74 -> 0 | G74: =I74+K74+M74 -> 3565770 | I74: =TRUNC(I75+I76,0) -> 123690 | K74: =TRUNC(K75+K76,0) -> 3339630 | M74: =TRUNC(M75+M76,0) -> 102450 | Q74: 80 | CD74: ..
B75: 강재재도장 | C75: 녹막이1회+조합2회(붓칠)(야간할증) | D75: 30 | E75: m2 | F75: =H75+J75+L75 -> 29460 | G75: =I75+K75+M75 -> 883800 | H75: =[1]일위대가목록!F18 -> 2298 | I75: =TRUNC(H75*D75,0) -> 68940 | J75: =[1]일위대가목록!G18 -> 27162 | K75: =TRUNC(J75*D75,0) -> 814860 | L75: =[1]일위대가목록!H18 -> 0 | M75: =TRUNC(L75*D75,0) -> 0 | N75: #.16 | O75: ■기타25 | Q75: 90 | S75: PJ4H010410-T | U75: F | CD75: ....
B76: 재도장 바탕처리 | C76: B급(야간할증) | D76: 30 | E76: m2 | F76: =H76+J76+L76 -> 89399 | G76: =I76+K76+M76 -> 2681970 | H76: =[1]일위대가목록!F7 -> 1825 | I76: =TRUNC(H76*D76,0) -> 54750 | J76: =[1]일위대가목록!G7 -> 84159 | K76: =TRUNC(J76*D76,0) -> 2524770 | L76: =[1]일위대가목록!H7 -> 3415 | M76: =TRUNC(L76*D76,0) -> 102450 | N76: #.5 | O76: ■25품셈 | Q76: 100 | S76: K015080C72-T | U76: F | CD76: ....
F77: =H77+J77+L77 -> 0 | G77: =I77+K77+M77 -> 0 | I77: 0 | K77: 0 | M77: 0 | Q77: 150
B78: 4. 지가교 | D78: 1 | E78: 식 | G78: =I78+K78+M78 -> 1655239 | I78: =TRUNC(I81+I83+I84,0) -> 1069646 | K78: =TRUNC(K81+K83+K84,0) -> 569732 | M78: =TRUNC(M81+M83+M84,0) -> 15861 | P78: DD2605C-14
B79: 4.1 보수공 | F79: =H79+J79+L79 -> 0 | G79: =I79+K79+M79 -> 1655239 | I79: =TRUNC(I81+I83+I84,0) -> 1069646 | K79: =TRUNC(K81+K83+K84,0) -> 569732 | M79: =TRUNC(M81+M83+M84,0) -> 15861 | Q79: 10 | CD79: .
B80: 1) 단면보수 | F80: =H80+J80+L80 -> 0 | G80: =I80+K80+M80 -> 177065 | I80: =TRUNC(I81,0) -> 104100 | K80: =TRUNC(K81,0) -> 70160 | M80: =TRUNC(M81,0) -> 2805 | Q80: 20 | CD80: ..
B81: 단면보수 | C81: 벽체,t=30mm, 기계스프레이 | D81: 0.75 | E81: m2 | F81: =H81+J81+L81 -> 236088 | G81: =I81+K81+M81 -> 177065 | H81: =[1]일위대가목록!F24 -> 138800 | I81: =TRUNC(H81*D81,0) -> 104100 | J81: =[1]일위대가목록!G24 -> 93547 | K81: =TRUNC(J81*D81,0) -> 70160 | L81: =[1]일위대가목록!H24 -> 3741 | M81: =TRUNC(L81*D81,0) -> 2805 | N81: No.1 | O81: ◆강원본부교량 | Q81: 30 | S81: PJ4H0951301 | U81: T | CD81: ....
B82: 2) 단면보수 | C82: 방청 | F82: =H82+J82+L82 -> 0 | G82: =I82+K82+M82 -> 1478174 | I82: =TRUNC(I83+I84,0) -> 965546 | K82: =TRUNC(K83+K84,0) -> 499572 | M82: =TRUNC(M83+M84,0) -> 13056 | Q82: 40 | CD82: ..
B83: 단면보수 | C83: 벽체,t=50mm, 철근노출,기계스프레이 | D83: 1.49 | E83: m2 | F83: =H83+J83+L83 -> 387288 | G83: =I83+K83+M83 -> 577058 | H83: =[1]일위대가목록!F26 -> 251125 | I83: =TRUNC(H83*D83,0) -> 374176 | J83: =[1]일위대가목록!G26 -> 132422 | K83: =TRUNC(J83*D83,0) -> 197308 | L83: =[1]일위대가목록!H26 -> 3741 | M83: =TRUNC(L83*D83,0) -> 5574 | N83: No.3 | O83: ◆강원본부교량 | Q83: 50 | S83: PJ4H0952501 | U83: T | CD83: ....
B84: 단면보수 | C84: 천정,t=50mm, 철근노출,기계스프레이 | D84: 2 | E84: m2 | F84: =H84+J84+L84 -> 450558 | G84: =I84+K84+M84 -> 901116 | H84: =[1]일위대가목록!F27 -> 295685 | I84: =TRUNC(H84*D84,0) -> 591370 | J84: =[1]일위대가목록!G27 -> 151132 | K84: =TRUNC(J84*D84,0) -> 302264 | L84: =[1]일위대가목록!H27 -> 3741 | M84: =TRUNC(L84*D84,0) -> 7482 | N84: No.4 | O84: ◆강원본부교량 | Q84: 60 | S84: PJ4H0952502 | U84: T | CD84: ....
F85: =H85+J85+L85 -> 0 | G85: =I85+K85+M85 -> 0 | I85: 0 | K85: 0 | M85: 0 | Q85: 70
B86: 5. 전천교(영동선) | D86: 1 | E86: 식 | G86: =I86+K86+M86 -> 41827208 | I86: =TRUNC(I89+I90+I92+I93+I95,0) -> 24904471 | K86: =TRUNC(K89+K90+K92+K93+K95,0) -> 16367866 | M86: =TRUNC(M89+M90+M92+M93+M95,0) -> 554871 | P86: DD2605C-15
B87: 5.1 보수공 | F87: =H87+J87+L87 -> 0 | G87: =I87+K87+M87 -> 41827208 | I87: =TRUNC(I89+I90+I92+I93+I95,0) -> 24904471 | K87: =TRUNC(K89+K90+K92+K93+K95,0) -> 16367866 | M87: =TRUNC(M89+M90+M92+M93+M95,0) -> 554871 | Q87: 10 | CD87: .
B88: 1) 단면보수 | F88: =H88+J88+L88 -> 0 | G88: =I88+K88+M88 -> 37295095 | I88: =TRUNC(I89+I90,0) -> 21971484 | K88: =TRUNC(K89+K90,0) -> 14808177 | M88: =TRUNC(M89+M90,0) -> 515434 | Q88: 20 | CD88: ..
B89: 단면보수 | C89: 벽체,t=30mm, 기계스프레이 | D89: 35.2 | E89: m2 | F89: =H89+J89+L89 -> 236088 | G89: =I89+K89+M89 -> 8310297 | H89: =[1]일위대가목록!F24 -> 138800 | I89: =TRUNC(H89*D89,0) -> 4885760 | J89: =[1]일위대가목록!G24 -> 93547 | K89: =TRUNC(J89*D89,0) -> 3292854 | L89: =[1]일위대가목록!H24 -> 3741 | M89: =TRUNC(L89*D89,0) -> 131683 | N89: No.1 | O89: ◆강원본부교량 | Q89: 30 | S89: PJ4H0951301 | U89: T | CD89: ....
B90: 단면보수 | C90: 천정,t=30mm, 기계스프레이 | D90: 102.58 | E90: m2 | F90: =H90+J90+L90 -> 282558 | G90: =I90+K90+M90 -> 28984798 | H90: =[1]일위대가목록!F25 -> 166560 | I90: =TRUNC(H90*D90,0) -> 17085724 | J90: =[1]일위대가목록!G25 -> 112257 | K90: =TRUNC(J90*D90,0) -> 11515323 | L90: =[1]일위대가목록!H25 -> 3741 | M90: =TRUNC(L90*D90,0) -> 383751 | N90: No.2 | O90: ◆강원본부교량 | Q90: 40 | S90: PJ4H0951302 | U90: T | CD90: ....
B91: 2) 단면보수 | C91: 방청 | F91: =H91+J91+L91 -> 0 | G91: =I91+K91+M91 -> 4377196 | I91: =TRUNC(I92+I93,0) -> 2864485 | K91: =TRUNC(K92+K93,0) -> 1474965 | M91: =TRUNC(M92+M93,0) -> 37746 | Q91: 50 | CD91: ..
B92: 단면보수 | C92: 벽체,t=50mm, 철근노출,기계스프레이 | D92: 2.67 | E92: m2 | F92: =H92+J92+L92 -> 387288 | G92: =I92+K92+M92 -> 1034057 | H92: =[1]일위대가목록!F26 -> 251125 | I92: =TRUNC(H92*D92,0) -> 670503 | J92: =[1]일위대가목록!G26 -> 132422 | K92: =TRUNC(J92*D92,0) -> 353566 | L92: =[1]일위대가목록!H26 -> 3741 | M92: =TRUNC(L92*D92,0) -> 9988 | N92: No.3 | O92: ◆강원본부교량 | Q92: 60 | S92: PJ4H0952501 | U92: T | CD92: ....
B93: 단면보수 | C93: 천정,t=50mm, 철근노출,기계스프레이 | D93: 7.42 | E93: m2 | F93: =H93+J93+L93 -> 450558 | G93: =I93+K93+M93 -> 3343139 | H93: =[1]일위대가목록!F27 -> 295685 | I93: =TRUNC(H93*D93,0) -> 2193982 | J93: =[1]일위대가목록!G27 -> 151132 | K93: =TRUNC(J93*D93,0) -> 1121399 | L93: =[1]일위대가목록!H27 -> 3741 | M93: =TRUNC(L93*D93,0) -> 27758 | N93: No.4 | O93: ◆강원본부교량 | Q93: 70 | S93: PJ4H0952502 | U93: T | CD93: ....
B94: 3) 주입보수 | C94: 0.3mm이상 | F94: =H94+J94+L94 -> 0 | G94: =I94+K94+M94 -> 154917 | I94: =TRUNC(I95,0) -> 68502 | K94: =TRUNC(K95,0) -> 84724 | M94: =TRUNC(M95,0) -> 1691 | Q94: 80 | CD94: ..
B95: 주입보수 | C95: 벽체 | D95: 3.8 | E95: m | F95: =H95+J95+L95 -> 40768 | G95: =I95+K95+M95 -> 154917 | H95: =[1]일위대가목록!F19 -> 18027 | I95: =TRUNC(H95*D95,0) -> 68502 | J95: =[1]일위대가목록!G19 -> 22296 | K95: =TRUNC(J95*D95,0) -> 84724 | L95: =[1]일위대가목록!H19 -> 445 | M95: =TRUNC(L95*D95,0) -> 1691 | N95: #.17 | O95: ■25품셈 | Q95: 90 | S95: PJ4H090164 | U95: F | CD95: ....
F96: =H96+J96+L96 -> 0 | G96: =I96+K96+M96 -> 0 | I96: 0 | K96: 0 | M96: 0 | Q96: 150
B97: 6. 전천교(삼척선) | D97: 1 | E97: 식 | G97: =I97+K97+M97 -> 15980513 | I97: =TRUNC(I100+I101+I103+I104+I106+I107,0) -> 9739656 | K97: =TRUNC(K100+K101+K103+K104+K106+K107,0) -> 6047009 | M97: =TRUNC(M100+M101+M103+M104+M106+M107,0) -> 193848 | P97: DD2605C-16
B98: 6.1 보수공 | F98: =H98+J98+L98 -> 0 | G98: =I98+K98+M98 -> 15980513 | I98: =TRUNC(I100+I101+I103+I104+I106+I107,0) -> 9739656 | K98: =TRUNC(K100+K101+K103+K104+K106+K107,0) -> 6047009 | M98: =TRUNC(M100+M101+M103+M104+M106+M107,0) -> 193848 | Q98: 10 | CD98: .
B99: 1) 단면보수 | F99: =H99+J99+L99 -> 0 | G99: =I99+K99+M99 -> 10545349 | I99: =TRUNC(I100+I101,0) -> 6211300 | K99: =TRUNC(K100+K101,0) -> 4186243 | M99: =TRUNC(M100+M101,0) -> 147806 | Q99: 20 | CD99: ..
B100: 단면보수 | C100: 벽체,t=30mm, 기계스프레이 | D100: 13.31 | E100: m2 | F100: =H100+J100+L100 -> 236088 | G100: =I100+K100+M100 -> 3142330 | H100: =[1]일위대가목록!F24 -> 138800 | I100: =TRUNC(H100*D100,0) -> 1847428 | J100: =[1]일위대가목록!G24 -> 93547 | K100: =TRUNC(J100*D100,0) -> 1245110 | L100: =[1]일위대가목록!H24 -> 3741 | M100: =TRUNC(L100*D100,0) -> 49792 | N100: No.1 | O100: ◆강원본부교량 | Q100: 30 | S100: PJ4H0951301 | U100: T | CD100: ....
...
