Workbook

Sheet 갑지
A1: 과 장 | C1: 담 당 | E1: 심사자 | G1: 설계자 | I1: 설 계 | J1: 2026년 09월 일 | L1: 결 재
I2: 심 사 | J2: 2026년 09월 일 | L2: 월 일
A4: 설 계 서
B7: 공사명 : 2026년 사평대로 장기사용 송배수관 정비공사
B9: 구 분 | E9: 금 액 | K9: 비 고
B10: 총 공 사 비 | E10: ="금"&NUMBERSTRING(I10,1)& "원" -> 금영원 | I10: =I13+I14+I15 -> 0
B11: 도급비 | C11: 공 사 원 가 | E11: ="금"&NUMBERSTRING(I11,1)& "원" -> 금영원 | I11: =공사원가계산서!D31 -> 0
C12: 부 가 가 치 세 | E12: ="금"&NUMBERSTRING(I12,1)& "원" -> 금영원 | I12: =공사원가계산서!D32 -> 0
C13: 계 | E13: ="금"&NUMBERSTRING(I13,1)& "원" -> 금영원 | I13: =I11+I12 -> 0
B14: 관 급 자 재 비 | E14: ="금"&NUMBERSTRING(I14,1)& "원" -> 금영원 | I14: =공사원가계산서!D34 -> 0
B15: 이전비(포장복구비등) | E15: ="금"&NUMBERSTRING(I15,1)& "원" -> 금영원
B17: 공 사 개 요 | K17: 비 고
C19: 1 | D19: 관로공 | E19: : | F19: D1350mm, L=107.0m ; D1000mm, L=815.5m
C21: 2 | D21: 구조물공 | E21: : | F21: 제수밸브실 5개소, 공기밸브실 13개소, 원형밸브실 7개소
C23: 3 | D23: 추진공 | E23: : | F23: 강관압입 D1650㎜, L=32.0m

Sheet 공사원가계산서
A1: 공 사 원 가 계 산 서 | G1: STmate | H1: STmate
A2: 공사명 : 사평대로장기사용배수관정비공사(1공구) | F2: 공사기간: 2026년10월 ~ 2027년8월 | G2: =MID(CELL("filename",$A$1),FIND("]",CELL("filename",$A$1))+1,LEN(CELL("filename",$A$1))) -> 공사원가계산서
A3: 구 분 | D3: 금 액 | E3: 구 성 비 | F3: 비 고
A4: 비 목 | H4: =HYPERLINK("#'〓 목 차 〓'!B2","목차 →") -> 목차 →
A5: 순 공 사 원 가 | B5: 재 료 비 | C5: 직 접 재 료 비 | D5: =총괄설계내역서!E17-D6+D7 -> 0 | H5: =HYPERLINK("#"&총괄설계내역서!H2&"!E"&ROW(총괄설계내역서!E17),"총괄표 →") -> 총괄표 →
C6: 간 접 재 료 비 | D6: 0
C7: 작업설,부산물등(△) | D7: 0
C8: 소 계 | D8: =+D5+D6-D7 -> 0
B9: 노 무 비 | C9: 직 접 노 무 비 | D9: =총괄설계내역서!F17 -> 0 | H9: =HYPERLINK("#"&총괄설계내역서!H2&"!F"&ROW(총괄설계내역서!F17),"총괄표 →") -> 총괄표 →
C10: 간 접 노 무 비 | D10: =총괄설계내역서!D18 -> 0 | F10: =총괄설계내역서!E18 -> 직접노무비 x 19.3% | H10: =HYPERLINK("#"&총괄설계내역서!H2&"!D"&ROW(총괄설계내역서!D18),"총괄표 →") -> 총괄표 →
C11: 소 계 | D11: =+D9+D10 -> 0
B12: 경 비 | C12: 산 출 경 비 | D12: =총괄설계내역서!G17 -> 0 | H12: =HYPERLINK("#"&총괄설계내역서!H2&"!G"&ROW(총괄설계내역서!G17),"총괄표 →") -> 총괄표 →
C13: 산 재 보 험 료 | D13: =총괄설계내역서!D19 -> 0 | F13: =총괄설계내역서!E19 -> (직접노무비+간접노무비) x 3.56% | H13: =HYPERLINK("#"&총괄설계내역서!H2&"!D"&ROW(총괄설계내역서!D19),"총괄표 →") -> 총괄표 →
C14: 고 용 보 험 료 | D14: =총괄설계내역서!D20 -> 0 | F14: =총괄설계내역서!E20 -> (직접노무비+간접노무비) x 1.01% | H14: =HYPERLINK("#"&총괄설계내역서!H2&"!D"&ROW(총괄설계내역서!D20),"총괄표 →") -> 총괄표 →
C15: 건 강 보 험 료 | D15: =총괄설계내역서!D21 -> 0 | F15: =총괄설계내역서!E21 -> 직접노무비 x 3.595% | H15: =HYPERLINK("#"&총괄설계내역서!H2&"!D"&ROW(총괄설계내역서!D21),"총괄표 →") -> 총괄표 →
C16: 노인장기요양보험료 | D16: =총괄설계내역서!D22 -> 0 | F16: =총괄설계내역서!E22 -> 건강보험료 x 13.14% | H16: =HYPERLINK("#"&총괄설계내역서!H2&"!D"&ROW(총괄설계내역서!D22),"총괄표 →") -> 총괄표 →
C17: 연 금 보 험 료 | D17: =총괄설계내역서!D23 -> 0 | F17: =총괄설계내역서!E23 -> 직접노무비 x 4.75% | H17: =HYPERLINK("#"&총괄설계내역서!H2&"!D"&ROW(총괄설계내역서!D23),"총괄표 →") -> 총괄표 →
C18: 퇴 직 공 제 부 금 비 | D18: =총괄설계내역서!D24 -> 0 | F18: =총괄설계내역서!E24 -> 직접노무비 x 2.3% | H18: =HYPERLINK("#"&총괄설계내역서!H2&"!D"&ROW(총괄설계내역서!D24),"총괄표 →") -> 총괄표 →
C19: 산업안전보건관리비 | D19: =총괄설계내역서!D25 -> 0 | F19: =총괄설계내역서!E25 -> A）<(직노+직재+간재)x2.53% + 3,300,000>의 1.2배 = 86,508,110 B）(직노+직재+간재+관급재/1.1)x2.53% + 3,300,000 = 88,281,872 | H19: =HYPERLINK("#"&총괄설계내역서!H2&"!D"&ROW(총괄설계내역서!D25),"총괄표 →") -> 총괄표 →
C20: 기 타 경 비 | D20: =총괄설계내역서!D26 -> 0 | F20: =총괄설계내역서!E26 -> (직접노무비+간접노무비+재료비) x 5.9% | H20: =HYPERLINK("#"&총괄설계내역서!H2&"!D"&ROW(총괄설계내역서!D26),"총괄표 →") -> 총괄표 →
C21: 환 경 보 전 비 | D21: =총괄설계내역서!D27 -> 0 | F21: =총괄설계내역서!E27 -> (재료비 + 직접노무비 + 산출경비) x 0.5% | H21: =HYPERLINK("#"&총괄설계내역서!H2&"!D"&ROW(총괄설계내역서!D27),"총괄표 →") -> 총괄표 →
C22: 건설기계대여금지급보증서수수료 | D22: =총괄설계내역서!D28 -> 0 | F22: =총괄설계내역서!E28 -> (재료비 + 직접노무비 + 산출경비) x 0.51% | H22: =HYPERLINK("#"&총괄설계내역서!H2&"!D"&ROW(총괄설계내역서!D28),"총괄표 →") -> 총괄표 →
C23: 석면피해구제분담금 | D23: =총괄설계내역서!D29 -> 0 | F23: =총괄설계내역서!E29 -> (직접노무비+간접노무비) x 0.006% | H23: =HYPERLINK("#"&총괄설계내역서!H2&"!D"&ROW(총괄설계내역서!D29),"총괄표 →") -> 총괄표 →
C24: 임 금 채 권 부 담 금 | D24: =총괄설계내역서!D30 -> 0 | F24: =총괄설계내역서!E30 -> (직접노무비+간접노무비) x 0.09% | H24: =HYPERLINK("#"&총괄설계내역서!H2&"!D"&ROW(총괄설계내역서!D30),"총괄표 →") -> 총괄표 →
C25: 안전관리비 | D25: =총괄설계내역서!D31 -> 0 | H25: =HYPERLINK("#"&총괄설계내역서!H2&"!D"&ROW(총괄설계내역서!D31),"총괄표 →") -> 총괄표 →
C26: 품질관리비 | D26: =총괄설계내역서!D32 -> 0 | H26: =HYPERLINK("#"&총괄설계내역서!H2&"!D"&ROW(총괄설계내역서!D32),"총괄표 →") -> 총괄표 →
C27: 소 계 | D27: =+D12+D13+D14+D15+D16+D17+D18+D19+D20+D21+D22+D23+D24+D25+D26 -> 0
A28: 일 반 관 리 비 | D28: =총괄설계내역서!D34 -> 0 | F28: ="순공사원가 x "&ROUND(총괄설계내역서!M34,5)&"%" -> 순공사원가 x 5% | H28: =HYPERLINK("#"&총괄설계내역서!H2&"!D"&ROW(총괄설계내역서!D34),"총괄표 →") -> 총괄표 →
A29: 이 윤 | D29: =총괄설계내역서!D36 -> 0 | F29: ="(노무비+경비+일반관리비) x "&ROUND(총괄설계내역서!M36,5)&"%" -> (노무비+경비+일반관리비) x 12% | H29: =HYPERLINK("#"&총괄설계내역서!H2&"!D"&ROW(총괄설계내역서!D36),"총괄표 →") -> 총괄표 →
A30: 고용개선지원비 | D30: =총괄설계내역서!D37 -> 0 | H30: =HYPERLINK("#"&총괄설계내역서!H2&"!D"&ROW(총괄설계내역서!D37),"총괄표 →") -> 총괄표 →
A31: 총 원 가 | D31: =총괄설계내역서!D38 -> 0 | H31: =HYPERLINK("#"&총괄설계내역서!H2&"!D"&ROW(총괄설계내역서!D38),"총괄표 →") -> 총괄표 →
A32: 부 가 가 치 세 | D32: =총괄설계내역서!D39 -> 0 | F32: ="총 원 가 x "&ROUND(총괄설계내역서!M39,5)&"%" -> 총 원 가 x 10% | H32: =HYPERLINK("#"&총괄설계내역서!H2&"!D"&ROW(총괄설계내역서!D39),"총괄표 →") -> 총괄표 →
A33: 도 급 공 사 비 | D33: =총괄설계내역서!D40 -> 0 | H33: =HYPERLINK("#"&총괄설계내역서!H2&"!D"&ROW(총괄설계내역서!D40),"총괄표 →") -> 총괄표 →
A34: 관급자재대(도급자설치) | D34: =총괄설계내역서!D41 -> 0 | H34: =HYPERLINK("#"&총괄설계내역서!H2&"!D"&ROW(총괄설계내역서!D41),"총괄표 →") -> 총괄표 →
A35: 총 공 사 비 | D35: =총괄설계내역서!D42 -> 0 | H35: =HYPERLINK("#"&총괄설계내역서!H2&"!D"&ROW(총괄설계내역서!D42),"총괄표 →") -> 총괄표 →

Sheet 총괄설계내역서
A1: 총 괄 설 계 내 역 서 | H1: STmate | Q1: STmate
A2: 공사명 : 사평대로장기사용배수관정비공사(1공구) | H2: =MID(CELL("filename",$A$1),FIND("]",CELL("filename",$A$1))+1,LEN(CELL("filename",$A$1))) -> 총괄설계내역서
A3: 공 종 | B3: 명 칭 | C3: 규 격 | D3: 합 계 | E3: 재 료 비 | F3: 노 무 비 | G3: 경 비 | H3: _x0007_`JTYP|0_x0005_`ACTL|F_x0005_` | I3: 수정은 아래의 연두색 부분에 | Q3: =HYPERLINK("#'〓 목 차 〓'!B2","목차 →") -> 목차 →
A4: ■ | B4: 순공사비 | Q4: =HYPERLINK("#"&[1]설계내역서!O2&"!A"&ROW([1]설계내역서!A5),"내역 →") -> 내역 →
A5: 1. | B5: 토공 | D5: =E5+F5+G5 -> 0 | E5: =공종별집계표!G5 -> 0 | F5: =공종별집계표!H5 -> 0 | G5: =공종별집계표!I5 -> 0 | Q5: =HYPERLINK("#"&[1]설계내역서!O2&"!A"&ROW([1]설계내역서!A6),"내역 →") -> 내역 →
A6: 2. | B6: 관로공 | D6: =E6+F6+G6 -> 0 | E6: =공종별집계표!G9 -> 0 | F6: =공종별집계표!H9 -> 0 | G6: =공종별집계표!I9 -> 0 | Q6: =HYPERLINK("#"&[1]설계내역서!O2&"!A"&ROW([1]설계내역서!A33),"내역 →") -> 내역 →
A7: 3. | B7: 구조물공 | D7: =E7+F7+G7 -> 0 | E7: =공종별집계표!G19 -> 0 | F7: =공종별집계표!H19 -> 0 | G7: =공종별집계표!I19 -> 0 | Q7: =HYPERLINK("#"&[1]설계내역서!O2&"!A"&ROW([1]설계내역서!A76),"내역 →") -> 내역 →
A8: 4. | B8: 가시설공 | D8: =E8+F8+G8 -> 0 | E8: =공종별집계표!G23 -> 0 | F8: =공종별집계표!H23 -> 0 | G8: =공종별집계표!I23 -> 0 | Q8: =HYPERLINK("#"&[1]설계내역서!O2&"!A"&ROW([1]설계내역서!A115),"내역 →") -> 내역 →
A9: 5. | B9: 추진공 | D9: =E9+F9+G9 -> 0 | E9: =공종별집계표!G34 -> 0 | F9: =공종별집계표!H34 -> 0 | G9: =공종별집계표!I34 -> 0 | Q9: =HYPERLINK("#"&[1]설계내역서!O2&"!A"&ROW([1]설계내역서!A196),"내역 →") -> 내역 →
A10: 6. | B10: 충진공 | D10: =E10+F10+G10 -> 0 | E10: =공종별집계표!G43 -> 0 | F10: =공종별집계표!H43 -> 0 | G10: =공종별집계표!I43 -> 0 | Q10: =HYPERLINK("#"&[1]설계내역서!O2&"!A"&ROW([1]설계내역서!A236),"내역 →") -> 내역 →
A11: 7. | B11: 부대공 | D11: =E11+F11+G11 -> 0 | E11: =공종별집계표!G48 -> 0 | F11: =공종별집계표!H48 -> 0 | G11: =공종별집계표!I48 -> 0 | Q11: =HYPERLINK("#"&[1]설계내역서!O2&"!A"&ROW([1]설계내역서!A245),"내역 →") -> 내역 →
A12: 8. | B12: 자재대 | D12: =E12+F12+G12 -> 0 | E12: =공종별집계표!G49 -> 0 | F12: =공종별집계표!H49 -> 0 | G12: =공종별집계표!I49 -> 0 | Q12: =HYPERLINK("#"&[1]설계내역서!O2&"!A"&ROW([1]설계내역서!A264),"내역 →") -> 내역 →
A13: □ | B13: 관급자재대 | D13: =E13+F13+G13 -> 0 | E13: =공종별집계표!G56 -> 0 | F13: =공종별집계표!H56 -> 0 | G13: =공종별집계표!I56 -> 0 | Q13: =HYPERLINK("#"&[1]설계내역서!O2&"!A"&ROW([1]설계내역서!A330),"내역 →") -> 내역 →
A14: □ | B14: 안전관리비 | D14: =E14+F14+G14 -> 0 | E14: =공종별집계표!G63 -> 0 | F14: =공종별집계표!H63 -> 0 | G14: =공종별집계표!I63 -> 0 | Q14: =HYPERLINK("#"&[1]설계내역서!O2&"!A"&ROW([1]설계내역서!A380),"내역 →") -> 내역 →
A15: □ | B15: 품질관리시험 | D15: =E15+F15+G15 -> 0 | E15: =공종별집계표!G66 -> 0 | F15: =공종별집계표!H66 -> 0 | G15: =공종별집계표!I66 -> 0 | Q15: =HYPERLINK("#"&[1]설계내역서!O2&"!A"&ROW([1]설계내역서!A405),"내역 →") -> 내역 →
A16: □ | B16: 고용개선지원비(주휴수당) | D16: =E16+F16+G16 -> 0 | E16: =공종별집계표!G72 -> 0 | F16: =공종별집계표!H72 -> 0 | G16: =공종별집계표!I72 -> 0 | Q16: =HYPERLINK("#"&[1]설계내역서!O2&"!A"&ROW([1]설계내역서!A420),"내역 →") -> 내역 →
A17: 가. | B17: 순공사비계 | D17: =SUM(D5:D12) -> 0 | E17: =SUM(E5:E12) -> 0 | F17: =SUM(F5:F12) -> 0 | G17: =SUM(G5:G12) -> 0 | Q17: =HYPERLINK("#"&[1]설계내역서!O2&"!A"&ROW([1]설계내역서!A430),"내역 →") -> 내역 →
B18: 1. 간접노무비 | D18: =ROUNDDOWN(F17*M18/100,0) -> 0 | E18: ="직접노무비 x "&ROUND(M18,5)&"%" -> 직접노무비 x 19.3% | H18: _x0007_`DTP|201_x0005_`QTY1|1_x0005_`BDC|_x0005_`SRE|LA_x0005_` | I18: 0 | M18: 19.3 | N18: 0 | O18: 0 | P18: 0
B19: 2. 산재보험료 | D19: =ROUNDDOWN(((F17+D18))*M19/100,0) -> 0 | E19: ="(직접노무비+간접노무비) x "&ROUND(M19,5)&"%" -> (직접노무비+간접노무비) x 3.56% | H19: _x0007_`DTP|301_x0005_`QTY1|1_x0005_`BDC|_x0005_`SRE|SA_x0005_` | I19: 0 | M19: 3.56 | N19: 0 | O19: 0 | P19: 0
B20: 3. 고용보험료 | D20: =ROUNDDOWN(((F17+D18))*M20/100,0) -> 0 | E20: ="(직접노무비+간접노무비) x "&ROUND(M20,5)&"%" -> (직접노무비+간접노무비) x 1.01% | H20: _x0007_`DTP|302_x0005_`QTY1|1_x0005_`BDC|_x0005_`SRE|SA_x0005_` | I20: 0 | M20: 1.01 | N20: 0 | O20: 0 | P20: 0
B21: 4. 건강보험료 | D21: =ROUNDDOWN((F17)*M21/100,0) -> 0 | E21: ="직접노무비 x "&ROUND(M21,5)&"%" -> 직접노무비 x 3.595% | H21: _x0007_`DTP|303_x0005_`QTY1|1_x0005_`BDC|_x0005_`SRE|SA_x0005_` | I21: 0 | J21: =F17 -> 0 | M21: 3.595 | N21: 0 | O21: 0 | P21: 0
B22: 5. 노인장기요양보험료 | D22: =ROUNDDOWN(D21*M22/100,0) -> 0 | E22: ="건강보험료 x "&ROUND(M22,5)&"%" -> 건강보험료 x 13.14% | H22: _x0007_`DTP|310_x0005_`QTY1|1_x0005_`BDC|_x0005_`SRE|SA_x0005_` | I22: 0 | J22: =D21 -> 0 | M22: 13.14 | N22: 0 | O22: 0 | P22: 0
B23: 6. 연금보험료 | D23: =ROUNDDOWN((F17)*M23/100,0) -> 0 | E23: ="직접노무비 x "&ROUND(M23,5)&"%" -> 직접노무비 x 4.75% | H23: _x0007_`DTP|304_x0005_`QTY1|1_x0005_`BDC|_x0005_`SRE|SA_x0005_` | I23: 0 | J23: =F17 -> 0 | M23: 4.75 | N23: 0 | O23: 0 | P23: 0
B24: 7. 퇴직공제부금비 | D24: =ROUNDDOWN((F17)*M24/100,0) -> 0 | E24: ="직접노무비 x "&ROUND(M24,5)&"%" -> 직접노무비 x 2.3% | H24: _x0007_`DTP|305_x0005_`QTY1|1_x0005_`BDC|_x0005_`SRE|SA_x0005_` | I24: 0 | J24: =F17 -> 0 | M24: 2.3 | N24: 0 | O24: 0 | P24: 0
B25: 8. 산업안전보건관리비 | C25: A）관급재/1.1제외 적용 | E25: A）<(직노+직재+간재)x2.53% + 3,300,000>의 1.2배 = 86,508,110 B）(직노+직재+간재+관급재/1.1)x2.53% + 3,300,000 = 88,281,872 | H25: _x0007_`DTP|306_x0005_`QTY1|1_x0005_`BDC|_x0005_`SRE|SA_x0005_`ANB|1_x0005_` | I25: 0 | J25: =((F17+(E17))+(I41-O41)/1.1) -> -3455944.5 | M25: 2.53 | N25: 3300000 | O25: 0 | P25: 0
B26: 9. 기타경비 | E26: ="(직접노무비+간접노무비+재료비) x "&ROUND(M26,5)&"%" -> (직접노무비+간접노무비+재료비) x 5.9% | H26: _x0007_`DTP|321_x0005_`QTY1|1_x0005_`BDC|_x0005_`SRE|SA_x0005_` | I26: 0 | M26: 5.9 | N26: 0 | O26: 0 | P26: 0
B27: 10. 환경보전비 | E27: ="(재료비 + 직접노무비 + 산출경비) x "&ROUND(M27,5)&"%" -> (재료비 + 직접노무비 + 산출경비) x 0.5% | H27: _x0007_`DTP|309_x0005_`QTY1|1_x0005_`BDC|_x0005_`SRE|SA_x0005_` | I27: 0 | M27: 0.5 | N27: 0 | O27: 0 | P27: 0
B28: 11. 건설기계대여금지급보증서수수료 | E28: ="(재료비 + 직접노무비 + 산출경비) x "&ROUND(M28,5)&"%" -> (재료비 + 직접노무비 + 산출경비) x 0.51% | H28: _x0007_`DTP|311_x0005_`QTY1|1_x0005_`BDC|_x0005_`SRE|SA_x0005_` | I28: 0 | M28: 0.51 | N28: 0 | O28: 0 | P28: 0
B29: 12. 석면피해구제분담금 | E29: ="(직접노무비+간접노무비) x "&ROUND(M29,5)&"%" -> (직접노무비+간접노무비) x 0.006% | H29: _x0007_`DTP|322_x0005_`QTY1|1_x0005_`BDC|_x0005_`SRE|SA_x0005_` | I29: 0 | M29: 0.006 | N29: 0 | O29: 0 | P29: 0
B30: 13. 임금채권부담금 | E30: ="(직접노무비+간접노무비) x "&ROUND(M30,5)&"%" -> (직접노무비+간접노무비) x 0.09% | H30: _x0007_`DTP|323_x0005_`QTY1|1_x0005_`BDC|_x0005_`SRE|SA_x0005_` | I30: 0 | M30: 0.09 | N30: 0 | O30: 0 | P30: 0
B31: 14. 안전관리비 | H31: _x0007_`DTP|361_x0005_`QTY1|1_x0005_`BDC|A101_x0005_`SRE|SA_x0005_`ADN|안전관리비_x0005_`ADB|_x0005_` | I31: 0 | M31: 0 | N31: 0 | O31: 0 | P31: 0
B32: 15. 품질관리비 | H32: _x0007_`DTP|362_x0005_`QTY1|1_x0005_`BDC|A102_x0005_`SRE|SA_x0005_`ADN|품질관리비_x0005_`ADB|_x0005_` | I32: 0 | M32: 0 | N32: 0 | O32: 0 | P32: 0
A33: 나. | B33: 소 계 | H33: _x0007_`DTP|400_x0005_`QTY1|1_x0005_`BDC|_x0005_`SRE|TA-F_x0005_` | I33: 0 | M33: 0 | N33: 0 | O33: 0 | P33: 0
B34: 16. 일반관리비 | E34: ="(나.소 계) x "&ROUND(M34,5)&"%" -> (나.소 계) x 5% | H34: _x0007_`DTP|401_x0005_`QTY1|1_x0005_`BDC|_x0005_`SRE|TA_x0005_` | I34: 0 | M34: 5 | N34: 0 | O34: 0 | P34: 0
A35: 다. | B35: 소 계 | H35: _x0007_`DTP|410_x0005_`QTY1|1_x0005_`BDC|_x0005_`SRE|TA-F_x0005_` | I35: 4 | J35: =D35 -> 0 | L35: =D35 -> 0 | M35: 0 | N35: 0 | O35: 0 | P35: 0
B36: 17. 이 윤 | E36: ="(다.소계 - 재료비) x "&ROUND(M36,5)&"% = "&TEXT(J36,"#,##0") -> (다.소계 - 재료비) x 12% = 0 | H36: _x0007_`DTP|402_x0005_`QTY1|1_x0005_`BDC|_x0005_`SRE|TA_x0005_` | I36: =868/1.1 -> 789.09091 | J36: =ROUNDDOWN(((J35)-(E17))*M36/100,0) -> 0 | L36: =ROUNDDOWN(((L35)-(E17))*M36/100,0)-I36 -> -789.09091 | M36: 12 | N36: 0 | O36: 0 | P36: 0
B37: 18. 고용개선지원비 | H37: _x0007_`DTP|461_x0005_`QTY1|1_x0005_`BDC|A201_x0005_`SRE|_x0005_`ADN|고용개선지원비_x0005_`ADB|_x0005_` | I37: 0 | J37: =D37 -> 0 | L37: =D37 -> 0 | M37: 0 | N37: 0 | O37: 0 | P37: 0
A38: 라. | B38: 공급가액 | H38: _x0007_`DTP|500_x0005_`QTY1|1_x0005_`BDC|_x0005_`SRE|TA-F_x0005_` | I38: 0 | J38: =(J35+J36+J37) -> 0 | L38: =(L35+L36+L37) -> -789.09091 | M38: 0 | N38: 0 | O38: 4 | P38: 0
B39: 19. 부가가치세 | E39: ="공급가액 x "&ROUND(M39,5)&"%" -> 공급가액 x 10% | H39: _x0007_`DTP|502_x0005_`QTY1|1_x0005_`BDC|_x0005_`SRE|TA_x0005_` | I39: 0 | M39: 10 | N39: 0 | O39: 0 | P39: 0
A40: 마. | B40: 도급공사비 | H40: _x0007_`DTP|600_x0005_`QTY1|1_x0005_`BDC|_x0005_`SRE|TA-F_x0005_` | I40: 0 | M40: 0 | N40: 0 | O40: 0 | P40: 0
...

Sheet 공종별집계표
A1: 공 종 별 집 계 표
A2: 20260900018_사평대로장기사용송배수관정비공사(수정2)_1801667540
A3: 공종코드 | B3: 계산제외 | C3: 내역번호 | D3: 공종명 | E3: 규격 | F3: 단위 | G3: 재료비 | H3: 노무비 | I3: 경비 | J3: 합계 | K3: 비고
A4: 01 | C4: ■ | D4: 순공사비 | G4: =내역서!J6+내역서!J36+내역서!J86+내역서!J128+내역서!J218+내역서!J265+내역서!J277+내역서!J298 -> 0 | H4: =내역서!L6+내역서!L36+내역서!L86+내역서!L128+내역서!L218+내역서!L265+내역서!L277+내역서!L298 -> 0 | I4: =내역서!N6+내역서!N36+내역서!N86+내역서!N128+내역서!N218+내역서!N265+내역서!N277+내역서!N298 -> 0 | J4: =G4+H4+I4 -> 0
A5: 0101 | C5: 1. | D5: 토공 | G5: =내역서!J7+내역서!J20+내역서!J28 -> 0 | H5: =내역서!L7+내역서!L20+내역서!L28 -> 0 | I5: =내역서!N7+내역서!N20+내역서!N28 -> 0 | J5: =G5+H5+I5 -> 0
A6: 010101 | C6: 1.1 | D6: 토공 | G6: =TRUNC(SUMPRODUCT(내역서!J8:'내역서'!J18,내역서!AB8:'내역서'!AB18),0) -> 0 | H6: =TRUNC(SUMPRODUCT(내역서!L8:'내역서'!L18,내역서!AB8:'내역서'!AB18),0) -> 0 | I6: =TRUNC(SUMPRODUCT(내역서!N8:'내역서'!N18,내역서!AB8:'내역서'!AB18),0) -> 0 | J6: =G6+H6+I6 -> 0
A7: 010102 | C7: 1.2 | D7: 토사운반 | G7: =TRUNC(SUMPRODUCT(내역서!J21:'내역서'!J26,내역서!AB21:'내역서'!AB26),0) -> 0 | H7: =TRUNC(SUMPRODUCT(내역서!L21:'내역서'!L26,내역서!AB21:'내역서'!AB26),0) -> 0 | I7: =TRUNC(SUMPRODUCT(내역서!N21:'내역서'!N26,내역서!AB21:'내역서'!AB26),0) -> 0 | J7: =G7+H7+I7 -> 0
A8: 010103 | C8: 1.3 | D8: 폐기물 | G8: =TRUNC(SUMPRODUCT(내역서!J29:'내역서'!J34,내역서!AB29:'내역서'!AB34),0) -> 0 | H8: =TRUNC(SUMPRODUCT(내역서!L29:'내역서'!L34,내역서!AB29:'내역서'!AB34),0) -> 0 | I8: =TRUNC(SUMPRODUCT(내역서!N29:'내역서'!N34,내역서!AB29:'내역서'!AB34),0) -> 0 | J8: =G8+H8+I8 -> 0
A9: 0102 | C9: 2. | D9: 관로공 | G9: =내역서!J37+내역서!J68+내역서!J82 -> 0 | H9: =내역서!L37+내역서!L68+내역서!L82 -> 0 | I9: =내역서!N37+내역서!N68+내역서!N82 -> 0 | J9: =G9+H9+I9 -> 0
A10: 010201 | C10: 2.1 | D10: 강관 | G10: =내역서!J38+내역서!J43+내역서!J63 -> 0 | H10: =내역서!L38+내역서!L43+내역서!L63 -> 0 | I10: =내역서!N38+내역서!N43+내역서!N63 -> 0 | J10: =G10+H10+I10 -> 0
A11: 01020101 | C11: 1) | D11: 강관직관 | G11: =TRUNC(SUMPRODUCT(내역서!J39:'내역서'!J41,내역서!AB39:'내역서'!AB41),0) -> 0 | H11: =TRUNC(SUMPRODUCT(내역서!L39:'내역서'!L41,내역서!AB39:'내역서'!AB41),0) -> 0 | I11: =TRUNC(SUMPRODUCT(내역서!N39:'내역서'!N41,내역서!AB39:'내역서'!AB41),0) -> 0 | J11: =G11+H11+I11 -> 0
A12: 01020102 | C12: 2) | D12: 강관이형관 | G12: =TRUNC(SUMPRODUCT(내역서!J44:'내역서'!J61,내역서!AB44:'내역서'!AB61),0) -> 0 | H12: =TRUNC(SUMPRODUCT(내역서!L44:'내역서'!L61,내역서!AB44:'내역서'!AB61),0) -> 0 | I12: =TRUNC(SUMPRODUCT(내역서!N44:'내역서'!N61,내역서!AB44:'내역서'!AB61),0) -> 0 | J12: =G12+H12+I12 -> 0
A13: 01020103 | C13: 3) | D13: 밸브부설 | G13: =TRUNC(SUMPRODUCT(내역서!J64:'내역서'!J66,내역서!AB64:'내역서'!AB66),0) -> 0 | H13: =TRUNC(SUMPRODUCT(내역서!L64:'내역서'!L66,내역서!AB64:'내역서'!AB66),0) -> 0 | I13: =TRUNC(SUMPRODUCT(내역서!N64:'내역서'!N66,내역서!AB64:'내역서'!AB66),0) -> 0 | J13: =G13+H13+I13 -> 0
A14: 010202 | C14: 2.2 | D14: 주철관 | G14: =내역서!J69+내역서!J74+내역서!J78 -> 0 | H14: =내역서!L69+내역서!L74+내역서!L78 -> 0 | I14: =내역서!N69+내역서!N74+내역서!N78 -> 0 | J14: =G14+H14+I14 -> 0
A15: 01020201 | C15: 1) | D15: 배수관 | G15: =TRUNC(SUMPRODUCT(내역서!J70:'내역서'!J72,내역서!AB70:'내역서'!AB72),0) -> 0 | H15: =TRUNC(SUMPRODUCT(내역서!L70:'내역서'!L72,내역서!AB70:'내역서'!AB72),0) -> 0 | I15: =TRUNC(SUMPRODUCT(내역서!N70:'내역서'!N72,내역서!AB70:'내역서'!AB72),0) -> 0 | J15: =G15+H15+I15 -> 0
A16: 01020202 | C16: 2) | D16: 주철관절단 | G16: =TRUNC(SUMPRODUCT(내역서!J75:'내역서'!J76,내역서!AB75:'내역서'!AB76),0) -> 0 | H16: =TRUNC(SUMPRODUCT(내역서!L75:'내역서'!L76,내역서!AB75:'내역서'!AB76),0) -> 0 | I16: =TRUNC(SUMPRODUCT(내역서!N75:'내역서'!N76,내역서!AB75:'내역서'!AB76),0) -> 0 | J16: =G16+H16+I16 -> 0
A17: 01020203 | C17: 3) | D17: 제수밸브부설및접합 | G17: =TRUNC(SUMPRODUCT(내역서!J79:'내역서'!J80,내역서!AB79:'내역서'!AB80),0) -> 0 | H17: =TRUNC(SUMPRODUCT(내역서!L79:'내역서'!L80,내역서!AB79:'내역서'!AB80),0) -> 0 | I17: =TRUNC(SUMPRODUCT(내역서!N79:'내역서'!N80,내역서!AB79:'내역서'!AB80),0) -> 0 | J17: =G17+H17+I17 -> 0
A18: 010203 | C18: 2.3 | D18: 부단수차단 | G18: =TRUNC(SUMPRODUCT(내역서!J83:'내역서'!J84,내역서!AB83:'내역서'!AB84),0) -> 0 | H18: =TRUNC(SUMPRODUCT(내역서!L83:'내역서'!L84,내역서!AB83:'내역서'!AB84),0) -> 0 | I18: =TRUNC(SUMPRODUCT(내역서!N83:'내역서'!N84,내역서!AB83:'내역서'!AB84),0) -> 0 | J18: =G18+H18+I18 -> 0
A19: 0103 | C19: 3. | D19: 구조물공 | G19: =내역서!J87+내역서!J106+내역서!J124 -> 0 | H19: =내역서!L87+내역서!L106+내역서!L124 -> 0 | I19: =내역서!N87+내역서!N106+내역서!N124 -> 0 | J19: =G19+H19+I19 -> 0
A20: 010301 | C20: 3.1 | D20: 제수밸브실 | G20: =TRUNC(SUMPRODUCT(내역서!J88:'내역서'!J104,내역서!AB88:'내역서'!AB104),0) -> 0 | H20: =TRUNC(SUMPRODUCT(내역서!L88:'내역서'!L104,내역서!AB88:'내역서'!AB104),0) -> 0 | I20: =TRUNC(SUMPRODUCT(내역서!N88:'내역서'!N104,내역서!AB88:'내역서'!AB104),0) -> 0 | J20: =G20+H20+I20 -> 0
A21: 010302 | C21: 3.2 | D21: 공기밸브실 | G21: =TRUNC(SUMPRODUCT(내역서!J107:'내역서'!J122,내역서!AB107:'내역서'!AB122),0) -> 0 | H21: =TRUNC(SUMPRODUCT(내역서!L107:'내역서'!L122,내역서!AB107:'내역서'!AB122),0) -> 0 | I21: =TRUNC(SUMPRODUCT(내역서!N107:'내역서'!N122,내역서!AB107:'내역서'!AB122),0) -> 0 | J21: =G21+H21+I21 -> 0
A22: 010303 | C22: 3.3 | D22: 원형밸브실 | G22: =TRUNC(SUMPRODUCT(내역서!J125:'내역서'!J126,내역서!AB125:'내역서'!AB126),0) -> 0 | H22: =TRUNC(SUMPRODUCT(내역서!L125:'내역서'!L126,내역서!AB125:'내역서'!AB126),0) -> 0 | I22: =TRUNC(SUMPRODUCT(내역서!N125:'내역서'!N126,내역서!AB125:'내역서'!AB126),0) -> 0 | J22: =G22+H22+I22 -> 0
A23: 0104 | C23: 4. | D23: 가시설공 | G23: =내역서!J129+내역서!J133+내역서!J138+내역서!J142 -> 0 | H23: =내역서!L129+내역서!L133+내역서!L138+내역서!L142 -> 0 | I23: =내역서!N129+내역서!N133+내역서!N138+내역서!N142 -> 0 | J23: =G23+H23+I23 -> 0
A24: 010401 | C24: 4.1 | D24: 관로가시설 | G24: =TRUNC(SUMPRODUCT(내역서!J130:'내역서'!J131,내역서!AB130:'내역서'!AB131),0) -> 0 | H24: =TRUNC(SUMPRODUCT(내역서!L130:'내역서'!L131,내역서!AB130:'내역서'!AB131),0) -> 0 | I24: =TRUNC(SUMPRODUCT(내역서!N130:'내역서'!N131,내역서!AB130:'내역서'!AB131),0) -> 0 | J24: =G24+H24+I24 -> 0
A25: 010402 | C25: 4.2 | D25: 사각밸브가시설 | G25: =TRUNC(SUMPRODUCT(내역서!J134:'내역서'!J136,내역서!AB134:'내역서'!AB136),0) -> 0 | H25: =TRUNC(SUMPRODUCT(내역서!L134:'내역서'!L136,내역서!AB134:'내역서'!AB136),0) -> 0 | I25: =TRUNC(SUMPRODUCT(내역서!N134:'내역서'!N136,내역서!AB134:'내역서'!AB136),0) -> 0 | J25: =G25+H25+I25 -> 0
A26: 010403 | C26: 4.3 | D26: 부단수차단가시설 | G26: =TRUNC(SUMPRODUCT(내역서!J139:'내역서'!J140,내역서!AB139:'내역서'!AB140),0) -> 0 | H26: =TRUNC(SUMPRODUCT(내역서!L139:'내역서'!L140,내역서!AB139:'내역서'!AB140),0) -> 0 | I26: =TRUNC(SUMPRODUCT(내역서!N139:'내역서'!N140,내역서!AB139:'내역서'!AB140),0) -> 0 | J26: =G26+H26+I26 -> 0
A27: 010404 | C27: 4.4 | D27: 추진1 가시설 | G27: =내역서!J143+내역서!J159+내역서!J173+내역서!J182+내역서!J195+내역서!J209 -> 0 | H27: =내역서!L143+내역서!L159+내역서!L173+내역서!L182+내역서!L195+내역서!L209 -> 0 | I27: =내역서!N143+내역서!N159+내역서!N173+내역서!N182+내역서!N195+내역서!N209 -> 0 | J27: =G27+H27+I27 -> 0
A28: 01040401 | C28: 1) | D28: 추진기지1 H-Pile+토류벽 | G28: =TRUNC(SUMPRODUCT(내역서!J144:'내역서'!J157,내역서!AB144:'내역서'!AB157),0) -> 0 | H28: =TRUNC(SUMPRODUCT(내역서!L144:'내역서'!L157,내역서!AB144:'내역서'!AB157),0) -> 0 | I28: =TRUNC(SUMPRODUCT(내역서!N144:'내역서'!N157,내역서!AB144:'내역서'!AB157),0) -> 0 | J28: =G28+H28+I28 -> 0
A29: 01040402 | C29: 2) | D29: 추진기지1복공 | G29: =TRUNC(SUMPRODUCT(내역서!J160:'내역서'!J171,내역서!AB160:'내역서'!AB171),0) -> 0 | H29: =TRUNC(SUMPRODUCT(내역서!L160:'내역서'!L171,내역서!AB160:'내역서'!AB171),0) -> 0 | I29: =TRUNC(SUMPRODUCT(내역서!N160:'내역서'!N171,내역서!AB160:'내역서'!AB171),0) -> 0 | J29: =G29+H29+I29 -> 0
A30: 01040403 | C30: 3) | D30: 추진기지1차수공 | G30: =TRUNC(SUMPRODUCT(내역서!J174:'내역서'!J180,내역서!AB174:'내역서'!AB180),0) -> 0 | H30: =TRUNC(SUMPRODUCT(내역서!L174:'내역서'!L180,내역서!AB174:'내역서'!AB180),0) -> 0 | I30: =TRUNC(SUMPRODUCT(내역서!N174:'내역서'!N180,내역서!AB174:'내역서'!AB180),0) -> 0 | J30: =G30+H30+I30 -> 0
A31: 01040404 | C31: 4) | D31: 도달기지1 H-Pile+토류벽 | G31: =TRUNC(SUMPRODUCT(내역서!J183:'내역서'!J193,내역서!AB183:'내역서'!AB193),0) -> 0 | H31: =TRUNC(SUMPRODUCT(내역서!L183:'내역서'!L193,내역서!AB183:'내역서'!AB193),0) -> 0 | I31: =TRUNC(SUMPRODUCT(내역서!N183:'내역서'!N193,내역서!AB183:'내역서'!AB193),0) -> 0 | J31: =G31+H31+I31 -> 0
A32: 01040405 | C32: 5) | D32: 도달기지1복공 | G32: =TRUNC(SUMPRODUCT(내역서!J196:'내역서'!J207,내역서!AB196:'내역서'!AB207),0) -> 0 | H32: =TRUNC(SUMPRODUCT(내역서!L196:'내역서'!L207,내역서!AB196:'내역서'!AB207),0) -> 0 | I32: =TRUNC(SUMPRODUCT(내역서!N196:'내역서'!N207,내역서!AB196:'내역서'!AB207),0) -> 0 | J32: =G32+H32+I32 -> 0
A33: 01040406 | C33: 6) | D33: 도달기지1차수공 | G33: =TRUNC(SUMPRODUCT(내역서!J210:'내역서'!J216,내역서!AB210:'내역서'!AB216),0) -> 0 | H33: =TRUNC(SUMPRODUCT(내역서!L210:'내역서'!L216,내역서!AB210:'내역서'!AB216),0) -> 0 | I33: =TRUNC(SUMPRODUCT(내역서!N210:'내역서'!N216,내역서!AB210:'내역서'!AB216),0) -> 0 | J33: =G33+H33+I33 -> 0
A34: 0105 | C34: 5. | D34: 추진공 | G34: =내역서!J219 -> 0 | H34: =내역서!L219 -> 0 | I34: =내역서!N219 -> 0 | J34: =G34+H34+I34 -> 0
A35: 010501 | C35: 5.1 | D35: 강관압입1 | G35: =내역서!J220+내역서!J224+내역서!J230+내역서!J237+내역서!J243+내역서!J249+내역서!J255 -> 0 | H35: =내역서!L220+내역서!L224+내역서!L230+내역서!L237+내역서!L243+내역서!L249+내역서!L255 -> 0 | I35: =내역서!N220+내역서!N224+내역서!N230+내역서!N237+내역서!N243+내역서!N249+내역서!N255 -> 0 | J35: =G35+H35+I35 -> 0
A36: 01050101 | C36: 1) | D36: 강관압입추진공 | G36: =TRUNC(SUMPRODUCT(내역서!J221:'내역서'!J222,내역서!AB221:'내역서'!AB222),0) -> 0 | H36: =TRUNC(SUMPRODUCT(내역서!L221:'내역서'!L222,내역서!AB221:'내역서'!AB222),0) -> 0 | I36: =TRUNC(SUMPRODUCT(내역서!N221:'내역서'!N222,내역서!AB221:'내역서'!AB222),0) -> 0 | J36: =G36+H36+I36 -> 0
A37: 01050102 | C37: 2) | D37: 추진선도관제작 | G37: =TRUNC(SUMPRODUCT(내역서!J225:'내역서'!J228,내역서!AB225:'내역서'!AB228),0) -> 0 | H37: =TRUNC(SUMPRODUCT(내역서!L225:'내역서'!L228,내역서!AB225:'내역서'!AB228),0) -> 0 | I37: =TRUNC(SUMPRODUCT(내역서!N225:'내역서'!N228,내역서!AB225:'내역서'!AB228),0) -> 0 | J37: =G37+H37+I37 -> 0
A38: 01050103 | C38: 3) | D38: 반력벽 설치 및 철거 | G38: =TRUNC(SUMPRODUCT(내역서!J231:'내역서'!J235,내역서!AB231:'내역서'!AB235),0) -> 0 | H38: =TRUNC(SUMPRODUCT(내역서!L231:'내역서'!L235,내역서!AB231:'내역서'!AB235),0) -> 0 | I38: =TRUNC(SUMPRODUCT(내역서!N231:'내역서'!N235,내역서!AB231:'내역서'!AB235),0) -> 0 | J38: =G38+H38+I38 -> 0
A39: 01050104 | C39: 4) | D39: 추진관내그라우팅 | G39: =TRUNC(SUMPRODUCT(내역서!J238:'내역서'!J241,내역서!AB238:'내역서'!AB241),0) -> 0 | H39: =TRUNC(SUMPRODUCT(내역서!L238:'내역서'!L241,내역서!AB238:'내역서'!AB241),0) -> 0 | I39: =TRUNC(SUMPRODUCT(내역서!N238:'내역서'!N241,내역서!AB238:'내역서'!AB241),0) -> 0 | J39: =G39+H39+I39 -> 0
A40: 01050105 | C40: 5) | D40: 추진관설치 | G40: =TRUNC(SUMPRODUCT(내역서!J244:'내역서'!J247,내역서!AB244:'내역서'!AB247),0) -> 0 | H40: =TRUNC(SUMPRODUCT(내역서!L244:'내역서'!L247,내역서!AB244:'내역서'!AB247),0) -> 0 | I40: =TRUNC(SUMPRODUCT(내역서!N244:'내역서'!N247,내역서!AB244:'내역서'!AB247),0) -> 0 | J40: =G40+H40+I40 -> 0
...

Sheet 내역서
A1: 내 역 서
A2: 20260900018_사평대로장기사용송배수관정비공사(수정2)_1801667540
A3: 자원구분 | B3: 공종/세부공종코드 | C3: 계산제외 | D3: 내역번호 | E3: 품명 | F3: 규격 | G3: 단위 | H3: 수량 | I3: 재료비 | K3: 노무비 | M3: 경비 | O3: 합계 | Q3: 자재구분 | R3: 세부공종구분 | S3: 물량변경 허용여부 | T3: 부계약자공종 | U3: 공사손해보험 수량 | V3: 업종코드 | W3: 전문업종 | X3: 비고 | Y3: 관급여부 | Z3: 계산제외 | AA3: 적용요율 | AB3: 계산여부
I4: 단가 | J4: 금액 | K4: 단가 | L4: 금액 | M4: 단가 | N4: 금액 | O4: 단가 | P4: 금액
D5: ■ | E5: 순공사비 | AB5: 1
D6: 1. | E6: 토공 | AB6: 1
D7: 1.1 | E7: 토공 | AB7: 1
A8: 일위대가 | B8: B00044 | E8: 인력터파기 | F8: 견질토사 0-1m,야간 | G8: ㎥ | H8: 159 | Y8: N | Z8: N | AB8: 1
A9: 일위대가 | B9: B00043 | E9: 인력터파기 | F9: 견질토사 1-2m, 야간 | G9: ㎥ | H9: 95 | Y9: N | Z9: N | AB9: 1
A10: 중기단가산출 | B10: D00004 | E10: 터파기(기계100%)보통 | F10: 굴착기(타이어) 0.6㎥, 야간 | G10: ㎥ | H10: 9768 | Y10: N | Z10: N | AB10: 1
A11: 중기단가산출 | B11: D00025 | E11: 터파기(4m이상) 보통 | F11: 굴착기0.12㎥+크레인10톤, 야간 | G11: ㎥ | H11: 360 | Y11: N | Z11: N | AB11: 1
A12: 중기단가산출 | B12: D00014 | E12: 되메우기(기계100%)양호 | F12: 굴삭기(타이어) 0.6㎥환토재,야 | G12: ㎥ | H12: 2267 | Y12: N | Z12: N | AB12: 1
A13: 중기단가산출 | B13: D00089 | E13: 되메우기(관주위) | F13: 모래, 야간+지세 | G13: ㎥ | H13: 3507 | Y13: N | Z13: N | AB13: 1
A14: 중기단가산출 | B14: D00015 | E14: 기계다짐(양호) | F14: (램머80kg)환토재,야간 | G14: ㎥ | H14: 580 | Y14: N | Z14: N | AB14: 1
A15: 중기단가산출 | B15: D00016 | E15: 기계다짐(양호) | F15: (진동로라 0.7ton),환토재(야간) | G15: ㎥ | H15: 1685 | Y15: N | Z15: N | AB15: 1
A16: 중기단가산출 | B16: D00005 | E16: 되메우기(기계100%)보통 | F16: 굴착기(타이어) 0.6㎥, 야간 | G16: ㎥ | H16: 2681 | Y16: N | Z16: N | AB16: 1
A17: 중기단가산출 | B17: D00074 | E17: 기계다짐(양호) | F17: (램머80kg),야간 | G17: ㎥ | H17: 1013 | Y17: N | Z17: N | AB17: 1
A18: 중기단가산출 | B18: D00006 | E18: 기계다짐(양호) | F18: 진동로라 0.7ton, 야간 | G18: ㎥ | H18: 1669 | Y18: N | Z18: N | AB18: 1
AB19: 1
D20: 1.2 | E20: 토사운반 | AB20: 1
A21: 중기단가산출 | B21: D00102 | E21: 잔토소운반(0.6터파기동시상차) | F21: 15DT,(현장->집하장3.0km), 야간 | G21: ㎥ | H21: 10128 | Y21: N | Z21: N | AB21: 1
A22: 중기단가산출 | B22: D00103 | E22: 환토소운반(밸브실) | F22: 24DT,(집하장->현장3.0km),야간 | G22: ㎥ | H22: 2681 | Y22: N | Z22: N | AB22: 1
A23: 중기단가산출 | B23: D00105 | E23: 환토소운반(관부설) | F23: 24.0T,(집하장->현장3.0km),야간 | G23: ㎥ | H23: 2267 | Y23: N | Z23: N | AB23: 1
A24: 중기단가산출 | B24: D00110 | E24: 잔토처리(0.7상차비별도) | F24: 24DT, 집하장->매립지(66.5km) | G24: ㎥ | H24: 7447 | Y24: N | Z24: N | AB24: 1
A25: 중기단가산출 | B25: D00104 | E25: 잔토상차(집하장) | F25: 굴착기 0.7㎥ | G25: ㎥ | H25: 7447 | Y25: N | Z25: N | AB25: 1
A26: 중기단가산출 | B26: D00106 | E26: 부족토운반 | F26: 24.0T,(토취장->집하장 5.0km) | G26: ㎥ | H26: 2267 | Y26: N | Z26: N | AB26: 1
AB27: 1
D28: 1.3 | E28: 폐기물 | AB28: 1
A29: 중기단가산출 | B29: D00107 | E29: 아스팔트포장절단 | F29: T20㎝이하,야간+지세 | G29: M | H29: 3799 | Y29: N | Z29: N | AB29: 1
A30: 중기단가산출 | B30: D00109 | E30: 아스팔트포장깨기 | F30: 굴삭기(타이어) 0.18㎥(브),야간+지세 | G30: ㎥ | H30: 68 | Y30: N | Z30: N | AB30: 1
A31: 중기단가산출 | B31: D00100 | E31: 아스팔트포장깨기 | F31: BH0.6+브레이커,30㎝미만, 야간+지세 | G31: ㎥ | H31: 630 | Y31: N | Z31: N | AB31: 1
A32: 중기단가산출 | B32: D00101 | E32: 파쇄물 걷기및 싣기 | F32: 굴삭기(타이어) 0.18㎥,야간+지세 | G32: ㎥ | H32: 698 | Y32: N | Z32: N | AB32: 1
A33: 중기단가산출 | B33: D00108 | E33: A-파쇄물운반(상차비별도) | F33: 15DT(현장->집하장3.0km),야간+지세 | G33: ㎥ | H33: 698 | Y33: N | Z33: N | AB33: 1
A34: 중기단가산출 | B34: D00001 | E34: 폐기물상차 | F34: 굴삭기 0.7㎥,야간 | G34: ㎥ | H34: 698 | Y34: N | Z34: N | AB34: 1
AB35: 1
D36: 2. | E36: 관로공 | AB36: 1
D37: 2.1 | E37: 강관 | AB37: 1
D38: 1) | E38: 강관직관 | AB38: 1
A39: 일위대가 | B39: B00099 | E39: 강직관접합및부설 | F39: D1350,야간 | G39: 본 | H39: 12 | Y39: N | Z39: N | AB39: 1
A40: 일위대가 | B40: B00100 | E40: 강직관접합및부설 | F40: D1000,야간 | G40: 본 | H40: 114 | Y40: N | Z40: N | AB40: 1
...
