Workbook
Name \a: #N/A
Name \z: #N/A
Name D: BlankMacro1
Name D: BlankMacro1
Name D: BlankMacro1
Name DDD: BlankMacro1
Name DDD: BlankMacro1
Name DDD: BlankMacro1
Name DDS: BlankMacro1
Name DDS: BlankMacro1
Name DDS: BlankMacro1
Name DDW: BlankMacro1
Name DDW: BlankMacro1
Name DDW: BlankMacro1
Name DKD: BlankMacro1
Name DKD: BlankMacro1
Name DKD: BlankMacro1
Name DKE: BlankMacro1
Name DKE: BlankMacro1
Name DKE: BlankMacro1
Name DS: BlankMacro1
Name DS: BlankMacro1
Name DS: BlankMacro1
Name DWS: BlankMacro1
Name DWS: BlankMacro1
Name DWS: BlankMacro1
Name MIN.XLS: '[2]조정금액결과표 (차수별)'!복사
Name Print_Area_MI: [3]물가시세!#REF!
Name Print_Area_MI: [3]물가시세!#REF!
Name Print_Area_MI: [3]물가시세!#REF!
Name Q: BlankMacro1
Name Q: BlankMacro1
Name Q: BlankMacro1
Name S: BlankMacro1
Name S: BlankMacro1
Name S: BlankMacro1
Name X: BlankMacro1
Name X: BlankMacro1
Name X: BlankMacro1
Name Z: BlankMacro1
Name Z: BlankMacro1
Name Z: BlankMacro1
Name 가: BlankMacro1
Name 가: BlankMacro1
Name 가: BlankMacro1
Name 강병창: BlankMacro1
Name 강병창: BlankMacro1
Name 강병창: BlankMacro1
Name 나: BlankMacro1
Name 나: BlankMacro1
Name 나: BlankMacro1
Name 남덕: BlankMacro1
Name 남덕: BlankMacro1
Name 남덕: BlankMacro1
Name 다: BlankMacro1
Name 다: BlankMacro1
Name 다: BlankMacro1
Name 라: BlankMacro1
Name 라: BlankMacro1
Name 라: BlankMacro1

Sheet 갑지
A1: 설 계 서 용 지 ( 갑 지 )
A2: 과 장 | E2: 심 사 자 | I2: 검 산 자 | K2: 설계자 | O2: 2 0 2 6 년 9 월 일 설 계
C4: 2 0 2 6 | F4: 년 도
D8: 농암초등학교 본관동 방수 공사 | N8: 공 사 설 계 예 산 서
D10: 공 사 개 요 : 본관동 방수 공사 1식
D13: 총 공 사 비 | H13: =NUMBERSTRING(I24,1) &"원정" -> 영원정 | K13: =+I24 -> 0
G17: 도 급 예 산 액 | I17: =+원가계산!E35 -> 0 | L17: 원
C19: 내 역
G22: 관 급 자 재 대 | L22: 원
G24: 계 | I24: =+I17+I22 -> 0 | L24: 원

Sheet 원가계산
B2: 공 사 원 가 계 산 서
B3: [공사명] 농암초등학교 본관동 방수공사
B4: 비 목 | E4: 금 액 | F4: 구 성 비 | G4: 비 고 | I4: 요율
B5: 순 공 사 원 가 | C5: 재료비 | D5: 직 접 재 료 비
D6: 간 접 재 료 비
D7: 작업실,부산물등(△)
D8: 소 계
C9: 노무비 | D9: 직 접 노 무 비
D10: 간 접 노 무 비 | F10: ="직접노무비 x " & I10*100 & "%" -> 직접노무비 x 17.5% | I10: 0.175
D11: 소 계
C12: 경 비 | D12: 산 출 경 비
D13: 산 재 보 험 료 | F13: ="노무비 x " & I13*100 & "%" -> 노무비 x 3.56% | I13: 0.0356
D14: 고 용 보 험 료 | F14: ="노무비 x " & I14*100 & "%" -> 노무비 x 1.01% | I14: 0.0101
D15: 퇴직공제부금비 | F15: ="직접노무비 x " & I15*100 & "%" -> 직접노무비 x 2.3% | I15: 0.023
D16: 건 강 보 험 료 | F16: ="직접노무비 x " & I16*100 & "%" -> 직접노무비 x 3.595% | I16: 0.03595
D17: 연 금 보 험 료 | F17: ="직접노무비 x " & I17*100 & "%" -> 직접노무비 x 4.75% | I17: 0.0475
D18: 노인장기요양보험료 | F18: ="건강보험료 x " & I18*100 & "%" -> 건강보험료 x 13.14% | I18: 0.1314
D19: 산업안전보건관리비 | F19: ="(재료비+직접노무비) x " & I19*100 & "%" -> (재료비+직접노무비) x 3.11% | I19: 0.0311
D20: 안전관리비
D21: 기 타 경 비 | F21: ="(재료비+노무비) x " & I21*100 & "%" -> (재료비+노무비) x 5% | I21: 0.05
D22: 석면분담금 | F22: ="노무비 x " & I22*100 & "%" -> 노무비 x 0.006% | I22: 6e-05
D23: 임금채권부담금 | F23: ="노무비 x " & I23*100 & "%" -> 노무비 x 0.09% | I23: 0.0009
D24: 환 경 보 전 비 | F24: ="(재료비+직노+기계경비) x " & I24*100 & "%" -> (재료비+직노+기계경비) x 0.3% | I24: 0.003
D25: 건설하도급대금지급보증서발급수수료 | F25: ="(재료비+직노+기계경비) x " & I25*100 & "%" -> (재료비+직노+기계경비) x 0% | I25: 0
D26: 건설기계대여대금지급보증서발급수수료 | F26: ="(재료비+직노+기계경비) x " & I26*100 & "%" -> (재료비+직노+기계경비) x 0.07% | I26: 0.0007
D27: 폐기물처리비
D28: 소 계
B29: 합 계
B30: 일반관리비 | F30: ="합계 x " & I30*100 & "%" -> 합계 x 8% | I30: 0.08
B31: 이윤 | F31: ="(노무비+경비+일반관리비) x " & I31*100 & "%" -> (노무비+경비+일반관리비) x 15% | I31: 0.15
B32: 작업부산물(철거)
B33: 공급가액
B34: 부가가치세 | F34: ="공급가액 x " & I34*100 & "%" -> 공급가액 x 10% | I34: 0.1
B35: 도급액
B36: 관급자재비
B37: 총 공 사 비

Sheet Sheet2
E12: 국민연금보험료 | F12: 국민건강보험료 | G12: 퇴직공제부금비 | H12: 노인장기요양 | I12: 산업안전보건 | J12: 안전관리비
H13: 보험료 | I13: 관리비
E14: 2421990 | F14: 1833064 | G14: 1172753 | H14: 240864 | I14: 2679988 | J14: 450000 | K14: =SUM(E14:J14) -> 8798659

Sheet 공종별집계표
A1: 공 종 별 집 계 표
A2: [ 농암초등학교 본관동 방수공사 ]
A3: 품 명 | B3: 규 격 | C3: 단위 | D3: 수량 | E3: 재 료 비 | G3: 노 무 비 | I3: 경 비 | K3: 합 계 | M3: 비 고 | N3: 공종코드 | O3: 변수 | P3: 상위공종 | Q3: 공종구분 | R3: 공종레벨 | S3: 공종소계 | T3: 원가계산서 연결금액
E4: 단 가 | F4: 금 액 | G4: 단 가 | H4: 금 액 | I4: 단 가 | J4: 금 액 | K4: 단 가 | L4: 금 액
A5: 01 농암초등학교 본관동 방수공사 | D5: 1 | N5: 01 | R5: 1
A6: 0101 가 설 공 사 | D6: 1 | N6: 0101 | P6: 01 | R6: 2
A7: 0102 방 수 공 사 | D7: 1 | N7: 0102 | P7: 01 | R7: 2
A8: 0103 홈 통 공 사 | D8: 1 | N8: 0103 | P8: 01 | R8: 2
A9: 0104 기 타 공 사 | D9: 1 | N9: 0104 | P9: 01 | R9: 2
A10: 0105 철 거 공 사 | D10: 1 | N10: 0105 | P10: 01 | R10: 2
A11: 0106 작업부산물(철거) | D11: 1 | N11: 0106 | Q11: 5 | R11: 2 | T11: =L11*1 -> 0
A12: 0107 폐기물처리비 | D12: 1 | N12: 0107 | Q12: 6 | R12: 2 | T12: =L12*1 -> 0
A13: 0108 안전관리비 | D13: 1
A27: [ 합 계 ] | F27: =F5 -> 0 | H27: =H5 -> 0 | J27: =J5 -> 0 | L27: =L5 -> 0

Sheet 공종별내역서
A1: [ 농암초등학교 본관동 방수공사 ]
A2: 품 명 | B2: 규 격 | C2: 단위 | D2: 수량 | E2: 재 료 비 | G2: 노 무 비 | I2: 경 비 | K2: 합 계 | M2: 비 고 | N2: 품목코드 | O2: 변수 | P2: 설정 | Q2: 공종코드 | R2: 일위 | S2: 단산 | T2: 자재 | U2: 손료적용 | V2: 손료저장 | W2: 적용율 | X2: JUK1 | Y2: JUK2 | Z2: JUK3 | AA2: JUK4 | AB2: JUK5 | AC2: JUK6 | AD2: JUK7 | AE2: JUK8 | AF2: JUK9 | AG2: JUK10 | AH2: JUK11 | AI2: JUK12 | AJ2: JUK13 | AK2: JUK14 | AL2: JUK15 | AM2: JUK16 | AN2: JUK17 | AO2: JUK18 | AP2: JUK19 | AQ2: JUK20 | AR2: 자재구분 | AS2: 공종구분 | AT2: 공종레벨 | AU2: 공종+자재 | AV2: 고유번호
E3: 단 가 | F3: 금 액 | G3: 단 가 | H3: 금 액 | I3: 단 가 | J3: 금 액 | K3: 단 가 | L3: 금 액
A4: 0101 가 설 공 사 | Q4: 0101
A5: 고소작업차 | B5: 5ton,1일8시간기준 | C5: 일 | D5: 5 | N5: 50A411412D8B976CC19C82E4291141941183641F | Q5: 0101 | R5: T | S5: F | T5: F | AU5: 010150A411412D8B976CC19C82E4291141941183641F | AV5: 6040
Q6: 0101
Q7: 0101
Q8: 0101
Q9: 0101
Q10: 0101
Q11: 0101
Q12: 0101
Q13: 0101
Q14: 0101
Q15: 0101
Q16: 0101
Q17: 0101
... Q26: 0101
A27: [ 합 계 ] | N27: TOTAL
A28: 0102 방 수 공 사 | Q28: 0102
A29: 복합방수 | B29: 노출, 바닥 | C29: M2 | D29: 814 | N29: 57B03144868B957B779315B582E1FB | Q29: 0102 | R29: T | S29: F | T29: F | AU29: 010257B03144868B957B779315B582E1FB | AV29: 6029
A30: 복합방수 | B30: 노출, 수직부 | C30: M2 | D30: 119 | N30: 57B03144868B957B779315B582E1FA | Q30: 0102 | R30: T | S30: F | T30: F | AU30: 010257B03144868B957B779315B582E1FA | AV30: 6030
A31: 알루미늄졸대 | C31: M | D31: 216 | N31: 50E3C149AF80D40D67996059B72116787EDAE6 | Q31: 0102 | R31: F | S31: F | T31: T | AU31: 010250E3C149AF80D40D67996059B72116787EDAE6 | AV31: 6139
A32: 고압물청소 | C32: M2 | D32: 9 | N32: 57B03144868B957B779315B582E199 | Q32: 0102 | R32: T | S32: F | T32: F | AU32: 010257B03144868B957B779315B582E199 | AV32: 6129
A33: 우레탄도막방수(방수프라이머+보강포+중도2회+탑코팅) | B33: 바닥 2mm, 노출 | C33: M2 | D33: 9 | N33: 57B031458F8628DCB393DA7A580141 | Q33: 0102 | R33: T | S33: F | T33: F | AU33: 010257B031458F8628DCB393DA7A580141 | AV33: 6132
Q34: 0102
Q35: 0102
Q36: 0102
Q37: 0102
Q38: 0102
Q39: 0102
Q40: 0102
Q41: 0102
Q42: 0102
Q43: 0102
Q44: 0102
Q45: 0102
... Q50: 0102
A51: [ 합 계 ] | N51: TOTAL
A52: 0103 홈 통 공 사 | Q52: 0103
A53: 루프드레인설치 | B53: L형, D100mm | C53: EA | D53: 24 | N53: 57B0014249837FC3F690192785B15D | Q53: 0103 | R53: T | S53: F | T53: F | AU53: 010357B0014249837FC3F690192785B15D | AV53: 6032
A54: 루프드레인연결관 | B54: SST Ø100mm×1.5t, L=1.0M이하 | C54: EA | D54: 22 | N54: 57B00142498255652F9B0591B5E1CA | Q54: 0103 | R54: T | S54: F | T54: F | AU54: 010357B00142498255652F9B0591B5E1CA | AV54: 6033
A55: 선홈통(금속) 설치 | B55: 스테인리스, Ø100×1.5㎜ | C55: M | D55: 16 | N55: 57B001425B8C3709EE9AAA23DE4151 | Q55: 0103 | R55: T | S55: F | T55: F | AU55: 010357B001425B8C3709EE9AAA23DE4151 | AV55: 6136
A56: 스텐상자홈통설치 | B56: 250*250*250*1.5t | C56: EA | D56: 24 | N56: 57B001425B8C3709EE9D83B19D3127 | Q56: 0103 | R56: T | S56: F | T56: F | AU56: 010357B001425B8C3709EE9D83B19D3127 | AV56: 6140
Q57: 0103
Q58: 0103
Q59: 0103
Q60: 0103
Q61: 0103
Q62: 0103
Q63: 0103
Q64: 0103
Q65: 0103
Q66: 0103
Q67: 0103
Q68: 0103
... Q74: 0103
A75: [ 합 계 ] | N75: TOTAL
A76: 0104 기 타 공 사 | Q76: 0104
A77: 구멍뚫기(코아드릴) | B77: D100, 콘크리트 150mm,벽체 | C77: 개소 | D77: 24 | N77: 577FA14F178AA9220F90BEEAAB1184 | Q77: 0104 | R77: T | S77: F | T77: F | AU77: 0104577FA14F178AA9220F90BEEAAB1184 | AV77: 6122
A78: 스텐연도커버 재설치 | B78: 700*700*500,철거포함 | C78: 개소 | D78: 6 | N78: 57B001425B8C3709EE9D83B19D2101 | Q78: 0104 | R78: T | S78: F | T78: F | AU78: 010457B001425B8C3709EE9D83B19D2101 | AV78: 6133
A79: AL복합판넬 재설치 | B79: 철거포함,코킹포함 | C79: M2 | D79: 31 | N79: 57B0714F9D8EEA7C5997311A6AB1DD | Q79: 0104 | R79: T | S79: F | T79: F | AU79: 010457B0714F9D8EEA7C5997311A6AB1DD | AV79: 6134
A80: 옥상내 전선트레이 등 재설치 | B80: 내선전공 | C80: 인 | D80: 4 | N80: 57B001425B8C3709EE9D83B19D314D | Q80: 0104 | R80: T | S80: F | T80: F | AU80: 010457B001425B8C3709EE9D83B19D314D | AV80: 6038
Q81: 0104
Q82: 0104
Q83: 0104
Q84: 0104
Q85: 0104
Q86: 0104
Q87: 0104
Q88: 0104
Q89: 0104
Q90: 0104
Q91: 0104
Q92: 0104
... Q98: 0104
A99: [ 합 계 ] | N99: TOTAL
A100: 0105 철 거 공 사 | Q100: 0105
A101: 기존방수 제거 및 바탕처리 | B101: 바닥 | C101: M2 | D101: 814 | N101: 57B1A1494686713384980EA5A96152 | Q101: 0105 | R101: T | S101: F | T101: F | AU101: 010557B1A1494686713384980EA5A96152 | AV101: 6120
A102: 기존방수 제거 및 바탕처리 | B102: 수직부 | C102: M2 | D102: 119 | N102: 57B1A1494686713384980EA5A9514C | Q102: 0105 | R102: T | S102: F | T102: F | AU102: 010557B1A1494686713384980EA5A9514C | AV102: 6121
A103: 루프드레인 폐공 | C103: 개소 | D103: 5 | N103: 57B001424980A9B7E2941AADDB5104 | Q103: 0105 | R103: T | S103: F | T103: F | AU103: 010557B001424980A9B7E2941AADDB5104 | AV103: 6047
A104: 장식홈통 철거 | C104: 개소 | D104: 46 | N104: 57B001425B8A075FD299C583B4613D | Q104: 0105 | R104: T | S104: F | T104: F | AU104: 010557B001425B8A075FD299C583B4613D | AV104: 6046
A105: 선홈통 철거 | C105: M | D105: 20 | N105: 57B001424980A9B7E2941AADDB5107 | Q105: 0105 | R105: T | S105: F | T105: F | AU105: 010557B001424980A9B7E2941AADDB5107 | AV105: 6123
A106: 혼합폐기물상차비 | C106: TON | D106: 7.5 | N106: 57B0A142E08F23A9F29E7BA511D133 | Q106: 0105 | R106: F | S106: F | T106: T | AU106: 010557B0A142E08F23A9F29E7BA511D133 | AV106: 6135
Q107: 0105
Q108: 0105
Q109: 0105
Q110: 0105
Q111: 0105
Q112: 0105
Q113: 0105
Q114: 0105
Q115: 0105
Q116: 0105
Q117: 0105
Q118: 0105
... Q122: 0105
A123: [ 합 계 ] | N123: TOTAL
A124: 0106 작업부산물(철거) | Q124: 0106
A125: 철강설 | B125: 스텐레스, 작업설부산물 | C125: kg | D125: -59 | N125: 50B66140E489550AAE9368E98191688AEA5249 | Q125: 0106 | R125: F | S125: F | T125: T | AU125: 010650B66140E489550AAE9368E98191688AEA5249 | AV125: 6128
...

Sheet 일위대가목록
B1: 일 위 대 가 목 록
B2: [ 농암초등학교 본관동 방수공사 ]
A3: 코 드 | B3: 품 명 | C3: 규 격 | D3: 단위 | E3: 재 료 비 | F3: 노 무 비 | G3: 경 비 | H3: 합 계 | I3: 번 호 | J3: 비 고 | K3: 노임계수 | L3: 할증 | M3: 품셈개요 | N3: 장비일위
A4: 50A411412D8B976CC19C82E4291141941183641F | B4: 고소작업차 | C4: 5ton,1일8시간기준 | D4: 일 | E4: =일위대가!F7 -> 0 | F4: =일위대가!H7 -> 0 | G4: =일위대가!J7 -> 764960 | H4: =E4+F4+G4 -> 764960 | I4: 호표 1 | N4: T
A5: 57B03144868B957B779315B582E1FB | B5: 복합방수 | C5: 노출, 바닥 | D5: M2 | E5: =일위대가!F19 -> 34261 | F5: =일위대가!H19 -> 32849 | G5: =일위대가!J19 -> 0 | H5: =E5+F5+G5 -> 67110 | I5: 호표 2
A6: 57B03144868B957B779315B582E1FA | B6: 복합방수 | C6: 노출, 수직부 | D6: M2 | E6: =일위대가!F30 -> 18186 | F6: =일위대가!H30 -> 44127 | G6: =일위대가!J30 -> 0 | H6: =E6+F6+G6 -> 62313 | I6: 호표 3
A7: 57B03144868B957B779315B582E199 | B7: 고압물청소 | D7: M2 | E7: =일위대가!F35 -> 0 | F7: =일위대가!H35 -> 5489 | G7: =일위대가!J35 -> 109 | H7: =E7+F7+G7 -> 5598 | I7: 호표 4
A8: 57B031458F8628DCB393DA7A580141 | B8: 우레탄도막방수(방수프라이머+보강포+중도2회+탑코팅) | C8: 바닥 2mm, 노출 | D8: M2 | E8: =일위대가!F47 -> 17338 | F8: =일위대가!H47 -> 20213 | G8: =일위대가!J47 -> 343 | H8: =E8+F8+G8 -> 37894 | I8: 호표 5
A9: 57B0014249837FC3F690192785B15D | B9: 루프드레인설치 | C9: L형, D100mm | D9: EA | E9: =일위대가!F53 -> 79172 | F9: =일위대가!H53 -> 49250 | G9: =일위대가!J53 -> 0 | H9: =E9+F9+G9 -> 128422 | I9: 호표 6
A10: 57B00142498255652F9B0591B5E1CA | B10: 루프드레인연결관 | C10: SST Ø100mm×1.5t, L=1.0M이하 | D10: EA | E10: =일위대가!F59 -> 62257 | F10: =일위대가!H59 -> 25870 | G10: =일위대가!J59 -> 517 | H10: =E10+F10+G10 -> 88644 | I10: 호표 7
A11: 57B001425B8C3709EE9AAA23DE4151 | B11: 선홈통(금속) 설치 | C11: 스테인리스, Ø100×1.5㎜ | D11: M | E11: =일위대가!F65 -> 24982 | F11: =일위대가!H65 -> 25870 | G11: =일위대가!J65 -> 517 | H11: =E11+F11+G11 -> 51369 | I11: 호표 8
A12: 57B001425B8C3709EE9D83B19D3127 | B12: 스텐상자홈통설치 | C12: 250*250*250*1.5t | D12: EA | E12: =일위대가!F71 -> 24625 | F12: =일위대가!H71 -> 31608 | G12: =일위대가!J71 -> 1260 | H12: =E12+F12+G12 -> 57493 | I12: 호표 9
A13: 577FA14F178AA9220F90BEEAAB1184 | B13: 구멍뚫기(코아드릴) | C13: D100, 콘크리트 150mm,벽체 | D13: 개소 | E13: =일위대가!F77 -> 1670 | F13: =일위대가!H77 -> 83544 | G13: =일위대가!J77 -> 0 | H13: =E13+F13+G13 -> 85214 | I13: 호표 10
A14: 57B001425B8C3709EE9D83B19D2101 | B14: 스텐연도커버 재설치 | C14: 700*700*500,철거포함 | D14: 개소 | E14: =일위대가!F81 -> 0 | F14: =일위대가!H81 -> 82832 | G14: =일위대가!J81 -> 0 | H14: =E14+F14+G14 -> 82832 | I14: 호표 11
A15: 57B0714F9D8EEA7C5997311A6AB1DD | B15: AL복합판넬 재설치 | C15: 철거포함,코킹포함 | D15: M2 | E15: =일위대가!F87 -> 4069 | F15: =일위대가!H87 -> 22598 | G15: =일위대가!J87 -> 414 | H15: =E15+F15+G15 -> 27081 | I15: 호표 12
A16: 57B001425B8C3709EE9D83B19D314D | B16: 옥상내 전선트레이 등 재설치 | C16: 내선전공 | D16: 인 | E16: =일위대가!F91 -> 0 | F16: =일위대가!H91 -> 276108 | G16: =일위대가!J91 -> 0 | H16: =E16+F16+G16 -> 276108 | I16: 호표 13
A17: 57B1A1494686713384980EA5A96152 | B17: 기존방수 제거 및 바탕처리 | C17: 바닥 | D17: M2 | E17: =일위대가!F97 -> 0 | F17: =일위대가!H97 -> 11217 | G17: =일위대가!J97 -> 673 | H17: =E17+F17+G17 -> 11890 | I17: 호표 14
A18: 57B1A1494686713384980EA5A9514C | B18: 기존방수 제거 및 바탕처리 | C18: 수직부 | D18: M2 | E18: =일위대가!F103 -> 0 | F18: =일위대가!H103 -> 12495 | G18: =일위대가!J103 -> 749 | H18: =E18+F18+G18 -> 13244 | I18: 호표 15
A19: 57B001424980A9B7E2941AADDB5104 | B19: 루프드레인 철거 | D19: 개소 | E19: =일위대가!F107 -> 0 | F19: =일위대가!H107 -> 90666 | G19: =일위대가!J107 -> 0 | H19: =E19+F19+G19 -> 90666 | I19: 호표 16
A20: 57B001425B8A075FD299C583B4613D | B20: 장식홈통 철거 | D20: 개소 | E20: =일위대가!F111 -> 0 | F20: =일위대가!H111 -> 8634 | G20: =일위대가!J111 -> 0 | H20: =E20+F20+G20 -> 8634 | I20: 호표 17
A21: 57B001424980A9B7E2941AADDB5107 | B21: 선홈통 철거 | D21: M | E21: =일위대가!F116 -> 0 | F21: =일위대가!H116 -> 3453 | G21: =일위대가!J116 -> 69 | H21: =E21+F21+G21 -> 3522 | I21: 호표 18
A22: 50A411412D8B976CC19C82E4291141941183641E | B22: 고소작업차 | C22: 5ton | D22: HR | E22: =일위대가!F123 -> 9018 | F22: =일위대가!H123 -> 50008 | G22: =일위대가!J123 -> 36594 | H22: =E22+F22+G22 -> 95620 | I22: 호표 19 | N22: T
A23: 57B03145AA8484A6DB982E3D948120 | B23: 방수프라이머 바름 | C23: 롤러 1층(회) 바름 기준 | D23: M2 | E23: =일위대가!F129 -> 0 | F23: =일위대가!H129 -> 3428 | G23: =일위대가!J129 -> 68 | H23: =E23+F23+G23 -> 3496 | I23: 호표 20
A24: 57B031458F8628DCB394D331C671F3 | B24: 도막바름 | C24: 바닥, 도막 1층(회) 형성 기준 | D24: M2 | E24: =일위대가!F135 -> 0 | F24: =일위대가!H135 -> 5051 | G24: =일위대가!J135 -> 101 | H24: =E24+F24+G24 -> 5152 | I24: 호표 21
A25: 57B031458F8628DCB394ED9A16C1E8 | B25: 보강포 붙임 | C25: 바닥, 1층(회) 붙임 기준 | D25: M2 | E25: =일위대가!F140 -> 0 | F25: =일위대가!H140 -> 3022 | G25: =일위대가!J140 -> 0 | H25: =E25+F25+G25 -> 3022 | I25: 호표 22
A26: 57B031458F8628DCB394FE0906F1B4 | B26: 마감도료(Top-coat) 바름 | C26: 바닥, 1층(회) 바름 기준 | D26: M2 | E26: =일위대가!F146 -> 0 | F26: =일위대가!H146 -> 3661 | G26: =일위대가!J146 -> 73 | H26: =E26+F26+G26 -> 3734 | I26: 호표 23
A27: 57B001424980A9B7E2941AADDB5105 | B27: 루프드레인설치 | D27: 개소 | E27: =일위대가!F151 -> 0 | F27: =일위대가!H151 -> 49250 | G27: =일위대가!J151 -> 0 | H27: =E27+F27+G27 -> 49250 | I27: 호표 24
A28: 57B001425B8960D5E89ED83C8991A4 | B28: 금속 선홈통 설치 | C28: 150mm 이하 기준 | D28: M | E28: =일위대가!F157 -> 0 | F28: =일위대가!H157 -> 25870 | G28: =일위대가!J157 -> 517 | H28: =E28+F28+G28 -> 26387 | I28: 호표 25
A29: 57B011403987EA98EC978CB5EE917A | B29: 잡철물제작및설치 | C29: 현장제작 설치, 경량철재 | D29: kg | E29: =일위대가!F166 -> 140 | F29: =일위대가!H166 -> 7024 | G29: =일위대가!J166 -> 280 | H29: =E29+F29+G29 -> 7444 | I29: 호표 26
A30: 57B0714F9D8EEA7C5997311A6AB1DC | B30: 금속패널 설치 / 벽 | C30: 10m미만, 시공량 65m2/일당 | D30: M2 | E30: =일위대가!F172 -> 0 | F30: =일위대가!H172 -> 13808 | G30: =일위대가!J172 -> 414 | H30: =E30+F30+G30 -> 14222 | I30: 호표 27
A31: 57B0714F9D8EEA7F2C9CB7E700B1AC | B31: 금속패널 코킹 | C31: 10m미만 | D31: M | E31: =일위대가!F177 -> 0 | F31: =일위대가!H177 -> 4395 | G31: =일위대가!J177 -> 0 | H31: =E31+F31+G31 -> 4395 | I31: 호표 28

Sheet 일위대가
A1: [ 농암초등학교 본관동 방수공사 ]
A2: 품 명 | B2: 규 격 | C2: 단위 | D2: 수량 | E2: 재 료 비 | G2: 노 무 비 | I2: 경 비 | K2: 합 계 | M2: 비 고 | N2: 일위대가 | O2: 품목코드 | P2: 일위 | Q2: 단산 | R2: 자재 | S2: 손료적용 | T2: 손료저장 | U2: 적용율 | V2: JUK1 | W2: JUK2 | X2: JUK3 | Y2: JUK4 | Z2: JUK5 | AA2: JUK6 | AB2: JUK7 | AC2: JUK8 | AD2: JUK9 | AE2: JUK10 | AF2: JUK11 | AG2: JUK12 | AH2: JUK13 | AI2: JUK14 | AJ2: JUK15 | AK2: JUK16 | AL2: JUK17 | AM2: JUK18 | AN2: JUK19 | AO2: JUK20 | AP2: 할증적용 | AQ2: 할증저장 | AR2: 할증율 | AS2: HAL1 | AT2: HAL2 | AU2: HAL3 | AV2: 자재구분 | AW2: 일위대가+자재 | AX2: 장비일위 | AY2: 설정 | AZ2: 할증체크
E3: 단 가 | F3: 금 액 | G3: 단 가 | H3: 금 액 | I3: 단 가 | J3: 금 액 | K3: 단 가 | L3: 금 액
A4: 고소작업차 5ton,1일8시간기준 일 ( 호표 1 ) | N4: 50A411412D8B976CC19C82E4291141941183641F
A5: 고소작업차 | B5: 5ton | C5: HR | D5: 8 | E5: =일위대가목록!E22 -> 9018 | F5: =TRUNC(E5*D5,1) -> 72144 | G5: =일위대가목록!F22 -> 50008 | H5: =TRUNC(G5*D5,1) -> 400064 | I5: =일위대가목록!G22 -> 36594 | J5: =TRUNC(I5*D5,1) -> 292752 | K5: =TRUNC(E5+G5+I5,1) -> 95620 | L5: =TRUNC(F5+H5+J5,1) -> 764960 | M5: 금액제외 | O5: 50A411412D8B976CC19C82E4291141941183641E | P5: T | Q5: F | R5: F | V5: 1 | AW5: 50A411412D8B976CC19C82E4291141941183641F50A411412D8B976CC19C82E4291141941183641E | AY5: -
A6: 경비로 적용 | B6: 합계의 100% | C6: 식 | D6: 1 | E6: 0 | F6: =TRUNC(E6*D6,1) -> 0 | G6: 0 | H6: =TRUNC(G6*D6,1) -> 0 | I6: =TRUNC(SUMIF(V5:V6, RIGHTB(O6, 1), L5:L6)*U6, 2) -> 764960 | J6: =TRUNC(I6*D6,1) -> 764960 | K6: =TRUNC(E6+G6+I6,1) -> 764960 | L6: =TRUNC(F6+H6+J6,1) -> 764960 | N6: 50A411412D8B976CC19C82E4291141941183641F | O6: 56AA814B978BA58B2597B9A57E81001 | P6: F | Q6: F | R6: F | S6: 3 | T6: 2 | U6: 1 | AW6: 50A411412D8B976CC19C82E4291141941183641F56AA814B978BA58B2597B9A57EB1002
A7: [ 합 계 ] | F7: =TRUNC(SUMIF(N5:N6, N4, F5:F6),0) -> 0 | H7: =TRUNC(SUMIF(N5:N6, N4, H5:H6),0) -> 0 | J7: =TRUNC(SUMIF(N5:N6, N4, J5:J6),0) -> 764960 | L7: =F7+H7+J7 -> 764960 | N7: TOTAL | O7: TOTAL | AX7: T
A9: 복합방수 노출, 바닥 M2 ( 호표 2 ) | N9: 57B03144868B957B779315B582E1FB
A10: 복합시트 | C10: M2 | D10: 1.1 | E10: =단가대비표!O12 -> 13600 | F10: =TRUNC(E10*D10,1) -> 14960 | G10: =단가대비표!P12 -> 0 | H10: =TRUNC(G10*D10,1) -> 0 | I10: =단가대비표!V12 -> 0 | J10: =TRUNC(I10*D10,1) -> 0 | K10: =TRUNC(E10+G10+I10,1) -> 13600 | L10: =TRUNC(F10+H10+J10,1) -> 14960 | M10: 자재 8 | N10: 57B03144868B957B779315B582E1FB | O10: 50B651469882D01F289658B5EDA1E44A16C55A | P10: F | Q10: F | R10: T | V10: 1 | AW10: 57B03144868B957B779315B582E1FB50B651469882D01F289658B5EDA1E44A16C55A
A11: 우레탄코트 | C11: kg | D11: 2.6 | E11: =단가대비표!O13 -> 5500 | F11: =TRUNC(E11*D11,1) -> 14300 | G11: =단가대비표!P13 -> 0 | H11: =TRUNC(G11*D11,1) -> 0 | I11: =단가대비표!V13 -> 0 | J11: =TRUNC(I11*D11,1) -> 0 | K11: =TRUNC(E11+G11+I11,1) -> 5500 | L11: =TRUNC(F11+H11+J11,1) -> 14300 | M11: 자재 9 | N11: 57B03144868B957B779315B582E1FB | O11: 50B651469882D01F289658B5EDA1E44A16C555 | P11: F | Q11: F | R11: T | V11: 1 | AW11: 57B03144868B957B779315B582E1FB50B651469882D01F289658B5EDA1E44A16C555
A12: 프라이머 | C12: kg | D12: 0.1 | E12: =단가대비표!O14 -> 6000 | F12: =TRUNC(E12*D12,1) -> 600 | G12: =단가대비표!P14 -> 0 | H12: =TRUNC(G12*D12,1) -> 0 | I12: =단가대비표!V14 -> 0 | J12: =TRUNC(I12*D12,1) -> 0 | K12: =TRUNC(E12+G12+I12,1) -> 6000 | L12: =TRUNC(F12+H12+J12,1) -> 600 | M12: 자재 10 | N12: 57B03144868B957B779315B582E1FB | O12: 50B651469882D01F289658B5EDA1E44A16C554 | P12: F | Q12: F | R12: T | V12: 1 | AW12: 57B03144868B957B779315B582E1FB50B651469882D01F289658B5EDA1E44A16C554
A13: 탑코팅재 | C13: kg | D13: 0.5 | E13: =단가대비표!O15 -> 5500 | F13: =TRUNC(E13*D13,1) -> 2750 | G13: =단가대비표!P15 -> 0 | H13: =TRUNC(G13*D13,1) -> 0 | I13: =단가대비표!V15 -> 0 | J13: =TRUNC(I13*D13,1) -> 0 | K13: =TRUNC(E13+G13+I13,1) -> 5500 | L13: =TRUNC(F13+H13+J13,1) -> 2750 | M13: 자재 11 | N13: 57B03144868B957B779315B582E1FB | O13: 50B651469882D01F289658B5EDA1E44A16C4B7 | P13: F | Q13: F | R13: T | V13: 1 | AW13: 57B03144868B957B779315B582E1FB50B651469882D01F289658B5EDA1E44A16C4B7
A14: 규사 | C14: kg | D14: 1.5 | E14: =단가대비표!O16 -> 600 | F14: =TRUNC(E14*D14,1) -> 900 | G14: =단가대비표!P16 -> 0 | H14: =TRUNC(G14*D14,1) -> 0 | I14: =단가대비표!V16 -> 0 | J14: =TRUNC(I14*D14,1) -> 0 | K14: =TRUNC(E14+G14+I14,1) -> 600 | L14: =TRUNC(F14+H14+J14,1) -> 900 | M14: 자재 12 | N14: 57B03144868B957B779315B582E1FB | O14: 50B651469882D01F289658B5EDA1E44A16C4B5 | P14: F | Q14: F | R14: T | V14: 1 | AW14: 57B03144868B957B779315B582E1FB50B651469882D01F289658B5EDA1E44A16C4B5
A15: 조인트보강재 | C15: M | D15: 0.1 | E15: =단가대비표!O17 -> 800 | F15: =TRUNC(E15*D15,1) -> 80 | G15: =단가대비표!P17 -> 0 | H15: =TRUNC(G15*D15,1) -> 0 | I15: =단가대비표!V17 -> 0 | J15: =TRUNC(I15*D15,1) -> 0 | K15: =TRUNC(E15+G15+I15,1) -> 800 | L15: =TRUNC(F15+H15+J15,1) -> 80 | M15: 자재 13 | N15: 57B03144868B957B779315B582E1FB | O15: 50B651469882D01F289658B5EDA1E44A16C4B3 | P15: F | Q15: F | R15: T | V15: 1 | AW15: 57B03144868B957B779315B582E1FB50B651469882D01F289658B5EDA1E44A16C4B3
A16: 잡재료 | B16: 주재료비의 2% | C16: 식 | D16: 1 | E16: =TRUNC(SUMIF(V10:V18, RIGHTB(O16, 1), F10:F18)*U16, 2) -> 671.8 | F16: =TRUNC(E16*D16,1) -> 671.8 | G16: 0 | H16: =TRUNC(G16*D16,1) -> 0 | I16: 0 | J16: =TRUNC(I16*D16,1) -> 0 | K16: =TRUNC(E16+G16+I16,1) -> 671.8 | L16: =TRUNC(F16+H16+J16,1) -> 671.8 | N16: 57B03144868B957B779315B582E1FB | O16: 56AA814B978BA58B2597B9A57E81001 | P16: F | Q16: F | R16: F | S16: 0 | T16: 0 | U16: 0.02 | AW16: 57B03144868B957B779315B582E1FB56AA814B978BA58B2597B9A57EA1003
A17: 방수공 | B17: 일반공사 직종 | C17: 인 | D17: 0.112 | E17: =단가대비표!O36 -> 0 | F17: =TRUNC(E17*D17,1) -> 0 | G17: =단가대비표!P36 -> 233163 | H17: =TRUNC(G17*D17,1) -> 26114.2 | I17: =단가대비표!V36 -> 0 | J17: =TRUNC(I17*D17,1) -> 0 | K17: =TRUNC(E17+G17+I17,1) -> 233163 | L17: =TRUNC(F17+H17+J17,1) -> 26114.2 | M17: 노임 6 | N17: 57B03144868B957B779315B582E1FB | O17: 576F9143AA81DB24C39DE7E6D0F141AC76B9DD | P17: F | Q17: F | R17: T | AW17: 57B03144868B957B779315B582E1FB576F9143AA81DB24C39DE7E6D0F141AC76B9DD
A18: 보통인부 | B18: 일반공사 직종 | C18: 인 | D18: 0.039 | E18: =단가대비표!O31 -> 0 | F18: =TRUNC(E18*D18,1) -> 0 | G18: =단가대비표!P31 -> 172698 | H18: =TRUNC(G18*D18,1) -> 6735.2 | I18: =단가대비표!V31 -> 0 | J18: =TRUNC(I18*D18,1) -> 0 | K18: =TRUNC(E18+G18+I18,1) -> 172698 | L18: =TRUNC(F18+H18+J18,1) -> 6735.2 | M18: 노임 1 | N18: 57B03144868B957B779315B582E1FB | O18: 576F9143AA81DB24C39DE7E6D0F141AC76BB8B | P18: F | Q18: F | R18: T | AW18: 57B03144868B957B779315B582E1FB576F9143AA81DB24C39DE7E6D0F141AC76BB8B
A19: [ 합 계 ] | F19: =TRUNC(SUMIF(N10:N18, N9, F10:F18),0) -> 34261 | H19: =TRUNC(SUMIF(N10:N18, N9, H10:H18),0) -> 32849 | J19: =TRUNC(SUMIF(N10:N18, N9, J10:J18),0) -> 0 | L19: =F19+H19+J19 -> 67110 | N19: TOTAL | O19: TOTAL
A21: 복합방수 노출, 수직부 M2 ( 호표 3 ) | N21: 57B03144868B957B779315B582E1FA
A22: 우레탄코트 | C22: kg | D22: 2.2 | E22: =단가대비표!O13 -> 5500 | F22: =TRUNC(E22*D22,1) -> 12100 | G22: =단가대비표!P13 -> 0 | H22: =TRUNC(G22*D22,1) -> 0 | I22: =단가대비표!V13 -> 0 | J22: =TRUNC(I22*D22,1) -> 0 | K22: =TRUNC(E22+G22+I22,1) -> 5500 | L22: =TRUNC(F22+H22+J22,1) -> 12100 | M22: 자재 9 | N22: 57B03144868B957B779315B582E1FA | O22: 50B651469882D01F289658B5EDA1E44A16C555 | P22: F | Q22: F | R22: T | V22: 1 | AW22: 57B03144868B957B779315B582E1FA50B651469882D01F289658B5EDA1E44A16C555
A23: 프라이머 | C23: kg | D23: 0.3 | E23: =단가대비표!O14 -> 6000 | F23: =TRUNC(E23*D23,1) -> 1800 | G23: =단가대비표!P14 -> 0 | H23: =TRUNC(G23*D23,1) -> 0 | I23: =단가대비표!V14 -> 0 | J23: =TRUNC(I23*D23,1) -> 0 | K23: =TRUNC(E23+G23+I23,1) -> 6000 | L23: =TRUNC(F23+H23+J23,1) -> 1800 | M23: 자재 10 | N23: 57B03144868B957B779315B582E1FA | O23: 50B651469882D01F289658B5EDA1E44A16C554 | P23: F | Q23: F | R23: T | V23: 1 | AW23: 57B03144868B957B779315B582E1FA50B651469882D01F289658B5EDA1E44A16C554
A24: 탑코팅재 | C24: kg | D24: 0.5 | E24: =단가대비표!O15 -> 5500 | F24: =TRUNC(E24*D24,1) -> 2750 | G24: =단가대비표!P15 -> 0 | H24: =TRUNC(G24*D24,1) -> 0 | I24: =단가대비표!V15 -> 0 | J24: =TRUNC(I24*D24,1) -> 0 | K24: =TRUNC(E24+G24+I24,1) -> 5500 | L24: =TRUNC(F24+H24+J24,1) -> 2750 | M24: 자재 11 | N24: 57B03144868B957B779315B582E1FA | O24: 50B651469882D01F289658B5EDA1E44A16C4B7 | P24: F | Q24: F | R24: T | V24: 1 | AW24: 57B03144868B957B779315B582E1FA50B651469882D01F289658B5EDA1E44A16C4B7
A25: 희석재 | C25: kg | D25: 0.1 | E25: =단가대비표!O18 -> 3000 | F25: =TRUNC(E25*D25,1) -> 300 | G25: =단가대비표!P18 -> 0 | H25: =TRUNC(G25*D25,1) -> 0 | I25: =단가대비표!V18 -> 0 | J25: =TRUNC(I25*D25,1) -> 0 | K25: =TRUNC(E25+G25+I25,1) -> 3000 | L25: =TRUNC(F25+H25+J25,1) -> 300 | M25: 자재 14 | N25: 57B03144868B957B779315B582E1FA | O25: 50B651469882D01F289658B5EDA1E44A16C4B2 | P25: F | Q25: F | R25: T | V25: 1 | AW25: 57B03144868B957B779315B582E1FA50B651469882D01F289658B5EDA1E44A16C4B2
A26: 조인트보강재 | C26: M | D26: 1.1 | E26: =단가대비표!O17 -> 800 | F26: =TRUNC(E26*D26,1) -> 880 | G26: =단가대비표!P17 -> 0 | H26: =TRUNC(G26*D26,1) -> 0 | I26: =단가대비표!V17 -> 0 | J26: =TRUNC(I26*D26,1) -> 0 | K26: =TRUNC(E26+G26+I26,1) -> 800 | L26: =TRUNC(F26+H26+J26,1) -> 880 | M26: 자재 13 | N26: 57B03144868B957B779315B582E1FA | O26: 50B651469882D01F289658B5EDA1E44A16C4B3 | P26: F | Q26: F | R26: T | V26: 1 | AW26: 57B03144868B957B779315B582E1FA50B651469882D01F289658B5EDA1E44A16C4B3
A27: 잡재료 | B27: 주재료비의 2% | C27: 식 | D27: 1 | E27: =TRUNC(SUMIF(V22:V29, RIGHTB(O27, 1), F22:F29)*U27, 2) -> 356.6 | F27: =TRUNC(E27*D27,1) -> 356.6 | G27: 0 | H27: =TRUNC(G27*D27,1) -> 0 | I27: 0 | J27: =TRUNC(I27*D27,1) -> 0 | K27: =TRUNC(E27+G27+I27,1) -> 356.6 | L27: =TRUNC(F27+H27+J27,1) -> 356.6 | N27: 57B03144868B957B779315B582E1FA | O27: 56AA814B978BA58B2597B9A57E81001 | P27: F | Q27: F | R27: F | S27: 0 | T27: 0 | U27: 0.02 | AW27: 57B03144868B957B779315B582E1FA56AA814B978BA58B2597B9A57EA1003
A28: 방수공 | B28: 일반공사 직종 | C28: 인 | D28: 0.15 | E28: =단가대비표!O36 -> 0 | F28: =TRUNC(E28*D28,1) -> 0 | G28: =단가대비표!P36 -> 233163 | H28: =TRUNC(G28*D28,1) -> 34974.4 | I28: =단가대비표!V36 -> 0 | J28: =TRUNC(I28*D28,1) -> 0 | K28: =TRUNC(E28+G28+I28,1) -> 233163 | L28: =TRUNC(F28+H28+J28,1) -> 34974.4 | M28: 노임 6 | N28: 57B03144868B957B779315B582E1FA | O28: 576F9143AA81DB24C39DE7E6D0F141AC76B9DD | P28: F | Q28: F | R28: T | AW28: 57B03144868B957B779315B582E1FA576F9143AA81DB24C39DE7E6D0F141AC76B9DD
A29: 보통인부 | B29: 일반공사 직종 | C29: 인 | D29: 0.053 | E29: =단가대비표!O31 -> 0 | F29: =TRUNC(E29*D29,1) -> 0 | G29: =단가대비표!P31 -> 172698 | H29: =TRUNC(G29*D29,1) -> 9152.9 | I29: =단가대비표!V31 -> 0 | J29: =TRUNC(I29*D29,1) -> 0 | K29: =TRUNC(E29+G29+I29,1) -> 172698 | L29: =TRUNC(F29+H29+J29,1) -> 9152.9 | M29: 노임 1 | N29: 57B03144868B957B779315B582E1FA | O29: 576F9143AA81DB24C39DE7E6D0F141AC76BB8B | P29: F | Q29: F | R29: T | AW29: 57B03144868B957B779315B582E1FA576F9143AA81DB24C39DE7E6D0F141AC76BB8B
A30: [ 합 계 ] | F30: =TRUNC(SUMIF(N22:N29, N21, F22:F29),0) -> 18186 | H30: =TRUNC(SUMIF(N22:N29, N21, H22:H29),0) -> 44127 | J30: =TRUNC(SUMIF(N22:N29, N21, J22:J29),0) -> 0 | L30: =F30+H30+J30 -> 62313 | N30: TOTAL | O30: TOTAL
A32: 고압물청소 M2 ( 호표 4 ) | N32: 57B03144868B957B779315B582E199
A33: 특별인부 | B33: 일반공사 직종 | C33: 인 | D33: 0.024 | E33: =단가대비표!O32 -> 0 | F33: =TRUNC(E33*D33,1) -> 0 | G33: =단가대비표!P32 -> 228717 | H33: =TRUNC(G33*D33,1) -> 5489.2 | I33: =단가대비표!V32 -> 0 | J33: =TRUNC(I33*D33,1) -> 0 | K33: =TRUNC(E33+G33+I33,1) -> 228717 | L33: =TRUNC(F33+H33+J33,1) -> 5489.2 | M33: 노임 2 | N33: 57B03144868B957B779315B582E199 | O33: 576F9143AA81DB24C39DE7E6D0F141AC76BB8A | P33: F | Q33: F | R33: T | V33: 1 | AW33: 57B03144868B957B779315B582E199576F9143AA81DB24C39DE7E6D0F141AC76BB8A
A34: 기구손료 | B34: 인력품의 2% | C34: 식 | D34: 1 | E34: 0 | F34: =TRUNC(E34*D34,1) -> 0 | G34: 0 | H34: =TRUNC(G34*D34,1) -> 0 | I34: =TRUNC(SUMIF(V33:V34, RIGHTB(O34, 1), H33:H34)*U34, 2) -> 109.78 | J34: =TRUNC(I34*D34,1) -> 109.7 | K34: =TRUNC(E34+G34+I34,1) -> 109.7 | L34: =TRUNC(F34+H34+J34,1) -> 109.7 | N34: 57B03144868B957B779315B582E199 | O34: 56AA814B978BA58B2597B9A57E81001 | P34: F | Q34: F | R34: F | S34: 1 | T34: 2 | U34: 0.02 | AW34: 57B03144868B957B779315B582E19956AA814B978BA58B2597B9A57EB1002
A35: [ 합 계 ] | F35: =TRUNC(SUMIF(N33:N34, N32, F33:F34),0) -> 0 | H35: =TRUNC(SUMIF(N33:N34, N32, H33:H34),0) -> 5489 | J35: =TRUNC(SUMIF(N33:N34, N32, J33:J34),0) -> 109 | L35: =F35+H35+J35 -> 5598 | N35: TOTAL | O35: TOTAL
A37: 우레탄도막방수(방수프라이머+보강포+중도2회+탑코팅) 바닥 2mm, 노출 M2 ( 호표 5 ) | N37: 57B031458F8628DCB393DA7A580141
A38: 우레탄도막방수재 | B38: 우레탄도막방수제, 우레탄(노출) | C38: kg | D38: 2.6 | E38: =단가대비표!O10 -> 5000 | F38: =TRUNC(E38*D38,1) -> 13000 | G38: =단가대비표!P10 -> 0 | H38: =TRUNC(G38*D38,1) -> 0 | I38: =단가대비표!V10 -> 0 | J38: =TRUNC(I38*D38,1) -> 0 | K38: =TRUNC(E38+G38+I38,1) -> 5000 | L38: =TRUNC(F38+H38+J38,1) -> 13000 | M38: 자재 6 | N38: 57B031458F8628DCB393DA7A580141 | O38: 50B651469882D01F289658B5EDA1E44A16C55C | P38: F | Q38: F | R38: T | AW38: 57B031458F8628DCB393DA7A58014150B651469882D01F289658B5EDA1E44A16C55C
A39: 우레탄도막방수재 | B39: 우레탄도막방수재, 마감코팅제 | C39: kg | D39: 0.2 | E39: =단가대비표!O7 -> 5000 | F39: =TRUNC(E39*D39,1) -> 1000 | G39: =단가대비표!P7 -> 0 | H39: =TRUNC(G39*D39,1) -> 0 | I39: =단가대비표!V7 -> 0 | J39: =TRUNC(I39*D39,1) -> 0 | K39: =TRUNC(E39+G39+I39,1) -> 5000 | L39: =TRUNC(F39+H39+J39,1) -> 1000 | M39: 자재 3 | N39: 57B031458F8628DCB393DA7A580141 | O39: 50B651469882D01F289658B5EDA1E44A16C93D | P39: F | Q39: F | R39: T | AW39: 57B031458F8628DCB393DA7A58014150B651469882D01F289658B5EDA1E44A16C93D
A40: 우레탄도막방수재 | B40: 프라이머 | C40: kg | D40: 0.3 | E40: =단가대비표!O8 -> 4000 | F40: =TRUNC(E40*D40,1) -> 1200 | G40: =단가대비표!P8 -> 0 | H40: =TRUNC(G40*D40,1) -> 0 | I40: =단가대비표!V8 -> 0 | J40: =TRUNC(I40*D40,1) -> 0 | K40: =TRUNC(E40+G40+I40,1) -> 4000 | L40: =TRUNC(F40+H40+J40,1) -> 1200 | M40: 자재 4 | N40: 57B031458F8628DCB393DA7A580141 | O40: 50B651469882D01F289658B5EDA1E44A16C93E | P40: F | Q40: F | R40: T | AW40: 57B031458F8628DCB393DA7A58014150B651469882D01F289658B5EDA1E44A16C93E
A41: 우레탄도막방수재 | B41: 희석재 | C41: kg | D41: 0.2 | E41: =단가대비표!O9 -> 2750 | F41: =TRUNC(E41*D41,1) -> 550 | G41: =단가대비표!P9 -> 0 | H41: =TRUNC(G41*D41,1) -> 0 | I41: =단가대비표!V9 -> 0 | J41: =TRUNC(I41*D41,1) -> 0 | K41: =TRUNC(E41+G41+I41,1) -> 2750 | L41: =TRUNC(F41+H41+J41,1) -> 550 | M41: 자재 5 | N41: 57B031458F8628DCB393DA7A580141 | O41: 50B651469882D01F289658B5EDA1E44A16C93F | P41: F | Q41: F | R41: T | AW41: 57B031458F8628DCB393DA7A58014150B651469882D01F289658B5EDA1E44A16C93F
A42: 방수부직포(보강포) | B42: CK60타공,길이85m*폭1.2m,현장도착도 | C42: M2 | D42: 1.2 | E42: =단가대비표!O11 -> 1323.52 | F42: =TRUNC(E42*D42,1) -> 1588.2 | G42: =단가대비표!P11 -> 0 | H42: =TRUNC(G42*D42,1) -> 0 | I42: =단가대비표!V11 -> 0 | J42: =TRUNC(I42*D42,1) -> 0 | K42: =TRUNC(E42+G42+I42,1) -> 1323.5 | L42: =TRUNC(F42+H42+J42,1) -> 1588.2 | M42: 자재 7 | N42: 57B031458F8628DCB393DA7A580141 | O42: 50B651469882D01F289658B5EDA1E44A16C55E | P42: F | Q42: F | R42: T | AW42: 57B031458F8628DCB393DA7A58014150B651469882D01F289658B5EDA1E44A16C55E
A43: 방수프라이머 바름 | B43: 롤러 1층(회) 바름 기준 | C43: M2 | D43: 1 | E43: =일위대가목록!E23 -> 0 | F43: =TRUNC(E43*D43,1) -> 0 | G43: =일위대가목록!F23 -> 3428 | H43: =TRUNC(G43*D43,1) -> 3428 | I43: =일위대가목록!G23 -> 68 | J43: =TRUNC(I43*D43,1) -> 68 | K43: =TRUNC(E43+G43+I43,1) -> 3496 | L43: =TRUNC(F43+H43+J43,1) -> 3496 | M43: 호표 20 | N43: 57B031458F8628DCB393DA7A580141 | O43: 57B03145AA8484A6DB982E3D948120 | P43: T | Q43: F | R43: F | AW43: 57B031458F8628DCB393DA7A58014157B03145AA8484A6DB982E3D948120
A44: 도막바름 | B44: 바닥, 도막 1층(회) 형성 기준 | C44: M2 | D44: 2 | E44: =일위대가목록!E24 -> 0 | F44: =TRUNC(E44*D44,1) -> 0 | G44: =일위대가목록!F24 -> 5051 | H44: =TRUNC(G44*D44,1) -> 10102 | I44: =일위대가목록!G24 -> 101 | J44: =TRUNC(I44*D44,1) -> 202 | K44: =TRUNC(E44+G44+I44,1) -> 5152 | L44: =TRUNC(F44+H44+J44,1) -> 10304 | M44: 호표 21 | N44: 57B031458F8628DCB393DA7A580141 | O44: 57B031458F8628DCB394D331C671F3 | P44: T | Q44: F | R44: F | AW44: 57B031458F8628DCB393DA7A58014157B031458F8628DCB394D331C671F3
A45: 보강포 붙임 | B45: 바닥, 1층(회) 붙임 기준 | C45: M2 | D45: 1 | E45: =일위대가목록!E25 -> 0 | F45: =TRUNC(E45*D45,1) -> 0 | G45: =일위대가목록!F25 -> 3022 | H45: =TRUNC(G45*D45,1) -> 3022 | I45: =일위대가목록!G25 -> 0 | J45: =TRUNC(I45*D45,1) -> 0 | K45: =TRUNC(E45+G45+I45,1) -> 3022 | L45: =TRUNC(F45+H45+J45,1) -> 3022 | M45: 호표 22 | N45: 57B031458F8628DCB393DA7A580141 | O45: 57B031458F8628DCB394ED9A16C1E8 | P45: T | Q45: F | R45: F | AW45: 57B031458F8628DCB393DA7A58014157B031458F8628DCB394ED9A16C1E8
A46: 마감도료(Top-coat) 바름 | B46: 바닥, 1층(회) 바름 기준 | C46: M2 | D46: 1 | E46: =일위대가목록!E26 -> 0 | F46: =TRUNC(E46*D46,1) -> 0 | G46: =일위대가목록!F26 -> 3661 | H46: =TRUNC(G46*D46,1) -> 3661 | I46: =일위대가목록!G26 -> 73 | J46: =TRUNC(I46*D46,1) -> 73 | K46: =TRUNC(E46+G46+I46,1) -> 3734 | L46: =TRUNC(F46+H46+J46,1) -> 3734 | M46: 호표 23 | N46: 57B031458F8628DCB393DA7A580141 | O46: 57B031458F8628DCB394FE0906F1B4 | P46: T | Q46: F | R46: F | AW46: 57B031458F8628DCB393DA7A58014157B031458F8628DCB394FE0906F1B4
A47: [ 합 계 ] | F47: =TRUNC(SUMIF(N38:N46, N37, F38:F46),0) -> 17338 | H47: =TRUNC(SUMIF(N38:N46, N37, H38:H46),0) -> 20213 | J47: =TRUNC(SUMIF(N38:N46, N37, J38:J46),0) -> 343 | L47: =F47+H47+J47 -> 37894 | N47: TOTAL | O47: TOTAL
A49: 루프드레인설치 L형, D100mm EA ( 호표 6 ) | N49: 57B0014249837FC3F690192785B15D
A50: 루프드레인 | B50: L형, ISRD8570, 100mm | C50: 개 | D50: 1 | E50: =단가대비표!O21 -> 77620 | F50: =TRUNC(E50*D50,1) -> 77620 | G50: =단가대비표!P21 -> 0 | H50: =TRUNC(G50*D50,1) -> 0 | I50: =단가대비표!V21 -> 0 | J50: =TRUNC(I50*D50,1) -> 0 | K50: =TRUNC(E50+G50+I50,1) -> 77620 | L50: =TRUNC(F50+H50+J50,1) -> 77620 | M50: 자재 17 | N50: 57B0014249837FC3F690192785B15D | O50: 509BA1441087B0E0E1988C34BBB1E302E7A5E7 | P50: F | Q50: F | R50: T | V50: 1 | AW50: 57B0014249837FC3F690192785B15D509BA1441087B0E0E1988C34BBB1E302E7A5E7
A51: 잡재료 | B51: 주재료비의 2% | C51: 식 | D51: 1 | E51: =TRUNC(SUMIF(V50:V52, RIGHTB(O51, 1), F50:F52)*U51, 2) -> 1552.4 | F51: =TRUNC(E51*D51,1) -> 1552.4 | G51: 0 | H51: =TRUNC(G51*D51,1) -> 0 | I51: 0 | J51: =TRUNC(I51*D51,1) -> 0 | K51: =TRUNC(E51+G51+I51,1) -> 1552.4 | L51: =TRUNC(F51+H51+J51,1) -> 1552.4 | N51: 57B0014249837FC3F690192785B15D | O51: 56AA814B978BA58B2597B9A57E81001 | P51: F | Q51: F | R51: F | S51: 0 | T51: 0 | U51: 0.02 | AW51: 57B0014249837FC3F690192785B15D56AA814B978BA58B2597B9A57EB1002
A52: 루프드레인설치 | C52: 개소 | D52: 1 | E52: =일위대가목록!E27 -> 0 | F52: =TRUNC(E52*D52,1) -> 0 | G52: =일위대가목록!F27 -> 49250 | H52: =TRUNC(G52*D52,1) -> 49250 | I52: =일위대가목록!G27 -> 0 | J52: =TRUNC(I52*D52,1) -> 0 | K52: =TRUNC(E52+G52+I52,1) -> 49250 | L52: =TRUNC(F52+H52+J52,1) -> 49250 | M52: 호표 24 | N52: 57B0014249837FC3F690192785B15D | O52: 57B001424980A9B7E2941AADDB5105 | P52: T | Q52: F | R52: F | AW52: 57B0014249837FC3F690192785B15D57B001424980A9B7E2941AADDB5105
A53: [ 합 계 ] | F53: =TRUNC(SUMIF(N50:N52, N49, F50:F52),0) -> 79172 | H53: =TRUNC(SUMIF(N50:N52, N49, H50:H52),0) -> 49250 | J53: =TRUNC(SUMIF(N50:N52, N49, J50:J52),0) -> 0 | L53: =F53+H53+J53 -> 128422 | N53: TOTAL | O53: TOTAL
A55: 루프드레인연결관 SST Ø100mm×1.5t, L=1.0M이하 EA ( 호표 7 ) | N55: 57B00142498255652F9B0591B5E1CA
A56: 배관용스테인리스강관 | B56: ∮100*1.5mm | C56: M | D56: 1.05 | E56: =단가대비표!O24 -> 31864 | F56: =TRUNC(E56*D56,1) -> 33457.2 | G56: =단가대비표!P24 -> 0 | H56: =TRUNC(G56*D56,1) -> 0 | I56: =단가대비표!V24 -> 0 | J56: =TRUNC(I56*D56,1) -> 0 | K56: =TRUNC(E56+G56+I56,1) -> 31864 | L56: =TRUNC(F56+H56+J56,1) -> 33457.2 | M56: 자재 20 | N56: 57B00142498255652F9B0591B5E1CA | O56: 50E3C149AF80D40D6E9C5D7F6331655DCF8683 | P56: F | Q56: F | R56: T | AW56: 57B00142498255652F9B0591B5E1CA50E3C149AF80D40D6E9C5D7F6331655DCF8683
A57: 일반배관용스테인리스강관관이음쇠 | B57: 일반배관용스테인리스강관관이음쇠, ∮100mm, 용접식, 엘보, #10 | C57: 개 | D57: 1 | E57: =단가대비표!O27 -> 28800 | F57: =TRUNC(E57*D57,1) -> 28800 | G57: =단가대비표!P27 -> 0 | H57: =TRUNC(G57*D57,1) -> 0 | I57: =단가대비표!V27 -> 0 | J57: =TRUNC(I57*D57,1) -> 0 | K57: =TRUNC(E57+G57+I57,1) -> 28800 | L57: =TRUNC(F57+H57+J57,1) -> 28800 | M57: 자재 23 | N57: 57B00142498255652F9B0591B5E1CA | O57: 50E3C149AF80D40F15908C158351E921B2A56E | P57: F | Q57: F | R57: T | AW57: 57B00142498255652F9B0591B5E1CA50E3C149AF80D40F15908C158351E921B2A56E
A58: 금속 선홈통 설치 | B58: 150mm 이하 기준 | C58: M | D58: 1 | E58: =일위대가목록!E28 -> 0 | F58: =TRUNC(E58*D58,1) -> 0 | G58: =일위대가목록!F28 -> 25870 | H58: =TRUNC(G58*D58,1) -> 25870 | I58: =일위대가목록!G28 -> 517 | J58: =TRUNC(I58*D58,1) -> 517 | K58: =TRUNC(E58+G58+I58,1) -> 26387 | L58: =TRUNC(F58+H58+J58,1) -> 26387 | M58: 호표 25 | N58: 57B00142498255652F9B0591B5E1CA | O58: 57B001425B8960D5E89ED83C8991A4 | P58: T | Q58: F | R58: F | AW58: 57B00142498255652F9B0591B5E1CA57B001425B8960D5E89ED83C8991A4
A59: [ 합 계 ] | F59: =TRUNC(SUMIF(N56:N58, N55, F56:F58),0) -> 62257 | H59: =TRUNC(SUMIF(N56:N58, N55, H56:H58),0) -> 25870 | J59: =TRUNC(SUMIF(N56:N58, N55, J56:J58),0) -> 517 | L59: =F59+H59+J59 -> 88644 | N59: TOTAL | O59: TOTAL
A61: 선홈통(금속) 설치 스테인리스, Ø100×1.5㎜ M ( 호표 8 ) | N61: 57B001425B8C3709EE9AAA23DE4151
A62: 기계구조용스테인리스강관 | B62: ∮101.6*1.5mm | C62: M | D62: 1.05 | E62: =단가대비표!O26 -> 21750 | F62: =TRUNC(E62*D62,1) -> 22837.5 | G62: =단가대비표!P26 -> 0 | H62: =TRUNC(G62*D62,1) -> 0 | I62: =단가대비표!V26 -> 0 | J62: =TRUNC(I62*D62,1) -> 0 | K62: =TRUNC(E62+G62+I62,1) -> 21750 | L62: =TRUNC(F62+H62+J62,1) -> 22837.5 | M62: 자재 22 | N62: 57B001425B8C3709EE9AAA23DE4151 | O62: 50E3C149AF80D40D6799B8A67B61CDF4A7C6DD | P62: F | Q62: F | R62: T | AW62: 57B001425B8C3709EE9AAA23DE415150E3C149AF80D40D6799B8A67B61CDF4A7C6DD
A63: 일반철물 | B63: 선홈통지지철물, STS | C63: 개 | D63: 0.65 | E63: =단가대비표!O22 -> 3300 | F63: =TRUNC(E63*D63,1) -> 2145 | G63: =단가대비표!P22 -> 0 | H63: =TRUNC(G63*D63,1) -> 0 | I63: =단가대비표!V22 -> 0 | J63: =TRUNC(I63*D63,1) -> 0 | K63: =TRUNC(E63+G63+I63,1) -> 3300 | L63: =TRUNC(F63+H63+J63,1) -> 2145 | M63: 자재 18 | N63: 57B001425B8C3709EE9AAA23DE4151 | O63: 509BB14667884E864E9EC87B11B10B7F5C3185 | P63: F | Q63: F | R63: T | AW63: 57B001425B8C3709EE9AAA23DE4151509BB14667884E864E9EC87B11B10B7F5C3185
A64: 금속 선홈통 설치 | B64: 150mm 이하 기준 | C64: M | D64: 1 | E64: =일위대가목록!E28 -> 0 | F64: =TRUNC(E64*D64,1) -> 0 | G64: =일위대가목록!F28 -> 25870 | H64: =TRUNC(G64*D64,1) -> 25870 | I64: =일위대가목록!G28 -> 517 | J64: =TRUNC(I64*D64,1) -> 517 | K64: =TRUNC(E64+G64+I64,1) -> 26387 | L64: =TRUNC(F64+H64+J64,1) -> 26387 | M64: 호표 25 | N64: 57B001425B8C3709EE9AAA23DE4151 | O64: 57B001425B8960D5E89ED83C8991A4 | P64: T | Q64: F | R64: F | AW64: 57B001425B8C3709EE9AAA23DE415157B001425B8960D5E89ED83C8991A4
A65: [ 합 계 ] | F65: =TRUNC(SUMIF(N62:N64, N61, F62:F64),0) -> 24982 | H65: =TRUNC(SUMIF(N62:N64, N61, H62:H64),0) -> 25870 | J65: =TRUNC(SUMIF(N62:N64, N61, J62:J64),0) -> 517 | L65: =F65+H65+J65 -> 51369 | N65: TOTAL | O65: TOTAL
A67: 스텐상자홈통설치 250*250*250*1.5t EA ( 호표 9 ) | N67: 57B001425B8C3709EE9D83B19D3127
A68: 스테인리스강판 | B68: STS304, 1.5mm | C68: kg | D68: 4.9 | E68: =단가대비표!O20 -> 3550 | F68: =TRUNC(E68*D68,1) -> 17395 | G68: =단가대비표!P20 -> 0 | H68: =TRUNC(G68*D68,1) -> 0 | I68: =단가대비표!V20 -> 0 | J68: =TRUNC(I68*D68,1) -> 0 | K68: =TRUNC(E68+G68+I68,1) -> 3550 | L68: =TRUNC(F68+H68+J68,1) -> 17395 | M68: 자재 16 | N68: 57B001425B8C3709EE9D83B19D3127 | O68: 509BA1441082CD1FFE9EA360BE41D940C1C0E2 | P68: F | Q68: F | R68: T | AW68: 57B001425B8C3709EE9D83B19D3127509BA1441082CD1FFE9EA360BE41D940C1C0E2
A69: 잡철물제작및설치 | B69: 현장제작 설치, 경량철재 | C69: kg | D69: 4.5 | E69: =일위대가목록!E29 -> 140 | F69: =TRUNC(E69*D69,1) -> 630 | G69: =일위대가목록!F29 -> 7024 | H69: =TRUNC(G69*D69,1) -> 31608 | I69: =일위대가목록!G29 -> 280 | J69: =TRUNC(I69*D69,1) -> 1260 | K69: =TRUNC(E69+G69+I69,1) -> 7444 | L69: =TRUNC(F69+H69+J69,1) -> 33498 | M69: 호표 26 | N69: 57B001425B8C3709EE9D83B19D3127 | O69: 57B011403987EA98EC978CB5EE917A | P69: T | Q69: F | R69: F | AW69: 57B001425B8C3709EE9D83B19D312757B011403987EA98EC978CB5EE917A
A70: 일반철물 | B70: 선홈통지지철물, STS | C70: 개 | D70: 2 | E70: =단가대비표!O22 -> 3300 | F70: =TRUNC(E70*D70,1) -> 6600 | G70: =단가대비표!P22 -> 0 | H70: =TRUNC(G70*D70,1) -> 0 | I70: =단가대비표!V22 -> 0 | J70: =TRUNC(I70*D70,1) -> 0 | K70: =TRUNC(E70+G70+I70,1) -> 3300 | L70: =TRUNC(F70+H70+J70,1) -> 6600 | M70: 자재 18 | N70: 57B001425B8C3709EE9D83B19D3127 | O70: 509BB14667884E864E9EC87B11B10B7F5C3185 | P70: F | Q70: F | R70: T | AW70: 57B001425B8C3709EE9D83B19D3127509BB14667884E864E9EC87B11B10B7F5C3185
A71: [ 합 계 ] | F71: =TRUNC(SUMIF(N68:N70, N67, F68:F70),0) -> 24625 | H71: =TRUNC(SUMIF(N68:N70, N67, H68:H70),0) -> 31608 | J71: =TRUNC(SUMIF(N68:N70, N67, J68:J70),0) -> 1260 | L71: =F71+H71+J71 -> 57493 | N71: TOTAL | O71: TOTAL
A73: 구멍뚫기(코아드릴) D100, 콘크리트 150mm,벽체 개소 ( 호표 10 ) | N73: 577FA14F178AA9220F90BEEAAB1184
A74: 착암공 | B74: 일반공사 직종 | C74: 인 | D74: 0.211 | E74: =단가대비표!O35 -> 0 | F74: =TRUNC(E74*D74,1) -> 0 | G74: =단가대비표!P35 -> 223246 | H74: =TRUNC(G74*D74,1) -> 47104.9 | I74: =단가대비표!V35 -> 0 | J74: =TRUNC(I74*D74,1) -> 0 | K74: =TRUNC(E74+G74+I74,1) -> 223246 | L74: =TRUNC(F74+H74+J74,1) -> 47104.9 | M74: 노임 5 | N74: 577FA14F178AA9220F90BEEAAB1184 | O74: 576F9143AA81DB24C39DE7E6D0F141AC76BAE7 | P74: F | Q74: F | R74: T | V74: 1 | AW74: 577FA14F178AA9220F90BEEAAB1184576F9143AA81DB24C39DE7E6D0F141AC76BAE7
A75: 보통인부 | B75: 일반공사 직종 | C75: 인 | D75: 0.211 | E75: =단가대비표!O31 -> 0 | F75: =TRUNC(E75*D75,1) -> 0 | G75: =단가대비표!P31 -> 172698 | H75: =TRUNC(G75*D75,1) -> 36439.2 | I75: =단가대비표!V31 -> 0 | J75: =TRUNC(I75*D75,1) -> 0 | K75: =TRUNC(E75+G75+I75,1) -> 172698 | L75: =TRUNC(F75+H75+J75,1) -> 36439.2 | M75: 노임 1 | N75: 577FA14F178AA9220F90BEEAAB1184 | O75: 576F9143AA81DB24C39DE7E6D0F141AC76BB8B | P75: F | Q75: F | R75: T | V75: 1 | AW75: 577FA14F178AA9220F90BEEAAB1184576F9143AA81DB24C39DE7E6D0F141AC76BB8B
A76: 잡재료 | B76: 주연료비의 21% | C76: 식 | D76: 1 | E76: =TRUNC(SUMIF(V74:V76, RIGHTB(O76, 1), H74:H76)*U76, 2) -> 1670.88 | F76: =TRUNC(E76*D76,1) -> 1670.8 | G76: 0 | H76: =TRUNC(G76*D76,1) -> 0 | I76: 0 | J76: =TRUNC(I76*D76,1) -> 0 | K76: =TRUNC(E76+G76+I76,1) -> 1670.8 | L76: =TRUNC(F76+H76+J76,1) -> 1670.8 | N76: 577FA14F178AA9220F90BEEAAB1184 | O76: 56AA814B978BA58B2597B9A57E81001 | P76: F | Q76: F | R76: T | S76: 1 | T76: 0 | U76: 0.02 | AW76: 577FA14F178AA9220F90BEEAAB118456AA814B978BA58B2597B9A57E81001
A77: [ 합 계 ] | F77: =TRUNC(SUMIF(N74:N76, N73, F74:F76),0) -> 1670 | H77: =TRUNC(SUMIF(N74:N76, N73, H74:H76),0) -> 83544 | J77: =TRUNC(SUMIF(N74:N76, N73, J74:J76),0) -> 0 | L77: =F77+H77+J77 -> 85214 | N77: TOTAL | O77: TOTAL
A79: 스텐연도커버 재설치 700*700*500,철거포함 개소 ( 호표 11 ) | N79: 57B001425B8C3709EE9D83B19D2101
A80: 내선전공 | B80: 일반공사 직종 | C80: 인 | D80: 0.3 | E80: =단가대비표!O39 -> 0 | F80: =TRUNC(E80*D80,1) -> 0 | G80: =단가대비표!P39 -> 276108 | H80: =TRUNC(G80*D80,1) -> 82832.4 | I80: =단가대비표!V39 -> 0 | J80: =TRUNC(I80*D80,1) -> 0 | K80: =TRUNC(E80+G80+I80,1) -> 276108 | L80: =TRUNC(F80+H80+J80,1) -> 82832.4 | M80: 노임 9 | N80: 57B001425B8C3709EE9D83B19D2101 | O80: 576F9143AA81DB24C39DE7E6D0F141AC76BC95 | P80: F | Q80: F | R80: T | AW80: 57B001425B8C3709EE9D83B19D2101576F9143AA81DB24C39DE7E6D0F141AC76BC95
A81: [ 합 계 ] | F81: =TRUNC(SUMIF(N80:N80, N79, F80:F80),0) -> 0 | H81: =TRUNC(SUMIF(N80:N80, N79, H80:H80),0) -> 82832 | J81: =TRUNC(SUMIF(N80:N80, N79, J80:J80),0) -> 0 | L81: =F81+H81+J81 -> 82832 | N81: TOTAL | O81: TOTAL
A83: AL복합판넬 재설치 철거포함,코킹포함 M2 ( 호표 12 ) | N83: 57B0714F9D8EEA7C5997311A6AB1DD
A84: 금속패널 설치 / 벽 | B84: 10m미만, 시공량 65m2/일당 | C84: M2 | D84: 1 | E84: =일위대가목록!E30 -> 0 | F84: =TRUNC(E84*D84,1) -> 0 | G84: =일위대가목록!F30 -> 13808 | H84: =TRUNC(G84*D84,1) -> 13808 | I84: =일위대가목록!G30 -> 414 | J84: =TRUNC(I84*D84,1) -> 414 | K84: =TRUNC(E84+G84+I84,1) -> 14222 | L84: =TRUNC(F84+H84+J84,1) -> 14222 | M84: 호표 27 | N84: 57B0714F9D8EEA7C5997311A6AB1DD | O84: 57B0714F9D8EEA7C5997311A6AB1DC | P84: T | Q84: F | R84: F | AW84: 57B0714F9D8EEA7C5997311A6AB1DD57B0714F9D8EEA7C5997311A6AB1DC
A85: 금속패널 코킹 | B85: 10m미만 | C85: M | D85: 2 | E85: =일위대가목록!E31 -> 0 | F85: =TRUNC(E85*D85,1) -> 0 | G85: =일위대가목록!F31 -> 4395 | H85: =TRUNC(G85*D85,1) -> 8790 | I85: =일위대가목록!G31 -> 0 | J85: =TRUNC(I85*D85,1) -> 0 | K85: =TRUNC(E85+G85+I85,1) -> 4395 | L85: =TRUNC(F85+H85+J85,1) -> 8790 | M85: 호표 28 | N85: 57B0714F9D8EEA7C5997311A6AB1DD | O85: 57B0714F9D8EEA7F2C9CB7E700B1AC | P85: T | Q85: F | R85: F | AW85: 57B0714F9D8EEA7C5997311A6AB1DD57B0714F9D8EEA7F2C9CB7E700B1AC
A86: 실링재 | B86: 실리콘, 비초산, 건축외장용, 비오염 | C86: L | D86: 0.24 | E86: =단가대비표!O23 -> 16955 | F86: =TRUNC(E86*D86,1) -> 4069.2 | G86: =단가대비표!P23 -> 0 | H86: =TRUNC(G86*D86,1) -> 0 | I86: =단가대비표!V23 -> 0 | J86: =TRUNC(I86*D86,1) -> 0 | K86: =TRUNC(E86+G86+I86,1) -> 16955 | L86: =TRUNC(F86+H86+J86,1) -> 4069.2 | M86: 자재 19 | N86: 57B0714F9D8EEA7C5997311A6AB1DD | O86: 509BB1465589F8509B97BDE7A4C166CB461B5B | P86: F | Q86: F | R86: T | AW86: 57B0714F9D8EEA7C5997311A6AB1DD509BB1465589F8509B97BDE7A4C166CB461B5B
A87: [ 합 계 ] | F87: =TRUNC(SUMIF(N84:N86, N83, F84:F86),0) -> 4069 | H87: =TRUNC(SUMIF(N84:N86, N83, H84:H86),0) -> 22598 | J87: =TRUNC(SUMIF(N84:N86, N83, J84:J86),0) -> 414 | L87: =F87+H87+J87 -> 27081 | N87: TOTAL | O87: TOTAL
A89: 옥상내 전선트레이 등 재설치 내선전공 인 ( 호표 13 ) | N89: 57B001425B8C3709EE9D83B19D314D
A90: 내선전공 | B90: 일반공사 직종 | C90: 인 | D90: 1 | E90: =단가대비표!O39 -> 0 | F90: =TRUNC(E90*D90,1) -> 0 | G90: =단가대비표!P39 -> 276108 | H90: =TRUNC(G90*D90,1) -> 276108 | I90: =단가대비표!V39 -> 0 | J90: =TRUNC(I90*D90,1) -> 0 | K90: =TRUNC(E90+G90+I90,1) -> 276108 | L90: =TRUNC(F90+H90+J90,1) -> 276108 | M90: 노임 9 | N90: 57B001425B8C3709EE9D83B19D314D | O90: 576F9143AA81DB24C39DE7E6D0F141AC76BC95 | P90: F | Q90: F | R90: T | AW90: 57B001425B8C3709EE9D83B19D314D576F9143AA81DB24C39DE7E6D0F141AC76BC95
A91: [ 합 계 ] | F91: =TRUNC(SUMIF(N90:N90, N89, F90:F90),0) -> 0 | H91: =TRUNC(SUMIF(N90:N90, N89, H90:H90),0) -> 276108 | J91: =TRUNC(SUMIF(N90:N90, N89, J90:J90),0) -> 0 | L91: =F91+H91+J91 -> 276108 | N91: TOTAL | O91: TOTAL
A93: 기존방수 제거 및 바탕처리 바닥 M2 ( 호표 14 ) | N93: 57B1A1494686713384980EA5A96152
A94: 방수공 | B94: 일반공사 직종 | C94: 인 | D94: 0.037 | E94: =단가대비표!O36 -> 0 | F94: =TRUNC(E94*D94,1) -> 0 | G94: =단가대비표!P36 -> 233163 | H94: =TRUNC(G94*D94,1) -> 8627 | I94: =단가대비표!V36 -> 0 | J94: =TRUNC(I94*D94,1) -> 0 | K94: =TRUNC(E94+G94+I94,1) -> 233163 | L94: =TRUNC(F94+H94+J94,1) -> 8627 | M94: 노임 6 | N94: 57B1A1494686713384980EA5A96152 | O94: 576F9143AA81DB24C39DE7E6D0F141AC76B9DD | P94: F | Q94: F | R94: T | V94: 1 | AW94: 57B1A1494686713384980EA5A96152576F9143AA81DB24C39DE7E6D0F141AC76B9DD
A95: 보통인부 | B95: 일반공사 직종 | C95: 인 | D95: 0.015 | E95: =단가대비표!O31 -> 0 | F95: =TRUNC(E95*D95,1) -> 0 | G95: =단가대비표!P31 -> 172698 | H95: =TRUNC(G95*D95,1) -> 2590.4 | I95: =단가대비표!V31 -> 0 | J95: =TRUNC(I95*D95,1) -> 0 | K95: =TRUNC(E95+G95+I95,1) -> 172698 | L95: =TRUNC(F95+H95+J95,1) -> 2590.4 | M95: 노임 1 | N95: 57B1A1494686713384980EA5A96152 | O95: 576F9143AA81DB24C39DE7E6D0F141AC76BB8B | P95: F | Q95: F | R95: T | V95: 1 | AW95: 57B1A1494686713384980EA5A96152576F9143AA81DB24C39DE7E6D0F141AC76BB8B
A96: 공구손료 | B96: 인력품의 6% | C96: 식 | D96: 1 | E96: 0 | F96: =TRUNC(E96*D96,1) -> 0 | G96: 0 | H96: =TRUNC(G96*D96,1) -> 0 | I96: =TRUNC(SUMIF(V94:V96, RIGHTB(O96, 1), H94:H96)*U96, 2) -> 673.04 | J96: =TRUNC(I96*D96,1) -> 673 | K96: =TRUNC(E96+G96+I96,1) -> 673 | L96: =TRUNC(F96+H96+J96,1) -> 673 | N96: 57B1A1494686713384980EA5A96152 | O96: 56AA814B978BA58B2597B9A57E81001 | P96: F | Q96: F | R96: F | S96: 1 | T96: 2 | U96: 0.06 | AW96: 57B1A1494686713384980EA5A9615256AA814B978BA58B2597B9A57EB1002
A97: [ 합 계 ] | F97: =TRUNC(SUMIF(N94:N96, N93, F94:F96),0) -> 0 | H97: =TRUNC(SUMIF(N94:N96, N93, H94:H96),0) -> 11217 | J97: =TRUNC(SUMIF(N94:N96, N93, J94:J96),0) -> 673 | L97: =F97+H97+J97 -> 11890 | N97: TOTAL | O97: TOTAL
A99: 기존방수 제거 및 바탕처리 수직부 M2 ( 호표 15 ) | N99: 57B1A1494686713384980EA5A9514C
A100: 방수공 | B100: 일반공사 직종 | C100: 인 | D100: 0.041 | E100: =단가대비표!O36 -> 0 | F100: =TRUNC(E100*D100,1) -> 0 | G100: =단가대비표!P36 -> 233163 | H100: =TRUNC(G100*D100,1) -> 9559.6 | I100: =단가대비표!V36 -> 0 | J100: =TRUNC(I100*D100,1) -> 0 | K100: =TRUNC(E100+G100+I100,1) -> 233163 | L100: =TRUNC(F100+H100+J100,1) -> 9559.6 | M100: 노임 6 | N100: 57B1A1494686713384980EA5A9514C | O100: 576F9143AA81DB24C39DE7E6D0F141AC76B9DD | P100: F | Q100: F | R100: T | V100: 1 | AW100: 57B1A1494686713384980EA5A9514C576F9143AA81DB24C39DE7E6D0F141AC76B9DD
A101: 보통인부 | B101: 일반공사 직종 | C101: 인 | D101: 0.017 | E101: =단가대비표!O31 -> 0 | F101: =TRUNC(E101*D101,1) -> 0 | G101: =단가대비표!P31 -> 172698 | H101: =TRUNC(G101*D101,1) -> 2935.8 | I101: =단가대비표!V31 -> 0 | J101: =TRUNC(I101*D101,1) -> 0 | K101: =TRUNC(E101+G101+I101,1) -> 172698 | L101: =TRUNC(F101+H101+J101,1) -> 2935.8 | M101: 노임 1 | N101: 57B1A1494686713384980EA5A9514C | O101: 576F9143AA81DB24C39DE7E6D0F141AC76BB8B | P101: F | Q101: F | R101: T | V101: 1 | AW101: 57B1A1494686713384980EA5A9514C576F9143AA81DB24C39DE7E6D0F141AC76BB8B
A102: 공구손료 | B102: 인력품의 6% | C102: 식 | D102: 1 | E102: 0 | F102: =TRUNC(E102*D102,1) -> 0 | G102: 0 | H102: =TRUNC(G102*D102,1) -> 0 | I102: =TRUNC(SUMIF(V100:V102, RIGHTB(O102, 1), H100:H102)*U102, 2) -> 749.72 | J102: =TRUNC(I102*D102,1) -> 749.7 | K102: =TRUNC(E102+G102+I102,1) -> 749.7 | L102: =TRUNC(F102+H102+J102,1) -> 749.7 | N102: 57B1A1494686713384980EA5A9514C | O102: 56AA814B978BA58B2597B9A57E81001 | P102: F | Q102: F | R102: F | S102: 1 | T102: 2 | U102: 0.06 | AW102: 57B1A1494686713384980EA5A9514C56AA814B978BA58B2597B9A57EB1002
A103: [ 합 계 ] | F103: =TRUNC(SUMIF(N100:N102, N99, F100:F102),0) -> 0 | H103: =TRUNC(SUMIF(N100:N102, N99, H100:H102),0) -> 12495 | J103: =TRUNC(SUMIF(N100:N102, N99, J100:J102),0) -> 749 | L103: =F103+H103+J103 -> 13244 | N103: TOTAL | O103: TOTAL
A105: 루프드레인 철거 개소 ( 호표 16 ) | N105: 57B001424980A9B7E2941AADDB5104
A106: 보통인부 | B106: 일반공사 직종 | C106: 인 | D106: =0.105*5 -> 0.525 | E106: =단가대비표!O31 -> 0 | F106: =TRUNC(E106*D106,1) -> 0 | G106: =단가대비표!P31 -> 172698 | H106: =TRUNC(G106*D106,1) -> 90666.4 | I106: =단가대비표!V31 -> 0 | J106: =TRUNC(I106*D106,1) -> 0 | K106: =TRUNC(E106+G106+I106,1) -> 172698 | L106: =TRUNC(F106+H106+J106,1) -> 90666.4 | M106: 노임 1 | N106: 57B001424980A9B7E2941AADDB5104 | O106: 576F9143AA81DB24C39DE7E6D0F141AC76BB8B | P106: F | Q106: F | R106: T | AW106: 57B001424980A9B7E2941AADDB5104576F9143AA81DB24C39DE7E6D0F141AC76BB8B
A107: [ 합 계 ] | F107: =TRUNC(SUMIF(N106:N106, N105, F106:F106),0) -> 0 | H107: =TRUNC(SUMIF(N106:N106, N105, H106:H106),0) -> 90666 | J107: =TRUNC(SUMIF(N106:N106, N105, J106:J106),0) -> 0 | L107: =F107+H107+J107 -> 90666 | N107: TOTAL | O107: TOTAL
A109: 장식홈통 철거 개소 ( 호표 17 ) | N109: 57B001425B8A075FD299C583B4613D
A110: 보통인부 | B110: 일반공사 직종 | C110: 인 | D110: 0.05 | E110: =단가대비표!O31 -> 0 | F110: =TRUNC(E110*D110,1) -> 0 | G110: =단가대비표!P31 -> 172698 | H110: =TRUNC(G110*D110,1) -> 8634.9 | I110: =단가대비표!V31 -> 0 | J110: =TRUNC(I110*D110,1) -> 0 | K110: =TRUNC(E110+G110+I110,1) -> 172698 | L110: =TRUNC(F110+H110+J110,1) -> 8634.9 | M110: 노임 1 | N110: 57B001425B8A075FD299C583B4613D | O110: 576F9143AA81DB24C39DE7E6D0F141AC76BB8B | P110: F | Q110: F | R110: T | AW110: 57B001425B8A075FD299C583B4613D576F9143AA81DB24C39DE7E6D0F141AC76BB8B
A111: [ 합 계 ] | F111: =TRUNC(SUMIF(N110:N110, N109, F110:F110),0) -> 0 | H111: =TRUNC(SUMIF(N110:N110, N109, H110:H110),0) -> 8634 | J111: =TRUNC(SUMIF(N110:N110, N109, J110:J110),0) -> 0 | L111: =F111+H111+J111 -> 8634 | N111: TOTAL | O111: TOTAL
A113: 선홈통 철거 M ( 호표 18 ) | N113: 57B001424980A9B7E2941AADDB5107
A114: 보통인부 | B114: 일반공사 직종 | C114: 인 | D114: 0.02 | E114: =단가대비표!O31 -> 0 | F114: =TRUNC(E114*D114,1) -> 0 | G114: =단가대비표!P31 -> 172698 | H114: =TRUNC(G114*D114,1) -> 3453.9 | I114: =단가대비표!V31 -> 0 | J114: =TRUNC(I114*D114,1) -> 0 | K114: =TRUNC(E114+G114+I114,1) -> 172698 | L114: =TRUNC(F114+H114+J114,1) -> 3453.9 | M114: 노임 1 | N114: 57B001424980A9B7E2941AADDB5107 | O114: 576F9143AA81DB24C39DE7E6D0F141AC76BB8B | P114: F | Q114: F | R114: T | V114: 1 | AW114: 57B001424980A9B7E2941AADDB5107576F9143AA81DB24C39DE7E6D0F141AC76BB8B
A115: 공구손료 | B115: 인력품의 2% | C115: 식 | D115: 1 | E115: 0 | F115: =TRUNC(E115*D115,1) -> 0 | G115: 0 | H115: =TRUNC(G115*D115,1) -> 0 | I115: =TRUNC(SUMIF(V114:V115, RIGHTB(O115, 1), H114:H115)*U115, 2) -> 69.07 | J115: =TRUNC(I115*D115,1) -> 69 | K115: =TRUNC(E115+G115+I115,1) -> 69 | L115: =TRUNC(F115+H115+J115,1) -> 69 | N115: 57B001424980A9B7E2941AADDB5107 | O115: 56AA814B978BA58B2597B9A57E81001 | P115: F | Q115: F | R115: F | S115: 1 | T115: 2 | U115: 0.02 | AW115: 57B001424980A9B7E2941AADDB510756AA814B978BA58B2597B9A57EB1002
A116: [ 합 계 ] | F116: =TRUNC(SUMIF(N114:N115, N113, F114:F115),0) -> 0 | H116: =TRUNC(SUMIF(N114:N115, N113, H114:H115),0) -> 3453 | J116: =TRUNC(SUMIF(N114:N115, N113, J114:J115),0) -> 69 | L116: =F116+H116+J116 -> 3522 | N116: TOTAL | O116: TOTAL
A118: 고소작업차 5ton HR ( 호표 19 ) | N118: 50A411412D8B976CC19C82E4291141941183641E
...

Sheet 단가대비표
A1: 단 가 대 비 표
A2: [ 농암초등학교 본관동 방수공사 ]
A3: 코 드 | B3: 품 명 | C3: 규격 | D3: 단위 | E3: 재 료 비 | P3: 노 무 비 | Q3: 경 비 | W3: 번 호 | X3: 비 고 | Y3: 품목구분 | Z3: 노임구분 | AA3: 소수점처리 | AB3: 자재구분
E4: 조달청가격 | F4: PAGE | G4: 거래가격 | H4: PAGE | I4: 유통물가 | J4: PAGE | K4: 물가자료 | L4: PAGE | M4: 물정/조사 | N4: PAGE | O4: 적용단가 | Q4: 조달청가격 | R4: 거래가격 | S4: 유통물가 | T4: 물가자료 | U4: 물정/조사 | V4: 적용단가
A5: 50A411412D8B976CC19C82E429114194118364 | B5: 고소작업차 | C5: 5ton | D5: 대 | E5: 0 | G5: 0 | I5: 0 | K5: 0 | M5: 0 | O5: 0 | P5: 0 | Q5: 0 | R5: 0 | S5: 0 | T5: 0 | U5: 140857 | V5: =SMALL(Q5:U5,COUNTIF(Q5:U5,0)+1) -> 140857 | W5: 자재 1 | X5: 천원
A6: 50B66140E489550AAE9368E98191688AEA5249 | B6: 철강설 | C6: 스텐레스, 작업설부산물 | D6: kg | E6: 1377.5 | G6: 1850 | H6: 1472 | I6: 1750 | J6: 1198 | K6: 0 | M6: 0 | O6: =G6 -> 1850 | P6: 0 | Q6: 0 | R6: 0 | S6: 0 | T6: 0 | U6: 0 | V6: 0 | W6: 자재 2
A7: 50B651469882D01F289658B5EDA1E44A16C93D | B7: 우레탄도막방수재 | C7: 우레탄도막방수재, 마감코팅제 | D7: kg | E7: 7500 | G7: 5000 | H7: 591 | I7: 0 | K7: 0 | M7: 0 | O7: =SMALL(E7:M7,COUNTIF(E7:M7,0)+1) -> 5000 | P7: 0 | Q7: 0 | R7: 0 | S7: 0 | T7: 0 | U7: 0 | V7: 0 | W7: 자재 3
A8: 50B651469882D01F289658B5EDA1E44A16C93E | B8: 우레탄도막방수재 | C8: 프라이머 | D8: kg | E8: 4000 | G8: 5000 | H8: 591 | I8: 4000 | J8: 378 | K8: 0 | M8: 0 | O8: =SMALL(E8:M8,COUNTIF(E8:M8,0)+1) -> 4000 | P8: 0 | Q8: 0 | R8: 0 | S8: 0 | T8: 0 | U8: 0 | V8: 0 | W8: 자재 4
A9: 50B651469882D01F289658B5EDA1E44A16C93F | B9: 우레탄도막방수재 | C9: 희석재 | D9: kg | E9: 2750 | G9: 3500 | H9: 594 | I9: 7000 | J9: 378 | K9: 0 | M9: 0 | O9: =SMALL(E9:M9,COUNTIF(E9:M9,0)+1) -> 2750 | P9: 0 | Q9: 0 | R9: 0 | S9: 0 | T9: 0 | U9: 0 | V9: 0 | W9: 자재 5
A10: 50B651469882D01F289658B5EDA1E44A16C55C | B10: 우레탄도막방수재 | C10: 우레탄도막방수제, 우레탄(노출) | D10: kg | E10: 5000 | G10: 6800 | H10: 594 | I10: 8000 | J10: 378 | K10: 0 | M10: 0 | O10: =SMALL(E10:M10,COUNTIF(E10:M10,0)+1) -> 5000 | P10: 0 | Q10: 0 | R10: 0 | S10: 0 | T10: 0 | U10: 0 | V10: 0 | W10: 자재 6
A11: 50B651469882D01F289658B5EDA1E44A16C55E | B11: 방수부직포(보강포) | C11: CK60타공,길이85m*폭1.2m,현장도착도 | D11: M2 | E11: 0 | G11: 0 | I11: 0 | K11: 0 | M11: 1323.52 | O11: =SMALL(E11:M11,COUNTIF(E11:M11,0)+1) -> 1323.52 | P11: 0 | Q11: 0 | R11: 0 | S11: 0 | T11: 0 | U11: 0 | V11: 0 | W11: 자재 7
A12: 50B651469882D01F289658B5EDA1E44A16C55A | B12: 복합시트 | D12: M2 | E12: 0 | G12: 0 | I12: 0 | K12: 0 | M12: 13600 | N12: 경북교육청 | O12: =SMALL(E12:M12,COUNTIF(E12:M12,0)+1) -> 13600 | P12: 0 | Q12: 0 | R12: 0 | S12: 0 | T12: 0 | U12: 0 | V12: 0 | W12: 자재 8
A13: 50B651469882D01F289658B5EDA1E44A16C555 | B13: 우레탄코트 | D13: kg | E13: 0 | G13: 0 | I13: 0 | K13: 0 | M13: 5500 | N13: 경북교육청 | O13: =SMALL(E13:M13,COUNTIF(E13:M13,0)+1) -> 5500 | P13: 0 | Q13: 0 | R13: 0 | S13: 0 | T13: 0 | U13: 0 | V13: 0 | W13: 자재 9
A14: 50B651469882D01F289658B5EDA1E44A16C554 | B14: 프라이머 | D14: kg | E14: 0 | G14: 0 | I14: 0 | K14: 0 | M14: 6000 | N14: 경북교육청 | O14: =SMALL(E14:M14,COUNTIF(E14:M14,0)+1) -> 6000 | P14: 0 | Q14: 0 | R14: 0 | S14: 0 | T14: 0 | U14: 0 | V14: 0 | W14: 자재 10
A15: 50B651469882D01F289658B5EDA1E44A16C4B7 | B15: 탑코팅재 | D15: kg | E15: 0 | G15: 0 | I15: 0 | K15: 0 | M15: 5500 | N15: 경북교육청 | O15: =SMALL(E15:M15,COUNTIF(E15:M15,0)+1) -> 5500 | P15: 0 | Q15: 0 | R15: 0 | S15: 0 | T15: 0 | U15: 0 | V15: 0 | W15: 자재 11
A16: 50B651469882D01F289658B5EDA1E44A16C4B5 | B16: 규사 | D16: kg | E16: 0 | G16: 0 | I16: 0 | K16: 0 | M16: 600 | N16: 경북교육청 | O16: =SMALL(E16:M16,COUNTIF(E16:M16,0)+1) -> 600 | P16: 0 | Q16: 0 | R16: 0 | S16: 0 | T16: 0 | U16: 0 | V16: 0 | W16: 자재 12
A17: 50B651469882D01F289658B5EDA1E44A16C4B3 | B17: 조인트보강재 | D17: M | E17: 0 | G17: 0 | I17: 0 | K17: 0 | M17: 800 | N17: 경북교육청 | O17: =SMALL(E17:M17,COUNTIF(E17:M17,0)+1) -> 800 | P17: 0 | Q17: 0 | R17: 0 | S17: 0 | T17: 0 | U17: 0 | V17: 0 | W17: 자재 13
A18: 50B651469882D01F289658B5EDA1E44A16C4B2 | B18: 희석재 | D18: kg | E18: 0 | G18: 0 | I18: 0 | K18: 0 | M18: 3000 | N18: 경북교육청 | O18: =SMALL(E18:M18,COUNTIF(E18:M18,0)+1) -> 3000 | P18: 0 | Q18: 0 | R18: 0 | S18: 0 | T18: 0 | U18: 0 | V18: 0 | W18: 자재 14
A19: 50B62149528543E7D898324575C10931FBE83D | B19: 경유 | C19: 저유황 | D19: L | E19: 0 | G19: 1473.63 | H19: 1451 | I19: 1480.9 | J19: 1189 | K19: 0 | M19: 0 | O19: =SMALL(E19:M19,COUNTIF(E19:M19,0)+1) -> 1473.63 | P19: 0 | Q19: 0 | R19: 0 | S19: 0 | T19: 0 | U19: 0 | V19: 0 | W19: 자재 15
A20: 509BA1441082CD1FFE9EA360BE41D940C1C0E2 | B20: 스테인리스강판 | C20: STS304, 1.5mm | D20: kg | E20: 3550 | G20: 3800 | H20: 74 | I20: 3787 | J20: 36 | K20: 0 | M20: 0 | O20: =SMALL(E20:M20,COUNTIF(E20:M20,0)+1) -> 3550 | P20: 0 | Q20: 0 | R20: 0 | S20: 0 | T20: 0 | U20: 0 | V20: 0 | W20: 자재 16
A21: 509BA1441087B0E0E1988C34BBB1E302E7A5E7 | B21: 루프드레인 | C21: L형, ISRD8570, 100mm | D21: 개 | E21: 77620 | G21: 0 | I21: 0 | K21: 0 | M21: 0 | O21: =SMALL(E21:M21,COUNTIF(E21:M21,0)+1) -> 77620 | P21: 0 | Q21: 0 | R21: 0 | S21: 0 | T21: 0 | U21: 0 | V21: 0 | W21: 자재 17
A22: 509BB14667884E864E9EC87B11B10B7F5C3185 | B22: 일반철물 | C22: 선홈통지지철물, STS | D22: 개 | E22: 0 | G22: 0 | I22: 0 | K22: 0 | M22: 3300 | O22: =SMALL(E22:M22,COUNTIF(E22:M22,0)+1) -> 3300 | P22: 0 | Q22: 0 | R22: 0 | S22: 0 | T22: 0 | U22: 0 | V22: 0 | W22: 자재 18
A23: 509BB1465589F8509B97BDE7A4C166CB461B5B | B23: 실링재 | C23: 실리콘, 비초산, 건축외장용, 비오염 | D23: L | E23: 16955 | G23: 21000 | H23: 606 | I23: 0 | K23: 0 | M23: 0 | O23: =SMALL(E23:M23,COUNTIF(E23:M23,0)+1) -> 16955 | P23: 0 | Q23: 0 | R23: 0 | S23: 0 | T23: 0 | U23: 0 | V23: 0 | W23: 자재 19
A24: 50E3C149AF80D40D6E9C5D7F6331655DCF8683 | B24: 배관용스테인리스강관 | C24: ∮100*1.5mm | D24: M | E24: 0 | G24: 31864 | H24: 782 | I24: 0 | K24: 0 | M24: 0 | O24: =SMALL(E24:M24,COUNTIF(E24:M24,0)+1) -> 31864 | P24: 0 | Q24: 0 | R24: 0 | S24: 0 | T24: 0 | U24: 0 | V24: 0 | W24: 자재 20
A25: 50E3C149AF80D40D67996059B72116787EDAE6 | B25: 알루미늄졸대 | D25: M | E25: 0 | G25: 0 | I25: 0 | K25: 2540 | L25: 488 | M25: 0 | O25: =SMALL(E25:M25,COUNTIF(E25:M25,0)+1) -> 2540 | P25: 0 | Q25: 0 | R25: 0 | S25: 0 | T25: 0 | U25: 0 | V25: 0 | W25: 자재 21
A26: 50E3C149AF80D40D6799B8A67B61CDF4A7C6DD | B26: 기계구조용스테인리스강관 | C26: ∮101.6*1.5mm | D26: M | E26: 22550 | G26: 21750 | H26: 79 | I26: 31090 | J26: 38 | K26: 0 | M26: 0 | O26: =SMALL(E26:M26,COUNTIF(E26:M26,0)+1) -> 21750 | P26: 0 | Q26: 0 | R26: 0 | S26: 0 | T26: 0 | U26: 0 | V26: 0 | W26: 자재 22
A27: 50E3C149AF80D40F15908C158351E921B2A56E | B27: 일반배관용스테인리스강관관이음쇠 | C27: 일반배관용스테인리스강관관이음쇠, ∮100mm, 용접식, 엘보, #10 | D27: 개 | E27: 28800 | G27: 34440 | H27: 777 | I27: 43100 | J27: 552 | K27: 0 | M27: 0 | O27: =SMALL(E27:M27,COUNTIF(E27:M27,0)+1) -> 28800 | P27: 0 | Q27: 0 | R27: 0 | S27: 0 | T27: 0 | U27: 0 | V27: 0 | W27: 자재 23
A28: 57B0A142E08F23A8EC99D714F1E1DB | B28: 가연성폐기물처리비 | C28: 폐합성수지 | D28: TON | E28: 0 | G28: 0 | I28: 0 | K28: 0 | M28: 0 | N28: 부록526 | O28: 0 | P28: 0 | Q28: 0 | R28: 0 | S28: 0 | T28: 0 | U28: 269000 | V28: =SMALL(Q28:U28,COUNTIF(Q28:U28,0)+1) -> 269000 | W28: 자재 24 | Y28: C
A29: 57B0A142E08F23A9F29E7BA511D133 | B29: 혼합폐기물상차비 | D29: TON | E29: 0 | G29: 0 | I29: 0 | K29: 0 | L29: 부록150 | M29: 0 | O29: 0 | P29: 0 | Q29: 0 | R29: 0 | S29: 0 | T29: 6420 | U29: 0 | V29: =SMALL(Q29:U29,COUNTIF(Q29:U29,0)+1) -> 6420 | W29: 자재 25 | Y29: C
A30: 57B0A142E08F23A9F29E7BC1A2F149 | B30: 혼합폐기물운반비 | C30: 16톤 암롤트럭, 30km | D30: TON | E30: 0 | G30: 0 | I30: 0 | K30: 0 | L30: 부록150 | M30: 0 | O30: 0 | P30: 0 | Q30: 0 | R30: 0 | S30: 0 | T30: 74930 | U30: 0 | V30: =SMALL(Q30:U30,COUNTIF(Q30:U30,0)+1) -> 74930 | W30: 자재 26 | Y30: C
A31: 576F9143AA81DB24C39DE7E6D0F141AC76BB8B | B31: 보통인부 | C31: 일반공사 직종 | D31: 인 | E31: 0 | G31: 0 | I31: 0 | K31: 0 | M31: 0 | O31: 0 | P31: 172698 | Q31: 0 | R31: 0 | S31: 0 | T31: 0 | U31: 0 | V31: 0 | W31: 노임 1 | Y31: B
A32: 576F9143AA81DB24C39DE7E6D0F141AC76BB8A | B32: 특별인부 | C32: 일반공사 직종 | D32: 인 | E32: 0 | G32: 0 | I32: 0 | K32: 0 | M32: 0 | O32: 0 | P32: 228717 | Q32: 0 | R32: 0 | S32: 0 | T32: 0 | U32: 0 | V32: 0 | W32: 노임 2 | Y32: B
A33: 576F9143AA81DB24C39DE7E6D0F141AC76BB80 | B33: 철공 | C33: 일반공사 직종 | D33: 인 | E33: 0 | G33: 0 | I33: 0 | K33: 0 | M33: 0 | O33: 0 | P33: 243870 | Q33: 0 | R33: 0 | S33: 0 | T33: 0 | U33: 0 | V33: 0 | W33: 노임 3 | Y33: B
A34: 576F9143AA81DB24C39DE7E6D0F141AC76BAE0 | B34: 용접공 | C34: 일반공사 직종 | D34: 인 | E34: 0 | G34: 0 | I34: 0 | K34: 0 | M34: 0 | O34: 0 | P34: 286330 | Q34: 0 | R34: 0 | S34: 0 | T34: 0 | U34: 0 | V34: 0 | W34: 노임 4 | Y34: B
A35: 576F9143AA81DB24C39DE7E6D0F141AC76BAE7 | B35: 착암공 | C35: 일반공사 직종 | D35: 인 | E35: 0 | G35: 0 | I35: 0 | K35: 0 | M35: 0 | O35: 0 | P35: 223246 | Q35: 0 | R35: 0 | S35: 0 | T35: 0 | U35: 0 | V35: 0 | W35: 노임 5 | Y35: B
A36: 576F9143AA81DB24C39DE7E6D0F141AC76B9DD | B36: 방수공 | C36: 일반공사 직종 | D36: 인 | E36: 0 | G36: 0 | I36: 0 | K36: 0 | M36: 0 | O36: 0 | P36: 233163 | Q36: 0 | R36: 0 | S36: 0 | T36: 0 | U36: 0 | V36: 0 | W36: 노임 6 | Y36: B
A37: 576F9143AA81DB24C39DE7E6D0F141AC76B83C | B37: 배관공 | C37: 일반공사 직종 | D37: 인 | E37: 0 | G37: 0 | I37: 0 | K37: 0 | M37: 0 | O37: 0 | P37: 249073 | Q37: 0 | R37: 0 | S37: 0 | T37: 0 | U37: 0 | V37: 0 | W37: 노임 7 | Y37: B
A38: 576F9143AA81DB24C39DE7E6D0F141AC76BF6D | B38: 화물차운전사 | C38: 일반공사 직종 | D38: 인 | E38: 0 | G38: 0 | I38: 0 | K38: 0 | M38: 0 | O38: 0 | P38: 240042 | Q38: 0 | R38: 0 | S38: 0 | T38: 0 | U38: 0 | V38: 0 | W38: 노임 8 | Y38: B
A39: 576F9143AA81DB24C39DE7E6D0F141AC76BC95 | B39: 내선전공 | C39: 일반공사 직종 | D39: 인 | E39: 0 | G39: 0 | I39: 0 | K39: 0 | M39: 0 | O39: 0 | P39: 276108 | Q39: 0 | R39: 0 | S39: 0 | T39: 0 | U39: 0 | V39: 0 | W39: 노임 9 | Y39: B
A40: 576F9143AA81DB24C39DA83E514110BECC8E6E | B40: 코킹공 | C40: 기타 직종 | D40: 인 | E40: 0 | G40: 0 | I40: 0 | K40: 0 | M40: 0 | O40: 0 | P40: 212439 | Q40: 0 | R40: 0 | S40: 0 | T40: 0 | U40: 0 | V40: 0 | W40: 노임 10 | Y40: B

Sheet  공사설정 
A1: 이 Sheet는 수정하지 마십시요
A2: 공사구분 | B2: A | C2: 타이틀
A3: 확정내역 | B3: 원내역
A4: 자재단가적용 | B4: 5
A5: 경비단가적용 | B5: 5
A6: 품목코드형식 | B6: XXXX-XXXX-XXXXXXXXX
A7: 내역금액소수점처리 | B7: C | C7: T
A8: 일위대가내역소수점처리 | B8: C | C8: 2
A9: 단가명 | B9: 조달청가격 | C9: 거래가격 | D9: 유통물가 | E9: 물가자료 | F9: 물정/조사 | G9: TTTTT
A10: 환율 | B10: 1185 | C10: 0 | D10: 0
A11: 시간당작업량 | B11: R | C11: 4
A12: 1회 사이클시간 | B12: R | C12: 4
A13: 시간당 작업사이클 | B13: R | C13: 3
A14: 일반변수 | B14: R | C14: 5
A15: 시간당 노임산출 계수 | B15: A | C15: 1/8*16/12*25/20 | D15: 1/8*16/12*25/20 | E15: 1/8*16/12*25/20 | F15: 1
A16: 재료비 할증 계수 | B16: 1.11 | C16: 1.12
A17: 노무비 할증 계수 | B17: 1 | C17: 1.5 | D17: 1.16 | E17: 1.6 | F17: 1.6 | G17: 1.6 | H17: 1.94 | I17: 1.94 | J17: 1.94 | K17: 1 | L17: 1 | M17: 1
A18: 경비 할증 계수 | B18: 1.25 | C18: 1.071
A19: 내역,일위대가 품명,규격,단위 따로적용
A20: 내역단가 소수점처리 | B20: C | C20: 1
A21: 코드 | B21: 공종구분명 | C21: 원가비목코드
A22: 1 | B22: 작 업 부 산 물 | C22: A3
A23: 2 | B23: 안 전 관 리 비 | C23: CD
A24: 3 | B24: 품 질 시 험 비
A25: 4 | B25: P.S 항 목 | C25: D3
A26: 5 | B26: 작업부산물(철거) | C26: D4
A27: 6 | B27: 폐기물처리비 | C27: CF
A28: 7 | B28: 도급자관급자재비 | C28: DK
A29: 8 | B29: 관급자관급자재비 | C29: DL
A30: 9 | B30: 작업부산물(철거) | C30: D5
A43: 단가 순서 | B43: 1234

Sheet Sheet1
