Workbook
Name PRE: [0]!PRE
Name 간접노무비: 내역서!$G$8
Name 건강보험료: 내역서!$G$11
Name 고용보험료: 내역서!$G$10
Name 공급가액: 내역서!$G$27
Name 관급자재대: 내역서!$G$30
Name 구조물집계: [1]장하지구!$187:$217
Name 구조물헐기Q: [1]장하지구!$R$187
Name 구헐A: [1]수량산출서!$A$103:$A$122
Name 구헐AD: [1]수량산출서!$AD$103:$AD$122
Name 군자1배TA: [1]수량산출서!$A$63:$A$82
Name 군자1배TAD: [1]수량산출서!$AD$63:$AD$82
Name 군자1용TA: [1]수량산출서!$A$83:$A$102
Name 군자1용TAD: [1]수량산출서!$AD$83:$AD$102
Name 군자콘포A: [1]수량산출서!$A$3:$A$22
Name 군자콘포AD: [1]수량산출서!$AD$3:$AD$22
Name 급수Q: [1]장하지구!$R$125
Name 급수관조서: [1]급수관조서!$25:$347
Name 급수관집계: [1]장하지구!$125:$155
Name 기계경비: 내역서!$M$7
Name 기초금액: 내역서!$F$14
Name 기타경비: 내역서!$G$20
Name 내역서: 내역서!$72:$159
Name 도급예정액: 내역서!$G$29
Name 부가가치세: 내역서!$G$28
Name 부대공사집계: [1]부대공!$32:$62
Name 부대공사총집계: [1]부대공!$1:$31
Name 사업관리비: [1]수지예산서!$U$185
Name 산재보험료: 내역서!$G$9
Name 소계: 내역서!$G$21
Name 수로관Q: [1]장하지구!$R$94
Name 수로관조서: [1]수로관조서!$23:$526
Name 수로관집계: [1]장하지구!$94:$124
Name 순공사비: 내역서!$G$7
Name 안전관리비: 내역서!$G$14
Name 연금보험료: 내역서!$G$12
Name 요양보험료: 내역서!$G$13
Name 원가계산창: 제경비적용기준!원가계산창
Name 원가계산창: [0]!원가계산창
Name 이윤: 내역서!$G$23
Name 일반관리비: 내역서!$G$22
Name 자재집계A: [1]자재집계표!$A:$A
Name 자재합계: [1]자재집계표!$R:$R
Name 장하지구총집계: [1]장하지구!$1:$62
Name 재료비: 내역서!$K$7
Name 직접노무비: 내역서!$I$7
Name 진입로Q: [1]장하지구!$R$156
Name 진입로조서: [1]진입로조서!$23:$932
Name 진입로집계: [1]장하지구!$156:$186
Name 총공사비: 내역서!$G$31
Name 토공Q: [1]장하지구!$R$63
Name 토공집계: [1]장하지구!$63:$93
Name 토량환산계수: 0.9
Name 토사자중: 710.185
Name 토적계산: 일위목록!$B$2:$I$54
Name 토적계산서: [1]토적계산서!$23:$143
Name 퇴직공제부금비: 내역서!$G$17
Name 흥부1용TA: [1]수량산출서!$A$23:$A$42
Name 흥부1용TAD: [1]수량산출서!$AD$23:$AD$42
Name 흥부2용TA: [1]수량산출서!$A$43:$A$62

Sheet 제경비적용기준
B1: ※ 적용시기 : 2026.4.13.입찰공고분부터 | AH1: 2026년 토목∙조경∙산업환경설비공사 원가계산 제비율 적용기준
Y2: [간접노무비] | AH2: [기타경비] | AY2: [일반관리비] | BK2: [이윤] | BR2: [건설기계대여금 지급보증액 발급금액] | CZ2: [산업안전보건관리비]
Y4: (직노) x 율 | AH4: (재+노) x 율 | AY4: (재+노+경) x 율 | BK4: (노+경+일) x 율 | BR4: (직접공사비) x 율 | CZ4: □ 도급자관급 미포함 | DL4: (재+직노) x 율
B6: 공사규모 | K6: 공사기간 | Y6: 토목 | AB6: 조경 | AE6: 산업 설비 (토목) | AH6: 토목 | AK6: 조경 | AN6: 산업 설비 (토목) | AQ6: 공사규모 | AY6: 토목, 조경, 산업∙설비 | BE6: 전문 공사
B8: (직접공사비) | AQ8: (추정가격) | BR8: 종합건설업 | CF8: 전문건설업 | CZ8: □ 도급자관급 포함 | DL8: (재+직노+도급자관급) x 율과
DL10: (재+직노) x 율 x 1.2 중에 작은 금액
B12: 10억 미만 | K12: 6개월 이하 (183일) | Y12: 19.1 | AB12: 18.4 | AE12: 19.1 | AH12: 5.5 | AK12: 4.9 | AN12: 5.5 | AQ12: 5억 미만 | AY12: 8 | BE12: 8 | BK12: 15 | BR12: 구분 | CA12: 요율 | CF12: 구분 | CU12: 요율 | CZ12: 안전관리비 대상액 | DL12: 구분 | EA12: 요율 | EI12: 기초액(천원)
K14: 7~12개월 (365일) | Y14: 19.5 | AB14: 18.8 | AE14: 19.5 | AH14: 5.7 | AK14: 5.1 | AN14: 5.7
K16: 13~36개월 (1095일) | Y16: 19.8 | AB16: 19.1 | AE16: 19.8 | AH16: 6.1 | AK16: 5.4 | AN16: 6.1 | BR16: 토목공사(토건) | CA16: 0.4 | CF16: 준설공사, 포장공사 | CU16: 0.68 | CZ16: 5억 미만 | DL16: 건축공사 | EA16: 3.11
K18: 36개월 초과 (1096일) | Y18: 21 | AB18: 20.3 | AE18: 21 | AH18: 6.7 | AK18: 6 | AN18: 6.7 | AQ18: 5억 - 30억 미만 | BE18: 6.5 | CF18: 토공사, 비계구조물해제공사 | DL18: 토목공사 | EA18: 3.15
B20: 10억 - 500억 미만 | K20: 6개월 이하 (183일) | Y20: 18.9 | AB20: 18.3 | AE20: 18.9 | AH20: 5.8 | AK20: 5.1 | AN20: 5.8 | BR20: 산업∙설비공사 | CA20: 0.16 | CF20: 상하수도설비공사, 수중공사 | CU20: 0.51 | DL20: 중건설공사 | EA20: 3.64
K22: 7~12개월 (365일) | Y22: 19.3 | AB22: 18.7 | AE22: 19.3 | AH22: 5.9 | AK22: 5.3 | AN22: 5.9 | AQ22: 30억 - 50억 미만 | BE22: 5 | CF22: 보링그라우팅공사
K24: 13~36개월 (1095일) | Y24: 19.6 | AB24: 19 | AE24: 19.6 | AH24: 6.3 | AK24: 5.6 | AN24: 6.3 | BR24: 조경공사 | CA24: 0.18 | CF24: 석공사, 시설물유지관리공사 | CU24: 0.32 | DL24: 특수건설공사 | EA24: 2.07
K26: 36개월 초과 (1096일) | Y26: 20.8 | AB26: 20.2 | AE26: 20.8 | AH26: 6.9 | AK26: 6.3 | AN26: 6.9 | AQ26: 50억 - 100억 미만 | AY26: 6.5 | BK26: 12 | CF26: 철근콘크리트공사 | CZ26: 5억 - 50억 미만 | DL26: 건축공사 | EA26: 2.28 | EI26: 4325
B28: 50억 - 300억 미만 | K28: 6개월 이하 (183일) | Y28: 19 | AB28: 18.4 | AE28: 19 | AH28: 6.4 | AK28: 5.8 | AN28: 6.4 | CF28: 조경시설물설치, 조경식재공사 | CU28: 0.16 | DL28: 토목공사 | EA28: 2.53 | EI28: 3300
K30: 7~12개월 (365일) | Y30: 19.4 | AB30: 18.8 | AE30: 19.4 | AH30: 6.6 | AK30: 5.9 | AN30: 6.6 | AQ30: 100억 - 300억 미만 | BE30: 4.5 | CF30: 도장공사, 철도궤도공사 | DL30: 중건설공사 | EA30: 3.05 | EI30: 2975
K32: 13~36개월 (1095일) | Y32: 19.7 | AB32: 19.1 | AE32: 19.7 | AH32: 6.9 | AK32: 6.3 | AN32: 6.9 | CF32: 철강재설치공사
K34: 36개월 초과 (1096일) | Y34: 20.9 | AB34: 20.3 | AE34: 20.9 | AH34: 7.6 | AK34: 6.9 | AN34: 7.6 | AQ34: 300억 - 1000억 미만 | AY34: 5 | BK34: 10 | CF34: 그 외 | CU34: 0.1 | DL34: 특수건설공사 | EA34: 1.59 | EI34: 2450
B36: 300억 - 1000억 미만 | K36: 6개월 이하 (183일) | Y36: 19.1 | AB36: 18.4 | AE36: 19.1 | AH36: 6.6 | AK36: 6 | AN36: 6.6 | CZ36: 50억 이상-800억* 미만 건설공사 * 추정금액(주공종이 토목공사는 1,000억) | DL36: 건축공사 | EA36: 2.37
K38: 7~12개월 (365일) | Y38: 19.5 | AB38: 18.8 | AE38: 19.5 | AH38: 6.8 | AK38: 6.1 | AN38: 6.8 | AQ38: 1000억 이상 | AY38: 4.5 | BK38: 9 | BR38: * 적용제외: 문화재수리공사 | DL38: 토목공사 | EA38: 2.6
K40: 13~36개월 (1095일) | Y40: 19.8 | AB40: 19.1 | AE40: 19.8 | AH40: 7.2 | AK40: 6.5 | AN40: 7.2 | BR40: ※ 건설기계대여금 지급보증서 발급금액 및 업종별 건설기계 | DL40: 중건설공사 | EA40: 3.11
K42: 36개월 초과 (1096일) | Y42: 21 | AB42: 20.3 | AE42: 21 | AH42: 7.8 | AK42: 7.1 | AN42: 7.8 | BR42: 투입비율 산정기준(국토부 고시 제2019-286호, 2019.6.19.)
B44: * 기타경비항목: 수도광열비, 복리후생비, 소모품비 및 사무용품비, 여비∙교통∙통신비, 세금과공과, 도서인쇄비 | DL44: 특수건설공사 | EA44: 1.64
B46: □ 산업∙설비(토목) 해당공종: 수처리시설(오폐수, 하수처리, 분뇨처리, 정수장) 등 . | CZ46: 추정금액 800억(주공종 토목은 1,000억) 이상 건설공사 | DL46: 건축공사 | EA46: 2.64
B48: [산재보험료] | AQ48: [환경보전비] | BR48: [건설하도급대금지급보증서발급수수료] | DL48: 토목공사 | EA48: 2.73
A50: 3.56 | B50: =" (노) x "&A50 -> (노) x 3.56 | AQ50: (직접공사비) x 율 | BR50: (직접공사비) x 율 | DL50: 중건설공사 | EA50: 3.39
B52: * 모든 건설공사 적용 노동부 고시 제2019-73호(2019.12.27.), 산업재해보상보험법시행령 | AQ52: 구분 | BM52: 요율 | BR52: 공사규모(추정가격) | CS52: 요율
B54: ※ 사회보험의 보험료 적용기준 (국토부 고시 제2018-462호, 2018.7.26.) | AQ54: 도로(교량, 터널, 활주로) | BM54: 0.9 | BR54: 50억 미만 | CS54: 0.081 | DL54: 특수건설공사 | EA54: 1.78
B56: [고용보험료] | AQ56: 플랜트(발전소, 쓰레기소각장) | BM56: 0.4 | CZ56: * 건설업의 분류
BR57: 50억 이상 - 100억 미만 | CS57: 0.08
B58: (노) x 율 | AQ58: 지하철 | BM58: 0.5
CZ59: - 일반건설공사(갑): 건축건설, 교량건설, 도로신설, 철도∙궤도의 보수복구, 기설로면에
B60: 공사배정규모(추정금액) | AD60: 요율 | AQ60: 철도 | BM60: 1.5 | BR60: 100억 이상 - 300억 미만 | CS60: 0.075
B62: [1등급] 1700억 이상 | AD62: 1.57 | AQ62: 상하수도(폐수, 하수처리장, 정수장) | BM62: 0.5 | CZ62: 레일만 부설하는 공사, 지하 10m 이내 복개식 지하도, 지하철도, 지하상가, 통신선로
BR63: 300억 이상 종심∙종평제(토목 및 산업설비) | CS63: 0.071
B64: [2등급] 1700억 미만 ~ 950억 이상 | AD64: 1.3 | AQ64: 항만 | BM64: 0.8
CZ65: 등 인입통신구 신설공사, 기타건설공사(다른 것에 분류하지 아니한 건설공사)
B66: [3등급] 950억 미만 ~ 550억 이상 | AD66: 1.13 | AQ66: 오탁 또는 준설토 방지막 미설치 | BM66: 1.8 | BR66: 300억 이상 종심∙종평제(건축) | CS66: 0.068
B68: [4등급] 550억 미만 ~ 400억 이상 | AD68: 1.06 | AQ68: 댐 | BM68: 1.1 | CZ68: - 일반건설공사(을): 기계장치공사, 삭도건설공사, 공해방지시설 및 폐수처리시설 공사
BR69: 턴키∙대안공사 | CS69: 0.084
...

Sheet 총 괄
A1: 일 금 : | C1: =H32 -> 112138000 | F1: 원
A2: 공 종 별 | H2: 계 | I2: 평야부 | J2: 부대공사 | P2: 폐기물처리 | T2: 비고
A3: 순 공 사 비 | B3: 노무비 | C3: 직 접 노 무 비 | H3: =SUM(I3:P3) -> 33378796 | I3: ='평 야 부'!H3 -> 33378796 | J3: ='부 대 공 사'!I3 -> 0
C4: 간 접 노 무 비 | E4: ( | F4: =내역서!D8 -> 0.191 | G4: ) | H4: =SUM(I4:P4) -> 6375350 | I4: ='평 야 부'!H4 -> 6375350 | J4: ='부 대 공 사'!I4 -> 0 | T4: 직접노무비×율
C5: 소 계 | H5: =SUM(I5:P5) -> 39754146 | I5: ='평 야 부'!H5 -> 39754146 | J5: ='부 대 공 사'!I5 -> 0
B6: 재료비 | C6: 직 접 재 료 비 | H6: =SUM(I6:P6) -> 23970755 | I6: ='평 야 부'!H6 -> 23970755 | J6: ='부 대 공 사'!I6 -> 0
C7: 간 접 재 료 비 | H7: =SUM(I7:P7) -> 0 | I7: ='평 야 부'!H7 -> 0 | J7: ='부 대 공 사'!I7 -> 0
C8: 소 계 | H8: =SUM(I8:P8) -> 23970755 | I8: ='평 야 부'!H8 -> 23970755 | J8: ='부 대 공 사'!I8 -> 0
B9: 경 비 | C9: 경 비 | H9: =SUM(I9:P9) -> 9204661 | I9: ='평 야 부'!H9 -> 6842485 | J9: ='부 대 공 사'!I9 -> 2362176
C10: 산 재 보 험 료 | E10: ( | F10: =내역서!D9 -> 0.0356 | G10: ) | H10: =SUM(I10:P10) -> 1415247 | I10: ='평 야 부'!H10 -> 1415247 | J10: ='부 대 공 사'!I10 -> 0 | T10: 노무비×율
C11: 고 용 보 험 료 | E11: ( | F11: =내역서!D10 -> 0.0101 | G11: ) | H11: =SUM(I11:P11) -> 401516 | I11: ='평 야 부'!H11 -> 401516 | J11: ='부 대 공 사'!I11 -> 0 | T11: 노무비×율
C12: 관리비 안 전 | D12: 기 초 액 | H12: =SUM(I12:P12) -> 0 | I12: ='평 야 부'!H12 -> 0 | J12: ='부 대 공 사'!I12 -> 0
D13: 안전관리비*1.2 | E13: ( | F13: =내역서!D14 -> 0.0315 | G13: ) | H13: =SUM(I13:P13) -> 2167813 | I13: ='평 야 부'!H13 -> 2167813 | J13: ='부 대 공 사'!I13 -> 0 | T13: (재료비+직접노무비)×율×1.2
D14: 소 계 | H14: =SUM(I14:P14) -> 2167813 | I14: ='평 야 부'!H14 -> 2167813 | J14: ='부 대 공 사'!I14 -> 0
C15: 환경보전비 | E15: ( | F15: =내역서!D16 -> 0.008 | G15: ) | H15: =SUM(I15:P15) -> 532433 | I15: ='평 야 부'!H15 -> 513536 | J15: ='부 대 공 사'!I15 -> 18897 | T15: (재료비+직접노무비+산출경비)×율
C16: 퇴직공제부금비 | E16: ( | G16: ) | H16: =SUM(I16:P16) -> 0 | I16: ='평 야 부'!H16 -> 0 | J16: ='부 대 공 사'!I16 -> 0 | T16: 직접노무비×율
C17: 국민건강보험료 | E17: ( | F17: =내역서!D11 -> 0.03595 | G17: ) | H17: =SUM(I17:P17) -> 1199967 | I17: ='평 야 부'!H17 -> 1199967 | J17: ='부 대 공 사'!I17 -> 0 | T17: 직접노무비×율
C18: 노인장기요양보험 | E18: ( | F18: =내역서!D13 -> 0.1314 | G18: ) | H18: =SUM(I18:P18) -> 157675 | I18: ='평 야 부'!H18 -> 157675 | J18: ='부 대 공 사'!I18 -> 0 | T18: 건강보험료×율
C19: 국민연금보험료 | E19: ( | F19: =내역서!D12 -> 0.0475 | G19: ) | H19: =SUM(I19:P19) -> 1585492 | I19: ='평 야 부'!H19 -> 1585492 | J19: ='부 대 공 사'!I19 -> 0 | T19: 직접노무비×율
C20: 건설하도급수수료 | E20: ( | F20: =내역서!D18 -> 0 | G20: ) | H20: =SUM(I20:P20) -> 0 | I20: ='평 야 부'!H20 -> 0 | J20: ='부 대 공 사'!I20 -> 0 | T20: (재료비+직접노무비+산출경비)×율
C21: 건설기계대여대금 지급보증서발급금액 | E21: ( | F21: =내역서!D19 -> 0.0032 | G21: ) | H21: =SUM(I21:P21) -> 212972 | I21: ='평 야 부'!H21 -> 205414 | J21: ='부 대 공 사'!I21 -> 7558 | T21: (재료비+직접노무비+산출경비)×율
C22: 기 타 경 비 | E22: ( | F22: =내역서!D20 -> 0.055 | G22: ) | H22: =SUM(I22:P22) -> 3504869 | I22: ='평 야 부'!H22 -> 3504869 | J22: ='부 대 공 사'!I22 -> 0 | T22: (재료비+노무비)×율
C23: 석면분담금 | E23: ( | F23: 6e-05 | G23: ) | H23: =SUM(I23:P23) -> 2385 | I23: ='평 야 부'!H23 -> 2385 | J23: ='부 대 공 사'!I23 -> 0
C24: 임금채권부담금 | E24: ( | F24: 0.0009 | G24: ) | H24: =SUM(I24:P24) -> 35778 | I24: ='평 야 부'!H24 -> 35778 | J24: ='부 대 공 사'!I24 -> 0
C25: 소계 | H25: =SUM(I25:P25) -> 20420808 | I25: ='평 야 부'!H25 -> 18032177 | J25: ='부 대 공 사'!I25 -> 2388631
A26: 순 공 사 비 | H26: =SUM(I26:P26) -> 84145709 | I26: ='평 야 부'!H26 -> 81757078 | J26: ='부 대 공 사'!I26 -> 2388631
A27: 일 반 관 리 비 | E27: ( | F27: =내역서!D22 -> 0.08 | G27: ) | H27: =SUM(I27:P27) -> 6731656 | I27: ='평 야 부'!H27 -> 6540566 | J27: ='부 대 공 사'!I27 -> 191090 | T27: (재료비+노무비+경비)×율
A28: 이 윤 | E28: ( | F28: =내역서!D23 -> 0.15 | G28: ) | H28: =SUM(I28:P28) -> 9035991 | I28: ='평 야 부'!H28 -> 8649033 | J28: ='부 대 공 사'!I28 -> 386958 | T28: (노무비+경비+일반관리비)×율
A29: 총 원 가 | H29: =SUM(I29:P29) -> 99913356 | I29: ='평 야 부'!H29 -> 96946677 | J29: ='부 대 공 사'!I29 -> 2966679
A30: 폐기물처리비 | E30: ( | F30: 0 | G30: ) | H30: =SUM(I30:P30) -> 2033680 | I30: ='평 야 부'!H30 -> 0 | J30: ='부 대 공 사'!I30 -> 0 | P30: ='폐 기 물 처 리'!H30 -> 2033680
A31: 부 가 가 치 세 | E31: ( | F31: =내역서!D28 -> 0.1 | G31: ) | H31: =SUM(I31:P31) -> 10193000 | I31: ='평 야 부'!H31 -> 9694000 | J31: ='부 대 공 사'!I31 -> 296000 | P31: ='폐 기 물 처 리'!H31 -> 203000
A32: 도 급 예 정 금 액 | H32: =SUM(I32:P32) -> 112138000 | I32: ='평 야 부'!H32 -> 106640000 | J32: ='부 대 공 사'!I32 -> 3262000 | P32: ='폐 기 물 처 리'!H32 -> 2236000

Sheet 평 야 부
A1: [평야부] | C1: =H32 -> 106640000 | I1: 0
A2: 공 종 별 | H2: 계 | I2: 평야부 | N2: 비고
A3: 순 공 사 비 | B3: 노무비 | C3: 직 접 노 무 비 | H3: =SUM(I3:L3) -> 33378796 | I3: =내역서!I4 -> 33378796
C4: 간 접 노 무 비 | E4: ( | F4: ='총 괄'!F4 -> 0.191 | G4: ) | H4: =SUM(I4:L4) -> 6375350 | I4: =INT(I3*$F$4) -> 6375350 | N4: 직접노무비×율
C5: 소 계 | H5: =SUM(I5:L5) -> 39754146 | I5: =I3+I4 -> 39754146
B6: 재료비 | C6: 직 접 재 료 비 | H6: =SUM(I6:L6) -> 23970755 | I6: =내역서!K4 -> 23970755
C7: 간 접 재 료 비 | H7: =SUM(I7:L7) -> 0
C8: 소 계 | H8: =SUM(I8:L8) -> 23970755 | I8: =I6+I7 -> 23970755
B9: 경 비 | C9: 경 비 | H9: =SUM(I9:L9) -> 6842485 | I9: =내역서!M4 -> 6842485
C10: 산 재 보 험 료 | E10: ( | F10: ='총 괄'!F10 -> 0.0356 | G10: ) | H10: =SUM(I10:L10) -> 1415247 | I10: =INT(I5*$F$10) -> 1415247 | N10: 노무비×율
C11: 고 용 보 험 료 | E11: ( | F11: ='총 괄'!F11 -> 0.0101 | G11: ) | H11: =SUM(I11:L11) -> 401516 | I11: =INT(I5*$F$11) -> 401516 | N11: 노무비×율
C12: 관리비 안 전 | D12: 기 초 액 | H12: =SUM(I12:L12) -> 0
D13: 안전관리비*1.2 | E13: ( | F13: ='총 괄'!F13 -> 0.0315 | G13: ) | H13: =SUM(I13:L13) -> 2167813 | I13: =INT((I3+I8)*$F$13*1.2) -> 2167813 | N13: (재료비+직접노무비)×율×1.2
D14: 소 계 | H14: =SUM(I14:L14) -> 2167813 | I14: =SUM(I12:I13) -> 2167813
C15: 환경보전비 | E15: ( | F15: ='총 괄'!F15 -> 0.008 | G15: ) | H15: =SUM(I15:L15) -> 513536 | I15: =INT((I3+I6+I9)*$F$15) -> 513536 | N15: (재료비+직접노무비+산출경비)×율
C16: 퇴직공제부금비 | E16: ( | F16: ='총 괄'!F16 -> 0 | G16: ) | H16: =SUM(I16:L16) -> 0 | I16: =INT(I3*$F$16) -> 0 | N16: 직접노무비×율
C17: 국민건강보험료 | E17: ( | F17: ='총 괄'!F17 -> 0.03595 | G17: ) | H17: =SUM(I17:L17) -> 1199967 | I17: =INT(I3*$F$17) -> 1199967 | N17: 직접노무비×율
C18: 노인장기요양보험 | E18: ( | F18: ='총 괄'!F18 -> 0.1314 | G18: ) | H18: =SUM(I18:L18) -> 157675 | I18: =INT(I17*$F$18) -> 157675 | N18: 건강보험료×율
C19: 국민연금보험료 | E19: ( | F19: ='총 괄'!F19 -> 0.0475 | G19: ) | H19: =SUM(I19:L19) -> 1585492 | I19: =INT(I3*$F$19) -> 1585492 | N19: 직접노무비×율
C20: 건설하도급수수료 | E20: ( | G20: ) | H20: =SUM(I20:L20) -> 0 | I20: =INT((I3+I6+I9)*$F$20) -> 0 | N20: (재료비+직접노무비+산출경비)×율
C21: 건설기계대여대금 지급보증서발급금액 | E21: ( | F21: ='총 괄'!F21 -> 0.0032 | G21: ) | H21: =SUM(I21:L21) -> 205414 | I21: =INT((I3+I6+I9)*$F$21) -> 205414 | N21: (재료비+직접노무비+산출경비)×율
C22: 기 타 경 비 | E22: ( | F22: ='총 괄'!F22 -> 0.055 | G22: ) | H22: =SUM(I22:L22) -> 3504869 | I22: =INT((I5+I8)*$F$22)+0 -> 3504869 | N22: (재료비+노무비)×율
C23: 석면분담금 | E23: ( | F23: ='총 괄'!F23 -> 6e-05 | G23: ) | H23: =SUM(I23:L23) -> 2385 | I23: =INT((I5)*F23) -> 2385
C24: 임금채권부담금 | E24: ( | F24: ='총 괄'!F24 -> 0.0009 | G24: ) | H24: =SUM(I24:L24) -> 35778 | I24: =INT((I5)*F24) -> 35778
C25: 소계 | H25: =SUM(I25:L25) -> 18032177 | I25: =SUM(I9:I24)-I14 -> 18032177
A26: 순 공 사 비 | H26: =SUM(I26:L26) -> 81757078 | I26: =I5+I8+I25 -> 81757078
A27: 일 반 관 리 비 | E27: ( | F27: ='총 괄'!F27 -> 0.08 | G27: ) | H27: =SUM(I27:L27) -> 6540566 | I27: =INT(I26*$F$27) -> 6540566 | N27: (재료비+노무비+경비)×율
A28: 이 윤 | E28: ( | F28: ='총 괄'!F28 -> 0.15 | G28: ) | H28: =SUM(I28:L28) -> 8649033 | I28: =TRUNC((I5+I25+I27)*F28)-1000000 -> 8649033 | N28: (노무비+경비+일반관리비)×율
A29: 총 원 가 | H29: =SUM(I29:L29) -> 96946677 | I29: =SUM(I26:I28) -> 96946677
A30: 폐기물처리비 | E30: ( | G30: ) | H30: =SUM(I30:L30) -> 0
A31: 부 가 가 치 세 | E31: ( | F31: ='총 괄'!F31 -> 0.1 | G31: ) | H31: =SUM(I31:L31) -> 9694000 | I31: =TRUNC(I29*$F$31,-3)+0 -> 9694000
A32: 도 급 예 정 금 액 | H32: =SUM(I32:L32) -> 106640000 | I32: =TRUNC(SUM(I29:I31),-3) -> 106640000
H35: =SUM(I35:L35) -> 0

Sheet 부 대 공 사
A1: 일 금 : | C1: =H32 -> 3262000 | F1: 원 | I1: 0
A2: 공 종 별 | H2: 계 | I2: 부대공사 | R2: 비고
A3: 순 공 사 비 | B3: 노무비 | C3: 직 접 노 무 비 | H3: =SUM(I3:Q3) -> 0 | I3: =내역서!I58 -> 0
C4: 간 접 노 무 비 | E4: ( | F4: ='총 괄'!F4 -> 0.191 | G4: ) | H4: =SUM(I4:Q4) -> 0 | I4: =INT(I3*$F$4) -> 0 | R4: 직접노무비×율
C5: 소 계 | H5: =SUM(I5:Q5) -> 0 | I5: =I3+I4 -> 0
B6: 재료비 | C6: 직 접 재 료 비 | H6: =SUM(I6:Q6) -> 0 | I6: =내역서!K58 -> 0
C7: 간 접 재 료 비 | H7: =SUM(I7:Q7) -> 0 | I7: 0
C8: 소 계 | H8: =SUM(I8:Q8) -> 0 | I8: =I6+I7 -> 0
B9: 경 비 | C9: 경 비 | H9: =SUM(I9:Q9) -> 2362176 | I9: =내역서!M58 -> 2362176
C10: 산 재 보 험 료 | E10: ( | F10: ='총 괄'!F10 -> 0.0356 | G10: ) | H10: =SUM(I10:Q10) -> 0 | I10: =INT(I5*$F$10) -> 0 | R10: 노무비×율
C11: 고 용 보 험 료 | E11: ( | F11: ='총 괄'!F11 -> 0.0101 | G11: ) | H11: =SUM(I11:Q11) -> 0 | I11: =INT(I5*$F$11) -> 0 | R11: 노무비×율
C12: 관리비 안 전 | D12: 기 초 액 | H12: =SUM(I12:Q12) -> 0
D13: 안전관리비*1.2 | E13: ( | F13: ='총 괄'!F13 -> 0.0315 | G13: ) | H13: =SUM(I13:Q13) -> 0 | I13: =INT((I3+I8)*$F$13*1.2) -> 0 | R13: (재료비+직접노무비)×율×1.2
D14: 소 계 | H14: =SUM(I14:Q14) -> 0 | I14: =SUM(I12:I13) -> 0
C15: 환경보전비 | E15: ( | F15: ='총 괄'!F15 -> 0.008 | G15: ) | H15: =SUM(I15:Q15) -> 18897 | I15: =INT((I3+I6+I9)*$F$15) -> 18897 | R15: (재료비+직접노무비+산출경비)×율
C16: 퇴직공제부금비 | E16: ( | F16: ='총 괄'!F16 -> 0 | G16: ) | H16: =SUM(I16:Q16) -> 0 | I16: =INT(I1*$F$16) -> 0 | R16: 직접노무비×율
C17: 국민건강보험료 | E17: ( | F17: ='총 괄'!F17 -> 0.03595 | G17: ) | H17: =SUM(I17:Q17) -> 0 | I17: =INT(I3*$F$17) -> 0 | R17: 직접노무비×율
C18: 노인장기요양보험 | E18: ( | F18: ='총 괄'!F18 -> 0.1314 | G18: ) | H18: =SUM(I18:Q18) -> 0 | I18: =INT(I17*$F$18) -> 0 | R18: 건강보험료×율
C19: 국민연금보험료 | E19: ( | F19: ='총 괄'!F19 -> 0.0475 | G19: ) | H19: =SUM(I19:Q19) -> 0 | I19: =INT(I3*$F$19) -> 0 | R19: 직접노무비×율
C20: 건설하도급수수료 | E20: ( | F20: ='총 괄'!F20 -> 0 | G20: ) | H20: =SUM(I20:Q20) -> 0 | I20: =INT((I3+I6+I9)*$F$20) -> 0 | R20: (재료비+직접노무비+산출경비)×율
C21: 건설기계대여대금 지급보증서발급금액 | E21: ( | F21: ='총 괄'!F21 -> 0.0032 | G21: ) | H21: =SUM(I21:Q21) -> 7558 | I21: =INT((I3+I6+I9)*$F$21) -> 7558 | R21: (재료비+직접노무비+산출경비)×율
C22: 기 타 경 비 | E22: ( | F22: ='총 괄'!F22 -> 0.055 | G22: ) | H22: =SUM(I22:Q22) -> 0 | I22: =INT((I5+I8)*$F$22)+0 -> 0 | R22: (재료비+노무비)×율
C23: 석면분담금 | E23: ( | F23: ='총 괄'!F23 -> 6e-05 | G23: ) | H23: =SUM(I23:Q23) -> 0 | I23: =INT((I5)*F23) -> 0
C24: 임금채권부담금 | E24: ( | F24: ='총 괄'!F24 -> 0.0009 | G24: ) | H24: =SUM(I24:Q24) -> 0 | I24: =INT((I5)*F24) -> 0
C25: 소계 | H25: =SUM(I25:Q25) -> 2388631 | I25: =SUM(I9:I24)-I14 -> 2388631
A26: 순 공 사 비 | H26: =SUM(I26:Q26) -> 2388631 | I26: =I5+I8+I25 -> 2388631
A27: 일 반 관 리 비 | E27: ( | F27: ='총 괄'!F27 -> 0.08 | G27: ) | H27: =SUM(I27:Q27) -> 191090 | I27: =INT(I26*$F$27) -> 191090 | R27: (재료비+노무비+경비)×율
A28: 이 윤 | E28: ( | F28: ='총 괄'!F28 -> 0.15 | G28: ) | H28: =SUM(I28:Q28) -> 386958 | I28: =TRUNC((I5+I25+I27)*F28) -> 386958 | R28: (노무비+경비+일반관리비)×율
A29: 총 원 가 | H29: =SUM(I29:Q29) -> 2966679 | I29: =SUM(I26:I28) -> 2966679
A30: 폐기물처리비 | E30: ( | F30: ='총 괄'!F30 -> 0 | G30: ) | H30: =SUM(I30:Q30) -> 0
A31: 부 가 가 치 세 | E31: ( | F31: ='총 괄'!F31 -> 0.1 | G31: ) | H31: =SUM(I31:Q31) -> 296000 | I31: =TRUNC(I29*$F$31,-3)+0 -> 296000
A32: 도 급 예 정 금 액 | H32: =SUM(I32:Q32) -> 3262000 | I32: =TRUNC(SUM(I29:I31),-3) -> 3262000

Sheet 폐 기 물 처 리
A1: 일 금 : | C1: =H32 -> 2236000 | F1: 원 | I1: 0
A2: 공 종 별 | H2: 계 | I2: 폐기물처리 | R2: 비고
A3: 순 공 사 비 | B3: 노무비 | C3: 직 접 노 무 비 | H3: =SUM(I3:Q3) -> 0
C4: 간 접 노 무 비 | E4: ( | F4: ='총 괄'!F4 -> 0.191 | G4: ) | H4: =SUM(I4:Q4) -> 0 | I4: =INT(I3*$F$4) -> 0
C5: 소 계 | H5: =SUM(I5:Q5) -> 0 | I5: =I3+I4 -> 0
B6: 재료비 | C6: 직 접 재 료 비 | H6: =SUM(I6:Q6) -> 0
C7: 간 접 재 료 비 | H7: =SUM(I7:Q7) -> 0 | I7: 0
C8: 소 계 | H8: =SUM(I8:Q8) -> 0 | I8: =I6+I7 -> 0
B9: 경 비 | C9: 경 비 | H9: =SUM(I9:Q9) -> 0
C10: 산 재 보 험 료 | E10: ( | F10: ='총 괄'!F10 -> 0.0356 | G10: ) | H10: =SUM(I10:Q10) -> 0 | I10: =INT(I5*$F$10) -> 0
C11: 고 용 보 험 료 | E11: ( | F11: ='총 괄'!F11 -> 0.0101 | G11: ) | H11: =SUM(I11:Q11) -> 0 | I11: =INT(I5*$F$11) -> 0
C12: 관리비 안 전 | D12: 기 초 액 | H12: =SUM(I12:Q12) -> 0
D13: 안전관리비*1.2 | E13: ( | F13: ='총 괄'!F13 -> 0.0315 | G13: ) | H13: =SUM(I13:Q13) -> 0 | I13: =INT((I3+I8)*$F$13*1.2) -> 0
D14: 소 계 | H14: =SUM(I14:Q14) -> 0 | I14: =SUM(I12:I13) -> 0
C15: 환경보전비 | E15: ( | F15: ='총 괄'!F15 -> 0.008 | G15: ) | H15: =SUM(I15:Q15) -> 0 | I15: =INT((I3+I6+I9)*$F$15) -> 0
C16: 퇴직공제부금비 | E16: ( | F16: ='총 괄'!F16 -> 0 | G16: ) | H16: =SUM(I16:Q16) -> 0 | I16: =INT(I1*$F$16) -> 0
C17: 국민건강보험료 | E17: ( | F17: ='총 괄'!F17 -> 0.03595 | G17: ) | H17: =SUM(I17:Q17) -> 0 | I17: =INT(I3*$F$17) -> 0
C18: 노인장기요양보험 | E18: ( | F18: ='총 괄'!F18 -> 0.1314 | G18: ) | H18: =SUM(I18:Q18) -> 0 | I18: =INT(I17*$F$18) -> 0
C19: 국민연금보험료 | E19: ( | F19: ='총 괄'!F19 -> 0.0475 | G19: ) | H19: =SUM(I19:Q19) -> 0 | I19: =INT(I3*$F$19) -> 0
C20: 건설하도급수수료 | E20: ( | F20: ='총 괄'!F20 -> 0 | G20: ) | H20: =SUM(I20:Q20) -> 0 | I20: =INT((I3+I6+I9)*$F$20) -> 0
C21: 건설기계대여대금 지급보증서발급금액 | E21: ( | F21: ='총 괄'!F21 -> 0.0032 | G21: ) | H21: =SUM(I21:Q21) -> 0 | I21: =INT((I3+I6+I9)*$F$21) -> 0
C22: 기 타 경 비 | E22: ( | F22: ='총 괄'!F22 -> 0.055 | G22: ) | H22: =SUM(I22:Q22) -> 0 | I22: =INT((I5+I8)*$F$22)+0 -> 0
C23: 품질관리비 | E23: ( | F23: ='총 괄'!F23 -> 6e-05 | G23: ) | H23: =SUM(I23:Q23) -> 0
C24: 안전점검비 | E24: ( | F24: ='총 괄'!F24 -> 0.0009 | G24: ) | H24: =SUM(I24:Q24) -> 0
C25: 소계 | H25: =SUM(I25:Q25) -> 0 | I25: =SUM(I9:O24)-I14 -> 0
A26: 순 공 사 비 | H26: =SUM(I26:Q26) -> 0 | I26: =I5+I8+I25 -> 0
A27: 일 반 관 리 비 | E27: ( | F27: ='총 괄'!F27 -> 0.08 | G27: ) | H27: =SUM(I27:Q27) -> 0 | I27: =INT(I26*$F$27) -> 0
A28: 이 윤 | E28: ( | F28: ='총 괄'!F28 -> 0.15 | G28: ) | I28: =TRUNC((I5+I25+I27)*$F28+(I26+I27),-4)-(I26+I27) -> 0
A29: 총 원 가 | H29: =SUM(I29:Q29) -> 0 | I29: =SUM(I26:I28) -> 0
A30: 폐기물처리비 | E30: ( | F30: ='총 괄'!F30 -> 0 | G30: ) | H30: =SUM(I30:Q30) -> 2033680 | I30: =내역서!G26 -> 2033680
A31: 부 가 가 치 세 | E31: ( | F31: ='총 괄'!F31 -> 0.1 | G31: ) | H31: =SUM(I31:Q31) -> 203000 | I31: =TRUNC(I30*$F$31,-3)+0 -> 203000
A32: 도 급 예 정 금 액 | H32: =SUM(I32:Q32) -> 2236000 | I32: =TRUNC(SUM(I29:O31),-3) -> 2236000

Sheet 내역서
B1: ="◈. 사 업 명 : "&[1]수지예산서!F3 -> ◈. 사 업 명 : 장하지구 수리시설정비사업
B2: 공 종 | C2: 재 료 또는 치 수 | D2: 수 량 | E2: 단위 | F2: 합 계 | H2: 노 무 비 | J2: 재 료 비 | L2: 경 비 | N2: 비고
F3: 단 가 | G3: 금 액 | H3: 단 가 | I3: 금 액 | J3: 단 가 | K3: 금 액 | L3: 단 가 | M3: 금 액
A4: 장하 | B4: =IF($A4="","",VLOOKUP($A4,$A$50:$N$429,2,FALSE)) -> 1. 장하지구 수리시설정비사업 | G4: =IF($A4="","",VLOOKUP($A4,$A$50:$N$429,7,FALSE)) -> 64192036 | I4: =IF($A4="","",VLOOKUP($A4,$A$50:$N$429,9,FALSE)) -> 33378796 | K4: =IF($A4="","",VLOOKUP($A4,$A$50:$N$429,11,FALSE)) -> 23970755 | M4: =IF($A4="","",VLOOKUP($A4,$A$50:$N$429,13,FALSE)) -> 6842485
A5: 부대 | B5: =IF($A5="","",VLOOKUP($A5,$A$50:$N$429,2,FALSE)) -> 2. 부대공사 | G5: =IF($A5="","",VLOOKUP($A5,$A$50:$N$429,7,FALSE)) -> 2362176 | I5: =IF($A5="","",VLOOKUP($A5,$A$50:$N$429,9,FALSE)) -> 0 | K5: =IF($A5="","",VLOOKUP($A5,$A$50:$N$429,11,FALSE)) -> 0 | M5: =IF($A5="","",VLOOKUP($A5,$A$50:$N$429,13,FALSE)) -> 2362176
B6: =IF($A6="","",VLOOKUP($A6,$A$50:$N$429,2,FALSE)) | G6: =IF($A6="","",VLOOKUP($A6,$A$74:$N$429,7,FALSE)) | I6: =IF($A6="","",VLOOKUP($A6,$A$74:$N$429,9,FALSE)) | K6: =IF($A6="","",VLOOKUP($A6,$A$74:$N$429,11,FALSE)) | M6: =IF($A6="","",VLOOKUP($A6,$A$74:$N$429,13,FALSE))
B7: 순공사비 | G7: =IF(SUM(G4,G5,G6)=I7+K7+M7,I7+K7+M7,"^..^") -> 66554212 | I7: =SUM(I4,I5,I6) -> 33378796 | K7: =SUM(K4,K5,K6) -> 23970755 | M7: =SUM(M4,M5,M6) -> 9204661
B8: 간접노무비 | D8: =제경비적용기준!Y12% -> 0.191 | G8: =TRUNC(직접노무비*D8) -> 6375350 | H8: =" (직접노무비) * "&D8*100&"%" -> (직접노무비) * 19.1%
B9: 산재보험료 | D9: =제경비적용기준!A50% -> 0.0356 | G9: =TRUNC((직접노무비+간접노무비)*D9) -> 1415247 | H9: =" (노무비) * "&D9*100&"%" -> (노무비) * 3.56%
B10: 고용보험료 | D10: =제경비적용기준!AD74% -> 0.0101 | G10: =TRUNC((직접노무비+간접노무비)*D10) -> 401516 | H10: =" (노무비) * "&D10*100&"%" -> (노무비) * 1.01%
B11: 건강보험료 | D11: =제경비적용기준!A88% -> 0.03595 | G11: =TRUNC(직접노무비*D11) -> 1199967 | H11: =" (직접노무비) * "&D11*100&"%" -> (직접노무비) * 3.595%
B12: 연금보험료 | D12: =제경비적용기준!A89% -> 0.0475 | G12: =TRUNC(직접노무비*D12) -> 1585492 | H12: =" (직접노무비) * "&D12*100&"%" -> (직접노무비) * 4.75%
B13: 노인장기요양보험료 | D13: =제경비적용기준!A90% -> 0.1314 | G13: =TRUNC(건강보험료*D13) -> 157675 | H13: =" (건강보험료) * "&D13*100&"%" -> (건강보험료) * 13.14%
B14: 안전관리비 | D14: =제경비적용기준!EA18% -> 0.0315 | G14: =MIN(M14,M15) -> 2167813 | H14: =" (재료비+직접노무비+관급자재대/1.1) * "&$D$14*100&"% + 기초금액" -> (재료비+직접노무비+관급자재대/1.1) * 3.15% + 기초금액 | L14: 중 작은 값 | M14: =TRUNC((재료비+직접노무비+[1]관급내역서!I4)*$D$14,0)+기초금액 -> 4371461
H15: =" {1.20*((재료비+직접노무비) * "&$D$14*100&"%)} + 기초금액" -> {1.20*((재료비+직접노무비) * 3.15%)} + 기초금액 | M15: =TRUNC(1.2*(재료비+직접노무비)*$D$14,0)+기초금액 -> 2167813
B16: 환경보전비 | D16: =제경비적용기준!BM80% -> 0.008 | G16: =TRUNC(순공사비*D16) -> 532433 | H16: =" (재료비+직접노무비+산출경비) * "&D16*100&"%" -> (재료비+직접노무비+산출경비) * 0.8%
B17: 퇴직공제부금비 | D17: =제경비적용기준!A96% -> 0.023 | G17: =TRUNC(직접노무비*D17) -> 767712 | H17: =" (직접노무비) * "&D17*100&"%" -> (직접노무비) * 2.3%
B18: 하도급대금지급보증수수료 | D18: =0% -> 0 | G18: =TRUNC(순공사비*D18) -> 0 | H18: =" (재료비+직접노무비+산출경비) * "&D18*100&"%" -> (재료비+직접노무비+산출경비) * 0%
B19: 건설기계대여대금지급보증서발급금액 | D19: =제경비적용기준!CU24% -> 0.0032 | G19: =TRUNC(순공사비*D19) -> 212973 | H19: =" (재료비+직접노무비+산출경비) * "&D19*100&"%" -> (재료비+직접노무비+산출경비) * 0.32%
B20: 기타경비 | D20: =제경비적용기준!AH12% -> 0.055 | G20: =TRUNC((직접노무비+간접노무비+재료비)*D20) -> 3504869 | H20: =" (재료비+노무비) * "&D20*100&"%" -> (재료비+노무비) * 5.5%
B21: 소 계 | G21: =SUM(G7:G20) -> 84875259
B22: 일반관리비 | D22: =제경비적용기준!AY12% -> 0.08 | G22: =TRUNC(소계*D22) -> 6790020 | H22: =" (순공사비+간접노무비+기타경비) *"&D22*100&"%" -> (순공사비+간접노무비+기타경비) *8%
B23: 이 윤 | D23: =제경비적용기준!BK12% -> 0.15 | G23: =G24-(일반관리비+소계) -> 10153721 | H23: =" (노무비+경비+일반관리비) * "&D23*100&"%" -> (노무비+경비+일반관리비) * 15%
B24: 소 계 | G24: =TRUNC((((소계-재료비+일반관리비)*D23)+(소계+일반관리비))/1000)*1000 -> 101819000
B25: 품질시험관리비 | D25: 0.1 | H25: =" (시험비총액) * "&D25*100&"%" -> (시험비총액) * 10%
A26: 폐기물 | B26: =IF($A26="","",VLOOKUP($A26,$A$74:$N$429,2,FALSE)) -> 3. 폐기물처리비 | G26: =IF($A26="","",VLOOKUP($A26,$A$74:$N$429,7,FALSE)) -> 2033680 | H26: <분리발주>
B27: 공급가액 | G27: =TRUNC(SUM(G24:G25),-3) -> 101819000 | H27: (천단위 절사)
B28: 부가가치세 | D28: 0.1 | G28: =TRUNC((공급가액*D28),-3) -> 10181000 | H28: =" (공급가액) * "&D28*100&"%" -> (공급가액) * 10%
B29: 도급예정액 | G29: =SUM(G27:G28) -> 112000000
B30: 5. 관급자재대 | G30: =[1]관급내역서!G4 -> 90054000
B31: 총공사비 | G31: =SUM(G29:G30) -> 202054000
A50: 장하 | B50: =IF($A50="","",VLOOKUP($A50,내역서,2,FALSE)) -> 1. 장하지구 수리시설정비사업 | G50: =IF($A50="","",VLOOKUP($A50,내역서,7,FALSE)) -> 64192036 | I50: =IF($A50="","",VLOOKUP($A50,내역서,9,FALSE)) -> 33378796 | K50: =IF($A50="","",VLOOKUP($A50,내역서,11,FALSE)) -> 23970755 | M50: =IF($A50="","",VLOOKUP($A50,내역서,13,FALSE)) -> 6842485
A51: 용배 | B51: =IF($A51="","",VLOOKUP($A51,내역서,2,FALSE)) -> 1.01 용배수로 | G51: =IF($A51="","",VLOOKUP($A51,내역서,7,FALSE)) -> 64192036 | I51: =IF($A51="","",VLOOKUP($A51,내역서,9,FALSE)) -> 33378796 | K51: =IF($A51="","",VLOOKUP($A51,내역서,11,FALSE)) -> 23970755 | M51: =IF($A51="","",VLOOKUP($A51,내역서,13,FALSE)) -> 6842485
B52: =IF($A52="","",VLOOKUP($A52,내역서,2,FALSE)) | G52: =IF($A52="","",VLOOKUP($A52,내역서,7,FALSE)) | I52: =IF($A52="","",VLOOKUP($A52,내역서,9,FALSE)) | K52: =IF($A52="","",VLOOKUP($A52,내역서,11,FALSE)) | M52: =IF($A52="","",VLOOKUP($A52,내역서,13,FALSE))
B53: =IF($A53="","",VLOOKUP($A53,내역서,2,FALSE)) | G53: =IF($A53="","",VLOOKUP($A53,내역서,7,FALSE)) | I53: =IF($A53="","",VLOOKUP($A53,내역서,9,FALSE)) | K53: =IF($A53="","",VLOOKUP($A53,내역서,11,FALSE)) | M53: =IF($A53="","",VLOOKUP($A53,내역서,13,FALSE))
B54: =IF($A54="","",VLOOKUP($A54,내역서,2,FALSE)) | G54: =IF($A54="","",VLOOKUP($A54,내역서,7,FALSE)) | I54: =IF($A54="","",VLOOKUP($A54,내역서,9,FALSE)) | K54: =IF($A54="","",VLOOKUP($A54,내역서,11,FALSE)) | M54: =IF($A54="","",VLOOKUP($A54,내역서,13,FALSE))
B55: =IF($A55="","",VLOOKUP($A55,내역서,2,FALSE)) | G55: =IF($A55="","",VLOOKUP($A55,내역서,7,FALSE)) | I55: =IF($A55="","",VLOOKUP($A55,내역서,9,FALSE)) | K55: =IF($A55="","",VLOOKUP($A55,내역서,11,FALSE)) | M55: =IF($A55="","",VLOOKUP($A55,내역서,13,FALSE))
B56: =IF($A56="","",VLOOKUP($A56,내역서,2,FALSE)) | G56: =IF($A56="","",VLOOKUP($A56,내역서,7,FALSE)) | I56: =IF($A56="","",VLOOKUP($A56,내역서,9,FALSE)) | K56: =IF($A56="","",VLOOKUP($A56,내역서,11,FALSE)) | M56: =IF($A56="","",VLOOKUP($A56,내역서,13,FALSE))
B57: =IF($A57="","",VLOOKUP($A57,내역서,2,FALSE)) | G57: =IF($A57="","",VLOOKUP($A57,내역서,7,FALSE)) | I57: =IF($A57="","",VLOOKUP($A57,내역서,9,FALSE)) | K57: =IF($A57="","",VLOOKUP($A57,내역서,11,FALSE)) | M57: =IF($A57="","",VLOOKUP($A57,내역서,13,FALSE))
A58: 부대 | B58: =IF($A58="","",VLOOKUP($A58,내역서,2,FALSE)) -> 2. 부대공사 | G58: =IF($A58="","",VLOOKUP($A58,내역서,7,FALSE)) -> 2362176 | I58: =IF($A58="","",VLOOKUP($A58,내역서,9,FALSE)) -> 0 | K58: =IF($A58="","",VLOOKUP($A58,내역서,11,FALSE)) -> 0 | M58: =IF($A58="","",VLOOKUP($A58,내역서,13,FALSE)) -> 2362176
...

Sheet 일위목록
A1: =내역서!B1 -> ◈. 사 업 명 : 장하지구 수리시설정비사업
A2: No | B2: 공 종 | C2: 규격 또는 치수 | D2: 수량 | E2: 단위 | F2: 합 계 | G2: 노 무 비 | H2: 재 료 비 | I2: 경 비 | J2: 비고 | K2: 출처 | L2: 날짜
A3: 가설사 | B3: 가설사무실(콘테이너) | C3: (3.0*6.0m,3개월) | D3: 1 | E3: 동 | F3: =SUM(G3:I3) -> 1267439 | G3: 0 | H3: 0 | I3: 1267439 | J3: #.1
A4: 터파기 | B4: 터파기 | C4: (TypeⅠ,중기100%) | D4: 1 | E4: ㎥ | F4: =SUM(G4:I4) -> 1886 | G4: 843 | H4: 620 | I4: 423 | J4: #.2
A5: 잔토처리 | B5: 잔토처리 | C5: (굴착기0.7㎥) | D5: 1 | E5: ㎥ | F5: =SUM(G5:I5) -> 1853 | G5: 1000 | H5: 437 | I5: 416 | J5: #.3
A6: 순성토 | B6: 순성토운반 | C6: (복합중기,L=5.0㎞) | D6: 1 | E6: ㎥ | F6: =SUM(G6:I6) -> 8013 | G6: 3994 | H6: 2554 | I6: 1465 | J6: #.4
A7: 되메움 | B7: 되메우고다짐 | C7: (대형장비) | D7: 1 | E7: ㎥ | F7: =SUM(G7:I7) -> 8869 | G7: 5298 | H7: 1997 | I7: 1574 | J7: #.5
A8: 모래기초 | B8: 모래기초 | D8: 1 | E8: ㎥ | F8: =SUM(G8:I8) -> 48408 | G8: 7914 | H8: 39441 | I8: 1053 | J8: #.6
A9: 거푸집;6;5 | B9: 합판거푸집 | C9: (6회,H=0∼7m) | D9: 1 | E9: ㎡ | F9: =SUM(G9:I9) -> 47242 | G9: 34461 | H9: 12437 | I9: 344 | J9: #.7
A10: 수로관;5050 | B10: 보강수로관부설 | C10: (500*500㎜) | D10: 1 | E10: m | F10: =SUM(G10:I10) -> 22040 | G10: 15291 | H10: 3218 | I10: 3531 | J10: #.8
A11: 수로관;8070 | B11: 보강수로관부설 | C11: (800*700㎜) | D11: 1 | E11: m | F11: =SUM(G11:I11) -> 39555 | G11: 27411 | H11: 5787 | I11: 6357 | J11: #.9
A12: 수로관;1210 | B12: 보강수로관부설 | C12: (1200*1000㎜) | D12: 1 | E12: m | F12: =SUM(G12:I12) -> 62136 | G12: 37828 | H12: 13698 | I12: 10610 | J12: #.10
A13: 건널목암거;5050 | B13: 이형수로관부설 | C13: (500*500㎜) | D13: 1 | E13: m | F13: =SUM(G13:I13) -> 48533 | G13: 40956 | H13: 2665 | I13: 4912 | J13: #.11
A14: 건널목암거;8070 | B14: 이형수로관부설 | C14: (800*700㎜) | D14: 1 | E14: m | F14: =SUM(G14:I14) -> 82313 | G14: 69768 | H14: 4315 | I14: 8230 | J14: #.12
A15: 맨홀15 | B15: 맨홀설치(뚜껑포함) | C15: (1.5*1.5*1.5m) | D15: 1 | E15: EA | F15: =SUM(G15:I15) -> 1925537 | G15: 262440 | H15: 1530788 | I15: 132309 | J15: #.13
A16: 11 | B16: 무근콘크리트헐기 | C16: (t=30㎝미만) | D16: 1 | E16: ㎥ | F16: =SUM(G16:I16) -> 37874 | G16: 21138 | H16: 7407 | I16: 9329 | J16: #.14
A17: 철근헐기;29 | B17: 철근콘크리트헐기 | C17: (t=30㎝미만) | D17: 1 | E17: ㎥ | F17: =SUM(G17:I17) -> 61266 | G17: 42716 | H17: 2359 | I17: 16191 | J17: #.15
A18: 보조기층 | B18: 보조기층포설 | C18: (인력,소규모) | D18: 1 | E18: ㎥ | F18: =SUM(G18:I18) -> 46119 | G18: 11634 | H18: 32866 | I18: 1619 | J18: #.16
A19: 콘크리트포장 | B19: 콘크리트포장 | C19: (A-Type,t=20㎝) | D19: 1 | E19: ㎡ | F19: =SUM(G19:I19) -> 9282 | G19: 2874 | H19: 6322 | I19: 86 | J19: #.17
A20: 급수;150 | B20: 급수관부설 | C20: (Φ150㎜) | D20: 1 | E20: m | F20: =SUM(G20:I20) -> 20925 | G20: 7277 | H20: 13430 | I20: 218 | J20: #.18
A21: 급수개폐기설치 | B21: 급수개폐기설치 | C21: (Φ150㎜) | D21: 1 | E21: 조 | F21: =SUM(G21:I21) -> 208845 | G21: 9945 | H21: 198900 | I21: 0 | J21: #.19
A22: 수천공;500 | B22: 수로관천공및접합 | C22: (H500*Φ150㎜) | D22: 1 | E22: EA | F22: =SUM(G22:I22) -> 24511 | G22: 22413 | H22: 894 | I22: 1204 | J22: #.20
B23: 모르터 | C23: (1:2) | D23: 1 | E23: ㎥ | F23: =SUM(G23:I23) -> 282236 | G23: 113564 | H23: 149078 | I23: 19594 | J23: #.21
A24: 포장절단;콘크리트 | B24: 포장절단 | C24: (콘크리트) | D24: 1 | E24: m | F24: =SUM(G24:I24) -> 2337 | G24: 1521 | H24: 778 | I24: 38 | J24: #.22
A25: 중덤 | B25: 중기운반 | C25: (덤프15.0ton) | D25: 1 | E25: 대 | F25: =SUM(G25:I25) -> 157335 | G25: 0 | H25: 0 | I25: 157335 | J25: #.23
A26: 중트 | B26: 중기운반 | C26: (트레일러20ton) | D26: 1 | E26: 대 | F26: =SUM(G26:I26) -> 151104 | G26: 0 | H26: 0 | I26: 151104 | J26: #.24
A27: 21 | B27: 폐기물처리 | C27: (폐콘크리트) | D27: 1 | E27: ton | F27: =SUM(G27:I27) -> 31142 | G27: 0 | H27: 0 | I27: 31142 | J27: #.25
B28: 폐기물적재 | C28: (굴착기0.7㎥,폐콘크리트) | D28: 1 | E28: ㎥ | F28: =SUM(G28:I28) -> 6731 | G28: 3632 | H28: 1588 | I28: 1511 | J28: #.26
A29: 21a | B29: 폐기물운반 | C29: (L=30㎞이내) | D29: 1 | E29: ton | F29: =SUM(G29:I29) -> 19700 | G29: 0 | H29: 0 | I29: 19700 | J29: #.27
B30: 시멘트운반 | C30: (구역화물) | D30: 1 | E30: ton | F30: =SUM(G30:I30) -> 28816 | G30: 0 | H30: 0 | I30: 28816 | J30: #.28
A31: 보강수로관;소운반;50 | B31: 수로관소운반 | C31: (500*500㎜,덤프2.5ton,L=80m) | D31: 1 | E31: 본 | F31: =SUM(G31:I31) -> 3526 | G31: 0 | H31: 0 | I31: 3526 | J31: #.29
A38: 보강수로관;500500 | B38: 보강수로관 | C38: 500*500*2000㎜ | D38: 1 | E38: 본 | F38: =SUM(G38:I38) -> 125900 | H38: =TRUNC(J38/1.1)+0 -> 114454 | I38: =J38-H38 -> 11446 | J38: 125900 | K38: 23436340㈜주안기업
A39: 보강수로관;12001000 | B39: 보강수로관 | C39: 1200*1000*2000㎜ | D39: 1 | E39: 본 | F39: =SUM(G39:I39) -> 346690 | H39: =TRUNC(J39/1.1)+0 -> 315172 | I39: =J39-H39 -> 31518 | J39: 346690 | K39: 23436345㈜주안기업
A40: 보강수로관;800700 | B40: 보강수로관 | C40: 800*700*2000㎜ | D40: 1 | E40: 본 | F40: =SUM(G40:I40) -> 221000 | H40: =TRUNC(J40/1.1)+0 -> 200909 | I40: =J40-H40 -> 20091 | J40: 221000 | K40: 23436343㈜주안기업
A41: 건널목수로관;800700 | B41: 이형수로관 | C41: 800*700*2000mm | D41: 1 | E41: 본 | F41: =SUM(G41:I41) -> 354010 | H41: =TRUNC(J41/1.1)+0 -> 321827 | I41: =J41-H41 -> 32183 | J41: 354010 | K41: 23437156㈜주안기업
A42: 건널목수로관;500500 | B42: 이형수로관 | C42: 500*500*2000mm | D42: 1 | E42: 본 | F42: =SUM(G42:I42) -> 243380 | H42: =TRUNC(J42/1.1)+0 -> 221254 | I42: =J42-H42 -> 22126 | J42: 243380 | K42: 23437154㈜주안기업
A43: 25-18-80 | B43: 레미콘 | C43: 25-18-80 | D43: 1 | E43: ㎥ | F43: =SUM(G43:I43) -> 0
A44: 25-21-80 | B44: 레미콘 | C44: 25-21-80 | D44: 1 | E44: ㎥ | F44: =SUM(G44:I44) -> 0
A45: 25-24-80 | B45: 레미콘 | C45: 25-24-80 | D45: 1 | E45: ㎥ | F45: =SUM(G45:I45) -> 97900 | H45: =TRUNC(J45/1.1)+0 -> 89000 | I45: =J45-H45 -> 8900 | J45: 97900 | K45: 경인레미콘사업협동조합
A46: 25-24-120 | B46: 레미콘 | C46: 25-24-120 | D46: 1 | E46: ㎥ | F46: =SUM(G46:I46) -> 0
...

Sheet Sheet1
