Workbook
Name PRE: [0]!PRE
Name 간접노무비: 내역서!$G$8
Name 건강보험료: 내역서!$G$11
Name 고용보험료: 내역서!$G$10
Name 공급가액: 내역서!$G$27
Name 관급자재대: 내역서!$G$30
Name 구조물집계: [1]장하지구!$187:$217
Name 구조물헐기Q: [1]장하지구!$R$187
Name 구헐A: [1]수량산출서!$A$103:$A$122
Name 구헐AD: [1]수량산출서!$AD$103:$AD$122
Name 군자1배TA: [1]수량산출서!$A$63:$A$82
Name 군자1배TAD: [1]수량산출서!$AD$63:$AD$82
Name 군자1용TA: [1]수량산출서!$A$83:$A$102
Name 군자1용TAD: [1]수량산출서!$AD$83:$AD$102
Name 군자콘포A: [1]수량산출서!$A$3:$A$22
Name 군자콘포AD: [1]수량산출서!$AD$3:$AD$22
Name 급수Q: [1]장하지구!$R$125
Name 급수관조서: [1]급수관조서!$25:$347
Name 급수관집계: [1]장하지구!$125:$155
Name 기계경비: 내역서!$M$7
Name 기초금액: 내역서!$F$14
Name 기타경비: 내역서!$G$20
Name 내역서: 내역서!$72:$159
Name 도급예정액: 내역서!$G$29
Name 부가가치세: 내역서!$G$28
Name 부대공사집계: [1]부대공!$32:$62
Name 부대공사총집계: [1]부대공!$1:$31
Name 사업관리비: [1]수지예산서!$U$185
Name 산재보험료: 내역서!$G$9
Name 소계: 내역서!$G$21
Name 수로관Q: [1]장하지구!$R$94
Name 수로관조서: [1]수로관조서!$23:$526
Name 수로관집계: [1]장하지구!$94:$124
Name 순공사비: 내역서!$G$7
Name 안전관리비: 내역서!$G$14
Name 연금보험료: 내역서!$G$12
Name 요양보험료: 내역서!$G$13
Name 원가계산창: 제경비적용기준!원가계산창
Name 원가계산창: [0]!원가계산창
Name 이윤: 내역서!$G$23
Name 일반관리비: 내역서!$G$22
Name 자재집계A: [1]자재집계표!$A:$A
Name 자재합계: [1]자재집계표!$R:$R
Name 장하지구총집계: [1]장하지구!$1:$62
Name 재료비: 내역서!$K$7
Name 직접노무비: 내역서!$I$7
Name 진입로Q: [1]장하지구!$R$156
Name 진입로조서: [1]진입로조서!$23:$932
Name 진입로집계: [1]장하지구!$156:$186
Name 총공사비: 내역서!$G$31
Name 토공Q: [1]장하지구!$R$63
Name 토공집계: [1]장하지구!$63:$93
Name 토량환산계수: 0.9
Name 토사자중: 710.185
Name 토적계산: 일위목록!$B$2:$I$54
Name 토적계산서: [1]토적계산서!$23:$143
Name 퇴직공제부금비: 내역서!$G$17
Name 흥부1용TA: [1]수량산출서!$A$23:$A$42
Name 흥부1용TAD: [1]수량산출서!$AD$23:$AD$42
Name 흥부2용TA: [1]수량산출서!$A$43:$A$62

Sheet 제경비적용기준
B1: ※ 적용시기 : 2026.4.13.입찰공고분부터 | AH1: 2026년 토목∙조경∙산업환경설비공사 원가계산 제비율 적용기준
Y2: [간접노무비] | AH2: [기타경비] | AY2: [일반관리비] | BK2: [이윤] | BR2: [건설기계대여금 지급보증액 발급금액] | CZ2: [산업안전보건관리비]
Y4: (직노) x 율 | AH4: (재+노) x 율 | AY4: (재+노+경) x 율 | BK4: (노+경+일) x 율 | BR4: (직접공사비) x 율 | CZ4: □ 도급자관급 미포함 | DL4: (재+직노) x 율
B6: 공사규모 | K6: 공사기간 | Y6: 토목 | AB6: 조경 | AE6: 산업 설비 (토목) | AH6: 토목 | AK6: 조경 | AN6: 산업 설비 (토목) | AQ6: 공사규모 | AY6: 토목, 조경, 산업∙설비 | BE6: 전문 공사
B8: (직접공사비) | AQ8: (추정가격) | BR8: 종합건설업 | CF8: 전문건설업 | CZ8: □ 도급자관급 포함 | DL8: (재+직노+도급자관급) x 율과
DL10: (재+직노) x 율 x 1.2 중에 작은 금액
B12: 10억 미만 | K12: 6개월 이하 (183일) | Y12: 19.1 | AB12: 18.4 | AE12: 19.1 | AH12: 5.5 | AK12: 4.9 | AN12: 5.5 | AQ12: 5억 미만 | AY12: 8 | BE12: 8 | BK12: 15 | BR12: 구분 | CA12: 요율 | CF12: 구분 | CU12: 요율 | CZ12: 안전관리비 대상액 | DL12: 구분 | EA12: 요율 | EI12: 기초액(천원)
K14: 7~12개월 (365일) | Y14: 19.5 | AB14: 18.8 | AE14: 19.5 | AH14: 5.7 | AK14: 5.1 | AN14: 5.7
K16: 13~36개월 (1095일) | Y16: 19.8 | AB16: 19.1 | AE16: 19.8 | AH16: 6.1 | AK16: 5.4 | AN16: 6.1 | BR16: 토목공사(토건) | CA16: 0.4 | CF16: 준설공사, 포장공사 | CU16: 0.68 | CZ16: 5억 미만 | DL16: 건축공사 | EA16: 3.11
K18: 36개월 초과 (1096일) | Y18: 21 | AB18: 20.3 | AE18: 21 | AH18: 6.7 | AK18: 6 | AN18: 6.7 | AQ18: 5억 - 30억 미만 | BE18: 6.5 | CF18: 토공사, 비계구조물해제공사 | DL18: 토목공사 | EA18: 3.15
B20: 10억 - 500억 미만 | K20: 6개월 이하 (183일) | Y20: 18.9 | AB20: 18.3 | AE20: 18.9 | AH20: 5.8 | AK20: 5.1 | AN20: 5.8 | BR20: 산업∙설비공사 | CA20: 0.16 | CF20: 상하수도설비공사, 수중공사 | CU20: 0.51 | DL20: 중건설공사 | EA20: 3.64
K22: 7~12개월 (365일) | Y22: 19.3 | AB22: 18.7 | AE22: 19.3 | AH22: 5.9 | AK22: 5.3 | AN22: 5.9 | AQ22: 30억 - 50억 미만 | BE22: 5 | CF22: 보링그라우팅공사
K24: 13~36개월 (1095일) | Y24: 19.6 | AB24: 19 | AE24: 19.6 | AH24: 6.3 | AK24: 5.6 | AN24: 6.3 | BR24: 조경공사 | CA24: 0.18 | CF24: 석공사, 시설물유지관리공사 | CU24: 0.32 | DL24: 특수건설공사 | EA24: 2.07
K26: 36개월 초과 (1096일) | Y26: 20.8 | AB26: 20.2 | AE26: 20.8 | AH26: 6.9 | AK26: 6.3 | AN26: 6.9 | AQ26: 50억 - 100억 미만 | AY26: 6.5 | BK26: 12 | CF26: 철근콘크리트공사 | CZ26: 5억 - 50억 미만 | DL26: 건축공사 | EA26: 2.28 | EI26: 4325
B28: 50억 - 300억 미만 | K28: 6개월 이하 (183일) | Y28: 19 | AB28: 18.4 | AE28: 19 | AH28: 6.4 | AK28: 5.8 | AN28: 6.4 | CF28: 조경시설물설치, 조경식재공사 | CU28: 0.16 | DL28: 토목공사 | EA28: 2.53 | EI28: 3300
K30: 7~12개월 (365일) | Y30: 19.4 | AB30: 18.8 | AE30: 19.4 | AH30: 6.6 | AK30: 5.9 | AN30: 6.6 | AQ30: 100억 - 300억 미만 | BE30: 4.5 | CF30: 도장공사, 철도궤도공사 | DL30: 중건설공사 | EA30: 3.05 | EI30: 2975
K32: 13~36개월 (1095일) | Y32: 19.7 | AB32: 19.1 | AE32: 19.7 | AH32: 6.9 | AK32: 6.3 | AN32: 6.9 | CF32: 철강재설치공사
K34: 36개월 초과 (1096일) | Y34: 20.9 | AB34: 20.3 | AE34: 20.9 | AH34: 7.6 | AK34: 6.9 | AN34: 7.6 | AQ34: 300억 - 1000억 미만 | AY34: 5 | BK34: 10 | CF34: 그 외 | CU34: 0.1 | DL34: 특수건설공사 | EA34: 1.59 | EI34: 2450
B36: 300억 - 1000억 미만 | K36: 6개월 이하 (183일) | Y36: 19.1 | AB36: 18.4 | AE36: 19.1 | AH36: 6.6 | AK36: 6 | AN36: 6.6 | CZ36: 50억 이상-800억* 미만 건설공사 * 추정금액(주공종이 토목공사는 1,000억) | DL36: 건축공사 | EA36: 2.37
K38: 7~12개월 (365일) | Y38: 19.5 | AB38: 18.8 | AE38: 19.5 | AH38: 6.8 | AK38: 6.1 | AN38: 6.8 | AQ38: 1000억 이상 | AY38: 4.5 | BK38: 9 | BR38: * 적용제외: 문화재수리공사 | DL38: 토목공사 | EA38: 2.6
K40: 13~36개월 (1095일) | Y40: 19.8 | AB40: 19.1 | AE40: 19.8 | AH40: 7.2 | AK40: 6.5 | AN40: 7.2 | BR40: ※ 건설기계대여금 지급보증서 발급금액 및 업종별 건설기계 | DL40: 중건설공사 | EA40: 3.11
K42: 36개월 초과 (1096일) | Y42: 21 | AB42: 20.3 | AE42: 21 | AH42: 7.8 | AK42: 7.1 | AN42: 7.8 | BR42: 투입비율 산정기준(국토부 고시 제2019-286호, 2019.6.19.)
B44: * 기타경비항목: 수도광열비, 복리후생비, 소모품비 및 사무용품비, 여비∙교통∙통신비, 세금과공과, 도서인쇄비 | DL44: 특수건설공사 | EA44: 1.64
B46: □ 산업∙설비(토목) 해당공종: 수처리시설(오폐수, 하수처리, 분뇨처리, 정수장) 등 . | CZ46: 추정금액 800억(주공종 토목은 1,000억) 이상 건설공사 | DL46: 건축공사 | EA46: 2.64
B48: [산재보험료] | AQ48: [환경보전비] | BR48: [건설하도급대금지급보증서발급수수료] | DL48: 토목공사 | EA48: 2.73
A50: 3.56 | B50: =" (노) x "&A50 -> (노) x 3.56 | AQ50: (직접공사비) x 율 | BR50: (직접공사비) x 율 | DL50: 중건설공사 | EA50: 3.39
B52: * 모든 건설공사 적용 노동부 고시 제2019-73호(2019.12.27.), 산업재해보상보험법시행령 | AQ52: 구분 | BM52: 요율 | BR52: 공사규모(추정가격) | CS52: 요율
B54: ※ 사회보험의 보험료 적용기준 (국토부 고시 제2018-462호, 2018.7.26.) | AQ54: 도로(교량, 터널, 활주로) | BM54: 0.9 | BR54: 50억 미만 | CS54: 0.081 | DL54: 특수건설공사 | EA54: 1.78
B56: [고용보험료] | AQ56: 플랜트(발전소, 쓰레기소각장) | BM56: 0.4 | CZ56: * 건설업의 분류
BR57: 50억 이상 - 100억 미만 | CS57: 0.08
B58: (노) x 율 | AQ58: 지하철 | BM58: 0.5
CZ59: - 일반건설공사(갑): 건축건설, 교량건설, 도로신설, 철도∙궤도의 보수복구, 기설로면에
B60: 공사배정규모(추정금액) | AD60: 요율 | AQ60: 철도 | BM60: 1.5 | BR60: 100억 이상 - 300억 미만 | CS60: 0.075
B62: [1등급] 1700억 이상 | AD62: 1.57 | AQ62: 상하수도(폐수, 하수처리장, 정수장) | BM62: 0.5 | CZ62: 레일만 부설하는 공사, 지하 10m 이내 복개식 지하도, 지하철도, 지하상가, 통신선로
BR63: 300억 이상 종심∙종평제(토목 및 산업설비) | CS63: 0.071
B64: [2등급] 1700억 미만 ~ 950억 이상 | AD64: 1.3 | AQ64: 항만 | BM64: 0.8
CZ65: 등 인입통신구 신설공사, 기타건설공사(다른 것에 분류하지 아니한 건설공사)
B66: [3등급] 950억 미만 ~ 550억 이상 | AD66: 1.13 | AQ66: 오탁 또는 준설토 방지막 미설치 | BM66: 1.8 | BR66: 300억 이상 종심∙종평제(건축) | CS66: 0.068
B68: [4등급] 550억 미만 ~ 400억 이상 | AD68: 1.06 | AQ68: 댐 | BM68: 1.1 | CZ68: - 일반건설공사(을): 기계장치공사, 삭도건설공사, 공해방지시설 및 폐수처리시설 공사
BR69: 턴키∙대안공사 | CS69: 0.084
B70: [5등급] 400억 미만 ~ 220억 이상 | AD70: 1.03 | AQ70: 택지개발 | BM70: 0.6
CZ71: - 중건설공사: 높이 20m 이상의 고제방(댐) 등 신설공사, 방파제 신설공사, 안벽공사
B72: [6등급] 220억 미만 ~ 140억 이상 | AD72: 1.02 | AQ72: 주택(재개발, 재건축) | BM72: 0.7 | BR72: * 적용제외: 전문공사, 문화재수리공사
B74: [7등급] 140억 미만 ~ 78억(고시금액) 이상 | AD74: 1.01 | AQ74: 주택(신축) | BM74: 0.3 | BR74: ※ 하도급대금 지급보증서 발급금액 적용기준 | CZ74: 수력발전시설 신설공사, 터널신설공사, 굴착식 지하철도∙지하도 신설공사
B76: 7등급 미만 | AQ76: 주택 외 건축 | BM76: 0.5 | BR76: (국토부 고시 제2016-921호, 2016.12.19.)
CZ77: 지하 10m 이상 복개식 지하철도,지하도,지하상가, 통신선로 등 인입통신구 신설
B78: * 모든 건설공사에 적용 국토부 고시 제2018-462호(2018.7.26.), 고용보험법 시행령 | AQ78: 조경 | BM78: 0.3 | BR78: [공사이행보증수수료]
B80: * 총공사금액[(도급+관급)에서 부가세 제외] 2천만원 미만의 건설공사를 건설업자가 아닌 자가 시공 시 미적용 | AQ80: 기타토목(하천등) | BM80: 0.8 | BR80: 추정가격 300억 이상인 공사, 대형공사(대안입찰 또는 일괄입찰, 특정공사의 계약), 기술제안입찰 등에 의한 계약 | CZ80: - 철도 또는 궤도신설공사: 철도, 궤도시설(기설노반 또는 구조물에 한함) 및 그에 따른
B82: ※ 등급기준: 조달청 등급별 유자격자 명부 등록 및 운용기준(조달청 공고 제2018-146호, 2018.12.27.) | AQ82: * 적용제외: 전기공사, 정보통신공사, 소방시설공사,
CZ83: 역사, 과선교, 송전선로
B84: ※ 사회보험의 보험료 적용기준 (국토부 고시 제2018-462호, 2018.7.26.) | AQ84: 문화재 수리공사 | BR84: 공사규모(직접공사비) | CC84: 수수료
B86: [건강보험료] | P86: [연금보험료] | AD86: [노인장기요양보험료] | AQ86: . (직접공사비) 환경오염방지시설 설치∙운영∙철거에 | BR86: 250억 미만 | CC86: [4백만원+(직공비-140억)x0.0193%]x공기(년) | CZ86: - 특수 및 기타건설공사(단독발주에 한함): 준설공사, 조경공사(전문포함), 택지조성
A88: 3.595 | B88: ="(직노) x "&A88 -> (직노) x 3.595 | P88: ="(직노) x "&A89 -> (직노) x 4.75 | AD88: ="(건강보험료) x "&A90 -> (건강보험료) x 13.14 | AQ88: 직접 소요되는 비용을 계상하고 표준시장단가,
A89: 4.75 | BR89: 250억 이상 - 500억 미만 | CC89: [6백만원+(직공비-250억)x0.0159%]x공기(년) | CZ89: (경지정리포함), 포장공사, 전기공사, 정보통신공사
A90: 13.14 | B90: * 공사기간 1개월(30일) 이상인 모든 건설공사 | AQ90: 표준품셈 등에 의해 산출
B92: ※ 사회보험의 보험료 적용기준 (국토부 고시 제2018-462호, 2018.7.26.) | AQ92: . (간접공사비) 시험검사비, 점검비, 교육훈련비 등 | BR92: 500억 미만 | CC92: [10백만원+(직공비-500억)x0.0126%]x공기(년) | CZ92: [타공사와 병행하는 경우: 일반건설(갑) 적용]
B94: [퇴직공제부금비] | AQ94: 설계 시 산출이 곤란한 금액을 반영하고, 직접
BR95: ※ 국가계약법 시행령 제52조제1항, 시행령 제6장 및 제8장에 따른 공사계약 | CZ95: ※ 건설업 산업안전보건관리비 계상 및 사용기준 (노동부 고시 제2019-64호, 2019..12.13.)
A96: 2.3 | B96: ="(직노) x "&A96 -> (직노) x 2.3 | AQ96: 공사비에 최저요율을 적용한 금액 이상을 계상
B98: * 추정금액이 3억 이상인 건설공사 | AQ98: ※ 환경관리비의 산출기준 및 관리에 관한 지침 | BR98: □ 전기∙통신∙소방∙전문 및 기타공사의 경우 일반관리비요율을 제외한 각종 요율은 토목, 건축 등 관련 공사업종에 따라 적용
B100: ※ 국토부 고시 제2015-610호(2015.8.20.) 요율 적용 | AQ100: (국토부 고시 제2018-528호, 2018.8.30.) | BR100: (단. 공사규모 및 기간은 해당공종<전기∙통신∙소방∙전문 및 기타공사>을 기준으로 함)

Sheet 총 괄
A1: 일 금 : | C1: =H32 -> 112138000 | F1: 원
A2: 공 종 별 | H2: 계 | I2: 평야부 | J2: 부대공사 | P2: 폐기물처리 | T2: 비고
A3: 순 공 사 비 | B3: 노무비 | C3: 직 접 노 무 비 | H3: =SUM(I3:P3) -> 33378796 | I3: ='평 야 부'!H3 -> 33378796 | J3: ='부 대 공 사'!I3 -> 0
C4: 간 접 노 무 비 | E4: ( | F4: =내역서!D8 -> 0.191 | G4: ) | H4: =SUM(I4:P4) -> 6375350 | I4: ='평 야 부'!H4 -> 6375350 | J4: ='부 대 공 사'!I4 -> 0 | T4: 직접노무비×율
C5: 소 계 | H5: =SUM(I5:P5) -> 39754146 | I5: ='평 야 부'!H5 -> 39754146 | J5: ='부 대 공 사'!I5 -> 0
B6: 재료비 | C6: 직 접 재 료 비 | H6: =SUM(I6:P6) -> 23970755 | I6: ='평 야 부'!H6 -> 23970755 | J6: ='부 대 공 사'!I6 -> 0
C7: 간 접 재 료 비 | H7: =SUM(I7:P7) -> 0 | I7: ='평 야 부'!H7 -> 0 | J7: ='부 대 공 사'!I7 -> 0
C8: 소 계 | H8: =SUM(I8:P8) -> 23970755 | I8: ='평 야 부'!H8 -> 23970755 | J8: ='부 대 공 사'!I8 -> 0
B9: 경 비 | C9: 경 비 | H9: =SUM(I9:P9) -> 9204661 | I9: ='평 야 부'!H9 -> 6842485 | J9: ='부 대 공 사'!I9 -> 2362176
C10: 산 재 보 험 료 | E10: ( | F10: =내역서!D9 -> 0.0356 | G10: ) | H10: =SUM(I10:P10) -> 1415247 | I10: ='평 야 부'!H10 -> 1415247 | J10: ='부 대 공 사'!I10 -> 0 | T10: 노무비×율
C11: 고 용 보 험 료 | E11: ( | F11: =내역서!D10 -> 0.0101 | G11: ) | H11: =SUM(I11:P11) -> 401516 | I11: ='평 야 부'!H11 -> 401516 | J11: ='부 대 공 사'!I11 -> 0 | T11: 노무비×율
C12: 관리비 안 전 | D12: 기 초 액 | H12: =SUM(I12:P12) -> 0 | I12: ='평 야 부'!H12 -> 0 | J12: ='부 대 공 사'!I12 -> 0
D13: 안전관리비*1.2 | E13: ( | F13: =내역서!D14 -> 0.0315 | G13: ) | H13: =SUM(I13:P13) -> 2167813 | I13: ='평 야 부'!H13 -> 2167813 | J13: ='부 대 공 사'!I13 -> 0 | T13: (재료비+직접노무비)×율×1.2
D14: 소 계 | H14: =SUM(I14:P14) -> 2167813 | I14: ='평 야 부'!H14 -> 2167813 | J14: ='부 대 공 사'!I14 -> 0
C15: 환경보전비 | E15: ( | F15: =내역서!D16 -> 0.008 | G15: ) | H15: =SUM(I15:P15) -> 532433 | I15: ='평 야 부'!H15 -> 513536 | J15: ='부 대 공 사'!I15 -> 18897 | T15: (재료비+직접노무비+산출경비)×율
C16: 퇴직공제부금비 | E16: ( | G16: ) | H16: =SUM(I16:P16) -> 0 | I16: ='평 야 부'!H16 -> 0 | J16: ='부 대 공 사'!I16 -> 0 | T16: 직접노무비×율
C17: 국민건강보험료 | E17: ( | F17: =내역서!D11 -> 0.03595 | G17: ) | H17: =SUM(I17:P17) -> 1199967 | I17: ='평 야 부'!H17 -> 1199967 | J17: ='부 대 공 사'!I17 -> 0 | T17: 직접노무비×율
C18: 노인장기요양보험 | E18: ( | F18: =내역서!D13 -> 0.1314 | G18: ) | H18: =SUM(I18:P18) -> 157675 | I18: ='평 야 부'!H18 -> 157675 | J18: ='부 대 공 사'!I18 -> 0 | T18: 건강보험료×율
C19: 국민연금보험료 | E19: ( | F19: =내역서!D12 -> 0.0475 | G19: ) | H19: =SUM(I19:P19) -> 1585492 | I19: ='평 야 부'!H19 -> 1585492 | J19: ='부 대 공 사'!I19 -> 0 | T19: 직접노무비×율
C20: 건설하도급수수료 | E20: ( | F20: =내역서!D18 -> 0 | G20: ) | H20: =SUM(I20:P20) -> 0 | I20: ='평 야 부'!H20 -> 0 | J20: ='부 대 공 사'!I20 -> 0 | T20: (재료비+직접노무비+산출경비)×율
C21: 건설기계대여대금 지급보증서발급금액 | E21: ( | F21: =내역서!D19 -> 0.0032 | G21: ) | H21: =SUM(I21:P21) -> 212972 | I21: ='평 야 부'!H21 -> 205414 | J21: ='부 대 공 사'!I21 -> 7558 | T21: (재료비+직접노무비+산출경비)×율
C22: 기 타 경 비 | E22: ( | F22: =내역서!D20 -> 0.055 | G22: ) | H22: =SUM(I22:P22) -> 3504869 | I22: ='평 야 부'!H22 -> 3504869 | J22: ='부 대 공 사'!I22 -> 0 | T22: (재료비+노무비)×율
C23: 석면분담금 | E23: ( | F23: 6e-05 | G23: ) | H23: =SUM(I23:P23) -> 2385 | I23: ='평 야 부'!H23 -> 2385 | J23: ='부 대 공 사'!I23 -> 0
C24: 임금채권부담금 | E24: ( | F24: 0.0009 | G24: ) | H24: =SUM(I24:P24) -> 35778 | I24: ='평 야 부'!H24 -> 35778 | J24: ='부 대 공 사'!I24 -> 0
C25: 소계 | H25: =SUM(I25:P25) -> 20420808 | I25: ='평 야 부'!H25 -> 18032177 | J25: ='부 대 공 사'!I25 -> 2388631
A26: 순 공 사 비 | H26: =SUM(I26:P26) -> 84145709 | I26: ='평 야 부'!H26 -> 81757078 | J26: ='부 대 공 사'!I26 -> 2388631
A27: 일 반 관 리 비 | E27: ( | F27: =내역서!D22 -> 0.08 | G27: ) | H27: =SUM(I27:P27) -> 6731656 | I27: ='평 야 부'!H27 -> 6540566 | J27: ='부 대 공 사'!I27 -> 191090 | T27: (재료비+노무비+경비)×율
A28: 이 윤 | E28: ( | F28: =내역서!D23 -> 0.15 | G28: ) | H28: =SUM(I28:P28) -> 9035991 | I28: ='평 야 부'!H28 -> 8649033 | J28: ='부 대 공 사'!I28 -> 386958 | T28: (노무비+경비+일반관리비)×율
A29: 총 원 가 | H29: =SUM(I29:P29) -> 99913356 | I29: ='평 야 부'!H29 -> 96946677 | J29: ='부 대 공 사'!I29 -> 2966679
A30: 폐기물처리비 | E30: ( | F30: 0 | G30: ) | H30: =SUM(I30:P30) -> 2033680 | I30: ='평 야 부'!H30 -> 0 | J30: ='부 대 공 사'!I30 -> 0 | P30: ='폐 기 물 처 리'!H30 -> 2033680
A31: 부 가 가 치 세 | E31: ( | F31: =내역서!D28 -> 0.1 | G31: ) | H31: =SUM(I31:P31) -> 10193000 | I31: ='평 야 부'!H31 -> 9694000 | J31: ='부 대 공 사'!I31 -> 296000 | P31: ='폐 기 물 처 리'!H31 -> 203000
A32: 도 급 예 정 금 액 | H32: =SUM(I32:P32) -> 112138000 | I32: ='평 야 부'!H32 -> 106640000 | J32: ='부 대 공 사'!I32 -> 3262000 | P32: ='폐 기 물 처 리'!H32 -> 2236000

Sheet 평 야 부
A1: [평야부] | C1: =H32 -> 106640000 | I1: 0
A2: 공 종 별 | H2: 계 | I2: 평야부 | N2: 비고
A3: 순 공 사 비 | B3: 노무비 | C3: 직 접 노 무 비 | H3: =SUM(I3:L3) -> 33378796 | I3: =내역서!I4 -> 33378796
C4: 간 접 노 무 비 | E4: ( | F4: ='총 괄'!F4 -> 0.191 | G4: ) | H4: =SUM(I4:L4) -> 6375350 | I4: =INT(I3*$F$4) -> 6375350 | N4: 직접노무비×율
C5: 소 계 | H5: =SUM(I5:L5) -> 39754146 | I5: =I3+I4 -> 39754146
B6: 재료비 | C6: 직 접 재 료 비 | H6: =SUM(I6:L6) -> 23970755 | I6: =내역서!K4 -> 23970755
C7: 간 접 재 료 비 | H7: =SUM(I7:L7) -> 0
C8: 소 계 | H8: =SUM(I8:L8) -> 23970755 | I8: =I6+I7 -> 23970755
B9: 경 비 | C9: 경 비 | H9: =SUM(I9:L9) -> 6842485 | I9: =내역서!M4 -> 6842485
C10: 산 재 보 험 료 | E10: ( | F10: ='총 괄'!F10 -> 0.0356 | G10: ) | H10: =SUM(I10:L10) -> 1415247 | I10: =INT(I5*$F$10) -> 1415247 | N10: 노무비×율
C11: 고 용 보 험 료 | E11: ( | F11: ='총 괄'!F11 -> 0.0101 | G11: ) | H11: =SUM(I11:L11) -> 401516 | I11: =INT(I5*$F$11) -> 401516 | N11: 노무비×율
C12: 관리비 안 전 | D12: 기 초 액 | H12: =SUM(I12:L12) -> 0
D13: 안전관리비*1.2 | E13: ( | F13: ='총 괄'!F13 -> 0.0315 | G13: ) | H13: =SUM(I13:L13) -> 2167813 | I13: =INT((I3+I8)*$F$13*1.2) -> 2167813 | N13: (재료비+직접노무비)×율×1.2
D14: 소 계 | H14: =SUM(I14:L14) -> 2167813 | I14: =SUM(I12:I13) -> 2167813
C15: 환경보전비 | E15: ( | F15: ='총 괄'!F15 -> 0.008 | G15: ) | H15: =SUM(I15:L15) -> 513536 | I15: =INT((I3+I6+I9)*$F$15) -> 513536 | N15: (재료비+직접노무비+산출경비)×율
C16: 퇴직공제부금비 | E16: ( | F16: ='총 괄'!F16 -> 0 | G16: ) | H16: =SUM(I16:L16) -> 0 | I16: =INT(I3*$F$16) -> 0 | N16: 직접노무비×율
C17: 국민건강보험료 | E17: ( | F17: ='총 괄'!F17 -> 0.03595 | G17: ) | H17: =SUM(I17:L17) -> 1199967 | I17: =INT(I3*$F$17) -> 1199967 | N17: 직접노무비×율
C18: 노인장기요양보험 | E18: ( | F18: ='총 괄'!F18 -> 0.1314 | G18: ) | H18: =SUM(I18:L18) -> 157675 | I18: =INT(I17*$F$18) -> 157675 | N18: 건강보험료×율
C19: 국민연금보험료 | E19: ( | F19: ='총 괄'!F19 -> 0.0475 | G19: ) | H19: =SUM(I19:L19) -> 1585492 | I19: =INT(I3*$F$19) -> 1585492 | N19: 직접노무비×율
C20: 건설하도급수수료 | E20: ( | G20: ) | H20: =SUM(I20:L20) -> 0 | I20: =INT((I3+I6+I9)*$F$20) -> 0 | N20: (재료비+직접노무비+산출경비)×율
C21: 건설기계대여대금 지급보증서발급금액 | E21: ( | F21: ='총 괄'!F21 -> 0.0032 | G21: ) | H21: =SUM(I21:L21) -> 205414 | I21: =INT((I3+I6+I9)*$F$21) -> 205414 | N21: (재료비+직접노무비+산출경비)×율
C22: 기 타 경 비 | E22: ( | F22: ='총 괄'!F22 -> 0.055 | G22: ) | H22: =SUM(I22:L22) -> 3504869 | I22: =INT((I5+I8)*$F$22)+0 -> 3504869 | N22: (재료비+노무비)×율
C23: 석면분담금 | E23: ( | F23: ='총 괄'!F23 -> 6e-05 | G23: ) | H23: =SUM(I23:L23) -> 2385 | I23: =INT((I5)*F23) -> 2385
C24: 임금채권부담금 | E24: ( | F24: ='총 괄'!F24 -> 0.0009 | G24: ) | H24: =SUM(I24:L24) -> 35778 | I24: =INT((I5)*F24) -> 35778
C25: 소계 | H25: =SUM(I25:L25) -> 18032177 | I25: =SUM(I9:I24)-I14 -> 18032177
A26: 순 공 사 비 | H26: =SUM(I26:L26) -> 81757078 | I26: =I5+I8+I25 -> 81757078
A27: 일 반 관 리 비 | E27: ( | F27: ='총 괄'!F27 -> 0.08 | G27: ) | H27: =SUM(I27:L27) -> 6540566 | I27: =INT(I26*$F$27) -> 6540566 | N27: (재료비+노무비+경비)×율
A28: 이 윤 | E28: ( | F28: ='총 괄'!F28 -> 0.15 | G28: ) | H28: =SUM(I28:L28) -> 8649033 | I28: =TRUNC((I5+I25+I27)*F28)-1000000 -> 8649033 | N28: (노무비+경비+일반관리비)×율
A29: 총 원 가 | H29: =SUM(I29:L29) -> 96946677 | I29: =SUM(I26:I28) -> 96946677
A30: 폐기물처리비 | E30: ( | G30: ) | H30: =SUM(I30:L30) -> 0
A31: 부 가 가 치 세 | E31: ( | F31: ='총 괄'!F31 -> 0.1 | G31: ) | H31: =SUM(I31:L31) -> 9694000 | I31: =TRUNC(I29*$F$31,-3)+0 -> 9694000
A32: 도 급 예 정 금 액 | H32: =SUM(I32:L32) -> 106640000 | I32: =TRUNC(SUM(I29:I31),-3) -> 106640000
H35: =SUM(I35:L35) -> 0

Sheet 부 대 공 사
A1: 일 금 : | C1: =H32 -> 3262000 | F1: 원 | I1: 0
A2: 공 종 별 | H2: 계 | I2: 부대공사 | R2: 비고
A3: 순 공 사 비 | B3: 노무비 | C3: 직 접 노 무 비 | H3: =SUM(I3:Q3) -> 0 | I3: =내역서!I58 -> 0
C4: 간 접 노 무 비 | E4: ( | F4: ='총 괄'!F4 -> 0.191 | G4: ) | H4: =SUM(I4:Q4) -> 0 | I4: =INT(I3*$F$4) -> 0 | R4: 직접노무비×율
C5: 소 계 | H5: =SUM(I5:Q5) -> 0 | I5: =I3+I4 -> 0
B6: 재료비 | C6: 직 접 재 료 비 | H6: =SUM(I6:Q6) -> 0 | I6: =내역서!K58 -> 0
C7: 간 접 재 료 비 | H7: =SUM(I7:Q7) -> 0 | I7: 0
C8: 소 계 | H8: =SUM(I8:Q8) -> 0 | I8: =I6+I7 -> 0
B9: 경 비 | C9: 경 비 | H9: =SUM(I9:Q9) -> 2362176 | I9: =내역서!M58 -> 2362176
C10: 산 재 보 험 료 | E10: ( | F10: ='총 괄'!F10 -> 0.0356 | G10: ) | H10: =SUM(I10:Q10) -> 0 | I10: =INT(I5*$F$10) -> 0 | R10: 노무비×율
C11: 고 용 보 험 료 | E11: ( | F11: ='총 괄'!F11 -> 0.0101 | G11: ) | H11: =SUM(I11:Q11) -> 0 | I11: =INT(I5*$F$11) -> 0 | R11: 노무비×율
C12: 관리비 안 전 | D12: 기 초 액 | H12: =SUM(I12:Q12) -> 0
D13: 안전관리비*1.2 | E13: ( | F13: ='총 괄'!F13 -> 0.0315 | G13: ) | H13: =SUM(I13:Q13) -> 0 | I13: =INT((I3+I8)*$F$13*1.2) -> 0 | R13: (재료비+직접노무비)×율×1.2
D14: 소 계 | H14: =SUM(I14:Q14) -> 0 | I14: =SUM(I12:I13) -> 0
C15: 환경보전비 | E15: ( | F15: ='총 괄'!F15 -> 0.008 | G15: ) | H15: =SUM(I15:Q15) -> 18897 | I15: =INT((I3+I6+I9)*$F$15) -> 18897 | R15: (재료비+직접노무비+산출경비)×율
C16: 퇴직공제부금비 | E16: ( | F16: ='총 괄'!F16 -> 0 | G16: ) | H16: =SUM(I16:Q16) -> 0 | I16: =INT(I1*$F$16) -> 0 | R16: 직접노무비×율
C17: 국민건강보험료 | E17: ( | F17: ='총 괄'!F17 -> 0.03595 | G17: ) | H17: =SUM(I17:Q17) -> 0 | I17: =INT(I3*$F$17) -> 0 | R17: 직접노무비×율
C18: 노인장기요양보험 | E18: ( | F18: ='총 괄'!F18 -> 0.1314 | G18: ) | H18: =SUM(I18:Q18) -> 0 | I18: =INT(I17*$F$18) -> 0 | R18: 건강보험료×율
C19: 국민연금보험료 | E19: ( | F19: ='총 괄'!F19 -> 0.0475 | G19: ) | H19: =SUM(I19:Q19) -> 0 | I19: =INT(I3*$F$19) -> 0 | R19: 직접노무비×율
C20: 건설하도급수수료 | E20: ( | F20: ='총 괄'!F20 -> 0 | G20: ) | H20: =SUM(I20:Q20) -> 0 | I20: =INT((I3+I6+I9)*$F$20) -> 0 | R20: (재료비+직접노무비+산출경비)×율
C21: 건설기계대여대금 지급보증서발급금액 | E21: ( | F21: ='총 괄'!F21 -> 0.0032 | G21: ) | H21: =SUM(I21:Q21) -> 7558 | I21: =INT((I3+I6+I9)*$F$21) -> 7558 | R21: (재료비+직접노무비+산출경비)×율
C22: 기 타 경 비 | E22: ( | F22: ='총 괄'!F22 -> 0.055 | G22: ) | H22: =SUM(I22:Q22) -> 0 | I22: =INT((I5+I8)*$F$22)+0 -> 0 | R22: (재료비+노무비)×율
C23: 석면분담금 | E23: ( | F23: ='총 괄'!F23 -> 6e-05 | G23: ) | H23: =SUM(I23:Q23) -> 0 | I23: =INT((I5)*F23) -> 0
C24: 임금채권부담금 | E24: ( | F24: ='총 괄'!F24 -> 0.0009 | G24: ) | H24: =SUM(I24:Q24) -> 0 | I24: =INT((I5)*F24) -> 0
C25: 소계 | H25: =SUM(I25:Q25) -> 2388631 | I25: =SUM(I9:I24)-I14 -> 2388631
A26: 순 공 사 비 | H26: =SUM(I26:Q26) -> 2388631 | I26: =I5+I8+I25 -> 2388631
A27: 일 반 관 리 비 | E27: ( | F27: ='총 괄'!F27 -> 0.08 | G27: ) | H27: =SUM(I27:Q27) -> 191090 | I27: =INT(I26*$F$27) -> 191090 | R27: (재료비+노무비+경비)×율
A28: 이 윤 | E28: ( | F28: ='총 괄'!F28 -> 0.15 | G28: ) | H28: =SUM(I28:Q28) -> 386958 | I28: =TRUNC((I5+I25+I27)*F28) -> 386958 | R28: (노무비+경비+일반관리비)×율
A29: 총 원 가 | H29: =SUM(I29:Q29) -> 2966679 | I29: =SUM(I26:I28) -> 2966679
A30: 폐기물처리비 | E30: ( | F30: ='총 괄'!F30 -> 0 | G30: ) | H30: =SUM(I30:Q30) -> 0
A31: 부 가 가 치 세 | E31: ( | F31: ='총 괄'!F31 -> 0.1 | G31: ) | H31: =SUM(I31:Q31) -> 296000 | I31: =TRUNC(I29*$F$31,-3)+0 -> 296000
A32: 도 급 예 정 금 액 | H32: =SUM(I32:Q32) -> 3262000 | I32: =TRUNC(SUM(I29:I31),-3) -> 3262000

Sheet 폐 기 물 처 리
A1: 일 금 : | C1: =H32 -> 2236000 | F1: 원 | I1: 0
A2: 공 종 별 | H2: 계 | I2: 폐기물처리 | R2: 비고
A3: 순 공 사 비 | B3: 노무비 | C3: 직 접 노 무 비 | H3: =SUM(I3:Q3) -> 0
C4: 간 접 노 무 비 | E4: ( | F4: ='총 괄'!F4 -> 0.191 | G4: ) | H4: =SUM(I4:Q4) -> 0 | I4: =INT(I3*$F$4) -> 0
C5: 소 계 | H5: =SUM(I5:Q5) -> 0 | I5: =I3+I4 -> 0
B6: 재료비 | C6: 직 접 재 료 비 | H6: =SUM(I6:Q6) -> 0
C7: 간 접 재 료 비 | H7: =SUM(I7:Q7) -> 0 | I7: 0
C8: 소 계 | H8: =SUM(I8:Q8) -> 0 | I8: =I6+I7 -> 0
B9: 경 비 | C9: 경 비 | H9: =SUM(I9:Q9) -> 0
C10: 산 재 보 험 료 | E10: ( | F10: ='총 괄'!F10 -> 0.0356 | G10: ) | H10: =SUM(I10:Q10) -> 0 | I10: =INT(I5*$F$10) -> 0
C11: 고 용 보 험 료 | E11: ( | F11: ='총 괄'!F11 -> 0.0101 | G11: ) | H11: =SUM(I11:Q11) -> 0 | I11: =INT(I5*$F$11) -> 0
C12: 관리비 안 전 | D12: 기 초 액 | H12: =SUM(I12:Q12) -> 0
D13: 안전관리비*1.2 | E13: ( | F13: ='총 괄'!F13 -> 0.0315 | G13: ) | H13: =SUM(I13:Q13) -> 0 | I13: =INT((I3+I8)*$F$13*1.2) -> 0
D14: 소 계 | H14: =SUM(I14:Q14) -> 0 | I14: =SUM(I12:I13) -> 0
C15: 환경보전비 | E15: ( | F15: ='총 괄'!F15 -> 0.008 | G15: ) | H15: =SUM(I15:Q15) -> 0 | I15: =INT((I3+I6+I9)*$F$15) -> 0
C16: 퇴직공제부금비 | E16: ( | F16: ='총 괄'!F16 -> 0 | G16: ) | H16: =SUM(I16:Q16) -> 0 | I16: =INT(I1*$F$16) -> 0
C17: 국민건강보험료 | E17: ( | F17: ='총 괄'!F17 -> 0.03595 | G17: ) | H17: =SUM(I17:Q17) -> 0 | I17: =INT(I3*$F$17) -> 0
C18: 노인장기요양보험 | E18: ( | F18: ='총 괄'!F18 -> 0.1314 | G18: ) | H18: =SUM(I18:Q18) -> 0 | I18: =INT(I17*$F$18) -> 0
C19: 국민연금보험료 | E19: ( | F19: ='총 괄'!F19 -> 0.0475 | G19: ) | H19: =SUM(I19:Q19) -> 0 | I19: =INT(I3*$F$19) -> 0
C20: 건설하도급수수료 | E20: ( | F20: ='총 괄'!F20 -> 0 | G20: ) | H20: =SUM(I20:Q20) -> 0 | I20: =INT((I3+I6+I9)*$F$20) -> 0
C21: 건설기계대여대금 지급보증서발급금액 | E21: ( | F21: ='총 괄'!F21 -> 0.0032 | G21: ) | H21: =SUM(I21:Q21) -> 0 | I21: =INT((I3+I6+I9)*$F$21) -> 0
C22: 기 타 경 비 | E22: ( | F22: ='총 괄'!F22 -> 0.055 | G22: ) | H22: =SUM(I22:Q22) -> 0 | I22: =INT((I5+I8)*$F$22)+0 -> 0
C23: 품질관리비 | E23: ( | F23: ='총 괄'!F23 -> 6e-05 | G23: ) | H23: =SUM(I23:Q23) -> 0
C24: 안전점검비 | E24: ( | F24: ='총 괄'!F24 -> 0.0009 | G24: ) | H24: =SUM(I24:Q24) -> 0
C25: 소계 | H25: =SUM(I25:Q25) -> 0 | I25: =SUM(I9:O24)-I14 -> 0
A26: 순 공 사 비 | H26: =SUM(I26:Q26) -> 0 | I26: =I5+I8+I25 -> 0
A27: 일 반 관 리 비 | E27: ( | F27: ='총 괄'!F27 -> 0.08 | G27: ) | H27: =SUM(I27:Q27) -> 0 | I27: =INT(I26*$F$27) -> 0
A28: 이 윤 | E28: ( | F28: ='총 괄'!F28 -> 0.15 | G28: ) | I28: =TRUNC((I5+I25+I27)*$F28+(I26+I27),-4)-(I26+I27) -> 0
A29: 총 원 가 | H29: =SUM(I29:Q29) -> 0 | I29: =SUM(I26:I28) -> 0
A30: 폐기물처리비 | E30: ( | F30: ='총 괄'!F30 -> 0 | G30: ) | H30: =SUM(I30:Q30) -> 2033680 | I30: =내역서!G26 -> 2033680
A31: 부 가 가 치 세 | E31: ( | F31: ='총 괄'!F31 -> 0.1 | G31: ) | H31: =SUM(I31:Q31) -> 203000 | I31: =TRUNC(I30*$F$31,-3)+0 -> 203000
A32: 도 급 예 정 금 액 | H32: =SUM(I32:Q32) -> 2236000 | I32: =TRUNC(SUM(I29:O31),-3) -> 2236000

Sheet 내역서
B1: ="◈. 사 업 명 : "&[1]수지예산서!F3 -> ◈. 사 업 명 : 장하지구 수리시설정비사업
B2: 공 종 | C2: 재 료 또는 치 수 | D2: 수 량 | E2: 단위 | F2: 합 계 | H2: 노 무 비 | J2: 재 료 비 | L2: 경 비 | N2: 비고
F3: 단 가 | G3: 금 액 | H3: 단 가 | I3: 금 액 | J3: 단 가 | K3: 금 액 | L3: 단 가 | M3: 금 액
A4: 장하 | B4: =IF($A4="","",VLOOKUP($A4,$A$50:$N$429,2,FALSE)) -> 1. 장하지구 수리시설정비사업 | G4: =IF($A4="","",VLOOKUP($A4,$A$50:$N$429,7,FALSE)) -> 64192036 | I4: =IF($A4="","",VLOOKUP($A4,$A$50:$N$429,9,FALSE)) -> 33378796 | K4: =IF($A4="","",VLOOKUP($A4,$A$50:$N$429,11,FALSE)) -> 23970755 | M4: =IF($A4="","",VLOOKUP($A4,$A$50:$N$429,13,FALSE)) -> 6842485
A5: 부대 | B5: =IF($A5="","",VLOOKUP($A5,$A$50:$N$429,2,FALSE)) -> 2. 부대공사 | G5: =IF($A5="","",VLOOKUP($A5,$A$50:$N$429,7,FALSE)) -> 2362176 | I5: =IF($A5="","",VLOOKUP($A5,$A$50:$N$429,9,FALSE)) -> 0 | K5: =IF($A5="","",VLOOKUP($A5,$A$50:$N$429,11,FALSE)) -> 0 | M5: =IF($A5="","",VLOOKUP($A5,$A$50:$N$429,13,FALSE)) -> 2362176
B6: =IF($A6="","",VLOOKUP($A6,$A$50:$N$429,2,FALSE)) | G6: =IF($A6="","",VLOOKUP($A6,$A$74:$N$429,7,FALSE)) | I6: =IF($A6="","",VLOOKUP($A6,$A$74:$N$429,9,FALSE)) | K6: =IF($A6="","",VLOOKUP($A6,$A$74:$N$429,11,FALSE)) | M6: =IF($A6="","",VLOOKUP($A6,$A$74:$N$429,13,FALSE))
B7: 순공사비 | G7: =IF(SUM(G4,G5,G6)=I7+K7+M7,I7+K7+M7,"^..^") -> 66554212 | I7: =SUM(I4,I5,I6) -> 33378796 | K7: =SUM(K4,K5,K6) -> 23970755 | M7: =SUM(M4,M5,M6) -> 9204661
B8: 간접노무비 | D8: =제경비적용기준!Y12% -> 0.191 | G8: =TRUNC(직접노무비*D8) -> 6375350 | H8: =" (직접노무비) * "&D8*100&"%" -> (직접노무비) * 19.1%
B9: 산재보험료 | D9: =제경비적용기준!A50% -> 0.0356 | G9: =TRUNC((직접노무비+간접노무비)*D9) -> 1415247 | H9: =" (노무비) * "&D9*100&"%" -> (노무비) * 3.56%
B10: 고용보험료 | D10: =제경비적용기준!AD74% -> 0.0101 | G10: =TRUNC((직접노무비+간접노무비)*D10) -> 401516 | H10: =" (노무비) * "&D10*100&"%" -> (노무비) * 1.01%
B11: 건강보험료 | D11: =제경비적용기준!A88% -> 0.03595 | G11: =TRUNC(직접노무비*D11) -> 1199967 | H11: =" (직접노무비) * "&D11*100&"%" -> (직접노무비) * 3.595%
B12: 연금보험료 | D12: =제경비적용기준!A89% -> 0.0475 | G12: =TRUNC(직접노무비*D12) -> 1585492 | H12: =" (직접노무비) * "&D12*100&"%" -> (직접노무비) * 4.75%
B13: 노인장기요양보험료 | D13: =제경비적용기준!A90% -> 0.1314 | G13: =TRUNC(건강보험료*D13) -> 157675 | H13: =" (건강보험료) * "&D13*100&"%" -> (건강보험료) * 13.14%
B14: 안전관리비 | D14: =제경비적용기준!EA18% -> 0.0315 | G14: =MIN(M14,M15) -> 2167813 | H14: =" (재료비+직접노무비+관급자재대/1.1) * "&$D$14*100&"% + 기초금액" -> (재료비+직접노무비+관급자재대/1.1) * 3.15% + 기초금액 | L14: 중 작은 값 | M14: =TRUNC((재료비+직접노무비+[1]관급내역서!I4)*$D$14,0)+기초금액 -> 4371461
H15: =" {1.20*((재료비+직접노무비) * "&$D$14*100&"%)} + 기초금액" -> {1.20*((재료비+직접노무비) * 3.15%)} + 기초금액 | M15: =TRUNC(1.2*(재료비+직접노무비)*$D$14,0)+기초금액 -> 2167813
B16: 환경보전비 | D16: =제경비적용기준!BM80% -> 0.008 | G16: =TRUNC(순공사비*D16) -> 532433 | H16: =" (재료비+직접노무비+산출경비) * "&D16*100&"%" -> (재료비+직접노무비+산출경비) * 0.8%
B17: 퇴직공제부금비 | D17: =제경비적용기준!A96% -> 0.023 | G17: =TRUNC(직접노무비*D17) -> 767712 | H17: =" (직접노무비) * "&D17*100&"%" -> (직접노무비) * 2.3%
B18: 하도급대금지급보증수수료 | D18: =0% -> 0 | G18: =TRUNC(순공사비*D18) -> 0 | H18: =" (재료비+직접노무비+산출경비) * "&D18*100&"%" -> (재료비+직접노무비+산출경비) * 0%
B19: 건설기계대여대금지급보증서발급금액 | D19: =제경비적용기준!CU24% -> 0.0032 | G19: =TRUNC(순공사비*D19) -> 212973 | H19: =" (재료비+직접노무비+산출경비) * "&D19*100&"%" -> (재료비+직접노무비+산출경비) * 0.32%
B20: 기타경비 | D20: =제경비적용기준!AH12% -> 0.055 | G20: =TRUNC((직접노무비+간접노무비+재료비)*D20) -> 3504869 | H20: =" (재료비+노무비) * "&D20*100&"%" -> (재료비+노무비) * 5.5%
B21: 소 계 | G21: =SUM(G7:G20) -> 84875259
B22: 일반관리비 | D22: =제경비적용기준!AY12% -> 0.08 | G22: =TRUNC(소계*D22) -> 6790020 | H22: =" (순공사비+간접노무비+기타경비) *"&D22*100&"%" -> (순공사비+간접노무비+기타경비) *8%
B23: 이 윤 | D23: =제경비적용기준!BK12% -> 0.15 | G23: =G24-(일반관리비+소계) -> 10153721 | H23: =" (노무비+경비+일반관리비) * "&D23*100&"%" -> (노무비+경비+일반관리비) * 15%
B24: 소 계 | G24: =TRUNC((((소계-재료비+일반관리비)*D23)+(소계+일반관리비))/1000)*1000 -> 101819000
B25: 품질시험관리비 | D25: 0.1 | H25: =" (시험비총액) * "&D25*100&"%" -> (시험비총액) * 10%
A26: 폐기물 | B26: =IF($A26="","",VLOOKUP($A26,$A$74:$N$429,2,FALSE)) -> 3. 폐기물처리비 | G26: =IF($A26="","",VLOOKUP($A26,$A$74:$N$429,7,FALSE)) -> 2033680 | H26: <분리발주>
B27: 공급가액 | G27: =TRUNC(SUM(G24:G25),-3) -> 101819000 | H27: (천단위 절사)
B28: 부가가치세 | D28: 0.1 | G28: =TRUNC((공급가액*D28),-3) -> 10181000 | H28: =" (공급가액) * "&D28*100&"%" -> (공급가액) * 10%
B29: 도급예정액 | G29: =SUM(G27:G28) -> 112000000
B30: 5. 관급자재대 | G30: =[1]관급내역서!G4 -> 90054000
B31: 총공사비 | G31: =SUM(G29:G30) -> 202054000
A50: 장하 | B50: =IF($A50="","",VLOOKUP($A50,내역서,2,FALSE)) -> 1. 장하지구 수리시설정비사업 | G50: =IF($A50="","",VLOOKUP($A50,내역서,7,FALSE)) -> 64192036 | I50: =IF($A50="","",VLOOKUP($A50,내역서,9,FALSE)) -> 33378796 | K50: =IF($A50="","",VLOOKUP($A50,내역서,11,FALSE)) -> 23970755 | M50: =IF($A50="","",VLOOKUP($A50,내역서,13,FALSE)) -> 6842485
A51: 용배 | B51: =IF($A51="","",VLOOKUP($A51,내역서,2,FALSE)) -> 1.01 용배수로 | G51: =IF($A51="","",VLOOKUP($A51,내역서,7,FALSE)) -> 64192036 | I51: =IF($A51="","",VLOOKUP($A51,내역서,9,FALSE)) -> 33378796 | K51: =IF($A51="","",VLOOKUP($A51,내역서,11,FALSE)) -> 23970755 | M51: =IF($A51="","",VLOOKUP($A51,내역서,13,FALSE)) -> 6842485
B52: =IF($A52="","",VLOOKUP($A52,내역서,2,FALSE)) | G52: =IF($A52="","",VLOOKUP($A52,내역서,7,FALSE)) | I52: =IF($A52="","",VLOOKUP($A52,내역서,9,FALSE)) | K52: =IF($A52="","",VLOOKUP($A52,내역서,11,FALSE)) | M52: =IF($A52="","",VLOOKUP($A52,내역서,13,FALSE))
B53: =IF($A53="","",VLOOKUP($A53,내역서,2,FALSE)) | G53: =IF($A53="","",VLOOKUP($A53,내역서,7,FALSE)) | I53: =IF($A53="","",VLOOKUP($A53,내역서,9,FALSE)) | K53: =IF($A53="","",VLOOKUP($A53,내역서,11,FALSE)) | M53: =IF($A53="","",VLOOKUP($A53,내역서,13,FALSE))
B54: =IF($A54="","",VLOOKUP($A54,내역서,2,FALSE)) | G54: =IF($A54="","",VLOOKUP($A54,내역서,7,FALSE)) | I54: =IF($A54="","",VLOOKUP($A54,내역서,9,FALSE)) | K54: =IF($A54="","",VLOOKUP($A54,내역서,11,FALSE)) | M54: =IF($A54="","",VLOOKUP($A54,내역서,13,FALSE))
B55: =IF($A55="","",VLOOKUP($A55,내역서,2,FALSE)) | G55: =IF($A55="","",VLOOKUP($A55,내역서,7,FALSE)) | I55: =IF($A55="","",VLOOKUP($A55,내역서,9,FALSE)) | K55: =IF($A55="","",VLOOKUP($A55,내역서,11,FALSE)) | M55: =IF($A55="","",VLOOKUP($A55,내역서,13,FALSE))
B56: =IF($A56="","",VLOOKUP($A56,내역서,2,FALSE)) | G56: =IF($A56="","",VLOOKUP($A56,내역서,7,FALSE)) | I56: =IF($A56="","",VLOOKUP($A56,내역서,9,FALSE)) | K56: =IF($A56="","",VLOOKUP($A56,내역서,11,FALSE)) | M56: =IF($A56="","",VLOOKUP($A56,내역서,13,FALSE))
B57: =IF($A57="","",VLOOKUP($A57,내역서,2,FALSE)) | G57: =IF($A57="","",VLOOKUP($A57,내역서,7,FALSE)) | I57: =IF($A57="","",VLOOKUP($A57,내역서,9,FALSE)) | K57: =IF($A57="","",VLOOKUP($A57,내역서,11,FALSE)) | M57: =IF($A57="","",VLOOKUP($A57,내역서,13,FALSE))
A58: 부대 | B58: =IF($A58="","",VLOOKUP($A58,내역서,2,FALSE)) -> 2. 부대공사 | G58: =IF($A58="","",VLOOKUP($A58,내역서,7,FALSE)) -> 2362176 | I58: =IF($A58="","",VLOOKUP($A58,내역서,9,FALSE)) -> 0 | K58: =IF($A58="","",VLOOKUP($A58,내역서,11,FALSE)) -> 0 | M58: =IF($A58="","",VLOOKUP($A58,내역서,13,FALSE)) -> 2362176
A59: 중기 | B59: =IF($A59="","",VLOOKUP($A59,내역서,2,FALSE)) -> 2.01 중기운반 | G59: =IF($A59="","",VLOOKUP($A59,내역서,7,FALSE)) -> 308439 | I59: =IF($A59="","",VLOOKUP($A59,내역서,9,FALSE)) -> 0 | K59: =IF($A59="","",VLOOKUP($A59,내역서,11,FALSE)) -> 0 | M59: =IF($A59="","",VLOOKUP($A59,내역서,13,FALSE)) -> 308439
A60: 가설 | B60: =IF($A60="","",VLOOKUP($A60,내역서,2,FALSE)) -> 2.02 가설사무실 | G60: =IF($A60="","",VLOOKUP($A60,내역서,7,FALSE)) -> 1267439 | I60: =IF($A60="","",VLOOKUP($A60,내역서,9,FALSE)) -> 0 | K60: =IF($A60="","",VLOOKUP($A60,내역서,11,FALSE)) -> 0 | M60: =IF($A60="","",VLOOKUP($A60,내역서,13,FALSE)) -> 1267439
A61: 소운반 | B61: =IF($A61="","",VLOOKUP($A61,내역서,2,FALSE)) -> 2.03 소운반 | G61: =IF($A61="","",VLOOKUP($A61,내역서,7,FALSE)) -> 786298 | I61: =IF($A61="","",VLOOKUP($A61,내역서,9,FALSE)) -> 0 | K61: =IF($A61="","",VLOOKUP($A61,내역서,11,FALSE)) -> 0 | M61: =IF($A61="","",VLOOKUP($A61,내역서,13,FALSE)) -> 786298
B63: =IF($A63="","",VLOOKUP($A63,내역서,2,FALSE)) | G63: =IF($A63="","",VLOOKUP($A63,내역서,7,FALSE)) | I63: =IF($A63="","",VLOOKUP($A63,내역서,9,FALSE)) | K63: =IF($A63="","",VLOOKUP($A63,내역서,11,FALSE)) | M63: =IF($A63="","",VLOOKUP($A63,내역서,13,FALSE))
B64: =IF($A64="","",VLOOKUP($A64,내역서,2,FALSE)) | G64: =IF($A64="","",VLOOKUP($A64,내역서,7,FALSE)) | I64: =IF($A64="","",VLOOKUP($A64,내역서,9,FALSE)) | K64: =IF($A64="","",VLOOKUP($A64,내역서,11,FALSE)) | M64: =IF($A64="","",VLOOKUP($A64,내역서,13,FALSE))
B65: =IF($A65="","",VLOOKUP($A65,내역서,2,FALSE)) | G65: =IF($A65="","",VLOOKUP($A65,내역서,7,FALSE)) | I65: =IF($A65="","",VLOOKUP($A65,내역서,9,FALSE)) | K65: =IF($A65="","",VLOOKUP($A65,내역서,11,FALSE)) | M65: =IF($A65="","",VLOOKUP($A65,내역서,13,FALSE))
B66: 합 계 | G66: =IF(SUM(G51,G58,G65)=I66+K66+M66,I66+K66+M66,"^..^") -> 66554212 | I66: =SUM(I51,I58,I65) -> 33378796 | K66: =SUM(K51,K58,K65) -> 23970755 | M66: =SUM(M51,M58,M65) -> 9204661
A72: 장하 | B72: 1. 장하지구 수리시설정비사업 | G72: =IF(SUM(G73)=I72+K72+M72,I72+K72+M72,"^..^") -> 64192036 | I72: =SUM(I73) -> 33378796 | K72: =SUM(K73) -> 23970755 | M72: =SUM(M73) -> 6842485
A73: 용배 | B73: 1.01 용배수로 | D73: =SUM(D74:D93) -> 4235.84 | G73: =IF(SUM(G74:G93)=I73+K73+M73,I73+K73+M73,"^..^") -> 64192036 | I73: =SUM(I74:I93) -> 33378796 | K73: =SUM(K74:K93) -> 23970755 | M73: =SUM(M74:M93) -> 6842485
A74: 터파기 | B74: =IF($A74="","",VLOOKUP($A74,일위목록!$A:$J,2,FALSE)) -> 터파기 | C74: =IF($A74="","",VLOOKUP($A74,일위목록!$A:$J,3,FALSE)) -> (TypeⅠ,중기100%) | D74: =IF($A74="","",IF(ISERROR(VLOOKUP($A74,장하지구총집계,17,FALSE)),"",VLOOKUP($A74,장하지구총집계,17,FALSE))) -> 658.52 | E74: =IF($A74="","",VLOOKUP($A74,일위목록!$A:$J,5,FALSE)) -> ㎥ | F74: =IF($A74="","",VLOOKUP($A74,일위목록!$A:$J,6,FALSE)) -> 1886 | G74: =IF($A74="","",IF($D74="","",$I74+$K74+$M74)) -> 1241967 | H74: =IF($A74="","",VLOOKUP($A74,일위목록!$A:$J,7,FALSE)) -> 843 | I74: =IF($A74="","",IF($D74="","",TRUNC($D74*$H74))) -> 555132 | J74: =IF($A74="","",VLOOKUP($A74,일위목록!$A:$J,8,FALSE)) -> 620 | K74: =IF($A74="","",IF($D74="","",TRUNC($D74*$J74))) -> 408282 | L74: =IF($A74="","",VLOOKUP($A74,일위목록!$A:$J,9,FALSE)) -> 423 | M74: =IF($A74="","",IF($D74="","",TRUNC($D74*$L74))) -> 278553 | N74: =IF($A74="","",VLOOKUP($A74,일위목록!$A:$J,10,FALSE)) -> #.2
A75: 되메움 | B75: =IF($A75="","",VLOOKUP($A75,일위목록!$A:$J,2,FALSE)) -> 되메우고다짐 | C75: =IF($A75="","",VLOOKUP($A75,일위목록!$A:$J,3,FALSE)) -> (대형장비) | D75: =IF($A75="","",IF(ISERROR(VLOOKUP($A75,장하지구총집계,17,FALSE)),"",VLOOKUP($A75,장하지구총집계,17,FALSE))) -> 830.76 | E75: =IF($A75="","",VLOOKUP($A75,일위목록!$A:$J,5,FALSE)) -> ㎥ | F75: =IF($A75="","",VLOOKUP($A75,일위목록!$A:$J,6,FALSE)) -> 8869 | G75: =IF($A75="","",IF($D75="","",$I75+$K75+$M75)) -> 7368009 | H75: =IF($A75="","",VLOOKUP($A75,일위목록!$A:$J,7,FALSE)) -> 5298 | I75: =IF($A75="","",IF($D75="","",TRUNC($D75*$H75))) -> 4401366 | J75: =IF($A75="","",VLOOKUP($A75,일위목록!$A:$J,8,FALSE)) -> 1997 | K75: =IF($A75="","",IF($D75="","",TRUNC($D75*$J75))) -> 1659027 | L75: =IF($A75="","",VLOOKUP($A75,일위목록!$A:$J,9,FALSE)) -> 1574 | M75: =IF($A75="","",IF($D75="","",TRUNC($D75*$L75))) -> 1307616 | N75: =IF($A75="","",VLOOKUP($A75,일위목록!$A:$J,10,FALSE)) -> #.5
A76: 잔토처리 | B76: =IF($A76="","",VLOOKUP($A76,일위목록!$A:$J,2,FALSE)) -> 잔토처리 | C76: =IF($A76="","",VLOOKUP($A76,일위목록!$A:$J,3,FALSE)) -> (굴착기0.7㎥) | D76: =IF($A76="","",IF(ISERROR(VLOOKUP($A76,장하지구총집계,17,FALSE)),"",VLOOKUP($A76,장하지구총집계,17,FALSE))) -> 226.76 | E76: =IF($A76="","",VLOOKUP($A76,일위목록!$A:$J,5,FALSE)) -> ㎥ | F76: =IF($A76="","",VLOOKUP($A76,일위목록!$A:$J,6,FALSE)) -> 1853 | G76: =IF($A76="","",IF($D76="","",$I76+$K76+$M76)) -> 420186 | H76: =IF($A76="","",VLOOKUP($A76,일위목록!$A:$J,7,FALSE)) -> 1000 | I76: =IF($A76="","",IF($D76="","",TRUNC($D76*$H76))) -> 226760 | J76: =IF($A76="","",VLOOKUP($A76,일위목록!$A:$J,8,FALSE)) -> 437 | K76: =IF($A76="","",IF($D76="","",TRUNC($D76*$J76))) -> 99094 | L76: =IF($A76="","",VLOOKUP($A76,일위목록!$A:$J,9,FALSE)) -> 416 | M76: =IF($A76="","",IF($D76="","",TRUNC($D76*$L76))) -> 94332 | N76: =IF($A76="","",VLOOKUP($A76,일위목록!$A:$J,10,FALSE)) -> #.3
A77: 순성토 | B77: =IF($A77="","",VLOOKUP($A77,일위목록!$A:$J,2,FALSE)) -> 순성토운반 | C77: =IF($A77="","",VLOOKUP($A77,일위목록!$A:$J,3,FALSE)) -> (복합중기,L=5.0㎞) | D77: =IF($A77="","",IF(ISERROR(VLOOKUP($A77,장하지구총집계,17,FALSE)),"",VLOOKUP($A77,장하지구총집계,17,FALSE))) -> 399 | E77: =IF($A77="","",VLOOKUP($A77,일위목록!$A:$J,5,FALSE)) -> ㎥ | F77: =IF($A77="","",VLOOKUP($A77,일위목록!$A:$J,6,FALSE)) -> 8013 | G77: =IF($A77="","",IF($D77="","",$I77+$K77+$M77)) -> 3197187 | H77: =IF($A77="","",VLOOKUP($A77,일위목록!$A:$J,7,FALSE)) -> 3994 | I77: =IF($A77="","",IF($D77="","",TRUNC($D77*$H77))) -> 1593606 | J77: =IF($A77="","",VLOOKUP($A77,일위목록!$A:$J,8,FALSE)) -> 2554 | K77: =IF($A77="","",IF($D77="","",TRUNC($D77*$J77))) -> 1019046 | L77: =IF($A77="","",VLOOKUP($A77,일위목록!$A:$J,9,FALSE)) -> 1465 | M77: =IF($A77="","",IF($D77="","",TRUNC($D77*$L77))) -> 584535 | N77: =IF($A77="","",VLOOKUP($A77,일위목록!$A:$J,10,FALSE)) -> #.4
A78: 콘크리트포장 | B78: =IF($A78="","",VLOOKUP($A78,일위목록!$A:$J,2,FALSE)) -> 콘크리트포장 | C78: =IF($A78="","",VLOOKUP($A78,일위목록!$A:$J,3,FALSE)) -> (A-Type,t=20㎝) | D78: =IF($A78="","",IF(ISERROR(VLOOKUP($A78,장하지구총집계,17,FALSE)),"",VLOOKUP($A78,장하지구총집계,17,FALSE))) -> 1022 | E78: =IF($A78="","",VLOOKUP($A78,일위목록!$A:$J,5,FALSE)) -> ㎡ | F78: =IF($A78="","",VLOOKUP($A78,일위목록!$A:$J,6,FALSE)) -> 9282 | G78: =IF($A78="","",IF($D78="","",$I78+$K78+$M78)) -> 9486204 | H78: =IF($A78="","",VLOOKUP($A78,일위목록!$A:$J,7,FALSE)) -> 2874 | I78: =IF($A78="","",IF($D78="","",TRUNC($D78*$H78))) -> 2937228 | J78: =IF($A78="","",VLOOKUP($A78,일위목록!$A:$J,8,FALSE)) -> 6322 | K78: =IF($A78="","",IF($D78="","",TRUNC($D78*$J78))) -> 6461084 | L78: =IF($A78="","",VLOOKUP($A78,일위목록!$A:$J,9,FALSE)) -> 86 | M78: =IF($A78="","",IF($D78="","",TRUNC($D78*$L78))) -> 87892 | N78: =IF($A78="","",VLOOKUP($A78,일위목록!$A:$J,10,FALSE)) -> #.17
A79: 보조기층 | B79: =IF($A79="","",VLOOKUP($A79,일위목록!$A:$J,2,FALSE)) -> 보조기층포설 | C79: =IF($A79="","",VLOOKUP($A79,일위목록!$A:$J,3,FALSE)) -> (인력,소규모) | D79: =IF($A79="","",IF(ISERROR(VLOOKUP($A79,장하지구총집계,17,FALSE)),"",VLOOKUP($A79,장하지구총집계,17,FALSE))) -> 67.2 | E79: =IF($A79="","",VLOOKUP($A79,일위목록!$A:$J,5,FALSE)) -> ㎥ | F79: =IF($A79="","",VLOOKUP($A79,일위목록!$A:$J,6,FALSE)) -> 46119 | G79: =IF($A79="","",IF($D79="","",$I79+$K79+$M79)) -> 3099195 | H79: =IF($A79="","",VLOOKUP($A79,일위목록!$A:$J,7,FALSE)) -> 11634 | I79: =IF($A79="","",IF($D79="","",TRUNC($D79*$H79))) -> 781804 | J79: =IF($A79="","",VLOOKUP($A79,일위목록!$A:$J,8,FALSE)) -> 32866 | K79: =IF($A79="","",IF($D79="","",TRUNC($D79*$J79))) -> 2208595 | L79: =IF($A79="","",VLOOKUP($A79,일위목록!$A:$J,9,FALSE)) -> 1619 | M79: =IF($A79="","",IF($D79="","",TRUNC($D79*$L79))) -> 108796 | N79: =IF($A79="","",VLOOKUP($A79,일위목록!$A:$J,10,FALSE)) -> #.16
A80: 거푸집;6;5 | B80: =IF($A80="","",VLOOKUP($A80,일위목록!$A:$J,2,FALSE)) -> 합판거푸집 | C80: =IF($A80="","",VLOOKUP($A80,일위목록!$A:$J,3,FALSE)) -> (6회,H=0∼7m) | D80: =IF($A80="","",IF(ISERROR(VLOOKUP($A80,장하지구총집계,17,FALSE)),"",VLOOKUP($A80,장하지구총집계,17,FALSE))) -> 118.6 | E80: =IF($A80="","",VLOOKUP($A80,일위목록!$A:$J,5,FALSE)) -> ㎡ | F80: =IF($A80="","",VLOOKUP($A80,일위목록!$A:$J,6,FALSE)) -> 47242 | G80: =IF($A80="","",IF($D80="","",$I80+$K80+$M80)) -> 5602900 | H80: =IF($A80="","",VLOOKUP($A80,일위목록!$A:$J,7,FALSE)) -> 34461 | I80: =IF($A80="","",IF($D80="","",TRUNC($D80*$H80))) -> 4087074 | J80: =IF($A80="","",VLOOKUP($A80,일위목록!$A:$J,8,FALSE)) -> 12437 | K80: =IF($A80="","",IF($D80="","",TRUNC($D80*$J80))) -> 1475028 | L80: =IF($A80="","",VLOOKUP($A80,일위목록!$A:$J,9,FALSE)) -> 344 | M80: =IF($A80="","",IF($D80="","",TRUNC($D80*$L80))) -> 40798 | N80: =IF($A80="","",VLOOKUP($A80,일위목록!$A:$J,10,FALSE)) -> #.7
A81: 맨홀15 | B81: =IF($A81="","",VLOOKUP($A81,일위목록!$A:$J,2,FALSE)) -> 맨홀설치(뚜껑포함) | C81: =IF($A81="","",VLOOKUP($A81,일위목록!$A:$J,3,FALSE)) -> (1.5*1.5*1.5m) | D81: =IF($A81="","",IF(ISERROR(VLOOKUP($A81,장하지구총집계,17,FALSE)),"",VLOOKUP($A81,장하지구총집계,17,FALSE))) -> 2 | E81: =IF($A81="","",VLOOKUP($A81,일위목록!$A:$J,5,FALSE)) -> EA | F81: =IF($A81="","",VLOOKUP($A81,일위목록!$A:$J,6,FALSE)) -> 1925537 | G81: =IF($A81="","",IF($D81="","",$I81+$K81+$M81)) -> 3851074 | H81: =IF($A81="","",VLOOKUP($A81,일위목록!$A:$J,7,FALSE)) -> 262440 | I81: =IF($A81="","",IF($D81="","",TRUNC($D81*$H81))) -> 524880 | J81: =IF($A81="","",VLOOKUP($A81,일위목록!$A:$J,8,FALSE)) -> 1530788 | K81: =IF($A81="","",IF($D81="","",TRUNC($D81*$J81))) -> 3061576 | L81: =IF($A81="","",VLOOKUP($A81,일위목록!$A:$J,9,FALSE)) -> 132309 | M81: =IF($A81="","",IF($D81="","",TRUNC($D81*$L81))) -> 264618 | N81: =IF($A81="","",VLOOKUP($A81,일위목록!$A:$J,10,FALSE)) -> #.13
A82: 수로관;5050 | B82: =IF($A82="","",VLOOKUP($A82,일위목록!$A:$J,2,FALSE)) -> 보강수로관부설 | C82: =IF($A82="","",VLOOKUP($A82,일위목록!$A:$J,3,FALSE)) -> (500*500㎜) | D82: =IF($A82="","",IF(ISERROR(VLOOKUP($A82,장하지구총집계,17,FALSE)),"",VLOOKUP($A82,장하지구총집계,17,FALSE))) -> 632 | E82: =IF($A82="","",VLOOKUP($A82,일위목록!$A:$J,5,FALSE)) -> m | F82: =IF($A82="","",VLOOKUP($A82,일위목록!$A:$J,6,FALSE)) -> 22040 | G82: =IF($A82="","",IF($D82="","",$I82+$K82+$M82)) -> 13929280 | H82: =IF($A82="","",VLOOKUP($A82,일위목록!$A:$J,7,FALSE)) -> 15291 | I82: =IF($A82="","",IF($D82="","",TRUNC($D82*$H82))) -> 9663912 | J82: =IF($A82="","",VLOOKUP($A82,일위목록!$A:$J,8,FALSE)) -> 3218 | K82: =IF($A82="","",IF($D82="","",TRUNC($D82*$J82))) -> 2033776 | L82: =IF($A82="","",VLOOKUP($A82,일위목록!$A:$J,9,FALSE)) -> 3531 | M82: =IF($A82="","",IF($D82="","",TRUNC($D82*$L82))) -> 2231592 | N82: =IF($A82="","",VLOOKUP($A82,일위목록!$A:$J,10,FALSE)) -> #.8
A83: 수로관;8070 | B83: =IF($A83="","",VLOOKUP($A83,일위목록!$A:$J,2,FALSE)) -> 보강수로관부설 | C83: =IF($A83="","",VLOOKUP($A83,일위목록!$A:$J,3,FALSE)) -> (800*700㎜) | D83: =IF($A83="","",IF(ISERROR(VLOOKUP($A83,장하지구총집계,17,FALSE)),"",VLOOKUP($A83,장하지구총집계,17,FALSE))) -> 50 | E83: =IF($A83="","",VLOOKUP($A83,일위목록!$A:$J,5,FALSE)) -> m | F83: =IF($A83="","",VLOOKUP($A83,일위목록!$A:$J,6,FALSE)) -> 39555 | G83: =IF($A83="","",IF($D83="","",$I83+$K83+$M83)) -> 1977750 | H83: =IF($A83="","",VLOOKUP($A83,일위목록!$A:$J,7,FALSE)) -> 27411 | I83: =IF($A83="","",IF($D83="","",TRUNC($D83*$H83))) -> 1370550 | J83: =IF($A83="","",VLOOKUP($A83,일위목록!$A:$J,8,FALSE)) -> 5787 | K83: =IF($A83="","",IF($D83="","",TRUNC($D83*$J83))) -> 289350 | L83: =IF($A83="","",VLOOKUP($A83,일위목록!$A:$J,9,FALSE)) -> 6357 | M83: =IF($A83="","",IF($D83="","",TRUNC($D83*$L83))) -> 317850 | N83: =IF($A83="","",VLOOKUP($A83,일위목록!$A:$J,10,FALSE)) -> #.9
A84: 수로관;1210 | B84: =IF($A84="","",VLOOKUP($A84,일위목록!$A:$J,2,FALSE)) -> 보강수로관부설 | C84: =IF($A84="","",VLOOKUP($A84,일위목록!$A:$J,3,FALSE)) -> (1200*1000㎜) | D84: =IF($A84="","",IF(ISERROR(VLOOKUP($A84,장하지구총집계,17,FALSE)),"",VLOOKUP($A84,장하지구총집계,17,FALSE))) -> 90 | E84: =IF($A84="","",VLOOKUP($A84,일위목록!$A:$J,5,FALSE)) -> m | F84: =IF($A84="","",VLOOKUP($A84,일위목록!$A:$J,6,FALSE)) -> 62136 | G84: =IF($A84="","",IF($D84="","",$I84+$K84+$M84)) -> 5592240 | H84: =IF($A84="","",VLOOKUP($A84,일위목록!$A:$J,7,FALSE)) -> 37828 | I84: =IF($A84="","",IF($D84="","",TRUNC($D84*$H84))) -> 3404520 | J84: =IF($A84="","",VLOOKUP($A84,일위목록!$A:$J,8,FALSE)) -> 13698 | K84: =IF($A84="","",IF($D84="","",TRUNC($D84*$J84))) -> 1232820 | L84: =IF($A84="","",VLOOKUP($A84,일위목록!$A:$J,9,FALSE)) -> 10610 | M84: =IF($A84="","",IF($D84="","",TRUNC($D84*$L84))) -> 954900 | N84: =IF($A84="","",VLOOKUP($A84,일위목록!$A:$J,10,FALSE)) -> #.10
A85: 건널목암거;5050 | B85: =IF($A85="","",VLOOKUP($A85,일위목록!$A:$J,2,FALSE)) -> 이형수로관부설 | C85: =IF($A85="","",VLOOKUP($A85,일위목록!$A:$J,3,FALSE)) -> (500*500㎜) | D85: =IF($A85="","",IF(ISERROR(VLOOKUP($A85,장하지구총집계,17,FALSE)),"",VLOOKUP($A85,장하지구총집계,17,FALSE))) -> 24 | E85: =IF($A85="","",VLOOKUP($A85,일위목록!$A:$J,5,FALSE)) -> m | F85: =IF($A85="","",VLOOKUP($A85,일위목록!$A:$J,6,FALSE)) -> 48533 | G85: =IF($A85="","",IF($D85="","",$I85+$K85+$M85)) -> 1164792 | H85: =IF($A85="","",VLOOKUP($A85,일위목록!$A:$J,7,FALSE)) -> 40956 | I85: =IF($A85="","",IF($D85="","",TRUNC($D85*$H85))) -> 982944 | J85: =IF($A85="","",VLOOKUP($A85,일위목록!$A:$J,8,FALSE)) -> 2665 | K85: =IF($A85="","",IF($D85="","",TRUNC($D85*$J85))) -> 63960 | L85: =IF($A85="","",VLOOKUP($A85,일위목록!$A:$J,9,FALSE)) -> 4912 | M85: =IF($A85="","",IF($D85="","",TRUNC($D85*$L85))) -> 117888 | N85: =IF($A85="","",VLOOKUP($A85,일위목록!$A:$J,10,FALSE)) -> #.11
... A90: 철근헐기;29 | B90: =IF($A90="","",VLOOKUP($A90,일위목록!$A:$J,2,FALSE)) -> 철근콘크리트헐기 | C90: =IF($A90="","",VLOOKUP($A90,일위목록!$A:$J,3,FALSE)) -> (t=30㎝미만) | D90: =IF($A90="","",IF(ISERROR(VLOOKUP($A90,장하지구총집계,17,FALSE)),"",VLOOKUP($A90,장하지구총집계,17,FALSE))) -> 17 | E90: =IF($A90="","",VLOOKUP($A90,일위목록!$A:$J,5,FALSE)) -> ㎥ | F90: =IF($A90="","",VLOOKUP($A90,일위목록!$A:$J,6,FALSE)) -> 61266 | G90: =IF($A90="","",IF($D90="","",$I90+$K90+$M90)) -> 1041522 | H90: =IF($A90="","",VLOOKUP($A90,일위목록!$A:$J,7,FALSE)) -> 42716 | I90: =IF($A90="","",IF($D90="","",TRUNC($D90*$H90))) -> 726172 | J90: =IF($A90="","",VLOOKUP($A90,일위목록!$A:$J,8,FALSE)) -> 2359 | K90: =IF($A90="","",IF($D90="","",TRUNC($D90*$J90))) -> 40103 | L90: =IF($A90="","",VLOOKUP($A90,일위목록!$A:$J,9,FALSE)) -> 16191 | M90: =IF($A90="","",IF($D90="","",TRUNC($D90*$L90))) -> 275247 | N90: =IF($A90="","",VLOOKUP($A90,일위목록!$A:$J,10,FALSE)) -> #.15
B91: =IF($A91="","",VLOOKUP($A91,일위목록!$A:$J,2,FALSE)) | C91: =IF($A91="","",VLOOKUP($A91,일위목록!$A:$J,3,FALSE)) | D91: =IF($A91="","",IF(ISERROR(VLOOKUP($A91,장하지구총집계,17,FALSE)),"",VLOOKUP($A91,장하지구총집계,17,FALSE))) | E91: =IF($A91="","",VLOOKUP($A91,일위목록!$A:$J,5,FALSE)) | F91: =IF($A91="","",VLOOKUP($A91,일위목록!$A:$J,6,FALSE)) | G91: =IF($A91="","",IF($D91="","",$I91+$K91+$M91)) | H91: =IF($A91="","",VLOOKUP($A91,일위목록!$A:$J,7,FALSE)) | I91: =IF($A91="","",IF($D91="","",TRUNC($D91*$H91))) | J91: =IF($A91="","",VLOOKUP($A91,일위목록!$A:$J,8,FALSE)) | K91: =IF($A91="","",IF($D91="","",TRUNC($D91*$J91))) | L91: =IF($A91="","",VLOOKUP($A91,일위목록!$A:$J,9,FALSE)) | M91: =IF($A91="","",IF($D91="","",TRUNC($D91*$L91))) | N91: =IF($A91="","",VLOOKUP($A91,일위목록!$A:$J,10,FALSE))
B92: =IF($A92="","",VLOOKUP($A92,일위목록!$A:$J,2,FALSE)) | C92: =IF($A92="","",VLOOKUP($A92,일위목록!$A:$J,3,FALSE)) | D92: =IF($A92="","",IF(ISERROR(VLOOKUP($A92,장하지구총집계,17,FALSE)),"",VLOOKUP($A92,장하지구총집계,17,FALSE))) | E92: =IF($A92="","",VLOOKUP($A92,일위목록!$A:$J,5,FALSE)) | F92: =IF($A92="","",VLOOKUP($A92,일위목록!$A:$J,6,FALSE)) | G92: =IF($A92="","",IF($D92="","",$I92+$K92+$M92)) | H92: =IF($A92="","",VLOOKUP($A92,일위목록!$A:$J,7,FALSE)) | I92: =IF($A92="","",IF($D92="","",TRUNC($D92*$H92))) | J92: =IF($A92="","",VLOOKUP($A92,일위목록!$A:$J,8,FALSE)) | K92: =IF($A92="","",IF($D92="","",TRUNC($D92*$J92))) | L92: =IF($A92="","",VLOOKUP($A92,일위목록!$A:$J,9,FALSE)) | M92: =IF($A92="","",IF($D92="","",TRUNC($D92*$L92))) | N92: =IF($A92="","",VLOOKUP($A92,일위목록!$A:$J,10,FALSE))
B93: =IF($A93="","",VLOOKUP($A93,일위목록!$A:$J,2,FALSE)) | C93: =IF($A93="","",VLOOKUP($A93,일위목록!$A:$J,3,FALSE)) | D93: =IF($A93="","",IF(ISERROR(VLOOKUP($A93,장하지구총집계,17,FALSE)),"",VLOOKUP($A93,장하지구총집계,17,FALSE))) | E93: =IF($A93="","",VLOOKUP($A93,일위목록!$A:$J,5,FALSE)) | F93: =IF($A93="","",VLOOKUP($A93,일위목록!$A:$J,6,FALSE)) | G93: =IF($A93="","",IF($D93="","",$I93+$K93+$M93)) | H93: =IF($A93="","",VLOOKUP($A93,일위목록!$A:$J,7,FALSE)) | I93: =IF($A93="","",IF($D93="","",TRUNC($D93*$H93))) | J93: =IF($A93="","",VLOOKUP($A93,일위목록!$A:$J,8,FALSE)) | K93: =IF($A93="","",IF($D93="","",TRUNC($D93*$J93))) | L93: =IF($A93="","",VLOOKUP($A93,일위목록!$A:$J,9,FALSE)) | M93: =IF($A93="","",IF($D93="","",TRUNC($D93*$L93))) | N93: =IF($A93="","",VLOOKUP($A93,일위목록!$A:$J,10,FALSE))
A94: 부대 | B94: 2. 부대공사 | G94: =IF(SUM(G95,G99,G103)=I94+K94+M94,I94+K94+M94,"^..^") -> 2362176 | I94: =SUM(I95,I99,I103) -> 0 | K94: =SUM(K95,K99,K103) -> 0 | M94: =SUM(M95,M99,M103) -> 2362176
A95: 중기 | B95: 2.01 중기운반 | G95: =IF(SUM(G96:G97)=I95+K95+M95,I95+K95+M95,"^..^") -> 308439 | I95: =SUM(I96:I97) -> 0 | K95: =SUM(K96:K97) -> 0 | M95: =SUM(M96:M97) -> 308439
A96: 중덤 | B96: =IF($A96="","",VLOOKUP($A96,일위목록!$A:$J,2,FALSE)) -> 중기운반 | C96: =IF($A96="","",VLOOKUP($A96,일위목록!$A:$J,3,FALSE)) -> (덤프15.0ton) | D96: =IF($A96="","",IF(ISERROR(VLOOKUP($A96,부대공사총집계,17,FALSE)),"",VLOOKUP($A96,부대공사총집계,17,FALSE))) -> 1 | E96: =IF($A96="","",VLOOKUP($A96,일위목록!$A:$J,5,FALSE)) -> 대 | F96: =IF($A96="","",VLOOKUP($A96,일위목록!$A:$J,6,FALSE)) -> 157335 | G96: =IF($A96="","",$I96+$K96+$M96) -> 157335 | H96: =IF($A96="","",VLOOKUP($A96,일위목록!$A:$J,7,FALSE)) -> 0 | I96: =IF($A96="","",TRUNC($D96*$H96)) -> 0 | J96: =IF($A96="","",VLOOKUP($A96,일위목록!$A:$J,8,FALSE)) -> 0 | K96: =IF($A96="","",TRUNC($D96*$J96)) -> 0 | L96: =IF($A96="","",VLOOKUP($A96,일위목록!$A:$J,9,FALSE)) -> 157335 | M96: =IF($A96="","",TRUNC($D96*$L96)) -> 157335 | N96: =IF($A96="","",VLOOKUP($A96,일위목록!$A:$J,10,FALSE)) -> #.23
A97: 중트 | B97: =IF($A97="","",VLOOKUP($A97,일위목록!$A:$J,2,FALSE)) -> 중기운반 | C97: =IF($A97="","",VLOOKUP($A97,일위목록!$A:$J,3,FALSE)) -> (트레일러20ton) | D97: =IF($A97="","",IF(ISERROR(VLOOKUP($A97,부대공사총집계,17,FALSE)),"",VLOOKUP($A97,부대공사총집계,17,FALSE))) -> 1 | E97: =IF($A97="","",VLOOKUP($A97,일위목록!$A:$J,5,FALSE)) -> 대 | F97: =IF($A97="","",VLOOKUP($A97,일위목록!$A:$J,6,FALSE)) -> 151104 | G97: =IF($A97="","",$I97+$K97+$M97) -> 151104 | H97: =IF($A97="","",VLOOKUP($A97,일위목록!$A:$J,7,FALSE)) -> 0 | I97: =IF($A97="","",TRUNC($D97*$H97)) -> 0 | J97: =IF($A97="","",VLOOKUP($A97,일위목록!$A:$J,8,FALSE)) -> 0 | K97: =IF($A97="","",TRUNC($D97*$J97)) -> 0 | L97: =IF($A97="","",VLOOKUP($A97,일위목록!$A:$J,9,FALSE)) -> 151104 | M97: =IF($A97="","",TRUNC($D97*$L97)) -> 151104 | N97: =IF($A97="","",VLOOKUP($A97,일위목록!$A:$J,10,FALSE)) -> #.24
B98: =IF($A98="","",VLOOKUP($A98,일위목록!$A:$J,2,FALSE)) | C98: =IF($A98="","",VLOOKUP($A98,일위목록!$A:$J,3,FALSE)) | D98: =IF($A98="","",IF(ISERROR(VLOOKUP($A98,부대공사총집계,17,FALSE)),"",VLOOKUP($A98,부대공사총집계,17,FALSE))) | E98: =IF($A98="","",VLOOKUP($A98,일위목록!$A:$J,5,FALSE)) | F98: =IF($A98="","",VLOOKUP($A98,일위목록!$A:$J,6,FALSE)) | G98: =IF($A98="","",$I98+$K98+$M98) | H98: =IF($A98="","",VLOOKUP($A98,일위목록!$A:$J,7,FALSE)) | I98: =IF($A98="","",TRUNC($D98*$H98)) | J98: =IF($A98="","",VLOOKUP($A98,일위목록!$A:$J,8,FALSE)) | K98: =IF($A98="","",TRUNC($D98*$J98)) | L98: =IF($A98="","",VLOOKUP($A98,일위목록!$A:$J,9,FALSE)) | M98: =IF($A98="","",TRUNC($D98*$L98)) | N98: =IF($A98="","",VLOOKUP($A98,일위목록!$A:$J,10,FALSE))
A99: 가설 | B99: 2.02 가설사무실 | G99: =IF(SUM(G100:G101)=I99+K99+M99,I99+K99+M99,"^..^") -> 1267439 | I99: =SUM(I100:I100) -> 0 | K99: =SUM(K100:K100) -> 0 | M99: =SUM(M100:M100) -> 1267439
A100: 가설사 | B100: =IF($A100="","",VLOOKUP($A100,일위목록!$A:$J,2,FALSE)) -> 가설사무실(콘테이너) | C100: =IF($A100="","",VLOOKUP($A100,일위목록!$A:$J,3,FALSE)) -> (3.0*6.0m,3개월) | D100: =IF($A100="","",IF(ISERROR(VLOOKUP($A100,부대공사총집계,17,FALSE)),"",VLOOKUP($A100,부대공사총집계,17,FALSE))) -> 1 | E100: =IF($A100="","",VLOOKUP($A100,일위목록!$A:$J,5,FALSE)) -> 동 | F100: =IF($A100="","",VLOOKUP($A100,일위목록!$A:$J,6,FALSE)) -> 1267439 | G100: =IF($A100="","",$I100+$K100+$M100) -> 1267439 | H100: =IF($A100="","",VLOOKUP($A100,일위목록!$A:$J,7,FALSE)) -> 0 | I100: =IF($A100="","",TRUNC($D100*$H100)) -> 0 | J100: =IF($A100="","",VLOOKUP($A100,일위목록!$A:$J,8,FALSE)) -> 0 | K100: =IF($A100="","",TRUNC($D100*$J100)) -> 0 | L100: =IF($A100="","",VLOOKUP($A100,일위목록!$A:$J,9,FALSE)) -> 1267439 | M100: =IF($A100="","",TRUNC($D100*$L100)) -> 1267439 | N100: =IF($A100="","",VLOOKUP($A100,일위목록!$A:$J,10,FALSE)) -> #.1
B101: =IF($A101="","",VLOOKUP($A101,일위목록!$A:$J,2,FALSE)) | C101: =IF($A101="","",VLOOKUP($A101,일위목록!$A:$J,3,FALSE)) | D101: =IF($A101="","",IF(ISERROR(VLOOKUP($A101,부대공사총집계,17,FALSE)),"",VLOOKUP($A101,부대공사총집계,17,FALSE))) | E101: =IF($A101="","",VLOOKUP($A101,일위목록!$A:$J,5,FALSE)) | F101: =IF($A101="","",VLOOKUP($A101,일위목록!$A:$J,6,FALSE)) | G101: =IF($A101="","",$I101+$K101+$M101) | H101: =IF($A101="","",VLOOKUP($A101,일위목록!$A:$J,7,FALSE)) | I101: =IF($A101="","",TRUNC($D101*$H101)) | J101: =IF($A101="","",VLOOKUP($A101,일위목록!$A:$J,8,FALSE)) | K101: =IF($A101="","",TRUNC($D101*$J101)) | L101: =IF($A101="","",VLOOKUP($A101,일위목록!$A:$J,9,FALSE)) | M101: =IF($A101="","",TRUNC($D101*$L101)) | N101: =IF($A101="","",VLOOKUP($A101,일위목록!$A:$J,10,FALSE))
C102: =IF($A102="","",VLOOKUP($A102,일위목록!$A:$J,3,FALSE)) | E102: =IF($A102="","",VLOOKUP($A102,일위목록!$A:$J,5,FALSE)) | F102: =IF($A102="","",VLOOKUP($A102,일위목록!$A:$J,6,FALSE)) | G102: =IF($A102="","",$I102+$K102+$M102) | H102: =IF($A102="","",VLOOKUP($A102,일위목록!$A:$J,7,FALSE)) | I102: =IF($A102="","",TRUNC($D102*$H102)) | J102: =IF($A102="","",VLOOKUP($A102,일위목록!$A:$J,8,FALSE)) | K102: =IF($A102="","",TRUNC($D102*$J102)) | L102: =IF($A102="","",VLOOKUP($A102,일위목록!$A:$J,9,FALSE)) | M102: =IF($A102="","",TRUNC($D102*$L102)) | N102: =IF($A102="","",VLOOKUP($A102,일위목록!$A:$J,10,FALSE))
A103: 소운반 | B103: 2.03 소운반 | D103: =IF($A103="","",IF(ISERROR(VLOOKUP($A103,백석지구총집계,17,FALSE)),"",VLOOKUP($A103,백석지구총집계,17,FALSE))) | G103: =IF(SUM(G104:G107)=I103+K103+M103,I103+K103+M103,"^..^") -> 786298 | I103: =SUM(I104:I107) -> 0 | K103: =SUM(K104:K107) -> 0 | M103: =SUM(M104:M107) -> 786298
A104: 보강수로관;소운반;50 | B104: =IF($A104="","",VLOOKUP($A104,일위목록!$A:$J,2,FALSE)) -> 수로관소운반 | C104: =IF($A104="","",VLOOKUP($A104,일위목록!$A:$J,3,FALSE)) -> (500*500㎜,덤프2.5ton,L=80m) | D104: =SUM([1]장하지구!E120,[1]장하지구!F120) -> 223 | E104: =IF($A104="","",VLOOKUP($A104,일위목록!$A:$J,5,FALSE)) -> 본 | F104: =IF($A104="","",VLOOKUP($A104,일위목록!$A:$J,6,FALSE)) -> 3526 | G104: =IF($A104="","",$I104+$K104+$M104) -> 786298 | H104: =IF($A104="","",VLOOKUP($A104,일위목록!$A:$J,7,FALSE)) -> 0 | I104: =IF($A104="","",TRUNC($D104*$H104)) -> 0 | J104: =IF($A104="","",VLOOKUP($A104,일위목록!$A:$J,8,FALSE)) -> 0 | K104: =IF($A104="","",TRUNC($D104*$J104)) -> 0 | L104: =IF($A104="","",VLOOKUP($A104,일위목록!$A:$J,9,FALSE)) -> 3526 | M104: =IF($A104="","",TRUNC($D104*$L104)) -> 786298 | N104: =IF($A104="","",VLOOKUP($A104,일위목록!$A:$J,10,FALSE)) -> #.29
B106: =IF($A106="","",VLOOKUP($A106,일위목록!$A:$J,2,FALSE)) | C106: =IF($A106="","",VLOOKUP($A106,일위목록!$A:$J,3,FALSE)) | E106: =IF($A106="","",VLOOKUP($A106,일위목록!$A:$J,5,FALSE)) | F106: =IF($A106="","",VLOOKUP($A106,일위목록!$A:$J,6,FALSE)) | G106: =IF($A106="","",$I106+$K106+$M106) | H106: =IF($A106="","",VLOOKUP($A106,일위목록!$A:$J,7,FALSE)) | I106: =IF($A106="","",TRUNC($D106*$H106)) | J106: =IF($A106="","",VLOOKUP($A106,일위목록!$A:$J,8,FALSE)) | K106: =IF($A106="","",TRUNC($D106*$J106)) | L106: =IF($A106="","",VLOOKUP($A106,일위목록!$A:$J,9,FALSE)) | M106: =IF($A106="","",TRUNC($D106*$L106)) | N106: =IF($A106="","",VLOOKUP($A106,일위목록!$A:$J,10,FALSE))
B107: =IF($A107="","",VLOOKUP($A107,일위목록!$A:$J,2,FALSE)) | C107: =IF($A107="","",VLOOKUP($A107,일위목록!$A:$J,3,FALSE)) | D107: =IF($A107="","",IF(ISERROR(VLOOKUP($A107,부대공사총집계,17,FALSE)),"",VLOOKUP($A107,부대공사총집계,17,FALSE))) | E107: =IF($A107="","",VLOOKUP($A107,일위목록!$A:$J,5,FALSE)) | F107: =IF($A107="","",VLOOKUP($A107,일위목록!$A:$J,6,FALSE)) | G107: =IF($A107="","",$I107+$K107+$M107) | H107: =IF($A107="","",VLOOKUP($A107,일위목록!$A:$J,7,FALSE)) | I107: =IF($A107="","",TRUNC($D107*$H107)) | J107: =IF($A107="","",VLOOKUP($A107,일위목록!$A:$J,8,FALSE)) | K107: =IF($A107="","",TRUNC($D107*$J107)) | L107: =IF($A107="","",VLOOKUP($A107,일위목록!$A:$J,9,FALSE)) | M107: =IF($A107="","",TRUNC($D107*$L107)) | N107: =IF($A107="","",VLOOKUP($A107,일위목록!$A:$J,10,FALSE))
B108: =IF($A108="","",VLOOKUP($A108,일위목록!$A:$J,2,FALSE)) | C108: =IF($A108="","",VLOOKUP($A108,일위목록!$A:$J,3,FALSE)) | D108: =IF($A108="","",IF(ISERROR(VLOOKUP($A108,부대공사총집계,17,FALSE)),"",VLOOKUP($A108,부대공사총집계,17,FALSE))) | E108: =IF($A108="","",VLOOKUP($A108,일위목록!$A:$J,5,FALSE)) | F108: =IF($A108="","",VLOOKUP($A108,일위목록!$A:$J,6,FALSE)) | G108: =IF($A108="","",$I108+$K108+$M108) | H108: =IF($A108="","",VLOOKUP($A108,일위목록!$A:$J,7,FALSE)) | I108: =IF($A108="","",TRUNC($D108*$H108)) | J108: =IF($A108="","",VLOOKUP($A108,일위목록!$A:$J,8,FALSE)) | K108: =IF($A108="","",TRUNC($D108*$J108)) | L108: =IF($A108="","",VLOOKUP($A108,일위목록!$A:$J,9,FALSE)) | M108: =IF($A108="","",TRUNC($D108*$L108)) | N108: =IF($A108="","",VLOOKUP($A108,일위목록!$A:$J,10,FALSE))
B109: =IF($A109="","",VLOOKUP($A109,일위목록!$A:$J,2,FALSE)) | C109: =IF($A109="","",VLOOKUP($A109,일위목록!$A:$J,3,FALSE)) | D109: =IF($A109="","",IF(ISERROR(VLOOKUP($A109,부대공사총집계,17,FALSE)),"",VLOOKUP($A109,부대공사총집계,17,FALSE))) | E109: =IF($A109="","",VLOOKUP($A109,일위목록!$A:$J,5,FALSE)) | F109: =IF($A109="","",VLOOKUP($A109,일위목록!$A:$J,6,FALSE)) | G109: =IF($A109="","",$I109+$K109+$M109) | H109: =IF($A109="","",VLOOKUP($A109,일위목록!$A:$J,7,FALSE)) | I109: =IF($A109="","",TRUNC($D109*$H109)) | J109: =IF($A109="","",VLOOKUP($A109,일위목록!$A:$J,8,FALSE)) | K109: =IF($A109="","",TRUNC($D109*$J109)) | L109: =IF($A109="","",VLOOKUP($A109,일위목록!$A:$J,9,FALSE)) | M109: =IF($A109="","",TRUNC($D109*$L109)) | N109: =IF($A109="","",VLOOKUP($A109,일위목록!$A:$J,10,FALSE))
B111: =IF($A111="","",VLOOKUP($A111,일위목록!$A:$J,2,FALSE)) | C111: =IF($A111="","",VLOOKUP($A111,일위목록!$A:$J,3,FALSE)) | D111: =IF($A111="","",IF(ISERROR(VLOOKUP($A111,부대공사총집계,17,FALSE)),"",VLOOKUP($A111,부대공사총집계,17,FALSE))) | E111: =IF($A111="","",VLOOKUP($A111,일위목록!$A:$J,5,FALSE)) | F111: =IF($A111="","",VLOOKUP($A111,일위목록!$A:$J,6,FALSE)) | G111: =IF($A111="","",$I111+$K111+$M111) | H111: =IF($A111="","",VLOOKUP($A111,일위목록!$A:$J,7,FALSE)) | I111: =IF($A111="","",TRUNC($D111*$H111)) | J111: =IF($A111="","",VLOOKUP($A111,일위목록!$A:$J,8,FALSE)) | K111: =IF($A111="","",TRUNC($D111*$J111)) | L111: =IF($A111="","",VLOOKUP($A111,일위목록!$A:$J,9,FALSE)) | M111: =IF($A111="","",TRUNC($D111*$L111)) | N111: =IF($A111="","",VLOOKUP($A111,일위목록!$A:$J,10,FALSE))
B112: =IF($A112="","",VLOOKUP($A112,일위목록!$A:$J,2,FALSE)) | C112: =IF($A112="","",VLOOKUP($A112,일위목록!$A:$J,3,FALSE)) | D112: =IF($A112="","",IF(ISERROR(VLOOKUP($A112,부대공사총집계,17,FALSE)),"",VLOOKUP($A112,부대공사총집계,17,FALSE))) | E112: =IF($A112="","",VLOOKUP($A112,일위목록!$A:$J,5,FALSE)) | F112: =IF($A112="","",VLOOKUP($A112,일위목록!$A:$J,6,FALSE)) | G112: =IF($A112="","",$I112+$K112+$M112) | H112: =IF($A112="","",VLOOKUP($A112,일위목록!$A:$J,7,FALSE)) | I112: =IF($A112="","",TRUNC($D112*$H112)) | J112: =IF($A112="","",VLOOKUP($A112,일위목록!$A:$J,8,FALSE)) | K112: =IF($A112="","",TRUNC($D112*$J112)) | L112: =IF($A112="","",VLOOKUP($A112,일위목록!$A:$J,9,FALSE)) | M112: =IF($A112="","",TRUNC($D112*$L112)) | N112: =IF($A112="","",VLOOKUP($A112,일위목록!$A:$J,10,FALSE))
B113: =IF($A113="","",VLOOKUP($A113,일위목록!$A:$J,2,FALSE)) | C113: =IF($A113="","",VLOOKUP($A113,일위목록!$A:$J,3,FALSE)) | D113: =IF($A113="","",IF(ISERROR(VLOOKUP($A113,부대공사총집계,17,FALSE)),"",VLOOKUP($A113,부대공사총집계,17,FALSE))) | E113: =IF($A113="","",VLOOKUP($A113,일위목록!$A:$J,5,FALSE)) | F113: =IF($A113="","",VLOOKUP($A113,일위목록!$A:$J,6,FALSE)) | G113: =IF($A113="","",$I113+$K113+$M113) | H113: =IF($A113="","",VLOOKUP($A113,일위목록!$A:$J,7,FALSE)) | I113: =IF($A113="","",TRUNC($D113*$H113)) | J113: =IF($A113="","",VLOOKUP($A113,일위목록!$A:$J,8,FALSE)) | K113: =IF($A113="","",TRUNC($D113*$J113)) | L113: =IF($A113="","",VLOOKUP($A113,일위목록!$A:$J,9,FALSE)) | M113: =IF($A113="","",TRUNC($D113*$L113)) | N113: =IF($A113="","",VLOOKUP($A113,일위목록!$A:$J,10,FALSE))
B114: =IF($A114="","",VLOOKUP($A114,일위목록!$A:$J,2,FALSE)) | C114: =IF($A114="","",VLOOKUP($A114,일위목록!$A:$J,3,FALSE)) | D114: =IF($A114="","",IF(ISERROR(VLOOKUP($A114,부대공사총집계,17,FALSE)),"",VLOOKUP($A114,부대공사총집계,17,FALSE))) | E114: =IF($A114="","",VLOOKUP($A114,일위목록!$A:$J,5,FALSE)) | F114: =IF($A114="","",VLOOKUP($A114,일위목록!$A:$J,6,FALSE)) | G114: =IF($A114="","",$I114+$K114+$M114) | H114: =IF($A114="","",VLOOKUP($A114,일위목록!$A:$J,7,FALSE)) | I114: =IF($A114="","",TRUNC($D114*$H114)) | J114: =IF($A114="","",VLOOKUP($A114,일위목록!$A:$J,8,FALSE)) | K114: =IF($A114="","",TRUNC($D114*$J114)) | L114: =IF($A114="","",VLOOKUP($A114,일위목록!$A:$J,9,FALSE)) | M114: =IF($A114="","",TRUNC($D114*$L114)) | N114: =IF($A114="","",VLOOKUP($A114,일위목록!$A:$J,10,FALSE))
B115: =IF($A115="","",VLOOKUP($A115,일위목록!$A:$J,2,FALSE)) | C115: =IF($A115="","",VLOOKUP($A115,일위목록!$A:$J,3,FALSE)) | D115: =IF($A115="","",IF(ISERROR(VLOOKUP($A115,부대공사총집계,17,FALSE)),"",VLOOKUP($A115,부대공사총집계,17,FALSE))) | E115: =IF($A115="","",VLOOKUP($A115,일위목록!$A:$J,5,FALSE)) | F115: =IF($A115="","",VLOOKUP($A115,일위목록!$A:$J,6,FALSE)) | G115: =IF($A115="","",$I115+$K115+$M115) | H115: =IF($A115="","",VLOOKUP($A115,일위목록!$A:$J,7,FALSE)) | I115: =IF($A115="","",TRUNC($D115*$H115)) | J115: =IF($A115="","",VLOOKUP($A115,일위목록!$A:$J,8,FALSE)) | K115: =IF($A115="","",TRUNC($D115*$J115)) | L115: =IF($A115="","",VLOOKUP($A115,일위목록!$A:$J,9,FALSE)) | M115: =IF($A115="","",TRUNC($D115*$L115)) | N115: =IF($A115="","",VLOOKUP($A115,일위목록!$A:$J,10,FALSE))
B116: 3. 사급자재대 | G116: =IF(SUM(G117:G137)=I116+K116+M116,I116+K116+M116,"^..^") -> 0 | I116: =SUM(I117:I137) -> 0 | K116: =SUM(K117:K137) -> 0 | M116: =SUM(M117:M137) -> 0
B117: =IF($A117="","",VLOOKUP($A117,일위목록!$A:$J,2,FALSE)) | C117: =IF($A117="","",VLOOKUP($A117,일위목록!$A:$J,3,FALSE)) | D117: =IF(A117="","",VLOOKUP(A117,[1]자재집계표!A:S,18,FALSE)) | E117: =IF($A117="","",VLOOKUP($A117,일위목록!$A:$J,5,FALSE)) | F117: =IF($A117="","",VLOOKUP($A117,일위목록!$A:$J,6,FALSE)) | G117: =IF($A117="","",$I117+$K117+$M117) | H117: =IF($A117="","",VLOOKUP($A117,일위목록!$A:$J,7,FALSE)) | I117: =IF($A117="","",TRUNC($D117*$H117)) | J117: =IF($A117="","",VLOOKUP($A117,일위목록!$A:$J,8,FALSE)) | K117: =IF($A117="","",TRUNC($D117*$J117)) | L117: =IF($A117="","",VLOOKUP($A117,일위목록!$A:$J,9,FALSE)) | M117: =IF($A117="","",TRUNC($D117*$L117)) | N117: =IF($A117="","",VLOOKUP($A117,일위목록!$A:$J,10,FALSE))
B118: =IF($A118="","",VLOOKUP($A118,일위목록!$A:$J,2,FALSE)) | C118: =IF($A118="","",VLOOKUP($A118,일위목록!$A:$J,3,FALSE)) | D118: =IF(A118="","",VLOOKUP(A118,[1]자재집계표!A:S,18,FALSE)) | E118: =IF($A118="","",VLOOKUP($A118,일위목록!$A:$J,5,FALSE)) | F118: =IF($A118="","",VLOOKUP($A118,일위목록!$A:$J,6,FALSE)) | G118: =IF($A118="","",$I118+$K118+$M118) | H118: =IF($A118="","",VLOOKUP($A118,일위목록!$A:$J,7,FALSE)) | I118: =IF($A118="","",TRUNC($D118*$H118)) | J118: =IF($A118="","",VLOOKUP($A118,일위목록!$A:$J,8,FALSE)) | K118: =IF($A118="","",TRUNC($D118*$J118)) | L118: =IF($A118="","",VLOOKUP($A118,일위목록!$A:$J,9,FALSE)) | M118: =IF($A118="","",TRUNC($D118*$L118)) | N118: =IF($A118="","",VLOOKUP($A118,일위목록!$A:$J,10,FALSE))
B119: =IF($A119="","",VLOOKUP($A119,일위목록!$A:$J,2,FALSE)) | C119: =IF($A119="","",VLOOKUP($A119,일위목록!$A:$J,3,FALSE)) | D119: =IF(A119="","",VLOOKUP(A119,[1]자재집계표!A:S,18,FALSE)) | E119: =IF($A119="","",VLOOKUP($A119,일위목록!$A:$J,5,FALSE)) | F119: =IF($A119="","",VLOOKUP($A119,일위목록!$A:$J,6,FALSE)) | G119: =IF($A119="","",$I119+$K119+$M119) | H119: =IF($A119="","",VLOOKUP($A119,일위목록!$A:$J,7,FALSE)) | I119: =IF($A119="","",TRUNC($D119*$H119)) | J119: =IF($A119="","",VLOOKUP($A119,일위목록!$A:$J,8,FALSE)) | K119: =IF($A119="","",TRUNC($D119*$J119)) | L119: =IF($A119="","",VLOOKUP($A119,일위목록!$A:$J,9,FALSE)) | M119: =IF($A119="","",TRUNC($D119*$L119)) | N119: =IF($A119="","",VLOOKUP($A119,일위목록!$A:$J,10,FALSE))
B120: =IF($A120="","",VLOOKUP($A120,일위목록!$A:$J,2,FALSE)) | C120: =IF($A120="","",VLOOKUP($A120,일위목록!$A:$J,3,FALSE)) | D120: =IF(A120="","",VLOOKUP(A120,[1]자재집계표!A:S,18,FALSE)) | E120: =IF($A120="","",VLOOKUP($A120,일위목록!$A:$J,5,FALSE)) | F120: =IF($A120="","",VLOOKUP($A120,일위목록!$A:$J,6,FALSE)) | G120: =IF($A120="","",$I120+$K120+$M120) | H120: =IF($A120="","",VLOOKUP($A120,일위목록!$A:$J,7,FALSE)) | I120: =IF($A120="","",TRUNC($D120*$H120)) | J120: =IF($A120="","",VLOOKUP($A120,일위목록!$A:$J,8,FALSE)) | K120: =IF($A120="","",TRUNC($D120*$J120)) | L120: =IF($A120="","",VLOOKUP($A120,일위목록!$A:$J,9,FALSE)) | M120: =IF($A120="","",TRUNC($D120*$L120)) | N120: =IF($A120="","",VLOOKUP($A120,일위목록!$A:$J,10,FALSE))
B121: =IF($A121="","",VLOOKUP($A121,일위목록!$A:$J,2,FALSE)) | C121: =IF($A121="","",VLOOKUP($A121,일위목록!$A:$J,3,FALSE)) | D121: =IF(A121="","",VLOOKUP(A121,[1]자재집계표!A:S,18,FALSE)) | E121: =IF($A121="","",VLOOKUP($A121,일위목록!$A:$J,5,FALSE)) | F121: =IF($A121="","",VLOOKUP($A121,일위목록!$A:$J,6,FALSE)) | G121: =IF($A121="","",$I121+$K121+$M121) | H121: =IF($A121="","",VLOOKUP($A121,일위목록!$A:$J,7,FALSE)) | I121: =IF($A121="","",TRUNC($D121*$H121)) | J121: =IF($A121="","",VLOOKUP($A121,일위목록!$A:$J,8,FALSE)) | K121: =IF($A121="","",TRUNC($D121*$J121)) | L121: =IF($A121="","",VLOOKUP($A121,일위목록!$A:$J,9,FALSE)) | M121: =IF($A121="","",TRUNC($D121*$L121)) | N121: =IF($A121="","",VLOOKUP($A121,일위목록!$A:$J,10,FALSE))
B137: =IF($A137="","",VLOOKUP($A137,일위목록!$A:$J,2,FALSE)) | C137: =IF($A137="","",VLOOKUP($A137,일위목록!$A:$J,3,FALSE)) | D137: =IF(A137="","",VLOOKUP(A137,[1]자재집계표!A:S,18,FALSE)) | E137: =IF($A137="","",VLOOKUP($A137,일위목록!$A:$J,5,FALSE)) | F137: =IF($A137="","",VLOOKUP($A137,일위목록!$A:$J,6,FALSE)) | G137: =IF($A137="","",$I137+$K137+$M137) | H137: =IF($A137="","",VLOOKUP($A137,일위목록!$A:$J,7,FALSE)) | I137: =IF($A137="","",TRUNC($D137*$H137)) | J137: =IF($A137="","",VLOOKUP($A137,일위목록!$A:$J,8,FALSE)) | K137: =IF($A137="","",TRUNC($D137*$J137)) | L137: =IF($A137="","",VLOOKUP($A137,일위목록!$A:$J,9,FALSE)) | M137: =IF($A137="","",TRUNC($D137*$L137)) | N137: =IF($A137="","",VLOOKUP($A137,일위목록!$A:$J,10,FALSE))
A138: 폐기물 | B138: 3. 폐기물처리비 | G138: =IF(SUM(G139)=I138+K138+M138,I138+K138+M138,"^..^") -> 2033680 | I138: =SUM(I139) -> 0 | K138: =SUM(K139) -> 0 | M138: =SUM(M139) -> 2033680
B139: 4.01 폐기물처리 | G139: =IF(SUM(G140:G142)=I139+K139+M139,I139+K139+M139,"^..^") -> 2033680 | I139: =SUM(I140:I142) -> 0 | K139: =SUM(K140:K142) -> 0 | M139: =SUM(M140:M142) -> 2033680
A140: 21 | B140: =IF($A140="","",VLOOKUP($A140,일위목록!$A:$J,2,FALSE)) -> 폐기물처리 | C140: =IF($A140="","",VLOOKUP($A140,일위목록!$A:$J,3,FALSE)) -> (폐콘크리트) | D140: =ROUND([1]헐기조서!O12,0) -> 40 | E140: =IF($A140="","",VLOOKUP($A140,일위목록!$A:$J,5,FALSE)) -> ton | F140: =IF($A140="","",VLOOKUP($A140,일위목록!$A:$J,6,FALSE)) -> 31142 | G140: =IF($A140="","",$I140+$K140+$M140) -> 1245680 | H140: =IF($A140="","",VLOOKUP($A140,일위목록!$A:$J,7,FALSE)) -> 0 | I140: =IF($A140="","",TRUNC($D140*$H140)) -> 0 | J140: =IF($A140="","",VLOOKUP($A140,일위목록!$A:$J,8,FALSE)) -> 0 | K140: =IF($A140="","",TRUNC($D140*$J140)) -> 0 | L140: =IF($A140="","",VLOOKUP($A140,일위목록!$A:$J,9,FALSE)) -> 31142 | M140: =IF($A140="","",TRUNC($D140*$L140)) -> 1245680 | N140: =IF($A140="","",VLOOKUP($A140,일위목록!$A:$J,10,FALSE)) -> #.25
A141: 21a | B141: =IF($A141="","",VLOOKUP($A141,일위목록!$A:$J,2,FALSE)) -> 폐기물운반 | C141: =IF($A141="","",VLOOKUP($A141,일위목록!$A:$J,3,FALSE)) -> (L=30㎞이내) | D141: =D140 -> 40 | E141: =IF($A141="","",VLOOKUP($A141,일위목록!$A:$J,5,FALSE)) -> ton | F141: =IF($A141="","",VLOOKUP($A141,일위목록!$A:$J,6,FALSE)) -> 19700 | G141: =IF($A141="","",$I141+$K141+$M141) -> 788000 | H141: =IF($A141="","",VLOOKUP($A141,일위목록!$A:$J,7,FALSE)) -> 0 | I141: =IF($A141="","",TRUNC($D141*$H141)) -> 0 | J141: =IF($A141="","",VLOOKUP($A141,일위목록!$A:$J,8,FALSE)) -> 0 | K141: =IF($A141="","",TRUNC($D141*$J141)) -> 0 | L141: =IF($A141="","",VLOOKUP($A141,일위목록!$A:$J,9,FALSE)) -> 19700 | M141: =IF($A141="","",TRUNC($D141*$L141)) -> 788000 | N141: =IF($A141="","",VLOOKUP($A141,일위목록!$A:$J,10,FALSE)) -> #.27
B142: =IF($A142="","",VLOOKUP($A142,일위목록!$A:$J,2,FALSE)) | C142: =IF($A142="","",VLOOKUP($A142,일위목록!$A:$J,3,FALSE)) | D142: =IF($A142="","",VLOOKUP($A142,헐기조서,16,FALSE)) | E142: =IF($A142="","",VLOOKUP($A142,일위목록!$A:$J,5,FALSE)) | F142: =IF($A142="","",VLOOKUP($A142,일위목록!$A:$J,6,FALSE)) | G142: =IF($A142="","",$I142+$K142+$M142) | H142: =IF($A142="","",VLOOKUP($A142,일위목록!$A:$J,7,FALSE)) | I142: =IF($A142="","",TRUNC($D142*$H142)) | J142: =IF($A142="","",VLOOKUP($A142,일위목록!$A:$J,8,FALSE)) | K142: =IF($A142="","",TRUNC($D142*$J142)) | M142: =IF($A142="","",TRUNC($D142*$L142/100,-3)) | N142: =IF($A142="","",VLOOKUP($A142,일위목록!$A:$J,10,FALSE))
B143: =IF($A143="","",VLOOKUP($A143,일위목록!$A:$J,2,FALSE)) | C143: =IF($A143="","",VLOOKUP($A143,일위목록!$A:$J,3,FALSE)) | D143: =IF($A143="","",VLOOKUP($A143,헐기조서,16,FALSE)) | E143: =IF($A143="","",VLOOKUP($A143,일위목록!$A:$J,5,FALSE)) | F143: =IF($A143="","",VLOOKUP($A143,일위목록!$A:$J,6,FALSE)) | G143: =IF($A143="","",$I143+$K143+$M143) | H143: =IF($A143="","",VLOOKUP($A143,일위목록!$A:$J,7,FALSE)) | I143: =IF($A143="","",TRUNC($D143*$H143)) | J143: =IF($A143="","",VLOOKUP($A143,일위목록!$A:$J,8,FALSE)) | K143: =IF($A143="","",TRUNC($D143*$J143)) | L143: =IF($A143="","",VLOOKUP($A143,일위목록!$A:$J,9,FALSE)) | M143: =IF($A143="","",TRUNC($D143*$L143)) | N143: =IF($A143="","",VLOOKUP($A143,일위목록!$A:$J,10,FALSE))
B144: =IF($A144="","",VLOOKUP($A144,일위목록!$A:$J,2,FALSE)) | C144: =IF($A144="","",VLOOKUP($A144,일위목록!$A:$J,3,FALSE)) | D144: =IF($A144="","",VLOOKUP($A144,헐기조서,16,FALSE)) | E144: =IF($A144="","",VLOOKUP($A144,일위목록!$A:$J,5,FALSE)) | F144: =IF($A144="","",VLOOKUP($A144,일위목록!$A:$J,6,FALSE)) | G144: =IF($A144="","",$I144+$K144+$M144) | H144: =IF($A144="","",VLOOKUP($A144,일위목록!$A:$J,7,FALSE)) | I144: =IF($A144="","",TRUNC($D144*$H144)) | J144: =IF($A144="","",VLOOKUP($A144,일위목록!$A:$J,8,FALSE)) | K144: =IF($A144="","",TRUNC($D144*$J144)) | L144: =IF($A144="","",VLOOKUP($A144,일위목록!$A:$J,9,FALSE)) | M144: =IF($A144="","",TRUNC($D144*$L144)) | N144: =IF($A144="","",VLOOKUP($A144,일위목록!$A:$J,10,FALSE))
B145: =IF($A145="","",VLOOKUP($A145,일위목록!$A:$J,2,FALSE)) | C145: =IF($A145="","",VLOOKUP($A145,일위목록!$A:$J,3,FALSE)) | D145: =IF($A145="","",VLOOKUP($A145,헐기조서,16,FALSE)) | E145: =IF($A145="","",VLOOKUP($A145,일위목록!$A:$J,5,FALSE)) | F145: =IF($A145="","",VLOOKUP($A145,일위목록!$A:$J,6,FALSE)) | G145: =IF($A145="","",$I145+$K145+$M145) | H145: =IF($A145="","",VLOOKUP($A145,일위목록!$A:$J,7,FALSE)) | I145: =IF($A145="","",TRUNC($D145*$H145)) | J145: =IF($A145="","",VLOOKUP($A145,일위목록!$A:$J,8,FALSE)) | K145: =IF($A145="","",TRUNC($D145*$J145)) | L145: =IF($A145="","",VLOOKUP($A145,일위목록!$A:$J,9,FALSE)) | M145: =IF($A145="","",TRUNC($D145*$L145)) | N145: =IF($A145="","",VLOOKUP($A145,일위목록!$A:$J,10,FALSE))
...

Sheet 일위목록
A1: =내역서!B1 -> ◈. 사 업 명 : 장하지구 수리시설정비사업
A2: No | B2: 공 종 | C2: 규격 또는 치수 | D2: 수량 | E2: 단위 | F2: 합 계 | G2: 노 무 비 | H2: 재 료 비 | I2: 경 비 | J2: 비고 | K2: 출처 | L2: 날짜
A3: 가설사 | B3: 가설사무실(콘테이너) | C3: (3.0*6.0m,3개월) | D3: 1 | E3: 동 | F3: =SUM(G3:I3) -> 1267439 | G3: 0 | H3: 0 | I3: 1267439 | J3: #.1
A4: 터파기 | B4: 터파기 | C4: (TypeⅠ,중기100%) | D4: 1 | E4: ㎥ | F4: =SUM(G4:I4) -> 1886 | G4: 843 | H4: 620 | I4: 423 | J4: #.2
A5: 잔토처리 | B5: 잔토처리 | C5: (굴착기0.7㎥) | D5: 1 | E5: ㎥ | F5: =SUM(G5:I5) -> 1853 | G5: 1000 | H5: 437 | I5: 416 | J5: #.3
A6: 순성토 | B6: 순성토운반 | C6: (복합중기,L=5.0㎞) | D6: 1 | E6: ㎥ | F6: =SUM(G6:I6) -> 8013 | G6: 3994 | H6: 2554 | I6: 1465 | J6: #.4
A7: 되메움 | B7: 되메우고다짐 | C7: (대형장비) | D7: 1 | E7: ㎥ | F7: =SUM(G7:I7) -> 8869 | G7: 5298 | H7: 1997 | I7: 1574 | J7: #.5
A8: 모래기초 | B8: 모래기초 | D8: 1 | E8: ㎥ | F8: =SUM(G8:I8) -> 48408 | G8: 7914 | H8: 39441 | I8: 1053 | J8: #.6
A9: 거푸집;6;5 | B9: 합판거푸집 | C9: (6회,H=0∼7m) | D9: 1 | E9: ㎡ | F9: =SUM(G9:I9) -> 47242 | G9: 34461 | H9: 12437 | I9: 344 | J9: #.7
A10: 수로관;5050 | B10: 보강수로관부설 | C10: (500*500㎜) | D10: 1 | E10: m | F10: =SUM(G10:I10) -> 22040 | G10: 15291 | H10: 3218 | I10: 3531 | J10: #.8
A11: 수로관;8070 | B11: 보강수로관부설 | C11: (800*700㎜) | D11: 1 | E11: m | F11: =SUM(G11:I11) -> 39555 | G11: 27411 | H11: 5787 | I11: 6357 | J11: #.9
A12: 수로관;1210 | B12: 보강수로관부설 | C12: (1200*1000㎜) | D12: 1 | E12: m | F12: =SUM(G12:I12) -> 62136 | G12: 37828 | H12: 13698 | I12: 10610 | J12: #.10
A13: 건널목암거;5050 | B13: 이형수로관부설 | C13: (500*500㎜) | D13: 1 | E13: m | F13: =SUM(G13:I13) -> 48533 | G13: 40956 | H13: 2665 | I13: 4912 | J13: #.11
A14: 건널목암거;8070 | B14: 이형수로관부설 | C14: (800*700㎜) | D14: 1 | E14: m | F14: =SUM(G14:I14) -> 82313 | G14: 69768 | H14: 4315 | I14: 8230 | J14: #.12
A15: 맨홀15 | B15: 맨홀설치(뚜껑포함) | C15: (1.5*1.5*1.5m) | D15: 1 | E15: EA | F15: =SUM(G15:I15) -> 1925537 | G15: 262440 | H15: 1530788 | I15: 132309 | J15: #.13
A16: 11 | B16: 무근콘크리트헐기 | C16: (t=30㎝미만) | D16: 1 | E16: ㎥ | F16: =SUM(G16:I16) -> 37874 | G16: 21138 | H16: 7407 | I16: 9329 | J16: #.14
A17: 철근헐기;29 | B17: 철근콘크리트헐기 | C17: (t=30㎝미만) | D17: 1 | E17: ㎥ | F17: =SUM(G17:I17) -> 61266 | G17: 42716 | H17: 2359 | I17: 16191 | J17: #.15
A18: 보조기층 | B18: 보조기층포설 | C18: (인력,소규모) | D18: 1 | E18: ㎥ | F18: =SUM(G18:I18) -> 46119 | G18: 11634 | H18: 32866 | I18: 1619 | J18: #.16
A19: 콘크리트포장 | B19: 콘크리트포장 | C19: (A-Type,t=20㎝) | D19: 1 | E19: ㎡ | F19: =SUM(G19:I19) -> 9282 | G19: 2874 | H19: 6322 | I19: 86 | J19: #.17
A20: 급수;150 | B20: 급수관부설 | C20: (Φ150㎜) | D20: 1 | E20: m | F20: =SUM(G20:I20) -> 20925 | G20: 7277 | H20: 13430 | I20: 218 | J20: #.18
A21: 급수개폐기설치 | B21: 급수개폐기설치 | C21: (Φ150㎜) | D21: 1 | E21: 조 | F21: =SUM(G21:I21) -> 208845 | G21: 9945 | H21: 198900 | I21: 0 | J21: #.19
A22: 수천공;500 | B22: 수로관천공및접합 | C22: (H500*Φ150㎜) | D22: 1 | E22: EA | F22: =SUM(G22:I22) -> 24511 | G22: 22413 | H22: 894 | I22: 1204 | J22: #.20
B23: 모르터 | C23: (1:2) | D23: 1 | E23: ㎥ | F23: =SUM(G23:I23) -> 282236 | G23: 113564 | H23: 149078 | I23: 19594 | J23: #.21
A24: 포장절단;콘크리트 | B24: 포장절단 | C24: (콘크리트) | D24: 1 | E24: m | F24: =SUM(G24:I24) -> 2337 | G24: 1521 | H24: 778 | I24: 38 | J24: #.22
A25: 중덤 | B25: 중기운반 | C25: (덤프15.0ton) | D25: 1 | E25: 대 | F25: =SUM(G25:I25) -> 157335 | G25: 0 | H25: 0 | I25: 157335 | J25: #.23
A26: 중트 | B26: 중기운반 | C26: (트레일러20ton) | D26: 1 | E26: 대 | F26: =SUM(G26:I26) -> 151104 | G26: 0 | H26: 0 | I26: 151104 | J26: #.24
A27: 21 | B27: 폐기물처리 | C27: (폐콘크리트) | D27: 1 | E27: ton | F27: =SUM(G27:I27) -> 31142 | G27: 0 | H27: 0 | I27: 31142 | J27: #.25
B28: 폐기물적재 | C28: (굴착기0.7㎥,폐콘크리트) | D28: 1 | E28: ㎥ | F28: =SUM(G28:I28) -> 6731 | G28: 3632 | H28: 1588 | I28: 1511 | J28: #.26
A29: 21a | B29: 폐기물운반 | C29: (L=30㎞이내) | D29: 1 | E29: ton | F29: =SUM(G29:I29) -> 19700 | G29: 0 | H29: 0 | I29: 19700 | J29: #.27
B30: 시멘트운반 | C30: (구역화물) | D30: 1 | E30: ton | F30: =SUM(G30:I30) -> 28816 | G30: 0 | H30: 0 | I30: 28816 | J30: #.28
A31: 보강수로관;소운반;50 | B31: 수로관소운반 | C31: (500*500㎜,덤프2.5ton,L=80m) | D31: 1 | E31: 본 | F31: =SUM(G31:I31) -> 3526 | G31: 0 | H31: 0 | I31: 3526 | J31: #.29
A38: 보강수로관;500500 | B38: 보강수로관 | C38: 500*500*2000㎜ | D38: 1 | E38: 본 | F38: =SUM(G38:I38) -> 125900 | H38: =TRUNC(J38/1.1)+0 -> 114454 | I38: =J38-H38 -> 11446 | J38: 125900 | K38: 23436340㈜주안기업
A39: 보강수로관;12001000 | B39: 보강수로관 | C39: 1200*1000*2000㎜ | D39: 1 | E39: 본 | F39: =SUM(G39:I39) -> 346690 | H39: =TRUNC(J39/1.1)+0 -> 315172 | I39: =J39-H39 -> 31518 | J39: 346690 | K39: 23436345㈜주안기업
A40: 보강수로관;800700 | B40: 보강수로관 | C40: 800*700*2000㎜ | D40: 1 | E40: 본 | F40: =SUM(G40:I40) -> 221000 | H40: =TRUNC(J40/1.1)+0 -> 200909 | I40: =J40-H40 -> 20091 | J40: 221000 | K40: 23436343㈜주안기업
A41: 건널목수로관;800700 | B41: 이형수로관 | C41: 800*700*2000mm | D41: 1 | E41: 본 | F41: =SUM(G41:I41) -> 354010 | H41: =TRUNC(J41/1.1)+0 -> 321827 | I41: =J41-H41 -> 32183 | J41: 354010 | K41: 23437156㈜주안기업
A42: 건널목수로관;500500 | B42: 이형수로관 | C42: 500*500*2000mm | D42: 1 | E42: 본 | F42: =SUM(G42:I42) -> 243380 | H42: =TRUNC(J42/1.1)+0 -> 221254 | I42: =J42-H42 -> 22126 | J42: 243380 | K42: 23437154㈜주안기업
A43: 25-18-80 | B43: 레미콘 | C43: 25-18-80 | D43: 1 | E43: ㎥ | F43: =SUM(G43:I43) -> 0
A44: 25-21-80 | B44: 레미콘 | C44: 25-21-80 | D44: 1 | E44: ㎥ | F44: =SUM(G44:I44) -> 0
A45: 25-24-80 | B45: 레미콘 | C45: 25-24-80 | D45: 1 | E45: ㎥ | F45: =SUM(G45:I45) -> 97900 | H45: =TRUNC(J45/1.1)+0 -> 89000 | I45: =J45-H45 -> 8900 | J45: 97900 | K45: 경인레미콘사업협동조합
A46: 25-24-120 | B46: 레미콘 | C46: 25-24-120 | D46: 1 | E46: ㎥ | F46: =SUM(G46:I46) -> 0
A47: 에치;13 | B47: 이형철근 | C47: H13㎜(SD400) | D47: 1 | E47: ton | F47: =SUM(G47:I47) -> 0
A48: 에치;16 | B48: 이형철근 | C48: H16㎜(SD400) | D48: 1 | E48: ton | F48: =SUM(G48:I48) -> 0
A49: 에치;19 | B49: 이형철근 | C49: H19㎜(SD400) | D49: 1 | E49: ton | F49: =SUM(G49:I49) -> 0
A50: 에치;22 | B50: 이형철근 | C50: H22㎜(SD400) | D50: 1 | E50: ton | F50: =SUM(G50:I50) -> 0
A51: 에치;25 | B51: 이형철근 | C51: H25㎜(SD400) | D51: 1 | E51: ton | F51: =SUM(G51:I51) -> 0
F54: 철근운반
F55: 중기운반거리 | G55: 2.8
C56: 경유 | F56: =SUM(G56:I56) -> 2006.2 | G56: 2026년5월2주 | H56: =TRUNC(J56/1.1,2)+0 -> 1823.81 | I56: =J56-H56 -> 182.39 | J56: 2006.2
C57: 휘발유 | F57: =SUM(G57:I57) -> 2012.52 | H57: =TRUNC(J57/1.1,2)+0 -> 1829.56 | I57: =J57-H57 -> 182.96 | J57: 2012.52
F58: =SUM(G58:I58) -> 0
F59: =SUM(G59:I59) -> 0 | K59: 견적, | M59: 경비항목으로 계상
A60: 47 | B60: 철근계 | D60: 1 | E60: ton | F60: =SUM(G60:I60) -> 0
A61: 48 | B61: 부가가치세 | D61: 1 | E61: % | F61: =SUM(G61:I61) -> 0
A62: 49 | B62: 조정액 | D62: 1 | E62: 식 | F62: =SUM(G62:I62) -> 0

Sheet Sheet1
