Workbook

Sheet 겉표지
A1: =표지!A1 -> 內 譯 書 | Z1: 견적가로형식-1
C18: 件 名: | D18: =표지!C13 -> 샘플
C20: 提 出 處: | D20: =표지!C4 -> 貴下
C22: 提 出 日: | D22: =표지!C6 -> 2026년 8월 31일
D36: =표지!I3 -> 대 한 민 국 주 식 회 사
D37: =표지!I4
D38: =표지!I5 -> ㅇ ㅇ 시 ㅇ ㅇ 구 ㅇ ㅇ 동
D39: =표지!I6
D40: =표지!I7 -> 대표이사 홍 길 동
D41: =표지!I8
D42: =표지!I9 -> 대표전화 (02) 0 0 0 - 0 0 0 0
D43: =표지!I10
D44: =표지!I11 -> 팩 스 (02) 0 0 0 - 0 0 0 0
D45: =표지!I12
D46: =표지!I13

Sheet 표지
A1: 內 譯 書
I3: 대 한 민 국 주 식 회 사
B4: 제 출 처: | C4: 貴下
I5: ㅇ ㅇ 시 ㅇ ㅇ 구 ㅇ ㅇ 동
B6: 제 출 일: | C6: 2026년 8월 31일
I7: 대표이사 홍 길 동
B8: 아래와 같이 內譯書를 제출합니다.
I9: 대표전화 (02) 0 0 0 - 0 0 0 0
I11: 팩 스 (02) 0 0 0 - 0 0 0 0
B13: 공 사 명: | C13: 샘플
B15: 공사금액: | C15: ="一金"&NUMBERSTRING(F40,2)&"원整("&DOLLAR(F40,0)&")" -> 一金零원整(₩0)
B17: 내 용 | D17: 단위 | E17: 수량 | F17: 금 액 | H17: 비 고 | M17: 요율 | N17: 금액 | O17: 이윤 | P17: 끝자리맞추기
N18: =E18*F18 -> 0
N19: =E19*F19 -> 0
N20: =E20*F20 -> 0
N21: =E21*F21 -> 0
N22: =E22*F22 -> 0
N23: =E23*F23 -> 0
N24: =E24*F24 -> 0
N25: =E25*F25 -> 0
N26: =E26*F26 -> 0
N27: =E27*F27 -> 0
N28: =E28*F28 -> 0
N29: =E29*F29 -> 0
... N39: =E39*F39 -> 0
F40: =N40 -> 0 | N40: =SUM(N18:N39) -> 0
B41: 1. 부가가치세 별도
B42: 2. 한전불입금 별도

Sheet 원가
A1: 원 가 계 산 서
A3: 공사명: | C3: 농수산물도매시장 노후전기설비정비 실시설계 전기공사 | E3: 공사기간: 6 개월
A4: 비 목 | C4: 구 분 | D4: 금 액 | E4: 구 성 비 | I4: 요율 | J4: 수량 | K4: 금액 | L4: 이윤 | M4: 끝자리 맞추기
B5: 재 료 비 | C5: 직 접 재 료 비 | D5: =옵션!$B$2 -> 27109991 | J5: 1 | K5: =D5*J5 -> 27109991
C6: 간 접 재 료 비 | K6: =D6*J6 -> 0
C7: ( 소 계 ) | D7: =SUM(D5:D6) -> 27109991 | K7: =D7*J7 -> 0
A8: 순 | B8: 노 무 비 | C8: 직 접 노 무 비 | D8: =옵션!$C$2 -> 30633718 | J8: 1 | K8: =D8*J8 -> 30633718
C9: 간 접 노 무 비 | D9: =TRUNC(D8*I9/100) -> 5483435 | E9: (직접 노무비) * 17.9 % | I9: 17.9 | J9: 1 | K9: =D9*J9 -> 5483435
C10: ( 소 계 ) | D10: =SUM(D8:D9) -> 36117153 | K10: =D10*J10 -> 0
C11: 산 재 보 험 료 | D11: =TRUNC(D10*I11/100) -> 1285770 | E11: (노무비) * 3.56 % | I11: 3.56 | J11: 1 | K11: =D11*J11 -> 1285770
C12: 고 용 보 험 료 | D12: =TRUNC(D10*I12/100) -> 364783 | E12: (노무비) * 1.01 % | I12: 1.01 | J12: 1 | K12: =D12*J12 -> 364783
A13: 공 | C13: 퇴 직 금 공 제 | D13: =TRUNC(D8*I13/100) -> 704575 | E13: (직접 노무비) * 2.3 % | I13: 2.3 | J13: 1 | K13: =D13*J13 -> 704575
B14: 경 | C14: 안 전 관 리 비 | D14: =TRUNC((D7+D8+0/1.1)*I14/100) -> 1795829 | E14: (재료+직노+관급재/1.1) * 3.11 % | I14: 3.11 | J14: 1 | K14: =D14*J14 -> 1795829
C15: 기 타 경 비 | D15: =TRUNC((D7+D10)*I15/100) -> 3287811 | E15: (재료+노무) * 5.2 % | I15: 5.2 | J15: 1 | K15: =D15*J15 -> 3287811
C16: 건 강 보 험 료 | D16: =TRUNC(D8*I16/100) -> 1101282 | E16: (직접 노무비) * 3.595 % | I16: 3.595 | J16: 1 | K16: =D16*J16 -> 1101282
C17: 연 금 보 험 료 | D17: =TRUNC(D8*I17/100) -> 1455101 | E17: (직접 노무비) * 4.75 % | I17: 4.75 | J17: 1 | K17: =D17*J17 -> 1455101
A18: 사 | C18: 노인장기요양보험 | D18: =TRUNC(D16*I18/100) -> 144708 | E18: (건강 보험료) * 13.14 % | I18: 13.14 | J18: 1 | K18: =D18*J18 -> 144708
C19: 법 정 분 담 금 | D19: =TRUNC(D10*I19/100) -> 34672 | E19: (노무비) * 0.096 % | I19: 0.096 | J19: 1 | K19: =D19*J19 -> 34672
K20: =D20*J20 -> 0
K21: =D21*J21 -> 0
B22: 비 | K22: =D22*J22 -> 0
A23: 비 | K23: =D23*J23 -> 0
K24: =D24*J24 -> 0
C25: ( 소 계 ) | D25: =SUM(D11:D24) -> 10174531 | K25: =D25*J25 -> 0
B26: ( 순 공 사 비 계 ) | D26: =D7+D10+D25 -> 73401675 | K26: =D26*J26 -> 0
A27: 일 반 관 리 비 | D27: =TRUNC((D7+D10+D25)*I27/100) -> 5872134 | E27: (재료+노무+경비) * 8 % | I27: 8 | J27: 1 | K27: =D27*J27 -> 5872134
A28: 이 윤 | D28: =L28-((SUM(K5:K27)+L28-TRUNC((SUM(K5:K27)+L28)/M28)*M28)) -> 7726191 | E28: (노무+경비+일반관리비) * 14.742 % | I28: 15 | J28: 1 | K28: =D28*J28 -> 7726191 | L28: =TRUNC((D10+D25+D27)*I28/100) -> 7824572 | M28: 100000
A29: ( 총 원 가 ) | D29: =SUM(K5:K28) -> 87000000 | K29: =D29*J29 -> 0
A30: 부 가 가 치 세 | D30: =TRUNC(D29*I30/100) -> 8700000 | I30: 10 | J30: 1 | K30: =D30*J30 -> 8700000
K31: =D31*J31 -> 0
K32: =D32*J32 -> 0
K33: =D33*J33 -> 0
K34: =D34*J34 -> 0
A35: ( 총 계 ) | D35: =K35 -> 95700000 | K35: =SUM(K5:K34) -> 95700000

Sheet 결제판
B2: 과 장
D3: 2026년 08월 | R3: 위 치 : | T3: 전남광주통합특별시 북구 동문대로 260
C5: 노후전기설비정비 전기공사
B7: 담 당
D8: ◎ 사 업 개 요
E10: 1. 노후전기설비정비 전기공사
E11: =[1]입력판!B9 -> 0
B12: 설 계 월 일
B14: 2026년 08월
B17: 심사자
B22: 설계자
D24: ◇ 총 공 사 비 : | I24: 일금 이백만원정 | J24: =NUMBERSTRING(T24,1)&"원정" -> 구천사백삼십일만육천원정 | S24: ( | T24: =T25+T26 -> 94316000 | X24: )
D25: ◇ 도급 예정액 : | I25: 일금 이백만원정 | J25: =NUMBERSTRING(T25,1)&"원정" -> 구천사백삼십일만육천원정 | S25: ( | T25: =원가계산서!L34 -> 94316000 | X25: )
D26: ◇ 관급 자재대 : | I26: 일금 원정 | J26: =NUMBERSTRING(T26,1)&"원정" -> 영원정 | S26: ( | X26: )
B27: 조사자
H28: 전남광주통합특별시 (각화동농산물도매시장 관리사무소)

Sheet 원가계산서
A1: [ 노후전기설비정비 전기공사 ] | K1: [ 공사기간 ] : 6개월이하
A2: 비목 | C2: 구 성 비 | L2: 계 산 금 액 | M2: 비 고
A3: 순 공 사 | B3: 재료비 | C3: ①직접재료비 | L3: =총괄표!I29 -> 27109991
C4: ②간접재료비
C5: ③작업부산물
C6: [ 재료비소계 ] | L6: =SUM(L3,L4,L5) -> 27109991
B7: 노무비 | C7: ①직접노무비 | L7: =총괄표!L29 -> 30633718
C8: ②간접노무비 | D8: ①직접노무비 | F8: * | G8: 0.175 | L8: =TRUNC(L7*G8) -> 5360900
C9: [ 노무비소계 ] | L9: =SUM(L7,L8) -> 35994618
B10: 경 비 | C10: ①산출경비
C11: ②기타경비 | D11: [ 재료비소계 + 노무비소계 ] | F11: * | G11: 0.05 | L11: =TRUNC((L6+L9)*G11) -> 3155230
C12: ③산재보험료 | D12: [ 노무비소계 ] | F12: * | G12: 0.0356 | L12: =TRUNC(L9*G12) -> 1281408
C13: ④고용보험료 | D13: [ 노무비소계 ] | F13: * | G13: 0.0101 | L13: =TRUNC(L9*G13) -> 363545
C14: ⑤건강보험료 | D14: ①직접노무비 | F14: * | G14: 0.03595 | L14: =TRUNC(L7*G14) -> 1101282
C15: ⑥연금보험료 | D15: ①직접노무비 | F15: * | G15: 0.0475 | L15: =TRUNC(L7*G15) -> 1455101
C16: ⑦노인장기요양보험료 | D16: ⑤건강보험료 | F16: * | G16: 0.1314 | L16: =TRUNC(L14*G16) -> 144708
C17: ⑧퇴직공제부금비 | D17: ①직접노무비 | F17: * | G17: 0.023 | M17: 1억이상
C18: ⑨ 산업안전보건관리비 | D18: [ 재료비소계 + 직접노무비 ] | F18: * | G18: 0.0311 | L18: =TRUNC((L6+L7)*G18) -> 1795829 | M18: 2천만원이상
C19: ⑨ 산업안전보건관리비-a | D19: [ 재료비소계 + 직접노무비 + 도급자관급/1.1 ] | F19: * | G19: 0.0311 | H19: * | I19: 1 | M19: 5억미만관급
C20: ⑨ 산업안전보건관리비-b | D20: [ 재료비소계 + 직접노무비 ] | F20: * | G20: 0.0311 | H20: * | I20: 1.2 | M20: 5억미만관급
C21: ⑨ 산업안전보건관리비-aa | D21: [ 재료비소계 + 직접노무비 + 도급자관급/1.1 ] | F21: * | G21: 0.0186 | H21: + | I21: 5349000 | J21: * | K21: 1 | M21: 5억이상50억미만
C22: ⑨ 산업안전보건관리비-bb | D22: [ 재료비소계 + 직접노무비 ] | F22: * | G22: 0.0186 | H22: + | I22: 5349000 | J22: * | K22: 1.2 | M22: 5억이상50억미만
C23: ⑩ 적용산업안전보건관리비 | L23: =MIN(L18,L19,L20) -> 1795829 | M23: a.b[aa.bb]안중적은금액
C24: ⑪ 법정분담금 | D24: 노무비 | F24: * | G24: 0.00096 | L24: =TRUNC(L9*G24) -> 34554 | M24: 석면분담금,임금채권부담금
C25: [ 경 비 소 계 ] | L25: =SUM(L10,L11,L12,L13,L14,L15,L16,L17,L23,L24) -> 9331657
A26: 순 공 사 비 소 계 | D26: 재료비+노무비+경비 | L26: =SUM(L6,L9,L25) -> 72436266
A27: 일 반 관 리 비 | D27: 순공사비소계 | F27: * | G27: 0.08 | L27: =TRUNC(L26*G27) -> 5794901 | M27: 8.0%.6.5%.5.0%.4.5%
A28: 이 윤 | D28: 노무비+경비+일반관리비 | F28: * | G28: 0.15 | L28: =TRUNC(SUM(L9,L25,L27)*G28) -> 7668176 | M28: 15%.12%.10%.9.0%
A29: 고 재 처 리 비 | D29: 작업부산물 처리비(A상동,스텐304,고철) | L29: =R32 -> -363100 | O29: A동(상동)15KG기준 | P29: 15 | Q29: =단가조사!G103 -> -18400 | R29: =Q29*P29 -> -276000
A30: 공 급 가 액(총원가) | D30: 순공사비+일반관리비+이윤 | L30: =SUM(L26,L27,L28:L29) -> 85536243 | O30: 스텐304 30KG | P30: 30 | Q30: =단가조사!G104 -> -1700 | R30: =Q30*P30 -> -51000
A31: 부 가 가 치 세 | D31: 공급가액(총원가) | F31: * | G31: 0.1 | L31: =TRUNC(L30*G31) -> 8553624 | O31: 고철(경량) 95KG | P31: 95 | Q31: =단가조사!G105 -> -380 | R31: =Q31*P31 -> -36100
A32: 전기공사 손해배상공제 | D32: 공급가액(총원가) | F32: * | G32: 0.0026477 | L32: =TRUNC(L30*G32) -> 226474 | Q32: 고재처리비 | R32: =R31+R30+R29 -> -363100
A33: 도 급 금 액 | D33: 공급가액(총원가)+부가가치세+전기공사 손해배상공제 | L33: =SUM(L30,L31,L32) -> 94316341
A34: 총 공 사 비 | L34: =SUM(L33)-341 -> 94316000 | M34: 단수정리 천원미만 | S34: 간노,기타경비,일반관리비,이윤

Sheet 총괄표
A1: 총줄수-> | B1: 29 | C1: 2.0 | D1: [ 노후전기설비정비 전기공사 ] | AA1: 연속견적가로형식
A2: 번호 | B2: 공종코드 | C2: … | D2: 공 종 명 | E2: 규격 | F2: 단위 | G2: 수량 | H2: 재료비 | J2: 노무비 | M2: 경비 | P2: 계 | Q2: 비고
H3: 단가 | I3: 금액 | J3: 수량 | K3: 단가 | L3: 금액 | M3: 단가 | N3: 금액 | O3: 단가
B4: 공종줄 | D4: [농수산물도매시장 노후전기설비정비 실시설계]
B5: 001 | D5: 1.전기공사 | F5: 식 | G5: 1 | H5: =내역서!I108 -> 27109991 | I5: =G5*H5 -> 27109991 | K5: =내역서!L108 -> 30633718 | L5: =G5*K5 -> 30633718 | M5: =내역서!N108 -> 0 | N5: =G5*M5 -> 0 | P5: =SUM(I5,L5,N5) -> 57743709
I6: =G6*H6 -> 0 | L6: =G6*K6 -> 0 | N6: =G6*M6 -> 0 | P6: =SUM(I6,L6,N6) -> 0
I7: =G7*H7 -> 0 | L7: =G7*K7 -> 0 | N7: =G7*M7 -> 0 | P7: =SUM(I7,L7,N7) -> 0
I8: =G8*H8 -> 0 | L8: =G8*K8 -> 0 | N8: =G8*M8 -> 0 | P8: =SUM(I8,L8,N8) -> 0
I9: =G9*H9 -> 0 | L9: =G9*K9 -> 0 | N9: =G9*M9 -> 0 | P9: =SUM(I9,L9,N9) -> 0
I10: =G10*H10 -> 0 | L10: =G10*K10 -> 0 | N10: =G10*M10 -> 0 | P10: =SUM(I10,L10,N10) -> 0
I11: =G11*H11 -> 0 | L11: =G11*K11 -> 0 | N11: =G11*M11 -> 0 | P11: =SUM(I11,L11,N11) -> 0
I12: =G12*H12 -> 0 | L12: =G12*K12 -> 0 | N12: =G12*M12 -> 0 | P12: =SUM(I12,L12,N12) -> 0
I13: =G13*H13 -> 0 | L13: =G13*K13 -> 0 | N13: =G13*M13 -> 0 | P13: =SUM(I13,L13,N13) -> 0
I14: =G14*H14 -> 0 | L14: =G14*K14 -> 0 | N14: =G14*M14 -> 0 | P14: =SUM(I14,L14,N14) -> 0
I15: =G15*H15 -> 0 | L15: =G15*K15 -> 0 | N15: =G15*M15 -> 0 | P15: =SUM(I15,L15,N15) -> 0
I16: =G16*H16 -> 0 | L16: =G16*K16 -> 0 | N16: =G16*M16 -> 0 | P16: =SUM(I16,L16,N16) -> 0
I17: =G17*H17 -> 0 | L17: =G17*K17 -> 0 | N17: =G17*M17 -> 0 | P17: =SUM(I17,L17,N17) -> 0
... I28: =G28*H28 -> 0 | L28: =G28*K28 -> 0 | N28: =G28*M28 -> 0 | P28: =SUM(I28,L28,N28) -> 0
C29: Total | D29: ( 합 계 ) | I29: =TRUNC(SUM(I4:I28)) -> 27109991 | L29: =TRUNC(SUM(L4:L28)) -> 30633718 | N29: =TRUNC(SUM(N4:N28)) -> 0 | P29: =TRUNC(SUM(P4:P28)) -> 57743709

Sheet 내역서
A1: 총줄수-> | B1: 107 | C1: 2.0 | D1: [ 노후전기설비정비 전기공사 ] | W1: 노임 계산 정보 | AA1: 부속재 및 손료
A2: 번호 | B2: 공종코드 | C2: 코드 | D2: 명 칭 | E2: 규 격 | F2: 단위 | G2: 수량 | H2: 재료비 | J2: 노무비 | M2: 경비 | P2: 계 | Q2: 비고 | W2: 노임계 | X2: 전체(%) | Y2: 공종별(%) | Z2: 노임 소수 | AA2: CD배관재 | AB2: 일반배관재 | AC2: 소모재 | AD2: 자재계 | AE2: 노임계
H3: 단가 | I3: 금액 | J3: 수량 | K3: 단가 | L3: 금액 | M3: 단가 | N3: 금액 | O3: 단가 | AD3: =IF(옵션!$C$11 =0, "1", 옵션!$C$11) -> 1 | AE3: =IF(옵션!$C$12 =0, "1", 옵션!$C$12) -> 1
B4: 공종줄 | D4: 1.전기공사
A5: 59750337004 | B5: 001 | C5: 3913170610034835 | D5: 강제전선관 | E5: 아연도 36 mm | F5: m | G5: 25 | H5: =합산자재!H4 -> 5134 | I5: =TRUNC(G5*H5) -> 128350 | J5: 22 | K5: =합산자재!I4 -> 0 | L5: =TRUNC(G5*K5) -> 0 | M5: =합산자재!J4 -> 0 | N5: =TRUNC(G5*M5) -> 0 | P5: =SUM(I5,L5,N5) -> 128350 | AB5: =G5*H5 -> 128350 | AC5: =G5*H5 -> 128350
A6: 59753097002 | B6: 001 | C6: 3913170610035664 | D6: 합성수지제 가요전선관 | E6: CD-난연성 16㎜ | F6: m | G6: 14 | H6: =합산자재!H5 -> 170 | I6: =TRUNC(G6*H6) -> 2380 | J6: 12 | K6: =합산자재!I5 -> 0 | L6: =TRUNC(G6*K6) -> 0 | M6: =합산자재!J5 -> 0 | N6: =TRUNC(G6*M6) -> 0 | P6: =SUM(I6,L6,N6) -> 2380 | AA6: =G6*H6 -> 2380 | AC6: =G6*H6 -> 2380
A7: 59753178002 | B7: 001 | C7: 3913170610045632 | D7: 파상형 폴리에틸렌 전선관 | E7: 40㎜ | F7: m | G7: 11 | H7: =합산자재!H6 -> 522 | I7: =TRUNC(G7*H7) -> 5742 | J7: 10 | K7: =합산자재!I6 -> 0 | L7: =TRUNC(G7*K7) -> 0 | M7: =합산자재!J6 -> 0 | N7: =TRUNC(G7*M7) -> 0 | P7: =SUM(I7,L7,N7) -> 5742 | AB7: =G7*H7 -> 5742 | AC7: =G7*H7 -> 5742
A8: A0600000000 | B8: 001 | C8: RENT000000000001 | D8: [ 배관 부속재 ] | E8: CD 전선관의 40 % | F8: 식 | G8: 1 | H8: =TRUNC(AA8*옵션!$B$32/100) -> 952 | I8: =TRUNC(G8*H8) -> 952 | J8: 1 | L8: =TRUNC(G8*K8) -> 0 | N8: =TRUNC(G8*M8) -> 0 | P8: =SUM(I8,L8,N8) -> 952 | AA8: =TRUNC(SUM(AA4:AA7)) -> 2380
A9: A0500000000 | B9: 001 | C9: RENT000000000002 | D9: [ 배관 부속재 ] | E9: 전선관의 15 % | F9: 식 | G9: 1 | H9: =TRUNC(AB9*옵션!$B$31/100) -> 20113 | I9: =TRUNC(G9*H9) -> 20113 | J9: 1 | L9: =TRUNC(G9*K9) -> 0 | N9: =TRUNC(G9*M9) -> 0 | P9: =SUM(I9,L9,N9) -> 20113 | AB9: =TRUNC(SUM(AB4:AB8)) -> 134092
A10: 59753017003 | B10: 001 | C10: 3913170620174410 | D10: 1종금속제가요전선관 | E10: 16 mm 일반-비방수 | F10: m | G10: 73 | H10: =합산자재!H7 -> 1151 | I10: =TRUNC(G10*H10) -> 84023 | J10: 66 | K10: =합산자재!I7 -> 0 | L10: =TRUNC(G10*K10) -> 0 | M10: =합산자재!J7 -> 0 | N10: =TRUNC(G10*M10) -> 0 | P10: =SUM(I10,L10,N10) -> 84023 | AC10: =G10*H10 -> 84023
A11: 59753017004 | B11: 001 | C11: 3913170620174411 | D11: 1종금속제가요전선관 | E11: 22 mm 일반-비방수 | F11: m | G11: 19 | H11: =합산자재!H8 -> 1914 | I11: =TRUNC(G11*H11) -> 36366 | J11: 17 | K11: =합산자재!I8 -> 0 | L11: =TRUNC(G11*K11) -> 0 | M11: =합산자재!J8 -> 0 | N11: =TRUNC(G11*M11) -> 0 | P11: =SUM(I11,L11,N11) -> 36366 | AC11: =G11*H11 -> 36366
A12: 59753017043 | B12: 001 | C12: 3913170620174434 | D12: 1종금속제가요전선관 | E12: 커넥터, 16 mm 일반-비방수 | F12: 개 | G12: 26 | H12: =합산자재!H9 -> 407 | I12: =TRUNC(G12*H12) -> 10582 | J12: 26 | K12: =합산자재!I9 -> 0 | L12: =TRUNC(G12*K12) -> 0 | M12: =합산자재!J9 -> 0 | N12: =TRUNC(G12*M12) -> 0 | P12: =SUM(I12,L12,N12) -> 10582
A13: 59759027002 | B13: 001 | C13: 3913170820935618 | D13: 강제전선관용 부품 | E13: 노말밴드, 아연도36 mm | F13: 개 | G13: 5 | H13: =합산자재!H10 -> 3739 | I13: =TRUNC(G13*H13) -> 18695 | J13: 5 | K13: =합산자재!I10 -> 0 | L13: =TRUNC(G13*K13) -> 0 | M13: =합산자재!J10 -> 0 | N13: =TRUNC(G13*M13) -> 0 | P13: =SUM(I13,L13,N13) -> 18695
A14: 59753767011 | B14: 001 | C14: 3912130810035750 | D14: 아우트렛박스 | E14: 8각 54㎜ | F14: 개 | G14: 12 | H14: =합산자재!H11 -> 638 | I14: =TRUNC(G14*H14) -> 7656 | J14: 12 | K14: =합산자재!I11 -> 0 | L14: =TRUNC(G14*K14) -> 0 | M14: =합산자재!J11 -> 0 | N14: =TRUNC(G14*M14) -> 0 | P14: =SUM(I14,L14,N14) -> 7656
A15: 59753767041 | B15: 001 | C15: 3912130810035753 | D15: 아우트렛박스 | E15: 중형4각 54㎜ | F15: 개 | G15: 8 | H15: =합산자재!H12 -> 973 | I15: =TRUNC(G15*H15) -> 7784 | J15: 8 | K15: =합산자재!I12 -> 0 | L15: =TRUNC(G15*K15) -> 0 | M15: =합산자재!J12 -> 0 | N15: =TRUNC(G15*M15) -> 0 | P15: =SUM(I15,L15,N15) -> 7784
A16: 59753767201 | B16: 001 | C16: 3912130820174710 | D16: 아우트렛박스 커버 | E16: 커버, 8각, 평형 | F16: 개 | G16: 12 | H16: =합산자재!H13 -> 343 | I16: =TRUNC(G16*H16) -> 4116 | J16: 12 | K16: =합산자재!I13 -> 0 | L16: =TRUNC(G16*K16) -> 0 | M16: =합산자재!J13 -> 0 | N16: =TRUNC(G16*M16) -> 0 | P16: =SUM(I16,L16,N16) -> 4116
A17: 59753767231 | B17: 001 | C17: 3912130820174713 | D17: 아우트렛박스 커버 | E17: 커버, 4각, 평형 | F17: 개 | G17: 8 | H17: =합산자재!H14 -> 343 | I17: =TRUNC(G17*H17) -> 2744 | J17: 8 | K17: =합산자재!I14 -> 0 | L17: =TRUNC(G17*K17) -> 0 | M17: =합산자재!J14 -> 0 | N17: =TRUNC(G17*M17) -> 0 | P17: =SUM(I17,L17,N17) -> 2744
A18: 59754857116 | B18: 001 | C18: 3912130310035875 | D18: 노출박스 | E18: 16 mm - 1 방출 | F18: 개 | G18: 5 | H18: =합산자재!H15 -> 2577 | I18: =TRUNC(G18*H18) -> 12885 | J18: 5 | K18: =합산자재!I15 -> 0 | L18: =TRUNC(G18*K18) -> 0 | M18: =합산자재!J15 -> 0 | N18: =TRUNC(G18*M18) -> 0 | P18: =SUM(I18,L18,N18) -> 12885
A19: 59753857031 | B19: 001 | C19: 3912130310035797 | D19: 풀박스 | E19: 150×150×100 | F19: 개 | G19: 3 | H19: =합산자재!H16 -> 2856 | I19: =TRUNC(G19*H19) -> 8568 | J19: 3 | K19: =합산자재!I16 -> 0 | L19: =TRUNC(G19*K19) -> 0 | M19: =합산자재!J16 -> 0 | N19: =TRUNC(G19*M19) -> 0 | P19: =SUM(I19,L19,N19) -> 8568
A20: 59754997004 | B20: 001 | C20: 3913170420385334 | D20: 멀티덕트 BODY | E20: AL W150 x H70 | F20: m | G20: 6 | H20: =합산자재!H20 -> 40000 | I20: =TRUNC(G20*H20) -> 240000 | J20: 6 | K20: =합산자재!I20 -> 0 | L20: =TRUNC(G20*K20) -> 0 | M20: =합산자재!J20 -> 0 | N20: =TRUNC(G20*M20) -> 0 | P20: =SUM(I20,L20,N20) -> 240000 | AC20: =G20*H20 -> 240000
A21: 59754997008 | B21: 001 | C21: 3913170420385338 | D21: 멀티덕트 COVER | E21: AL W150 x H70 | F21: m | G21: 6 | H21: =합산자재!H21 -> 5000 | I21: =TRUNC(G21*H21) -> 30000 | J21: 6 | K21: =합산자재!I21 -> 0 | L21: =TRUNC(G21*K21) -> 0 | M21: =합산자재!J21 -> 0 | N21: =TRUNC(G21*M21) -> 0 | P21: =SUM(I21,L21,N21) -> 30000 | AC21: =G21*H21 -> 30000
A22: 59754997012 | B22: 001 | C22: 3913170420385342 | D22: 멀티덕트 H-ELBOW | E22: AL W150 x H70 | F22: 개 | G22: 5 | H22: =합산자재!H22 -> 5000 | I22: =TRUNC(G22*H22) -> 25000 | J22: 5 | K22: =합산자재!I22 -> 0 | L22: =TRUNC(G22*K22) -> 0 | M22: =합산자재!J22 -> 0 | N22: =TRUNC(G22*M22) -> 0 | P22: =SUM(I22,L22,N22) -> 25000
A23: 59350187013 | B23: 001 | C23: 3913171210033640 | D23: 몰드 | E23: 알루미늄(대) | F23: m | G23: 14 | H23: =합산자재!H23 -> 3000 | I23: =TRUNC(G23*H23) -> 42000 | J23: 14 | K23: =합산자재!I23 -> 0 | L23: =TRUNC(G23*K23) -> 0 | M23: =합산자재!J23 -> 0 | N23: =TRUNC(G23*M23) -> 0 | P23: =SUM(I23,L23,N23) -> 42000
A24: MM300001801 | B24: 001 | C24: 3913170810037051 | D24: 강제전선관용 부품 | E24: 새들 (KS) 16c | F24: EA | G24: 60 | H24: =합산자재!H24 -> 90 | I24: =TRUNC(G24*H24) -> 5400 | J24: 60 | K24: =합산자재!I24 -> 0 | L24: =TRUNC(G24*K24) -> 0 | M24: =합산자재!J24 -> 0 | N24: =TRUNC(G24*M24) -> 0 | P24: =SUM(I24,L24,N24) -> 5400
A25: MM300001802 | B25: 001 | C25: 3913170810037052 | D25: 강제전선관용 부품 | E25: 새들 (KS) 22c | F25: EA | G25: 20 | H25: =합산자재!H25 -> 90 | I25: =TRUNC(G25*H25) -> 1800 | J25: 20 | K25: =합산자재!I25 -> 0 | L25: =TRUNC(G25*K25) -> 0 | M25: =합산자재!J25 -> 0 | N25: =TRUNC(G25*M25) -> 0 | P25: =SUM(I25,L25,N25) -> 1800
A26: MM481669624 | B26: 001 | C26: 2612162922076727 | D26: 450/750V 내열비닐절연전선 | E26: HFIX 1.78mm(2.5㎟) | F26: m | G26: 239 | H26: =합산자재!H27 -> 544 | I26: =TRUNC(G26*H26) -> 130016 | J26: 217 | K26: =합산자재!I27 -> 0 | L26: =TRUNC(G26*K26) -> 0 | M26: =합산자재!J27 -> 0 | N26: =TRUNC(G26*M26) -> 0 | P26: =SUM(I26,L26,N26) -> 130016 | AC26: =G26*H26 -> 130016
A27: E1450667003 | B27: 001 | C27: 2612162922076728 | D27: 450/750V 내열비닐절연전선 | E27: HFIX 2.25mm(4㎟) | F27: m | G27: 183 | H27: =합산자재!H28 -> 826 | I27: =TRUNC(G27*H27) -> 151158 | J27: 166 | K27: =합산자재!I28 -> 0 | L27: =TRUNC(G27*K27) -> 0 | M27: =합산자재!J28 -> 0 | N27: =TRUNC(G27*M27) -> 0 | P27: =SUM(I27,L27,N27) -> 151158 | AC27: =G27*H27 -> 151158
A28: E1450927204 | B28: 001 | C28: 2612152420683698 | D28: 접지용비닐절연전선(F-GV) | E28: 10㎟ | F28: m | G28: 28 | H28: =합산자재!H29 -> 2090 | I28: =TRUNC(G28*H28) -> 58520 | J28: 25 | K28: =합산자재!I29 -> 0 | L28: =TRUNC(G28*K28) -> 0 | M28: =합산자재!J29 -> 0 | N28: =TRUNC(G28*M28) -> 0 | P28: =SUM(I28,L28,N28) -> 58520 | AC28: =G28*H28 -> 58520
A29: E1450927205 | B29: 001 | C29: 2612152420683699 | D29: 접지용비닐절연전선(F-GV) | E29: 16㎟ | F29: m | G29: 14 | H29: =합산자재!H30 -> 3041 | I29: =TRUNC(G29*H29) -> 42574 | J29: 12 | K29: =합산자재!I30 -> 0 | L29: =TRUNC(G29*K29) -> 0 | M29: =합산자재!J30 -> 0 | N29: =TRUNC(G29*M29) -> 0 | P29: =SUM(I29,L29,N29) -> 42574 | AC29: =G29*H29 -> 42574
A30: E1450287506 | B30: 001 | C30: 2612162920683887 | D30: 폴리에틸렌 난연케이블 | E30: 0.6/1kv F-CV 1C×25㎟ | F30: m | G30: 5 | H30: =합산자재!H31 -> 5764 | I30: =TRUNC(G30*H30) -> 28820 | J30: 4 | K30: =합산자재!I31 -> 0 | L30: =TRUNC(G30*K30) -> 0 | M30: =합산자재!J31 -> 0 | N30: =TRUNC(G30*M30) -> 0 | P30: =SUM(I30,L30,N30) -> 28820 | AC30: =G30*H30 -> 28820
A31: E1450287508 | B31: 001 | C31: 2612162920683888 | D31: 폴리에틸렌 난연케이블 | E31: 0.6/1kv F-CV 1C×35㎟ | F31: m | G31: 5 | H31: =합산자재!H32 -> 7760 | I31: =TRUNC(G31*H31) -> 38800 | J31: 4 | K31: =합산자재!I32 -> 0 | L31: =TRUNC(G31*K31) -> 0 | M31: =합산자재!J32 -> 0 | N31: =TRUNC(G31*M31) -> 0 | P31: =SUM(I31,L31,N31) -> 38800 | AC31: =G31*H31 -> 38800
A32: E1450287524 | B32: 001 | C32: 2612162920683905 | D32: 폴리에틸렌 난연케이블 | E32: 0.6/1kv F-CV 2C×10㎟ | F32: m | G32: 27 | H32: =합산자재!H33 -> 5105 | I32: =TRUNC(G32*H32) -> 137835 | J32: 25 | K32: =합산자재!I33 -> 0 | L32: =TRUNC(G32*K32) -> 0 | M32: =합산자재!J33 -> 0 | N32: =TRUNC(G32*M32) -> 0 | P32: =SUM(I32,L32,N32) -> 137835 | AC32: =G32*H32 -> 137835
A33: E1450287565 | B33: 001 | C33: 2612162920683947 | D33: 폴리에틸렌 난연케이블 | E33: 0.6/1kv F-CV 4C×16㎟ | F33: m | G33: 11 | H33: =합산자재!H34 -> 15126 | I33: =TRUNC(G33*H33) -> 166386 | J33: 10 | K33: =합산자재!I34 -> 0 | L33: =TRUNC(G33*K33) -> 0 | M33: =합산자재!J34 -> 0 | N33: =TRUNC(G33*M33) -> 0 | P33: =SUM(I33,L33,N33) -> 166386 | AC33: =G33*H33 -> 166386
A34: MM510075121 | B34: 001 | C34: 2612152420683714 | D34: 기기용비닐절연전선 | E34: KIV 10㎟ | F34: m | G34: 4 | H34: =합산자재!H35 -> 1851 | I34: =TRUNC(G34*H34) -> 7404 | J34: 3 | K34: =합산자재!I35 -> 0 | L34: =TRUNC(G34*K34) -> 0 | M34: =합산자재!J35 -> 0 | N34: =TRUNC(G34*M34) -> 0 | P34: =SUM(I34,L34,N34) -> 7404 | AC34: =G34*H34 -> 7404
A35: MM510075123 | B35: 001 | C35: 2612152420683716 | D35: 기기용비닐절연전선 | E35: KIV 25㎟ | F35: m | G35: 5 | H35: =합산자재!H36 -> 4428 | I35: =TRUNC(G35*H35) -> 22140 | J35: 4 | K35: =합산자재!I36 -> 0 | L35: =TRUNC(G35*K35) -> 0 | M35: =합산자재!J36 -> 0 | N35: =TRUNC(G35*M35) -> 0 | P35: =SUM(I35,L35,N35) -> 22140 | AC35: =G35*H35 -> 22140
A36: 59301517002 | B36: 001 | C36: 3912998720170518 | D36: 매입스위치 | E36: 250V 1로2구 | F36: 개 | G36: 2 | H36: =합산자재!H37 -> 1887 | I36: =TRUNC(G36*H36) -> 3774 | J36: 2 | K36: =합산자재!I37 -> 0 | L36: =TRUNC(G36*K36) -> 0 | M36: =합산자재!J37 -> 0 | N36: =TRUNC(G36*M36) -> 0 | P36: =SUM(I36,L36,N36) -> 3774
A37: 59301517003 | B37: 001 | C37: 3912998720170519 | D37: 매입스위치 | E37: 250V 1로3구 | F37: 개 | G37: 1 | H37: =합산자재!H38 -> 2440 | I37: =TRUNC(G37*H37) -> 2440 | J37: 1 | K37: =합산자재!I38 -> 0 | L37: =TRUNC(G37*K37) -> 0 | M37: =합산자재!J38 -> 0 | N37: =TRUNC(G37*M37) -> 0 | P37: =SUM(I37,L37,N37) -> 2440
A38: 59350317301 | B38: 001 | C38: 3912140620170871 | D38: 콘센트 | E38: 둥근형(노출),250V1구접지 | F38: 개 | G38: 4 | H38: =합산자재!H39 -> 1320 | I38: =TRUNC(G38*H38) -> 5280 | J38: 4 | K38: =합산자재!I39 -> 0 | L38: =TRUNC(G38*K38) -> 0 | M38: =합산자재!J39 -> 0 | N38: =TRUNC(G38*M38) -> 0 | P38: =SUM(I38,L38,N38) -> 5280
A39: 59350317207 | B39: 001 | C39: 3912140621030227 | D39: 방우콘센트 | E39: 매입-접지형, 250V 1구 | F39: 개 | G39: 4 | H39: =합산자재!H40 -> 2075 | I39: =TRUNC(G39*H39) -> 8300 | J39: 4 | K39: =합산자재!I40 -> 0 | L39: =TRUNC(G39*K39) -> 0 | M39: =합산자재!J40 -> 0 | N39: =TRUNC(G39*M39) -> 0 | P39: =SUM(I39,L39,N39) -> 8300
A40: 59350317208 | B40: 001 | C40: 3912140621030228 | D40: 방우콘센트 | E40: 매입-접지형, 250V 2구 | F40: 개 | G40: 1 | H40: =합산자재!H41 -> 2163 | I40: =TRUNC(G40*H40) -> 2163 | J40: 1 | K40: =합산자재!I41 -> 0 | L40: =TRUNC(G40*K40) -> 0 | M40: =합산자재!J41 -> 0 | N40: =TRUNC(G40*M40) -> 0 | P40: =SUM(I40,L40,N40) -> 2163
...

Sheet 노임근거
A1: 총줄수-> | B1: 107 | D1: [ 노후전기설비정비 전기공사 ] - 노임 산출근거(2026년 상반기 노임) | AA1: 내선전공 | AB1: 저압케이블전공 | AC1: 배전전공 | AD1: 보통인부
A2: 번호 | B2: 공종코드 | C2: 코드 | D2: 명 칭 | E2: 규 격 | F2: 단위 | G2: 수량 | K2: 코드 | L2: 공량산출 | P2: 단 위 단 가 산 출 | S2: 품셈근거 | T2: 비고
G3: 결정수량 | H3: 할증 | I3: 산출수량 | J3: 재할% | L3: 명칭 | M3: 품셈 | N3: 할증% | O3: 공량 | P3: 단가 | Q3: 단위단가 | R3: 단위계
B4: 공종줄 | D4: 1.전기공사
B5: 001 | C5: 3913170610034835 | D5: 강제전선관 | E5: 아연도 36 mm | F5: m | G5: =내역서!G5 -> 25 | H5: =IF(I5<>0,G5-I5,"") -> 3 | I5: =내역서!J5 -> 22 | J5: 10 | K5: 56900017016 | L5: 내선전공 | M5: 0.2 | N5: 100 | O5: =IF(I5*M5=0,"",I5*M5*(N5/100)) -> 4.4 | S5: 전기5-1 | AA5: =O5 -> 4.4
B6: 001 | C6: 3913170610035664 | D6: 합성수지제 가요전선관 | E6: CD-난연성 16㎜ | F6: m | G6: =내역서!G6 -> 14 | H6: =IF(I6<>0,G6-I6,"") -> 2 | I6: =내역서!J6 -> 12 | J6: 10 | K6: 56900017016 | L6: 내선전공 | M6: 0.04 | N6: 100 | O6: =IF(I6*M6=0,"",I6*M6*(N6/100)) -> 0.48 | S6: 전기5-1 | AA6: =O6 -> 0.48
B7: 001 | C7: 3913170610045632 | D7: 파상형 폴리에틸렌 전선관 | E7: 40㎜ | F7: m | G7: =내역서!G7 -> 11 | H7: =IF(I7<>0,G7-I7,"") -> 1 | I7: =내역서!J7 -> 10 | J7: 3 | K7: 56900017031 | L7: 배전전공 | M7: 0.007 | N7: 100 | O7: =IF(I7*M7=0,"",I7*M7*(N7/100)) -> 0.07 | S7: 전기4-31 | AC7: =O7 -> 0.07
B8: 001 | C8: 3913170610045632 | G8: =내역서!G7 -> 11 | H8: =IF(I8<>0,G8-I8,"") -> 1 | I8: =내역서!J7 -> 10 | J8: 3 | K8: 56900017041 | L8: 보통인부 | M8: 0.018 | N8: 100 | O8: =IF(I8*M8=0,"",I8*M8*(N8/100)) -> 0.18 | S8: 전기4-31 | AD8: =O8 -> 0.18
B9: 001 | C9: 3913170620174410 | D9: 1종금속제가요전선관 | E9: 16 mm 일반-비방수 | F9: m | G9: =내역서!G10 -> 73 | H9: =IF(I9<>0,G9-I9,"") -> 7 | I9: =내역서!J10 -> 66 | J9: 10 | K9: 56900017016 | L9: 내선전공 | M9: 0.044 | N9: 100 | O9: =IF(I9*M9=0,"",I9*M9*(N9/100)) -> 2.904 | S9: 전기5-1 | AA9: =O9 -> 2.904
B10: 001 | C10: 3913170620174411 | D10: 1종금속제가요전선관 | E10: 22 mm 일반-비방수 | F10: m | G10: =내역서!G11 -> 19 | H10: =IF(I10<>0,G10-I10,"") -> 2 | I10: =내역서!J11 -> 17 | J10: 10 | K10: 56900017016 | L10: 내선전공 | M10: 0.059 | N10: 100 | O10: =IF(I10*M10=0,"",I10*M10*(N10/100)) -> 1.003 | S10: 전기5-1 | AA10: =O10 -> 1.003
B11: 001 | C11: 3912130810035750 | D11: 아우트렛박스 | E11: 8각 54㎜ | F11: 개 | G11: =내역서!G14 -> 12 | H11: =IF(I11<>0,G11-I11,"") -> 0 | I11: =내역서!J14 -> 12 | K11: 56900017016 | L11: 내선전공 | M11: 0.12 | N11: 100 | O11: =IF(I11*M11=0,"",I11*M11*(N11/100)) -> 1.44 | S11: 전기5-3 | AA11: =O11 -> 1.44
B12: 001 | C12: 3912130810035753 | D12: 아우트렛박스 | E12: 중형4각 54㎜ | F12: 개 | G12: =내역서!G15 -> 8 | H12: =IF(I12<>0,G12-I12,"") -> 0 | I12: =내역서!J15 -> 8 | K12: 56900017016 | L12: 내선전공 | M12: 0.12 | N12: 100 | O12: =IF(I12*M12=0,"",I12*M12*(N12/100)) -> 0.96 | S12: 전기5-3 | AA12: =O12 -> 0.96
B13: 001 | C13: 3912130310035875 | D13: 노출박스 | E13: 16 mm - 1 방출 | F13: 개 | G13: =내역서!G18 -> 5 | H13: =IF(I13<>0,G13-I13,"") -> 0 | I13: =내역서!J18 -> 5 | K13: 56900017016 | L13: 내선전공 | M13: 0.29 | N13: 100 | O13: =IF(I13*M13=0,"",I13*M13*(N13/100)) -> 1.45 | S13: 전기5-3 | AA13: =O13 -> 1.45
B14: 001 | C14: 3912130310035797 | D14: 풀박스 | E14: 150×150×100 | F14: 개 | G14: =내역서!G19 -> 3 | H14: =IF(I14<>0,G14-I14,"") -> 0 | I14: =내역서!J19 -> 3 | K14: 56900017016 | L14: 내선전공 | M14: 0.55 | N14: 100 | O14: =IF(I14*M14=0,"",I14*M14*(N14/100)) -> 1.65 | S14: 전기5-4 | AA14: =O14 -> 1.65
B15: 001 | C15: 3913170420385334 | D15: 멀티덕트 BODY | E15: AL W150 x H70 | F15: m | G15: =내역서!G20 -> 6 | H15: =IF(I15<>0,G15-I15,"") -> 0 | I15: =내역서!J20 -> 6 | K15: 56900017016 | L15: 내선전공 | M15: 0.28 | N15: 100 | O15: =IF(I15*M15=0,"",I15*M15*(N15/100)) -> 1.68 | S15: 전기5-7 | AA15: =O15 -> 1.68
B16: 001 | C16: 3913170420385338 | D16: 멀티덕트 COVER | E16: AL W150 x H70 | F16: m | G16: =내역서!G21 -> 6 | H16: =IF(I16<>0,G16-I16,"") -> 0 | I16: =내역서!J21 -> 6 | K16: 56900017016 | L16: 내선전공 | M16: 0.056 | N16: 100 | O16: =IF(I16*M16=0,"",I16*M16*(N16/100)) -> 0.336 | S16: 전기5-8 | AA16: =O16 -> 0.336
B17: 001 | C17: 3913170420385342 | D17: 멀티덕트 H-ELBOW | E17: AL W150 x H70 | F17: 개 | G17: =내역서!G22 -> 5 | H17: =IF(I17<>0,G17-I17,"") -> 0 | I17: =내역서!J22 -> 5 | K17: 56900017016 | L17: 내선전공 | M17: 0.28 | N17: 100 | O17: =IF(I17*M17=0,"",I17*M17*(N17/100)) -> 1.4 | S17: 전기5-7 | AA17: =O17 -> 1.4
B18: 001 | C18: 3913171210033640 | D18: 몰드 | E18: 알루미늄(대) | F18: m | G18: =내역서!G23 -> 14 | H18: =IF(I18<>0,G18-I18,"") -> 0 | I18: =내역서!J23 -> 14 | K18: 56900017016 | L18: 내선전공 | M18: 0.22 | N18: 100 | O18: =IF(I18*M18=0,"",I18*M18*(N18/100)) -> 3.08 | S18: 전기5-9 | AA18: =O18 -> 3.08
B19: 001 | C19: 2612162922076727 | D19: 450/750V 내열비닐절연전선 | E19: HFIX 1.78mm(2.5㎟) | F19: m | G19: =내역서!G26 -> 239 | H19: =IF(I19<>0,G19-I19,"") -> 22 | I19: =내역서!J26 -> 217 | J19: 10 | K19: 56900017016 | L19: 내선전공 | M19: 0.01 | N19: 100 | O19: =IF(I19*M19=0,"",I19*M19*(N19/100)) -> 2.17 | S19: 전기5-10 | AA19: =O19 -> 2.17
B20: 001 | C20: 2612162922076728 | D20: 450/750V 내열비닐절연전선 | E20: HFIX 2.25mm(4㎟) | F20: m | G20: =내역서!G27 -> 183 | H20: =IF(I20<>0,G20-I20,"") -> 17 | I20: =내역서!J27 -> 166 | J20: 10 | K20: 56900017016 | L20: 내선전공 | M20: 0.01 | N20: 100 | O20: =IF(I20*M20=0,"",I20*M20*(N20/100)) -> 1.66 | S20: 전기5-10 | AA20: =O20 -> 1.66
B21: 001 | C21: 2612152420683698 | D21: 접지용비닐절연전선(F-GV) | E21: 10㎟ | F21: m | G21: =내역서!G28 -> 28 | H21: =IF(I21<>0,G21-I21,"") -> 3 | I21: =내역서!J28 -> 25 | J21: 10 | K21: 56900017016 | L21: 내선전공 | M21: 0.006 | N21: 150 | O21: =IF(I21*M21=0,"",I21*M21*(N21/100)) -> 0.225 | S21: 전기3-38 | AA21: =O21 -> 0.225
B22: 001 | C22: 2612152420683699 | D22: 접지용비닐절연전선(F-GV) | E22: 16㎟ | F22: m | G22: =내역서!G29 -> 14 | H22: =IF(I22<>0,G22-I22,"") -> 2 | I22: =내역서!J29 -> 12 | J22: 10 | K22: 56900017016 | L22: 내선전공 | M22: 0.007 | N22: 150 | O22: =IF(I22*M22=0,"",I22*M22*(N22/100)) -> 0.126 | S22: 전기3-38 | AA22: =O22 -> 0.126
B23: 001 | C23: 2612162920683887 | D23: 폴리에틸렌 난연케이블 | E23: 0.6/1kv F-CV 1C×25㎟ | F23: m | G23: =내역서!G30 -> 5 | H23: =IF(I23<>0,G23-I23,"") -> 1 | I23: =내역서!J30 -> 4 | J23: 5 | K23: 56900017076 | L23: 저압케이블전공 | M23: 0.03 | N23: 100 | O23: =IF(I23*M23=0,"",I23*M23*(N23/100)) -> 0.12 | S23: 전기5-11 | AB23: =O23 -> 0.12
B24: 001 | C24: 2612162920683888 | D24: 폴리에틸렌 난연케이블 | E24: 0.6/1kv F-CV 1C×35㎟ | F24: m | G24: =내역서!G31 -> 5 | H24: =IF(I24<>0,G24-I24,"") -> 1 | I24: =내역서!J31 -> 4 | J24: 5 | K24: 56900017076 | L24: 저압케이블전공 | M24: 0.036 | N24: 100 | O24: =IF(I24*M24=0,"",I24*M24*(N24/100)) -> 0.144 | S24: 전기5-11 | AB24: =O24 -> 0.144
B25: 001 | C25: 2612162920683905 | D25: 폴리에틸렌 난연케이블 | E25: 0.6/1kv F-CV 2C×10㎟ | F25: m | G25: =내역서!G32 -> 27 | H25: =IF(I25<>0,G25-I25,"") -> 2 | I25: =내역서!J32 -> 25 | J25: 5 | K25: 56900017076 | L25: 저압케이블전공 | M25: 0.025 | N25: 100 | O25: =IF(I25*M25=0,"",I25*M25*(N25/100)) -> 0.625 | S25: 전기5-13 | AB25: =O25 -> 0.625
B26: 001 | C26: 2612162920683947 | D26: 폴리에틸렌 난연케이블 | E26: 0.6/1kv F-CV 4C×16㎟ | F26: m | G26: =내역서!G33 -> 11 | H26: =IF(I26<>0,G26-I26,"") -> 1 | I26: =내역서!J33 -> 10 | J26: 5 | K26: 56900017076 | L26: 저압케이블전공 | M26: 0.0598 | N26: 100 | O26: =IF(I26*M26=0,"",I26*M26*(N26/100)) -> 0.598 | S26: 전기5-11 | AB26: =O26 -> 0.598
B27: 001 | C27: 2612152420683714 | D27: 기기용비닐절연전선 | E27: KIV 10㎟ | F27: m | G27: =내역서!G34 -> 4 | H27: =IF(I27<>0,G27-I27,"") -> 1 | I27: =내역서!J34 -> 3 | J27: 10 | K27: 56900017016 | L27: 내선전공 | M27: 0.023 | N27: 100 | O27: =IF(I27*M27=0,"",I27*M27*(N27/100)) -> 0.069 | S27: 전기5-10 | AA27: =O27 -> 0.069
B28: 001 | C28: 2612152420683716 | D28: 기기용비닐절연전선 | E28: KIV 25㎟ | F28: m | G28: =내역서!G35 -> 5 | H28: =IF(I28<>0,G28-I28,"") -> 1 | I28: =내역서!J35 -> 4 | J28: 10 | K28: 56900017016 | L28: 내선전공 | M28: 0.031 | N28: 100 | O28: =IF(I28*M28=0,"",I28*M28*(N28/100)) -> 0.124 | S28: 전기5-10 | AA28: =O28 -> 0.124
B29: 001 | C29: 3912998720170518 | D29: 매입스위치 | E29: 250V 1로2구 | F29: 개 | G29: =내역서!G36 -> 2 | H29: =IF(I29<>0,G29-I29,"") -> 0 | I29: =내역서!J36 -> 2 | K29: 56900017016 | L29: 내선전공 | M29: 0.085 | N29: 100 | O29: =IF(I29*M29=0,"",I29*M29*(N29/100)) -> 0.17 | S29: 전기5-23-2 | AA29: =O29 -> 0.17
B30: 001 | C30: 3912998720170519 | D30: 매입스위치 | E30: 250V 1로3구 | F30: 개 | G30: =내역서!G37 -> 1 | H30: =IF(I30<>0,G30-I30,"") -> 0 | I30: =내역서!J37 -> 1 | K30: 56900017016 | L30: 내선전공 | M30: 0.085 | N30: 100 | O30: =IF(I30*M30=0,"",I30*M30*(N30/100)) -> 0.085 | S30: 전기5-23-2 | AA30: =O30 -> 0.085
B31: 001 | C31: 3912140620170871 | D31: 콘센트 | E31: 둥근형(노출),250V1구접지 | F31: 개 | G31: =내역서!G38 -> 4 | H31: =IF(I31<>0,G31-I31,"") -> 0 | I31: =내역서!J38 -> 4 | K31: 56900017016 | L31: 내선전공 | M31: 0.096 | N31: 100 | O31: =IF(I31*M31=0,"",I31*M31*(N31/100)) -> 0.384 | S31: 전기5-23-1 | AA31: =O31 -> 0.384
B32: 001 | C32: 3912140621030227 | D32: 방우콘센트 | E32: 매입-접지형, 250V 1구 | F32: 개 | G32: =내역서!G39 -> 4 | H32: =IF(I32<>0,G32-I32,"") -> 0 | I32: =내역서!J39 -> 4 | K32: 56900017016 | L32: 내선전공 | M32: 0.08 | N32: 100 | O32: =IF(I32*M32=0,"",I32*M32*(N32/100)) -> 0.32 | S32: 전기5-23-1 | AA32: =O32 -> 0.32
B33: 001 | C33: 3912140621030228 | D33: 방우콘센트 | E33: 매입-접지형, 250V 2구 | F33: 개 | G33: =내역서!G40 -> 1 | H33: =IF(I33<>0,G33-I33,"") -> 0 | I33: =내역서!J40 -> 1 | K33: 56900017016 | L33: 내선전공 | M33: 0.08 | N33: 100 | O33: =IF(I33*M33=0,"",I33*M33*(N33/100)) -> 0.08 | S33: 전기5-23-1 | AA33: =O33 -> 0.08
B34: 001 | C34: 3912110220186204 | D34: 주택용분전반 | E34: 6회로 | F34: EA | G34: =내역서!G41 -> 1 | H34: =IF(I34<>0,G34-I34,"") -> 0 | I34: =내역서!J41 -> 1 | K34: 56900017016 | L34: 내선전공 | M34: 0.77 | N34: 100 | O34: =IF(I34*M34=0,"",I34*M34*(N34/100)) -> 0.77 | S34: 전기5-18-1 | AA34: =O34 -> 0.77
B35: 001 | C35: 3912161620167016 | D35: 배선용차단기(ABS-52) | E35: 2P 50AF 40AT | F35: EA | G35: =내역서!G44 -> 1 | H35: =IF(I35<>0,G35-I35,"") -> 0 | I35: =내역서!J44 -> 1 | K35: 56900017016 | L35: 내선전공 | M35: 0.182 | N35: 100 | O35: =IF(I35*M35=0,"",I35*M35*(N35/100)) -> 0.182 | S35: 전기5-19 | AA35: =O35 -> 0.182
B36: 001 | C36: 3912161620167036 | D36: 배선용차단기(ABS-102) | E36: 2P 100AF 75AT | F36: EA | G36: =내역서!G45 -> 1 | H36: =IF(I36<>0,G36-I36,"") -> 0 | I36: =내역서!J45 -> 1 | K36: 56900017016 | L36: 내선전공 | M36: 0.252 | N36: 100 | O36: =IF(I36*M36=0,"",I36*M36*(N36/100)) -> 0.252 | S36: 전기5-19 | AA36: =O36 -> 0.252
B37: 001 | C37: 3912161420167114 | D37: 누전차단기(32KGRc) | E37: 2P 30AF 20AT | F37: EA | G37: =내역서!G46 -> 37 | H37: =IF(I37<>0,G37-I37,"") -> 0 | I37: =내역서!J46 -> 37 | K37: 56900017016 | L37: 내선전공 | M37: 0.133 | N37: 100 | O37: =IF(I37*M37=0,"",I37*M37*(N37/100)) -> 4.921 | S37: 전기5-19 | AA37: =O37 -> 4.921
B38: 001 | C38: 3912143221650911 | D38: 압착단자 | E38: R형동선 나압착 16 ㎟ | F38: 개 | G38: =내역서!G48 -> 17 | H38: =IF(I38<>0,G38-I38,"") -> 0 | I38: =내역서!J48 -> 17 | K38: 56900017076 | L38: 저압케이블전공 | M38: 0.081 | N38: 120 | O38: =IF(I38*M38=0,"",I38*M38*(N38/100)) -> 1.6524 | S38: 전기4-37 | AB38: =O38 -> 1.6524
B39: 001 | C39: 3912143221650912 | D39: 압착단자 | E39: R형동선 나압착 25 ㎟ | F39: 개 | G39: =내역서!G49 -> 34 | H39: =IF(I39<>0,G39-I39,"") -> 0 | I39: =내역서!J49 -> 34 | K39: 56900017076 | L39: 저압케이블전공 | M39: 0.099 | N39: 120 | O39: =IF(I39*M39=0,"",I39*M39*(N39/100)) -> 4.0392 | S39: 전기4-37 | AB39: =O39 -> 4.0392
B40: 001 | C40: 3912143221650913 | D40: 압착단자 | E40: R형동선 나압착 35 ㎟ | F40: 개 | G40: =내역서!G50 -> 4 | H40: =IF(I40<>0,G40-I40,"") -> 0 | I40: =내역서!J50 -> 4 | K40: 56900017076 | L40: 저압케이블전공 | M40: 0.108 | N40: 120 | O40: =IF(I40*M40=0,"",I40*M40*(N40/100)) -> 0.5184 | S40: 전기4-37 | AB40: =O40 -> 0.5184
...

Sheet 일대목차 (2)
A1: 총줄수-> | B1: 29 | C1: [ 노후전기설비정비 전기공사 ] - 일위대가목차
A2: 번호 | B2: … | C2: 코드 | D2: 명 칭 | E2: 규 격 | F2: 단위 | G2: 수량 | H2: 재료비 | J2: 노무비 | M2: 경비 | O2: 계 | P2: 계 | Q2: 비고
H3: 단가 | I3: 금액 | J3: 수량 | K3: 단가 | L3: 금액 | M3: 단가 | N3: 금액 | O3: 단가
A4: 56950170112 | B4: EAA110620000 | C4: 일대1 | D4: EPS SUPPORT | E4: W150-1단 | F4: 식 | H4: ='일위대가 (2)'!I12 -> 4338 | I4: =H4 -> 4338 | K4: ='일위대가 (2)'!L12 -> 29557 | L4: =K4 -> 29557 | M4: ='일위대가 (2)'!N12 -> 0 | N4: =M4 -> 0 | P4: =I4+L4+N4 -> 33895
C5: 일대2 | D5: 분전반27 | E5: 700W*1100H | F5: 면 | H5: ='일위대가 (2)'!I30 -> 1071463 | I5: =H5 -> 1071463 | K5: ='일위대가 (2)'!L30 -> 356861 | L5: =K5 -> 356861 | P5: =I5+L5+N5 -> 1428324
C6: 일대3 | D6: 지하소방펌프실 | E6: 600W*700H*150D | F6: 면 | H6: ='일위대가 (2)'!I57 -> 917751 | I6: =H6 -> 917751 | K6: ='일위대가 (2)'!L57 -> 304070 | L6: =K6 -> 304070 | P6: =I6+L6+N6 -> 1221821
C7: 일대4 | D7: 소방MCC조작반 | E7: 700W*1600H*200D | F7: 면 | H7: ='일위대가 (2)'!I126 -> 6549101 | I7: =H7 -> 6549101 | K7: ='일위대가 (2)'!L126 -> 1977497 | L7: =K7 -> 1977497 | P7: =I7+L7+N7 -> 8526598
C8: 일대5 | D8: MCC-F | E8: 800W*1000H*200D | F8: 면 | H8: ='일위대가 (2)'!I178 -> 2937106 | I8: =H8 -> 2937106 | K8: ='일위대가 (2)'!L178 -> 1182997 | L8: =K8 -> 1182997 | P8: =I8+L8+N8 -> 4120103
C9: 일대6 | D9: 소방MCC-F | E9: 700W*1100H*200D | F9: 면 | H9: ='일위대가 (2)'!I230 -> 3015279 | I9: =H9 -> 3015279 | K9: ='일위대가 (2)'!L230 -> 1459190 | L9: =K9 -> 1459190 | P9: =I9+L9+N9 -> 4474469
C10: 일대7 | D10: 분전반23 | E10: 600W*1000H*180D | F10: 면 | H10: ='일위대가 (2)'!I251 -> 2086554 | I10: =H10 -> 2086554 | K10: ='일위대가 (2)'!L251 -> 523189 | L10: =K10 -> 523189 | P10: =I10+L10+N10 -> 2609743
C11: 일대8 | D11: 분전반24 | E11: 600W*800H | F11: 면 | H11: ='일위대가 (2)'!I268 -> 650535 | I11: =H11 -> 650535 | K11: ='일위대가 (2)'!L268 -> 325401 | L11: =K11 -> 325401 | P11: =I11+L11+N11 -> 975936
C12: 일대9 | D12: 분전반25 | E12: 600W*800H | F12: 면 | H12: ='일위대가 (2)'!I286 -> 1069494 | I12: =H12 -> 1069494 | K12: ='일위대가 (2)'!L286 -> 352730 | L12: =K12 -> 352730 | P12: =I12+L12+N12 -> 1422224
C13: 일대10 | D13: 분전반11 | E13: 750W*1600H*200D | F13: 면 | H13: ='일위대가 (2)'!I307 -> 2729903 | I13: =H13 -> 2729903 | K13: ='일위대가 (2)'!L307 -> 442649 | L13: =K13 -> 442649 | P13: =I13+L13+N13 -> 3172552
C14: 일대11 | D14: 분전반8 | E14: 600W*1000H*180D | F14: 면 | H14: ='일위대가 (2)'!I327 -> 1412036 | I14: =H14 -> 1412036 | K14: ='일위대가 (2)'!L327 -> 248243 | L14: =K14 -> 248243 | P14: =I14+L14+N14 -> 1660279
I15: =H15 -> 0 | L15: =K15 -> 0 | P15: =I15+L15+N15 -> 0
L16: =K16 -> 0 | P16: =I16+L16+N16 -> 0

Sheet 일위대가 (2)
A1: 총줄수-> | B1: 29 | D1: [ 노후전기설비정비 전기공사 ] - 일위대가표 | W1: 노임 계산 정보 | AA1: 부속재 및 손료
A2: 번호 | B2: 목차코드 | C2: 코드 | D2: 명 칭 | E2: 규 격 | F2: 단위 | G2: 수량 | H2: 재료비 | J2: 노무비 | M2: 경비 | P2: 계 | Q2: 비고 | W2: 노임계 | X2: 전체(%) | Y2: 공종별(%) | Z2: 노임 소수 | AA2: CD배관재 | AB2: 일반배관재 | AC2: 소모재 | AD2: 자재계 | AE2: 노임계
H3: 단가 | I3: 금액 | J3: 수량 | K3: 단가 | L3: 금액 | M3: 단가 | N3: 금액 | O3: 단가 | AD3: 1 | AE3: 1
A4: 56950170112 | B4: 일목줄 | C4: EAA110620000 | D4: [일대1] EPS SUPPORT W150-1단 [식]
A5: 59754967601 | B5: EAA110620000 | C5: 3913170520175128 | D5: 케이블트레이부속품 | E5: U CHANNEL, 41x41x2.6t | F5: m | G5: 0.25 | H5: =[2]합산자재!H18 -> 6176 | I5: =IF(G5*H5<>0, TRUNC(G5*H5,1),"") -> 1544 | J5: 0.25 | K5: =[2]합산자재!I18 -> 0 | L5: =IF(G5*K5<>0, TRUNC(G5*K5,1),"") | M5: =[2]합산자재!J18 -> 0 | N5: =IF(G5*M5<>0, TRUNC(G5*M5,1),"") | P5: =IF(SUM(I5,L5,N5)<>0,TRUNC(SUM(I5,L5,N5),1),"") -> 1544
A6: 53060807001 | B6: EAA110620000 | C6: 3116210220135769 | D6: 스트롱앵커 | E6: 3/8 | F6: 개 | G6: 2 | H6: =[2]합산자재!H25 -> 200 | I6: =IF(G6*H6<>0, TRUNC(G6*H6,1),"") -> 400 | J6: 2 | K6: =[2]합산자재!I25 -> 0 | L6: =IF(G6*K6<>0, TRUNC(G6*K6,1),"") | M6: =[2]합산자재!J25 -> 0 | N6: =IF(G6*M6<>0, TRUNC(G6*M6,1),"") | P6: =IF(SUM(I6,L6,N6)<>0,TRUNC(SUM(I6,L6,N6),1),"") -> 400 | Z6: 노임계
A7: 53100027003 | B7: EAA110620000 | C7: 3116172710024976 | D7: 6각너트 | E7: M10 | F7: 개 | G7: 4 | H7: =[2]합산자재!H46 -> 28 | I7: =IF(G7*H7<>0, TRUNC(G7*H7,1),"") -> 112 | J7: 4 | K7: =[2]합산자재!I46 -> 0 | L7: =IF(G7*K7<>0, TRUNC(G7*K7,1),"") | M7: =[2]합산자재!J46 -> 0 | N7: =IF(G7*M7<>0, TRUNC(G7*M7,1),"") | P7: =IF(SUM(I7,L7,N7)<>0,TRUNC(SUM(I7,L7,N7),1),"") -> 112
A8: 52100327001 | B8: EAA110620000 | C8: 3116181120136195 | D8: 스프링와샤 | E8: D10 | F8: EA | G8: 4 | H8: =[2]합산자재!H47 -> 9 | I8: =IF(G8*H8<>0, TRUNC(G8*H8,1),"") -> 36 | J8: 4 | K8: =[2]합산자재!I47 -> 0 | L8: =IF(G8*K8<>0, TRUNC(G8*K8,1),"") | M8: =[2]합산자재!J47 -> 0 | N8: =IF(G8*M8<>0, TRUNC(G8*M8,1),"") | P8: =IF(SUM(I8,L8,N8)<>0,TRUNC(SUM(I8,L8,N8),1),"") -> 36
A9: 59754967571 | B9: EAA110620000 | C9: 3913170520175125 | D9: 케이블트레이부속품 | E9: HOLD DOWN CLAMP, 아연도 | F9: 개 | G9: 2 | H9: =[2]합산자재!H16 -> 373 | I9: =IF(G9*H9<>0, TRUNC(G9*H9,1),"") -> 746 | J9: 2 | K9: =[2]합산자재!I16 -> 0 | L9: =IF(G9*K9<>0, TRUNC(G9*K9,1),"") | M9: =[2]합산자재!J16 -> 0 | N9: =IF(G9*M9<>0, TRUNC(G9*M9,1),"") | P9: =IF(SUM(I9,L9,N9)<>0,TRUNC(SUM(I9,L9,N9),1),"") -> 746
A10: 59754967581 | B10: EAA110620000 | C10: 3913170520175126 | D10: 케이블트레이부속품 | E10: 찬넬스프링 너트, 아연도 | F10: 개 | G10: 2 | H10: =[2]합산자재!H17 -> 750 | I10: =IF(G10*H10<>0, TRUNC(G10*H10,1),"") -> 1500 | J10: 2 | K10: =[2]합산자재!I17 -> 0 | L10: =IF(G10*K10<>0, TRUNC(G10*K10,1),"") | M10: =[2]합산자재!J17 -> 0 | N10: =IF(G10*M10<>0, TRUNC(G10*M10,1),"") | P10: =IF(SUM(I10,L10,N10)<>0,TRUNC(SUM(I10,L10,N10),1),"") -> 1500
A11: 56900017016 | B11: EAA110620000 | C11: L001010101000075 | D11: 노 무 비 | E11: 내선전공 | F11: 인 | G11: ='일위노임 (2)'!G6 -> 0.108 | H11: =[2]합산자재!H81 -> 0 | I11: =IF(G11*H11<>0, TRUNC(G11*H11,1),"") | J11: 0.108 | K11: =[2]합산자재!I81 -> 273676 | L11: =IF(G11*K11<>0, TRUNC(G11*K11,1),"") -> 29557 | M11: =[2]합산자재!J81 -> 0 | N11: =IF(G11*M11<>0, TRUNC(G11*M11,1),"") | P11: =IF(SUM(I11,L11,N11)<>0,TRUNC(SUM(I11,L11,N11),1),"") -> 29557 | AE11: =L11 -> 29557
B12: 합계줄 | D12: ( 합 계 ) | I12: =TRUNC(SUM(I4:I11)) -> 4338 | L12: =TRUNC(SUM(L4:L11)) -> 29557 | N12: =TRUNC(SUM(N4:N11)) -> 0 | P12: =IF(SUM(I12,L12,N12)<>0,TRUNC(SUM(I12,L12,N12),1),"") -> 33895 | AC12: =TRUNC(AE12*[2]옵션!$B$36/100,1) -> 886.7 | AD12: =TRUNC(SUM(L4:L11)) -> 29557 | AE12: =TRUNC(SUM(AE4:AE11)) -> 29557
B13: 일목줄
A14: 56950170112 | B14: 일목줄 | C14: EAA110620000 | D14: [일대2] 분전반27 700W*1100H [면]
A15: 59754967601 | B15: EAA110620000 | C15: 3913170520175128 | D15: DOOR (STS 1.5t) | E15: 700Wx1100H | F15: 면 | G15: 1 | H15: 451440 | I15: =IF(G15*H15<>0, TRUNC(G15*H15,1),"") -> 451440 | J15: =G15 -> 1 | K15: =[2]합산자재!I23 -> 0 | L15: =IF(G15*K15<>0, TRUNC(G15*K15,1),"") | M15: =[2]합산자재!J23 -> 0 | N15: =IF(G15*M15<>0, TRUNC(G15*M15,1),"") | P15: =IF(SUM(I15,L15,N15)<>0,TRUNC(SUM(I15,L15,N15),1),"") -> 451440
A16: 53060807001 | B16: EAA110620000 | C16: 3116210220135769 | D16: NAME PLATE | E16: 아크릴(M) | F16: 개 | G16: 1 | H16: 2475 | I16: =IF(G16*H16<>0, TRUNC(G16*H16,1),"") -> 2475 | J16: =G16 -> 1 | K16: =[2]합산자재!I30 -> 0 | L16: =IF(G16*K16<>0, TRUNC(G16*K16,1),"") | M16: =[2]합산자재!J30 -> 0 | N16: =IF(G16*M16<>0, TRUNC(G16*M16,1),"") | P16: =IF(SUM(I16,L16,N16)<>0,TRUNC(SUM(I16,L16,N16),1),"") -> 2475 | Z16: 노임계
A17: 53100027003 | B17: EAA110620000 | C17: 3116172710024976 | D17: NAME PLATE | E17: CARD HOLDER | F17: 개 | G17: 13 | H17: 220 | I17: =IF(G17*H17<>0, TRUNC(G17*H17,1),"") -> 2860 | J17: =G17 -> 13 | K17: =[2]합산자재!I51 -> 0 | L17: =IF(G17*K17<>0, TRUNC(G17*K17,1),"") | M17: =[2]합산자재!J51 -> 0 | N17: =IF(G17*M17<>0, TRUNC(G17*M17,1),"") | P17: =IF(SUM(I17,L17,N17)<>0,TRUNC(SUM(I17,L17,N17),1),"") -> 2860
A18: 52100327001 | B18: EAA110620000 | C18: 3116181120136195 | D18: DOOR HANDLE | E18: PUSH (L) | F18: 개 | G18: 1 | H18: 2343 | I18: =IF(G18*H18<>0, TRUNC(G18*H18,1),"") -> 2343 | J18: =G18 -> 1 | K18: 0 | L18: =IF(G18*K18<>0, TRUNC(G18*K18,1),"") | M18: =[2]합산자재!J52 -> 0 | N18: =IF(G18*M18<>0, TRUNC(G18*M18,1),"") | P18: =IF(SUM(I18,L18,N18)<>0,TRUNC(SUM(I18,L18,N18),1),"") -> 2343
A19: 59754967571 | B19: EAA110620000 | C19: 3913170520175125 | D19: E T | E19: 12 P | F19: 개 | G19: 1 | H19: 11500 | I19: =IF(G19*H19<>0, TRUNC(G19*H19,1),"") -> 11500 | J19: =G19 -> 1 | K19: =[2]합산자재!I21 -> 0 | L19: =IF(G19*K19<>0, TRUNC(G19*K19,1),"") | M19: =[2]합산자재!J21 -> 0 | N19: =IF(G19*M19<>0, TRUNC(G19*M19,1),"") | P19: =IF(SUM(I19,L19,N19)<>0,TRUNC(SUM(I19,L19,N19),1),"") -> 11500
A20: 59754967581 | B20: EAA110620000 | C20: 3913170520175126 | D20: MAIN BUS BAR | E20: 3.0 mm x 15 mm | F20: m | G20: 2.2 | H20: 14000 | I20: =IF(G20*H20<>0, TRUNC(G20*H20,1),"") -> 30800 | J20: =G20 -> 2.2 | K20: =[2]합산자재!I22 -> 0 | L20: =IF(G20*K20<>0, TRUNC(G20*K20,1),"") | M20: =[2]합산자재!J22 -> 0 | N20: =IF(G20*M20<>0, TRUNC(G20*M20,1),"") | P20: =IF(SUM(I20,L20,N20)<>0,TRUNC(SUM(I20,L20,N20),1),"") -> 30800
A21: 59754967601 | B21: EAA110620000 | C21: 3913170520175128 | D21: BUS BAR | E21: 3.0 mm x 15 mm | F21: m | G21: 2.88 | H21: 14000 | I21: =IF(G21*H21<>0, TRUNC(G21*H21,1),"") -> 40320 | J21: =G21 -> 2.88 | K21: =[2]합산자재!I29 -> 0 | L21: =IF(G21*K21<>0, TRUNC(G21*K21,1),"") | M21: =[2]합산자재!J29 -> 0 | N21: =IF(G21*M21<>0, TRUNC(G21*M21,1),"") | P21: =IF(SUM(I21,L21,N21)<>0,TRUNC(SUM(I21,L21,N21),1),"") -> 40320
A22: 53060807001 | B22: EAA110620000 | C22: 3116210220135769 | D22: INSULATION TUBE | E22: 150㎟ 이하 | F22: m | G22: 5.08 | H22: 1320 | I22: =IF(G22*H22<>0, TRUNC(G22*H22,1),"") -> 6705.6 | J22: =G22 -> 5.08 | K22: =[2]합산자재!I36 -> 0 | L22: =IF(G22*K22<>0, TRUNC(G22*K22,1),"") | M22: =[2]합산자재!J36 -> 0 | N22: =IF(G22*M22<>0, TRUNC(G22*M22,1),"") | P22: =IF(SUM(I22,L22,N22)<>0,TRUNC(SUM(I22,L22,N22),1),"") -> 6705.6 | Z22: 노임계
A23: 53100027003 | B23: EAA110620000 | C23: 3116172710024976 | D23: AG 도금 | F23: KG | G23: 2.03 | H23: 1980 | I23: =IF(G23*H23<>0, TRUNC(G23*H23,1),"") -> 4019.4 | J23: =G23 -> 2.03 | K23: =[2]합산자재!I57 -> 0 | L23: =IF(G23*K23<>0, TRUNC(G23*K23,1),"") | M23: =[2]합산자재!J57 -> 0 | N23: =IF(G23*M23<>0, TRUNC(G23*M23,1),"") | P23: =IF(SUM(I23,L23,N23)<>0,TRUNC(SUM(I23,L23,N23),1),"") -> 4019.4
A24: 52100327001 | B24: EAA110620000 | C24: 3116181120136195 | D24: M C C B (표준형) | E24: 4P 600V 50AF | F24: 개 | G24: 5 | H24: 75000 | I24: =IF(G24*H24<>0, TRUNC(G24*H24,1),"") -> 375000 | J24: =G24 -> 5 | K24: =[2]합산자재!I58 -> 0 | L24: =IF(G24*K24<>0, TRUNC(G24*K24,1),"") | M24: =[2]합산자재!J58 -> 0 | N24: =IF(G24*M24<>0, TRUNC(G24*M24,1),"") | P24: =IF(SUM(I24,L24,N24)<>0,TRUNC(SUM(I24,L24,N24),1),"") -> 375000
A25: 59754967571 | B25: EAA110620000 | C25: 3913170520175125 | D25: E L C B (분전반) | E25: 110/220V 2P 30AF | F25: 개 | G25: 8 | H25: 18000 | I25: =IF(G25*H25<>0, TRUNC(G25*H25,1),"") -> 144000 | J25: =G25 -> 8 | K25: =[2]합산자재!I27 -> 0 | L25: =IF(G25*K25<>0, TRUNC(G25*K25,1),"") | M25: =[2]합산자재!J27 -> 0 | N25: =IF(G25*M25<>0, TRUNC(G25*M25,1),"") | P25: =IF(SUM(I25,L25,N25)<>0,TRUNC(SUM(I25,L25,N25),1),"") -> 144000
A26: 56900017016 | B26: EAA110620000 | C26: L001010101000075 | D26: 노 무 비 | E26: 전기기계조립원 | F26: 인 | G26: =J26 -> 0.508 | H26: =[2]합산자재!H92 -> 0 | I26: =IF(G26*H26<>0, TRUNC(G26*H26,1),"") | J26: ='일위노임 (2)'!G16 -> 0.508 | K26: 122522 | L26: =IF(G26*K26<>0, TRUNC(G26*K26,1),"") -> 62241.1 | M26: =[2]합산자재!J92 -> 0 | N26: =IF(G26*M26<>0, TRUNC(G26*M26,1),"") | P26: =IF(SUM(I26,L26,N26)<>0,TRUNC(SUM(I26,L26,N26),1),"") -> 62241.1 | AE26: =L26 -> 62241.1
A27: 56900017016 | B27: EAA110620000 | C27: L001010101000075 | D27: 노 무 비 | E27: 전선원 | F27: 인 | G27: =J27 -> 2.69 | H27: =[2]합산자재!H93 -> 0 | I27: =IF(G27*H27<>0, TRUNC(G27*H27,1),"") | J27: ='일위노임 (2)'!G17 -> 2.69 | K27: 99248 | L27: =IF(G27*K27<>0, TRUNC(G27*K27,1),"") -> 266977.1 | M27: =[2]합산자재!J93 -> 0 | N27: =IF(G27*M27<>0, TRUNC(G27*M27,1),"") | P27: =IF(SUM(I27,L27,N27)<>0,TRUNC(SUM(I27,L27,N27),1),"") -> 266977.1 | AE27: =L27 -> 266977.1
A28: 56900017016 | B28: EAA110620000 | C28: L001010101000075 | D28: 노 무 비 | E28: 부품조립원 | F28: 인 | G28: =J28 -> 0 | H28: =[2]합산자재!H94 -> 0 | I28: =IF(G28*H28<>0, TRUNC(G28*H28,1),"") | J28: 0 | K28: 105323 | L28: =IF(G28*K28<>0, TRUNC(G28*K28,1),"") | M28: =[2]합산자재!J94 -> 0 | N28: =IF(G28*M28<>0, TRUNC(G28*M28,1),"") | P28: =IF(SUM(I28,L28,N28)<>0,TRUNC(SUM(I28,L28,N28),1),"") | AE28: =L28
A29: 56900017016 | B29: EAA110620000 | C29: L001010101000075 | D29: 노 무 비 | E29: 단순노무종사원 | F29: 인 | G29: =J29 -> 0.3048 | H29: =[2]합산자재!H95 -> 0 | I29: =IF(G29*H29<>0, TRUNC(G29*H29,1),"") | J29: ='일위노임 (2)'!G18 -> 0.3048 | K29: 90694 | L29: =IF(G29*K29<>0, TRUNC(G29*K29,1),"") -> 27643.5 | M29: =[2]합산자재!J95 -> 0 | N29: =IF(G29*M29<>0, TRUNC(G29*M29,1),"") | P29: =IF(SUM(I29,L29,N29)<>0,TRUNC(SUM(I29,L29,N29),1),"") -> 27643.5 | AE29: =L29 -> 27643.5
B30: 합계줄 | D30: ( 합 계 ) | I30: =TRUNC(SUM(I14:I29)) -> 1071463 | L30: =TRUNC(SUM(L14:L29)) -> 356861 | N30: =TRUNC(SUM(N14:N29)) -> 0 | P30: =IF(SUM(I30,L30,N30)<>0,TRUNC(SUM(I30,L30,N30),1),"") -> 1428324 | AC30: =TRUNC(AE30*[2]옵션!$B$36/100,1) -> 10705.8 | AD30: =TRUNC(SUM(L14:L26)) -> 62241 | AE30: =TRUNC(SUM(AE14:AE29)) -> 356861
B31: 일목줄
A32: 56950170112 | B32: 일목줄 | C32: EAA110620000 | D32: [일대3] 지하소방펌프실 600W*700H*150D [면]
A33: 59754967601 | B33: EAA110620000 | C33: 3913170520175128 | D33: 분전반 매입 BOX(STEEL 1.6t) | E33: 600Wx700Hx150D | F33: 면 | G33: 1 | H33: 177154 | I33: =IF(G33*H33<>0, TRUNC(G33*H33,1),"") -> 177154 | J33: =G33 -> 1 | K33: =[2]합산자재!I42 -> 0 | L33: =IF(G33*K33<>0, TRUNC(G33*K33,1),"") | M33: =[2]합산자재!J42 -> 0 | N33: =IF(G33*M33<>0, TRUNC(G33*M33,1),"") | P33: =IF(SUM(I33,L33,N33)<>0,TRUNC(SUM(I33,L33,N33),1),"") -> 177154
A34: 53060807001 | B34: EAA110620000 | C34: 3116210220135769 | D34: DOOR (STS 1.5t) | E34: 600Wx700H | F34: 면 | G34: 1 | H34: 246048 | I34: =IF(G34*H34<>0, TRUNC(G34*H34,1),"") -> 246048 | J34: =G34 -> 1 | K34: =[2]합산자재!I49 -> 0 | L34: =IF(G34*K34<>0, TRUNC(G34*K34,1),"") | M34: =[2]합산자재!J49 -> 0 | N34: =IF(G34*M34<>0, TRUNC(G34*M34,1),"") | P34: =IF(SUM(I34,L34,N34)<>0,TRUNC(SUM(I34,L34,N34),1),"") -> 246048 | Z34: 노임계
A35: 53100027003 | B35: EAA110620000 | C35: 3116172710024976 | D35: NAME PLATE | E35: 아크릴(M) | F35: 개 | G35: 1 | H35: 2475 | I35: =IF(G35*H35<>0, TRUNC(G35*H35,1),"") -> 2475 | J35: =G35 -> 1 | K35: =[2]합산자재!I70 -> 0 | L35: =IF(G35*K35<>0, TRUNC(G35*K35,1),"") | M35: =[2]합산자재!J70 -> 0 | N35: =IF(G35*M35<>0, TRUNC(G35*M35,1),"") | P35: =IF(SUM(I35,L35,N35)<>0,TRUNC(SUM(I35,L35,N35),1),"") -> 2475
A36: 52100327001 | B36: EAA110620000 | C36: 3116181120136195 | D36: NAME PLATE | E36: CARD HOLDER | F36: 개 | G36: 9 | H36: 220 | I36: =IF(G36*H36<>0, TRUNC(G36*H36,1),"") -> 1980 | J36: =G36 -> 9 | K36: 0 | L36: =IF(G36*K36<>0, TRUNC(G36*K36,1),"") | M36: =[2]합산자재!J71 -> 0 | N36: =IF(G36*M36<>0, TRUNC(G36*M36,1),"") | P36: =IF(SUM(I36,L36,N36)<>0,TRUNC(SUM(I36,L36,N36),1),"") -> 1980
A37: 59754967571 | B37: EAA110620000 | C37: 3913170520175125 | D37: DOOR HANDLE | E37: PUSH (L) | F37: 개 | G37: 1 | H37: 2343 | I37: =IF(G37*H37<>0, TRUNC(G37*H37,1),"") -> 2343 | J37: =G37 -> 1 | K37: =[2]합산자재!I40 -> 0 | L37: =IF(G37*K37<>0, TRUNC(G37*K37,1),"") | M37: =[2]합산자재!J40 -> 0 | N37: =IF(G37*M37<>0, TRUNC(G37*M37,1),"") | P37: =IF(SUM(I37,L37,N37)<>0,TRUNC(SUM(I37,L37,N37),1),"") -> 2343
A38: 59754967581 | B38: EAA110620000 | C38: 3913170520175126 | D38: E T | E38: 8 P | F38: 개 | G38: 1 | H38: 7900 | I38: =IF(G38*H38<>0, TRUNC(G38*H38,1),"") -> 7900 | J38: =G38 -> 1 | K38: =[2]합산자재!I41 -> 0 | L38: =IF(G38*K38<>0, TRUNC(G38*K38,1),"") | M38: =[2]합산자재!J41 -> 0 | N38: =IF(G38*M38<>0, TRUNC(G38*M38,1),"") | P38: =IF(SUM(I38,L38,N38)<>0,TRUNC(SUM(I38,L38,N38),1),"") -> 7900
A39: 59754967601 | B39: EAA110620000 | C39: 3913170520175128 | D39: MAIN BUS BAR | E39: 3.0 mm x 15 mm | F39: m | G39: 1.5 | H39: 14000 | I39: =IF(G39*H39<>0, TRUNC(G39*H39,1),"") -> 21000 | J39: =G39 -> 1.5 | K39: 0 | L39: =IF(G39*K39<>0, TRUNC(G39*K39,1),"") | M39: =[2]합산자재!J48 -> 0 | N39: =IF(G39*M39<>0, TRUNC(G39*M39,1),"") | P39: =IF(SUM(I39,L39,N39)<>0,TRUNC(SUM(I39,L39,N39),1),"") -> 21000
A40: 53060807001 | B40: EAA110620000 | C40: 3116210220135769 | D40: BUS BAR | E40: 3.0 mm x 15 mm | F40: m | G40: 1.8 | H40: 14000 | I40: =IF(G40*H40<>0, TRUNC(G40*H40,1),"") -> 25200 | J40: =G40 -> 1.8 | K40: =[2]합산자재!I55 -> 0 | L40: =IF(G40*K40<>0, TRUNC(G40*K40,1),"") | M40: =[2]합산자재!J55 -> 0 | N40: =IF(G40*M40<>0, TRUNC(G40*M40,1),"") | P40: =IF(SUM(I40,L40,N40)<>0,TRUNC(SUM(I40,L40,N40),1),"") -> 25200 | Z40: 노임계
...

Sheet 일위노임 (2)
A1: 총줄수-> | B1: 29 | D1: [ 노후전기설비정비 전기공사 ] - 일위노임 산출근거(2026년 상반기 노임) | AA1: 내선전공
A2: 번호 | B2: 공종코드 | C2: 코드 | D2: 명 칭 | E2: 규 격 | F2: 단위 | G2: 수량 | K2: 코드 | L2: 공량산출 | P2: 단 위 단 가 산 출 | S2: 품셈근거 | T2: 비고
G3: 결정수량 | H3: 할증 | I3: 산출수량 | J3: 재할% | L3: 명칭 | M3: 품셈 | N3: 할증% | O3: 공량 | P3: 단가 | Q3: 단위단가 | R3: 단위계
B4: 공종줄 | D4: EPS SUPPORT W150-1단 [식]
B5: 800 | C5: 3116210220135769 | D5: 스트롱앵커 | E5: 3/8 | F5: 개 | G5: 2 | H5: =IF(I5<>0,G5-I5,"") -> 0 | I5: 2 | K5: 56900017016 | L5: 내선전공 | M5: 0.036 | N5: 150 | O5: =IF(I5*M5=0,"",I5*M5*(N5/100)) -> 0.108 | S5: 전기5-29 | AA5: =O5 -> 0.108
B6: 800 | C6: L001010101000075 | D6: 노 무 비 | E6: 내선전공 | F6: 인 | G6: =IF(H6*I6/100 <1, TRUNC(H6*I6/100, [2]옵션!$E$13), TRUNC(H6*I6/100, [2]옵션!$E$13)) -> 0.108 | H6: =[2]옵션!$B$13 -> 100 | I6: =SUM(AA5:AA5) -> 0.108 | O6: =IF(I6*M6=0,"",I6*M6*(N6/100)) | AA6: =SUM(AA5:AA5) -> 0.108
D8: 분전반27 700W*1100H [면]
D9: MAIN BUS BAR | E9: 3.0 mm x 15 mm | F9: m | G9: =I9 -> 2.2 | I9: ='일위대가 (2)'!G20 -> 2.2 | L9: 전기기계조립원 | M9: 0.08 | N9: 100 | O9: =M9*G9 -> 0.176 | S9: 전기3-21
L10: 단순노무종사원 | M10: 0.06 | N10: 100 | O10: =M10*G9 -> 0.132 | S10: 전기3-21
D11: BUS BAR | E11: 3.0 mm x 15 mm | F11: m | G11: =I11 -> 2.88 | I11: ='일위대가 (2)'!G21 -> 2.88 | L11: 전기기계조립원 | M11: 0.08 | N11: 100 | O11: =M11*G11 -> 0.2304 | S11: 전기3-21
L12: 단순노무종사원 | M12: 0.06 | N12: 100 | O12: =M12*G11 -> 0.1728 | S12: 전기3-21
D13: INSULATION TUBE | E13: 150㎟ 이하 | F13: m | G13: =I13 -> 5.08 | I13: ='일위대가 (2)'!G22 -> 5.08 | L13: 전기기계조립원 | M13: 0.02 | N13: 100 | O13: =M13*G13 -> 0.1016 | S13: 전기3-23-1
D14: M C C B (표준형) | E14: 4P 600V 50AF | F14: 개 | G14: =I14 -> 5 | I14: ='일위대가 (2)'!G24 -> 5 | L14: 전선원 | M14: 0.33 | N14: 100 | O14: =M14*G14 -> 1.65 | S14: 전기5-19
D15: E L C B (분전반) | E15: 110/220V 2P 30AF | F15: 개 | G15: =I15 -> 8 | I15: ='일위대가 (2)'!G25 -> 8 | L15: 전선원 | M15: 0.13 | N15: 100 | O15: =M15*G15 -> 1.04 | S15: 전기5-19
D16: 노 무 비 | E16: 전기기계조립원 | F16: 인 | G16: =O9+O11+O13 -> 0.508
E17: 전선원 | F17: 인 | G17: =O14+O15 -> 2.69
E18: 단순노무종사원 | F18: 인 | G18: =O10+O12 -> 0.3048
D20: 지하소방펌프실 600W*700H*150D [면]
D21: MAIN BUS BAR | E21: 3.0 mm x 15 mm | F21: m | G21: =I21 -> 1.5 | I21: ='일위대가 (2)'!G39 -> 1.5 | L21: 전기기계조립원 | M21: 0.08 | N21: 100 | O21: =M21*G21 -> 0.12 | S21: 전기3-21
L22: 단순노무종사원 | M22: 0.06 | N22: 100 | O22: =M22*G21 -> 0.09 | S22: 전기3-21
D23: BUS BAR | E23: 3.0 mm x 15 mm | F23: m | G23: =I23 -> 1.8 | I23: ='일위대가 (2)'!G40 -> 1.8 | L23: 전기기계조립원 | M23: 0.08 | N23: 100 | O23: =M23*G23 -> 0.144 | S23: 전기3-21
L24: 단순노무종사원 | M24: 0.06 | N24: 100 | O24: =M24*G23 -> 0.108 | S24: 전기3-21
D25: M C (GMC-22) | E25: 4kW/220V 7.5kW/440V | F25: 대 | G25: =I25 -> 1 | I25: ='일위대가 (2)'!G43 -> 1 | L25: 전선원 | M25: 0.12 | N25: 100 | O25: =M25*G25 -> 0.12 | S25: 전기5-19
D26: LOAD WIRE | E26: KIV 6㎟ | F26: m | G26: =I26 -> 1.6 | I26: ='일위대가 (2)'!G47 -> 1.6 | L26: 전선원 | M26: 0.01 | N26: 100 | O26: =M26*G26 -> 0.016 | S26: 전기5-10
D27: P B L S (LED) | E27: DC 110V/125V 25mm | F27: 개 | G27: =I27 -> 2 | I27: ='일위대가 (2)'!G49 -> 2 | L27: 전선원 | M27: 0.01 | N27: 100 | O27: =M27*G27 -> 0.02 | S27: 전기5-23
D28: SELECTOR S/W | E28: 300V 6A 2a 2b | F28: 개 | G28: =I28 -> 1 | I28: ='일위대가 (2)'!G50 -> 1 | L28: 전선원 | M28: 0.01 | N28: 100 | O28: =M28*G28 -> 0.01 | S28: 전기5-23
D29: INSULATION TUBE | E29: 150㎟ 이하 | F29: m | G29: =I29 -> 1 | I29: ='일위대가 (2)'!G33 -> 1 | L29: 전기기계조립원 | M29: 0.02 | N29: 100 | O29: =M29*G29 -> 0.02 | S29: 전기3-23-1
D30: TIMER (정전보상용) | E30: AC110/220V 24HR | F30: 개 | G30: =I30 -> 1 | I30: ='일위대가 (2)'!G46 -> 1 | L30: 전기기계조립원 | M30: 0.18 | N30: 100 | O30: =M30*G30 -> 0.18 | S30: 전기3-34
D31: M C C B (표준형) | E31: 4P 600V 50AF | F31: 개 | G31: =I31 -> 3 | I31: ='일위대가 (2)'!G44 -> 3 | L31: 전선원 | M31: 0.33 | N31: 100 | O31: =M31*G31 -> 0.99 | S31: 전기5-19
D32: E L C B (분전반) | E32: 110/220V 2P 30AF | F32: 개 | G32: =I32 -> 6 | I32: ='일위대가 (2)'!G45 -> 6 | L32: 전선원 | M32: 0.13 | N32: 100 | O32: =M32*G32 -> 0.78 | S32: 전기5-19
D33: 이면배선 | E33: KIV 2.5㎟ | F33: m | G33: =I33 -> 5.8 | I33: ='일위대가 (2)'!G52 -> 5.8 | L33: 전기기계조립원 | M33: 0.05 | N33: 100 | O33: =M33*G33 -> 0.29 | S33: 전기3-34
D34: 노 무 비 | E34: 전기기계조립원 | F34: 인 | G34: =O21+O23+O29+O30+O33 -> 0.754
E35: 전선원 | F35: 인 | G35: =O25+O26+O27+O26+O28+O31+O32 -> 1.952
E36: 단순노무종사원 | F36: 인 | G36: =O22+O24 -> 0.198
D38: 소방MCC조작반 700W*1600H*200D [면]
D39: PVC DUCT | E39: 30x40x2m W/COVER | F39: 개 | G39: =I39 -> 3 | I39: ='일위대가 (2)'!G63 -> 3 | L39: 전선원 | M39: 0.22 | N39: 100 | O39: =M39*G39 -> 0.66 | S39: 전기5-9
D40: EARTH BAR | E40: 6.0 mm x 25 mm | F40: m | G40: =I40 -> 0.7 | I40: ='일위대가 (2)'!G64 -> 0.7 | L40: 전기기계조립원 | M40: 0.09 | N40: 100 | O40: =M40*G40 -> 0.063 | S40: 전기3-21
L41: 단순노무종사원 | M41: 0.7 | N41: 100 | O41: =M41*G40 -> 0.49 | S41: 전기3-21
D42: 디지털 파워미터 | F42: 대 | G42: =I42 -> 1 | I42: ='일위대가 (2)'!G66 -> 1 | L42: 전기기계조립원 | M42: 1.31 | N42: 100 | O42: =M42*G42 -> 1.31 | S42: 전기6-2
D43: C T 1150V 권선형 | E43: 300/5A 40VA 1.0 40In | F43: 개 | G43: =I43 -> 3 | I43: ='일위대가 (2)'!G69 -> 3 | L43: 전기기계조립원 | M43: 0.34 | N43: 100 | O43: =M43*G43 -> 1.02 | S43: 전기3-34
...

Sheet 합산자재
A1: 총줄수-> | B1: 107 | C1: [ 농수산물도매시장 노후전기설비정비 실시설계 ] - 합산자재목록
A2: 번호 | B2: … | C2: 코드 | D2: 명 칭 | E2: 규 격 | F2: 단위 | G2: 수량 | H2: 재료비 | I2: 노무비 | J2: 경비 | K2: 지급비 | L2: 계 | M2: 비고
C4: 3913170610034835 | D4: 강제전선관 | E4: 아연도 36 mm | F4: m | G4: 25 | H4: =TRUNC(단가조사!G4*옵션!$D$11) -> 5134 | L4: =SUM(H4,I4,J4) -> 5134
C5: 3913170610035664 | D5: 합성수지제 가요전선관 | E5: CD-난연성 16㎜ | F5: m | G5: 14 | H5: =TRUNC(단가조사!G5*옵션!$D$11) -> 170 | L5: =SUM(H5,I5,J5) -> 170
C6: 3913170610045632 | D6: 파상형 폴리에틸렌 전선관 | E6: 40㎜ | F6: m | G6: 11 | H6: =TRUNC(단가조사!G6*옵션!$D$11) -> 522 | L6: =SUM(H6,I6,J6) -> 522
C7: 3913170620174410 | D7: 1종금속제가요전선관 | E7: 16 mm 일반-비방수 | F7: m | G7: 73 | H7: =TRUNC(단가조사!G7*옵션!$D$11) -> 1151 | L7: =SUM(H7,I7,J7) -> 1151
C8: 3913170620174411 | D8: 1종금속제가요전선관 | E8: 22 mm 일반-비방수 | F8: m | G8: 19 | H8: =TRUNC(단가조사!G8*옵션!$D$11) -> 1914 | L8: =SUM(H8,I8,J8) -> 1914
C9: 3913170620174434 | D9: 1종금속제가요전선관 | E9: 커넥터, 16 mm 일반-비방수 | F9: 개 | G9: 26 | H9: =TRUNC(단가조사!G9*옵션!$D$11) -> 407 | L9: =SUM(H9,I9,J9) -> 407
C10: 3913170820935618 | D10: 경질비닐전선관용 부품 | E10: 노말밴드, 36 mm | F10: 개 | G10: 5 | H10: =TRUNC(단가조사!G10*옵션!$D$11) -> 3739 | L10: =SUM(H10,I10,J10) -> 3739
C11: 3912130810035750 | D11: 아우트렛박스 | E11: 8각 54㎜ | F11: 개 | G11: 12 | H11: =TRUNC(단가조사!G11*옵션!$D$11) -> 638 | L11: =SUM(H11,I11,J11) -> 638
C12: 3912130810035753 | D12: 아우트렛박스 | E12: 중형4각 54㎜ | F12: 개 | G12: 8 | H12: =TRUNC(단가조사!G12*옵션!$D$11) -> 973 | L12: =SUM(H12,I12,J12) -> 973
C13: 3912130820174710 | D13: 아우트렛박스 커버 | E13: 커버, 8각, 평형 | F13: 개 | G13: 12 | H13: =TRUNC(단가조사!G13*옵션!$D$11) -> 343 | L13: =SUM(H13,I13,J13) -> 343
C14: 3912130820174713 | D14: 아우트렛박스 커버 | E14: 커버, 4각, 평형 | F14: 개 | G14: 8 | H14: =TRUNC(단가조사!G14*옵션!$D$11) -> 343 | L14: =SUM(H14,I14,J14) -> 343
C15: 3912130310035875 | D15: 노출박스 | E15: 16 mm - 1 방출 | F15: 개 | G15: 5 | H15: =TRUNC(단가조사!G15*옵션!$D$11) -> 2577 | L15: =SUM(H15,I15,J15) -> 2577
... C102: 391115ZZ701Z0045 | D102: 콘센트철거 | E102: 매입2구,방우형 | F102: EA | G102: 6 | H102: =TRUNC(단가조사!G102*옵션!$D$11) -> 0 | L102: =SUM(H102,I102,J102) -> 0
C103: L001010101000075 | D103: 노 무 비 | E103: 내선전공 | F103: 인 | G103: 63.405 | I103: =TRUNC(단가조사!G106) -> 273676 | L103: =SUM(H103,I103,J103) -> 273676
C104: L001010101000078 | D104: 노 무 비 | E104: 저압케이블전공 | F104: 인 | G104: 19.886 | I104: =TRUNC(단가조사!G107) -> 304156 | L104: =SUM(H104,I104,J104) -> 304156
C105: L001010101000081 | D105: 노 무 비 | E105: 배전전공 | F105: 인 | G105: 0.07 | I105: =TRUNC(단가조사!G108) -> 414968 | L105: =SUM(H105,I105,J105) -> 414968
C106: L001010101000002 | D106: 노 무 비 | E106: 보통인부 | F106: 인 | G106: 0.18 | I106: =TRUNC(단가조사!G109) -> 172068 | L106: =SUM(H106,I106,J106) -> 172068
L107: =SUM(H107,I107,J107) -> 0

Sheet 단가조사
A1: 총줄수-> | B1: 123 | D1: [ 노후전기설비정비 전기공사 ] - 단가조사서(1/6단가:2026년08월)
A2: 번호 | B2: 공종코드 | C2: 코드 | D2: 명 칭 | E2: 규 격 | F2: 단위 | G2: 적용단가 | H2: 시설단가 | J2: 거래가격 | L2: 물가정보 | N2: 물가자료 | P2: 조사단가1 | R2: 조사단가2 | T2: 비고
H3: 단가 | I3: 코드 | J3: 단가 | K3: PAGE | L3: 단가 | M3: PAGE | N3: 단가 | O3: PAGE | P3: 단가 | Q3: PAGE | R3: 단가 | S3: PAGE
C4: 3913170610034835 | D4: 강제전선관 | E4: 아연도 36 mm | F4: m | G4: =MIN(H4,J4,L4,N4,P4) -> 5134 | H4: 5134 | J4: 6390 | K4: 1029 | L4: 7306 | M4: I-1202
C5: 3913170610035664 | D5: 합성수지제 가요전선관 | E5: CD-난연성 16㎜ | F5: m | G5: =MIN(H5,J5,L5,N5,P5) -> 170 | H5: 170 | J5: 360 | K5: 1025 | L5: 275 | M5: I-1204
C6: 3913170610045632 | D6: 파상형 폴리에틸렌 전선관 | E6: 40㎜ | F6: m | G6: =MIN(H6,J6,L6,N6,P6) -> 522 | H6: 522 | J6: 857 | K6: 1025 | L6: 607 | M6: I-1204
C7: 3913170620174410 | D7: 1종금속제가요전선관 | E7: 16 mm 일반-비방수 | F7: m | G7: =MIN(H7,J7,L7,N7,P7) -> 1151 | L7: 1151
C8: 3913170620174411 | D8: 1종금속제가요전선관 | E8: 22 mm 일반-비방수 | F8: m | G8: =MIN(H8,J8,L8,N8,P8) -> 1914 | L8: 1914
C9: 3913170620174434 | D9: 1종금속제가요전선관 | E9: 커넥터, 16 mm 일반-비방수 | F9: 개 | G9: =MIN(H9,J9,L9,N9,P9) -> 407 | H9: 407 | L9: 520 | M9: 인터넷
C10: 3913170820935618 | D10: 강제전선관용 부품 | E10: 노말밴드, 아연도36 mm | F10: 개 | G10: =MIN(H10,J10,L10,N10,P10) -> 3739 | H10: 3739 | J10: 4940 | K10: 1029 | L10: 5412 | M10: I-1203
C11: 3912130810035750 | D11: 아우트렛박스 | E11: 8각 54㎜ | F11: 개 | G11: =MIN(H11,J11,L11,N11,P11) -> 638 | H11: 638 | J11: 800 | K11: 1028 | L11: 845 | M11: I-1207
C12: 3912130810035753 | D12: 아우트렛박스 | E12: 중형4각 54㎜ | F12: 개 | G12: =MIN(H12,J12,L12,N12,P12) -> 973 | J12: 3100 | K12: 1028 | L12: 973 | M12: I-1207
C13: 3912130820174710 | D13: 아우트렛박스 커버 | E13: 커버, 8각, 평형 | F13: 개 | G13: =MIN(H13,J13,L13,N13,P13) -> 343 | J13: 400 | K13: 1028 | L13: 343 | M13: I-1207
C14: 3912130820174713 | D14: 아우트렛박스 커버 | E14: 커버, 4각, 평형 | F14: 개 | G14: =MIN(H14,J14,L14,N14,P14) -> 343 | J14: 400 | K14: 1028 | L14: 343 | M14: I-1207
C15: 3912130310035875 | D15: 노출박스 | E15: 16 mm - 1 방출 | F15: 개 | G15: =MIN(H15,J15,L15,N15,P15) -> 2577 | H15: 2577 | J15: 2818 | K15: 1030 | L15: 3382 | M15: I-1203
C16: 3912130310035797 | D16: 풀박스 | E16: 150×150×100 | F16: 개 | G16: =MIN(H16,J16,L16,N16,P16) -> 2856 | H16: 2856 | J16: 8261 | K16: 1028 | L16: 3360 | M16: I-1207
C17: 3913170520175125 | D17: 케이블트레이부속품 | E17: HOLD DOWN CLAMP, 아연도 | F17: 개 | G17: =MIN(H17,J17,L17,N17,P17) -> 373 | H17: 373
C18: 3913170520175126 | D18: 케이블트레이부속품 | E18: 찬넬스프링 너트, 아연도 | F18: 개 | G18: =MIN(H18,J18,L18,N18,P18) -> 750 | H18: 750
C19: 3913170520175128 | D19: 케이블트레이부속품 | E19: U CHANNEL, 41x41x2.6t | F19: m | G19: =MIN(H19,J19,L19,N19,P19) -> 6176 | H19: 6176
C20: 3913170420385334 | D20: 멀티덕트 BODY | E20: AL W150 x H70 | F20: m | G20: =MIN(H20,J20,L20,N20,P20) -> 40000 | L20: 40000 | M20: 1200
C21: 3913170420385338 | D21: 멀티덕트 COVER | E21: AL W150 x H70 | F21: m | G21: =MIN(H21,J21,L21,N21,P21) -> 5000 | L21: 5000 | M21: 1200
C22: 3913170420385342 | D22: 멀티덕트 H-ELBOW | E22: AL W150 x H70 | F22: 개 | G22: =MIN(H22,J22,L22,N22,P22) -> 5000 | L22: 5000 | M22: 1200
C23: 3913171210033640 | D23: 몰드 | E23: 알루미늄(대) | F23: m | G23: =MIN(H23,J23,L23,N23,P23) -> 3000 | J23: 3000 | K23: 1031 | L23: 12000 | M23: I-1206
C24: 3913170810037051 | D24: 강제전선관용 부품 | E24: 새들 (KS) 16c | F24: EA | G24: =MIN(H24,J24,L24,N24,P24) -> 90 | J24: 90 | K24: 1029 | L24: 98 | M24: I-1203
C25: 3913170810037052 | D25: 강제전선관용 부품 | E25: 새들 (KS) 22c | F25: EA | G25: =MIN(H25,J25,L25,N25,P25) -> 90 | J25: 90 | K25: 1029 | L25: 104 | M25: I-1203
C26: 3116210220135769 | D26: 스트롱앵커 | E26: 3/8 | F26: 개 | G26: =MIN(H26,J26,L26,N26,P26) -> 200 | L26: 200 | M26: I-643
C27: 2612162922076727 | D27: 450/750V 내열비닐절연전선 | E27: HFIX 1.78mm(2.5㎟) | F27: m | G27: =MIN(H27,J27,L27,N27,P27) -> 544 | H27: 544 | J27: 727 | K27: 993 | L27: 1028 | M27: I-1165
