Workbook

Sheet 겉표지
A1: =표지!A1 -> 內 譯 書 | Z1: 견적가로형식-1
C18: 件 名: | D18: =표지!C13 -> 샘플
C20: 提 出 處: | D20: =표지!C4 -> 貴下
C22: 提 出 日: | D22: =표지!C6 -> 2026년 8월 31일
D36: =표지!I3 -> 대 한 민 국 주 식 회 사
D37: =표지!I4
D38: =표지!I5 -> ㅇ ㅇ 시 ㅇ ㅇ 구 ㅇ ㅇ 동
D39: =표지!I6
D40: =표지!I7 -> 대표이사 홍 길 동
D41: =표지!I8
D42: =표지!I9 -> 대표전화 (02) 0 0 0 - 0 0 0 0
D43: =표지!I10
D44: =표지!I11 -> 팩 스 (02) 0 0 0 - 0 0 0 0
D45: =표지!I12
D46: =표지!I13

Sheet 표지
A1: 內 譯 書
I3: 대 한 민 국 주 식 회 사
B4: 제 출 처: | C4: 貴下
I5: ㅇ ㅇ 시 ㅇ ㅇ 구 ㅇ ㅇ 동
B6: 제 출 일: | C6: 2026년 8월 31일
I7: 대표이사 홍 길 동
B8: 아래와 같이 內譯書를 제출합니다.
I9: 대표전화 (02) 0 0 0 - 0 0 0 0
I11: 팩 스 (02) 0 0 0 - 0 0 0 0
B13: 공 사 명: | C13: 샘플
B15: 공사금액: | C15: ="一金"&NUMBERSTRING(F40,2)&"원整("&DOLLAR(F40,0)&")" -> 一金零원整(₩0)
B17: 내 용 | D17: 단위 | E17: 수량 | F17: 금 액 | H17: 비 고 | M17: 요율 | N17: 금액 | O17: 이윤 | P17: 끝자리맞추기
N18: =E18*F18 -> 0
N19: =E19*F19 -> 0
N20: =E20*F20 -> 0
N21: =E21*F21 -> 0
N22: =E22*F22 -> 0
N23: =E23*F23 -> 0
N24: =E24*F24 -> 0
N25: =E25*F25 -> 0
N26: =E26*F26 -> 0
N27: =E27*F27 -> 0
N28: =E28*F28 -> 0
N29: =E29*F29 -> 0
... N39: =E39*F39 -> 0
F40: =N40 -> 0 | N40: =SUM(N18:N39) -> 0
B41: 1. 부가가치세 별도
B42: 2. 한전불입금 별도

Sheet 원가
A1: 원 가 계 산 서
A3: 공사명: | C3: 농수산물도매시장 노후전기설비정비 실시설계 전기공사 | E3: 공사기간: 6 개월
A4: 비 목 | C4: 구 분 | D4: 금 액 | E4: 구 성 비 | I4: 요율 | J4: 수량 | K4: 금액 | L4: 이윤 | M4: 끝자리 맞추기
B5: 재 료 비 | C5: 직 접 재 료 비 | D5: =옵션!$B$2 -> 27109991 | J5: 1 | K5: =D5*J5 -> 27109991
C6: 간 접 재 료 비 | K6: =D6*J6 -> 0
C7: ( 소 계 ) | D7: =SUM(D5:D6) -> 27109991 | K7: =D7*J7 -> 0
A8: 순 | B8: 노 무 비 | C8: 직 접 노 무 비 | D8: =옵션!$C$2 -> 30633718 | J8: 1 | K8: =D8*J8 -> 30633718
C9: 간 접 노 무 비 | D9: =TRUNC(D8*I9/100) -> 5483435 | E9: (직접 노무비) * 17.9 % | I9: 17.9 | J9: 1 | K9: =D9*J9 -> 5483435
C10: ( 소 계 ) | D10: =SUM(D8:D9) -> 36117153 | K10: =D10*J10 -> 0
C11: 산 재 보 험 료 | D11: =TRUNC(D10*I11/100) -> 1285770 | E11: (노무비) * 3.56 % | I11: 3.56 | J11: 1 | K11: =D11*J11 -> 1285770
C12: 고 용 보 험 료 | D12: =TRUNC(D10*I12/100) -> 364783 | E12: (노무비) * 1.01 % | I12: 1.01 | J12: 1 | K12: =D12*J12 -> 364783
A13: 공 | C13: 퇴 직 금 공 제 | D13: =TRUNC(D8*I13/100) -> 704575 | E13: (직접 노무비) * 2.3 % | I13: 2.3 | J13: 1 | K13: =D13*J13 -> 704575
B14: 경 | C14: 안 전 관 리 비 | D14: =TRUNC((D7+D8+0/1.1)*I14/100) -> 1795829 | E14: (재료+직노+관급재/1.1) * 3.11 % | I14: 3.11 | J14: 1 | K14: =D14*J14 -> 1795829
C15: 기 타 경 비 | D15: =TRUNC((D7+D10)*I15/100) -> 3287811 | E15: (재료+노무) * 5.2 % | I15: 5.2 | J15: 1 | K15: =D15*J15 -> 3287811
C16: 건 강 보 험 료 | D16: =TRUNC(D8*I16/100) -> 1101282 | E16: (직접 노무비) * 3.595 % | I16: 3.595 | J16: 1 | K16: =D16*J16 -> 1101282
C17: 연 금 보 험 료 | D17: =TRUNC(D8*I17/100) -> 1455101 | E17: (직접 노무비) * 4.75 % | I17: 4.75 | J17: 1 | K17: =D17*J17 -> 1455101
A18: 사 | C18: 노인장기요양보험 | D18: =TRUNC(D16*I18/100) -> 144708 | E18: (건강 보험료) * 13.14 % | I18: 13.14 | J18: 1 | K18: =D18*J18 -> 144708
C19: 법 정 분 담 금 | D19: =TRUNC(D10*I19/100) -> 34672 | E19: (노무비) * 0.096 % | I19: 0.096 | J19: 1 | K19: =D19*J19 -> 34672
K20: =D20*J20 -> 0
K21: =D21*J21 -> 0
B22: 비 | K22: =D22*J22 -> 0
A23: 비 | K23: =D23*J23 -> 0
K24: =D24*J24 -> 0
C25: ( 소 계 ) | D25: =SUM(D11:D24) -> 10174531 | K25: =D25*J25 -> 0
B26: ( 순 공 사 비 계 ) | D26: =D7+D10+D25 -> 73401675 | K26: =D26*J26 -> 0
A27: 일 반 관 리 비 | D27: =TRUNC((D7+D10+D25)*I27/100) -> 5872134 | E27: (재료+노무+경비) * 8 % | I27: 8 | J27: 1 | K27: =D27*J27 -> 5872134
A28: 이 윤 | D28: =L28-((SUM(K5:K27)+L28-TRUNC((SUM(K5:K27)+L28)/M28)*M28)) -> 7726191 | E28: (노무+경비+일반관리비) * 14.742 % | I28: 15 | J28: 1 | K28: =D28*J28 -> 7726191 | L28: =TRUNC((D10+D25+D27)*I28/100) -> 7824572 | M28: 100000
A29: ( 총 원 가 ) | D29: =SUM(K5:K28) -> 87000000 | K29: =D29*J29 -> 0
A30: 부 가 가 치 세 | D30: =TRUNC(D29*I30/100) -> 8700000 | I30: 10 | J30: 1 | K30: =D30*J30 -> 8700000
K31: =D31*J31 -> 0
K32: =D32*J32 -> 0
K33: =D33*J33 -> 0
K34: =D34*J34 -> 0
A35: ( 총 계 ) | D35: =K35 -> 95700000 | K35: =SUM(K5:K34) -> 95700000

Sheet 결제판
B2: 과 장
D3: 2026년 08월 | R3: 위 치 : | T3: 전남광주통합특별시 북구 동문대로 260
C5: 노후전기설비정비 전기공사
B7: 담 당
D8: ◎ 사 업 개 요
E10: 1. 노후전기설비정비 전기공사
E11: =[1]입력판!B9 -> 0
B12: 설 계 월 일
B14: 2026년 08월
B17: 심사자
B22: 설계자
D24: ◇ 총 공 사 비 : | I24: 일금 이백만원정 | J24: =NUMBERSTRING(T24,1)&"원정" -> 구천사백삼십일만육천원정 | S24: ( | T24: =T25+T26 -> 94316000 | X24: )
D25: ◇ 도급 예정액 : | I25: 일금 이백만원정 | J25: =NUMBERSTRING(T25,1)&"원정" -> 구천사백삼십일만육천원정 | S25: ( | T25: =원가계산서!L34 -> 94316000 | X25: )
D26: ◇ 관급 자재대 : | I26: 일금 원정 | J26: =NUMBERSTRING(T26,1)&"원정" -> 영원정 | S26: ( | X26: )
B27: 조사자
H28: 전남광주통합특별시 (각화동농산물도매시장 관리사무소)

Sheet 원가계산서
A1: [ 노후전기설비정비 전기공사 ] | K1: [ 공사기간 ] : 6개월이하
A2: 비목 | C2: 구 성 비 | L2: 계 산 금 액 | M2: 비 고
A3: 순 공 사 | B3: 재료비 | C3: ①직접재료비 | L3: =총괄표!I29 -> 27109991
C4: ②간접재료비
C5: ③작업부산물
C6: [ 재료비소계 ] | L6: =SUM(L3,L4,L5) -> 27109991
B7: 노무비 | C7: ①직접노무비 | L7: =총괄표!L29 -> 30633718
C8: ②간접노무비 | D8: ①직접노무비 | F8: * | G8: 0.175 | L8: =TRUNC(L7*G8) -> 5360900
C9: [ 노무비소계 ] | L9: =SUM(L7,L8) -> 35994618
B10: 경 비 | C10: ①산출경비
C11: ②기타경비 | D11: [ 재료비소계 + 노무비소계 ] | F11: * | G11: 0.05 | L11: =TRUNC((L6+L9)*G11) -> 3155230
C12: ③산재보험료 | D12: [ 노무비소계 ] | F12: * | G12: 0.0356 | L12: =TRUNC(L9*G12) -> 1281408
C13: ④고용보험료 | D13: [ 노무비소계 ] | F13: * | G13: 0.0101 | L13: =TRUNC(L9*G13) -> 363545
C14: ⑤건강보험료 | D14: ①직접노무비 | F14: * | G14: 0.03595 | L14: =TRUNC(L7*G14) -> 1101282
C15: ⑥연금보험료 | D15: ①직접노무비 | F15: * | G15: 0.0475 | L15: =TRUNC(L7*G15) -> 1455101
C16: ⑦노인장기요양보험료 | D16: ⑤건강보험료 | F16: * | G16: 0.1314 | L16: =TRUNC(L14*G16) -> 144708
C17: ⑧퇴직공제부금비 | D17: ①직접노무비 | F17: * | G17: 0.023 | M17: 1억이상
C18: ⑨ 산업안전보건관리비 | D18: [ 재료비소계 + 직접노무비 ] | F18: * | G18: 0.0311 | L18: =TRUNC((L6+L7)*G18) -> 1795829 | M18: 2천만원이상
C19: ⑨ 산업안전보건관리비-a | D19: [ 재료비소계 + 직접노무비 + 도급자관급/1.1 ] | F19: * | G19: 0.0311 | H19: * | I19: 1 | M19: 5억미만관급
C20: ⑨ 산업안전보건관리비-b | D20: [ 재료비소계 + 직접노무비 ] | F20: * | G20: 0.0311 | H20: * | I20: 1.2 | M20: 5억미만관급
C21: ⑨ 산업안전보건관리비-aa | D21: [ 재료비소계 + 직접노무비 + 도급자관급/1.1 ] | F21: * | G21: 0.0186 | H21: + | I21: 5349000 | J21: * | K21: 1 | M21: 5억이상50억미만
C22: ⑨ 산업안전보건관리비-bb | D22: [ 재료비소계 + 직접노무비 ] | F22: * | G22: 0.0186 | H22: + | I22: 5349000 | J22: * | K22: 1.2 | M22: 5억이상50억미만
C23: ⑩ 적용산업안전보건관리비 | L23: =MIN(L18,L19,L20) -> 1795829 | M23: a.b[aa.bb]안중적은금액
C24: ⑪ 법정분담금 | D24: 노무비 | F24: * | G24: 0.00096 | L24: =TRUNC(L9*G24) -> 34554 | M24: 석면분담금,임금채권부담금
C25: [ 경 비 소 계 ] | L25: =SUM(L10,L11,L12,L13,L14,L15,L16,L17,L23,L24) -> 9331657
A26: 순 공 사 비 소 계 | D26: 재료비+노무비+경비 | L26: =SUM(L6,L9,L25) -> 72436266
A27: 일 반 관 리 비 | D27: 순공사비소계 | F27: * | G27: 0.08 | L27: =TRUNC(L26*G27) -> 5794901 | M27: 8.0%.6.5%.5.0%.4.5%
A28: 이 윤 | D28: 노무비+경비+일반관리비 | F28: * | G28: 0.15 | L28: =TRUNC(SUM(L9,L25,L27)*G28) -> 7668176 | M28: 15%.12%.10%.9.0%
A29: 고 재 처 리 비 | D29: 작업부산물 처리비(A상동,스텐304,고철) | L29: =R32 -> -363100 | O29: A동(상동)15KG기준 | P29: 15 | Q29: =단가조사!G103 -> -18400 | R29: =Q29*P29 -> -276000
A30: 공 급 가 액(총원가) | D30: 순공사비+일반관리비+이윤 | L30: =SUM(L26,L27,L28:L29) -> 85536243 | O30: 스텐304 30KG | P30: 30 | Q30: =단가조사!G104 -> -1700 | R30: =Q30*P30 -> -51000
A31: 부 가 가 치 세 | D31: 공급가액(총원가) | F31: * | G31: 0.1 | L31: =TRUNC(L30*G31) -> 8553624 | O31: 고철(경량) 95KG | P31: 95 | Q31: =단가조사!G105 -> -380 | R31: =Q31*P31 -> -36100
A32: 전기공사 손해배상공제 | D32: 공급가액(총원가) | F32: * | G32: 0.0026477 | L32: =TRUNC(L30*G32) -> 226474 | Q32: 고재처리비 | R32: =R31+R30+R29 -> -363100
A33: 도 급 금 액 | D33: 공급가액(총원가)+부가가치세+전기공사 손해배상공제 | L33: =SUM(L30,L31,L32) -> 94316341
A34: 총 공 사 비 | L34: =SUM(L33)-341 -> 94316000 | M34: 단수정리 천원미만 | S34: 간노,기타경비,일반관리비,이윤

Sheet 총괄표
A1: 총줄수-> | B1: 29 | C1: 2.0 | D1: [ 노후전기설비정비 전기공사 ] | AA1: 연속견적가로형식
A2: 번호 | B2: 공종코드 | C2: … | D2: 공 종 명 | E2: 규격 | F2: 단위 | G2: 수량 | H2: 재료비 | J2: 노무비 | M2: 경비 | P2: 계 | Q2: 비고
H3: 단가 | I3: 금액 | J3: 수량 | K3: 단가 | L3: 금액 | M3: 단가 | N3: 금액 | O3: 단가
B4: 공종줄 | D4: [농수산물도매시장 노후전기설비정비 실시설계]
B5: 001 | D5: 1.전기공사 | F5: 식 | G5: 1 | H5: =내역서!I108 -> 27109991 | I5: =G5*H5 -> 27109991 | K5: =내역서!L108 -> 30633718 | L5: =G5*K5 -> 30633718 | M5: =내역서!N108 -> 0 | N5: =G5*M5 -> 0 | P5: =SUM(I5,L5,N5) -> 57743709
I6: =G6*H6 -> 0 | L6: =G6*K6 -> 0 | N6: =G6*M6 -> 0 | P6: =SUM(I6,L6,N6) -> 0
I7: =G7*H7 -> 0 | L7: =G7*K7 -> 0 | N7: =G7*M7 -> 0 | P7: =SUM(I7,L7,N7) -> 0
I8: =G8*H8 -> 0 | L8: =G8*K8 -> 0 | N8: =G8*M8 -> 0 | P8: =SUM(I8,L8,N8) -> 0
I9: =G9*H9 -> 0 | L9: =G9*K9 -> 0 | N9: =G9*M9 -> 0 | P9: =SUM(I9,L9,N9) -> 0
I10: =G10*H10 -> 0 | L10: =G10*K10 -> 0 | N10: =G10*M10 -> 0 | P10: =SUM(I10,L10,N10) -> 0
I11: =G11*H11 -> 0 | L11: =G11*K11 -> 0 | N11: =G11*M11 -> 0 | P11: =SUM(I11,L11,N11) -> 0
I12: =G12*H12 -> 0 | L12: =G12*K12 -> 0 | N12: =G12*M12 -> 0 | P12: =SUM(I12,L12,N12) -> 0
I13: =G13*H13 -> 0 | L13: =G13*K13 -> 0 | N13: =G13*M13 -> 0 | P13: =SUM(I13,L13,N13) -> 0
I14: =G14*H14 -> 0 | L14: =G14*K14 -> 0 | N14: =G14*M14 -> 0 | P14: =SUM(I14,L14,N14) -> 0
I15: =G15*H15 -> 0 | L15: =G15*K15 -> 0 | N15: =G15*M15 -> 0 | P15: =SUM(I15,L15,N15) -> 0
I16: =G16*H16 -> 0 | L16: =G16*K16 -> 0 | N16: =G16*M16 -> 0 | P16: =SUM(I16,L16,N16) -> 0
I17: =G17*H17 -> 0 | L17: =G17*K17 -> 0 | N17: =G17*M17 -> 0 | P17: =SUM(I17,L17,N17) -> 0
... I28: =G28*H28 -> 0 | L28: =G28*K28 -> 0 | N28: =G28*M28 -> 0 | P28: =SUM(I28,L28,N28) -> 0
C29: Total | D29: ( 합 계 ) | I29: =TRUNC(SUM(I4:I28)) -> 27109991 | L29: =TRUNC(SUM(L4:L28)) -> 30633718 | N29: =TRUNC(SUM(N4:N28)) -> 0 | P29: =TRUNC(SUM(P4:P28)) -> 57743709

Sheet 내역서
A1: 총줄수-> | B1: 107 | C1: 2.0 | D1: [ 노후전기설비정비 전기공사 ] | W1: 노임 계산 정보 | AA1: 부속재 및 손료
A2: 번호 | B2: 공종코드 | C2: 코드 | D2: 명 칭 | E2: 규 격 | F2: 단위 | G2: 수량 | H2: 재료비 | J2: 노무비 | M2: 경비 | P2: 계 | Q2: 비고 | W2: 노임계 | X2: 전체(%) | Y2: 공종별(%) | Z2: 노임 소수 | AA2: CD배관재 | AB2: 일반배관재 | AC2: 소모재 | AD2: 자재계 | AE2: 노임계
H3: 단가 | I3: 금액 | J3: 수량 | K3: 단가 | L3: 금액 | M3: 단가 | N3: 금액 | O3: 단가 | AD3: =IF(옵션!$C$11 =0, "1", 옵션!$C$11) -> 1 | AE3: =IF(옵션!$C$12 =0, "1", 옵션!$C$12) -> 1
B4: 공종줄 | D4: 1.전기공사
A5: 59750337004 | B5: 001 | C5: 3913170610034835 | D5: 강제전선관 | E5: 아연도 36 mm | F5: m | G5: 25 | H5: =합산자재!H4 -> 5134 | I5: =TRUNC(G5*H5) -> 128350 | J5: 22 | K5: =합산자재!I4 -> 0 | L5: =TRUNC(G5*K5) -> 0 | M5: =합산자재!J4 -> 0 | N5: =TRUNC(G5*M5) -> 0 | P5: =SUM(I5,L5,N5) -> 128350 | AB5: =G5*H5 -> 128350 | AC5: =G5*H5 -> 128350
A6: 59753097002 | B6: 001 | C6: 3913170610035664 | D6: 합성수지제 가요전선관 | E6: CD-난연성 16㎜ | F6: m | G6: 14 | H6: =합산자재!H5 -> 170 | I6: =TRUNC(G6*H6) -> 2380 | J6: 12 | K6: =합산자재!I5 -> 0 | L6: =TRUNC(G6*K6) -> 0 | M6: =합산자재!J5 -> 0 | N6: =TRUNC(G6*M6) -> 0 | P6: =SUM(I6,L6,N6) -> 2380 | AA6: =G6*H6 -> 2380 | AC6: =G6*H6 -> 2380
A7: 59753178002 | B7: 001 | C7: 3913170610045632 | D7: 파상형 폴리에틸렌 전선관 | E7: 40㎜ | F7: m | G7: 11 | H7: =합산자재!H6 -> 522 | I7: =TRUNC(G7*H7) -> 5742 | J7: 10 | K7: =합산자재!I6 -> 0 | L7: =TRUNC(G7*K7) -> 0 | M7: =합산자재!J6 -> 0 | N7: =TRUNC(G7*M7) -> 0 | P7: =SUM(I7,L7,N7) -> 5742 | AB7: =G7*H7 -> 5742 | AC7: =G7*H7 -> 5742
A8: A0600000000 | B8: 001 | C8: RENT000000000001 | D8: [ 배관 부속재 ] | E8: CD 전선관의 40 % | F8: 식 | G8: 1 | H8: =TRUNC(AA8*옵션!$B$32/100) -> 952 | I8: =TRUNC(G8*H8) -> 952 | J8: 1 | L8: =TRUNC(G8*K8) -> 0 | N8: =TRUNC(G8*M8) -> 0 | P8: =SUM(I8,L8,N8) -> 952 | AA8: =TRUNC(SUM(AA4:AA7)) -> 2380
A9: A0500000000 | B9: 001 | C9: RENT000000000002 | D9: [ 배관 부속재 ] | E9: 전선관의 15 % | F9: 식 | G9: 1 | H9: =TRUNC(AB9*옵션!$B$31/100) -> 20113 | I9: =TRUNC(G9*H9) -> 20113 | J9: 1 | L9: =TRUNC(G9*K9) -> 0 | N9: =TRUNC(G9*M9) -> 0 | P9: =SUM(I9,L9,N9) -> 20113 | AB9: =TRUNC(SUM(AB4:AB8)) -> 134092
A10: 59753017003 | B10: 001 | C10: 3913170620174410 | D10: 1종금속제가요전선관 | E10: 16 mm 일반-비방수 | F10: m | G10: 73 | H10: =합산자재!H7 -> 1151 | I10: =TRUNC(G10*H10) -> 84023 | J10: 66 | K10: =합산자재!I7 -> 0 | L10: =TRUNC(G10*K10) -> 0 | M10: =합산자재!J7 -> 0 | N10: =TRUNC(G10*M10) -> 0 | P10: =SUM(I10,L10,N10) -> 84023 | AC10: =G10*H10 -> 84023
A11: 59753017004 | B11: 001 | C11: 3913170620174411 | D11: 1종금속제가요전선관 | E11: 22 mm 일반-비방수 | F11: m | G11: 19 | H11: =합산자재!H8 -> 1914 | I11: =TRUNC(G11*H11) -> 36366 | J11: 17 | K11: =합산자재!I8 -> 0 | L11: =TRUNC(G11*K11) -> 0 | M11: =합산자재!J8 -> 0 | N11: =TRUNC(G11*M11) -> 0 | P11: =SUM(I11,L11,N11) -> 36366 | AC11: =G11*H11 -> 36366
A12: 59753017043 | B12: 001 | C12: 3913170620174434 | D12: 1종금속제가요전선관 | E12: 커넥터, 16 mm 일반-비방수 | F12: 개 | G12: 26 | H12: =합산자재!H9 -> 407 | I12: =TRUNC(G12*H12) -> 10582 | J12: 26 | K12: =합산자재!I9 -> 0 | L12: =TRUNC(G12*K12) -> 0 | M12: =합산자재!J9 -> 0 | N12: =TRUNC(G12*M12) -> 0 | P12: =SUM(I12,L12,N12) -> 10582
A13: 59759027002 | B13: 001 | C13: 3913170820935618 | D13: 강제전선관용 부품 | E13: 노말밴드, 아연도36 mm | F13: 개 | G13: 5 | H13: =합산자재!H10 -> 3739 | I13: =TRUNC(G13*H13) -> 18695 | J13: 5 | K13: =합산자재!I10 -> 0 | L13: =TRUNC(G13*K13) -> 0 | M13: =합산자재!J10 -> 0 | N13: =TRUNC(G13*M13) -> 0 | P13: =SUM(I13,L13,N13) -> 18695
A14: 59753767011 | B14: 001 | C14: 3912130810035750 | D14: 아우트렛박스 | E14: 8각 54㎜ | F14: 개 | G14: 12 | H14: =합산자재!H11 -> 638 | I14: =TRUNC(G14*H14) -> 7656 | J14: 12 | K14: =합산자재!I11 -> 0 | L14: =TRUNC(G14*K14) -> 0 | M14: =합산자재!J11 -> 0 | N14: =TRUNC(G14*M14) -> 0 | P14: =SUM(I14,L14,N14) -> 7656
A15: 59753767041 | B15: 001 | C15: 3912130810035753 | D15: 아우트렛박스 | E15: 중형4각 54㎜ | F15: 개 | G15: 8 | H15: =합산자재!H12 -> 973 | I15: =TRUNC(G15*H15) -> 7784 | J15: 8 | K15: =합산자재!I12 -> 0 | L15: =TRUNC(G15*K15) -> 0 | M15: =합산자재!J12 -> 0 | N15: =TRUNC(G15*M15) -> 0 | P15: =SUM(I15,L15,N15) -> 7784
A16: 59753767201 | B16: 001 | C16: 3912130820174710 | D16: 아우트렛박스 커버 | E16: 커버, 8각, 평형 | F16: 개 | G16: 12 | H16: =합산자재!H13 -> 343 | I16: =TRUNC(G16*H16) -> 4116 | J16: 12 | K16: =합산자재!I13 -> 0 | L16: =TRUNC(G16*K16) -> 0 | M16: =합산자재!J13 -> 0 | N16: =TRUNC(G16*M16) -> 0 | P16: =SUM(I16,L16,N16) -> 4116
A17: 59753767231 | B17: 001 | C17: 3912130820174713 | D17: 아우트렛박스 커버 | E17: 커버, 4각, 평형 | F17: 개 | G17: 8 | H17: =합산자재!H14 -> 343 | I17: =TRUNC(G17*H17) -> 2744 | J17: 8 | K17: =합산자재!I14 -> 0 | L17: =TRUNC(G17*K17) -> 0 | M17: =합산자재!J14 -> 0 | N17: =TRUNC(G17*M17) -> 0 | P17: =SUM(I17,L17,N17) -> 2744
A18: 59754857116 | B18: 001 | C18: 3912130310035875 | D18: 노출박스 | E18: 16 mm - 1 방출 | F18: 개 | G18: 5 | H18: =합산자재!H15 -> 2577 | I18: =TRUNC(G18*H18) -> 12885 | J18: 5 | K18: =합산자재!I15 -> 0 | L18: =TRUNC(G18*K18) -> 0 | M18: =합산자재!J15 -> 0 | N18: =TRUNC(G18*M18) -> 0 | P18: =SUM(I18,L18,N18) -> 12885
A19: 59753857031 | B19: 001 | C19: 3912130310035797 | D19: 풀박스 | E19: 150×150×100 | F19: 개 | G19: 3 | H19: =합산자재!H16 -> 2856 | I19: =TRUNC(G19*H19) -> 8568 | J19: 3 | K19: =합산자재!I16 -> 0 | L19: =TRUNC(G19*K19) -> 0 | M19: =합산자재!J16 -> 0 | N19: =TRUNC(G19*M19) -> 0 | P19: =SUM(I19,L19,N19) -> 8568
A20: 59754997004 | B20: 001 | C20: 3913170420385334 | D20: 멀티덕트 BODY | E20: AL W150 x H70 | F20: m | G20: 6 | H20: =합산자재!H20 -> 40000 | I20: =TRUNC(G20*H20) -> 240000 | J20: 6 | K20: =합산자재!I20 -> 0 | L20: =TRUNC(G20*K20) -> 0 | M20: =합산자재!J20 -> 0 | N20: =TRUNC(G20*M20) -> 0 | P20: =SUM(I20,L20,N20) -> 240000 | AC20: =G20*H20 -> 240000
A21: 59754997008 | B21: 001 | C21: 3913170420385338 | D21: 멀티덕트 COVER | E21: AL W150 x H70 | F21: m | G21: 6 | H21: =합산자재!H21 -> 5000 | I21: =TRUNC(G21*H21) -> 30000 | J21: 6 | K21: =합산자재!I21 -> 0 | L21: =TRUNC(G21*K21) -> 0 | M21: =합산자재!J21 -> 0 | N21: =TRUNC(G21*M21) -> 0 | P21: =SUM(I21,L21,N21) -> 30000 | AC21: =G21*H21 -> 30000
A22: 59754997012 | B22: 001 | C22: 3913170420385342 | D22: 멀티덕트 H-ELBOW | E22: AL W150 x H70 | F22: 개 | G22: 5 | H22: =합산자재!H22 -> 5000 | I22: =TRUNC(G22*H22) -> 25000 | J22: 5 | K22: =합산자재!I22 -> 0 | L22: =TRUNC(G22*K22) -> 0 | M22: =합산자재!J22 -> 0 | N22: =TRUNC(G22*M22) -> 0 | P22: =SUM(I22,L22,N22) -> 25000
A23: 59350187013 | B23: 001 | C23: 3913171210033640 | D23: 몰드 | E23: 알루미늄(대) | F23: m | G23: 14 | H23: =합산자재!H23 -> 3000 | I23: =TRUNC(G23*H23) -> 42000 | J23: 14 | K23: =합산자재!I23 -> 0 | L23: =TRUNC(G23*K23) -> 0 | M23: =합산자재!J23 -> 0 | N23: =TRUNC(G23*M23) -> 0 | P23: =SUM(I23,L23,N23) -> 42000
A24: MM300001801 | B24: 001 | C24: 3913170810037051 | D24: 강제전선관용 부품 | E24: 새들 (KS) 16c | F24: EA | G24: 60 | H24: =합산자재!H24 -> 90 | I24: =TRUNC(G24*H24) -> 5400 | J24: 60 | K24: =합산자재!I24 -> 0 | L24: =TRUNC(G24*K24) -> 0 | M24: =합산자재!J24 -> 0 | N24: =TRUNC(G24*M24) -> 0 | P24: =SUM(I24,L24,N24) -> 5400
A25: MM300001802 | B25: 001 | C25: 3913170810037052 | D25: 강제전선관용 부품 | E25: 새들 (KS) 22c | F25: EA | G25: 20 | H25: =합산자재!H25 -> 90 | I25: =TRUNC(G25*H25) -> 1800 | J25: 20 | K25: =합산자재!I25 -> 0 | L25: =TRUNC(G25*K25) -> 0 | M25: =합산자재!J25 -> 0 | N25: =TRUNC(G25*M25) -> 0 | P25: =SUM(I25,L25,N25) -> 1800
A26: MM481669624 | B26: 001 | C26: 2612162922076727 | D26: 450/750V 내열비닐절연전선 | E26: HFIX 1.78mm(2.5㎟) | F26: m | G26: 239 | H26: =합산자재!H27 -> 544 | I26: =TRUNC(G26*H26) -> 130016 | J26: 217 | K26: =합산자재!I27 -> 0 | L26: =TRUNC(G26*K26) -> 0 | M26: =합산자재!J27 -> 0 | N26: =TRUNC(G26*M26) -> 0 | P26: =SUM(I26,L26,N26) -> 130016 | AC26: =G26*H26 -> 130016
A27: E1450667003 | B27: 001 | C27: 2612162922076728 | D27: 450/750V 내열비닐절연전선 | E27: HFIX 2.25mm(4㎟) | F27: m | G27: 183 | H27: =합산자재!H28 -> 826 | I27: =TRUNC(G27*H27) -> 151158 | J27: 166 | K27: =합산자재!I28 -> 0 | L27: =TRUNC(G27*K27) -> 0 | M27: =합산자재!J28 -> 0 | N27: =TRUNC(G27*M27) -> 0 | P27: =SUM(I27,L27,N27) -> 151158 | AC27: =G27*H27 -> 151158
A28: E1450927204 | B28: 001 | C28: 2612152420683698 | D28: 접지용비닐절연전선(F-GV) | E28: 10㎟ | F28: m | G28: 28 | H28: =합산자재!H29 -> 2090 | I28: =TRUNC(G28*H28) -> 58520 | J28: 25 | K28: =합산자재!I29 -> 0 | L28: =TRUNC(G28*K28) -> 0 | M28: =합산자재!J29 -> 0 | N28: =TRUNC(G28*M28) -> 0 | P28: =SUM(I28,L28,N28) -> 58520 | AC28: =G28*H28 -> 58520
A29: E1450927205 | B29: 001 | C29: 2612152420683699 | D29: 접지용비닐절연전선(F-GV) | E29: 16㎟ | F29: m | G29: 14 | H29: =합산자재!H30 -> 3041 | I29: =TRUNC(G29*H29) -> 42574 | J29: 12 | K29: =합산자재!I30 -> 0 | L29: =TRUNC(G29*K29) -> 0 | M29: =합산자재!J30 -> 0 | N29: =TRUNC(G29*M29) -> 0 | P29: =SUM(I29,L29,N29) -> 42574 | AC29: =G29*H29 -> 42574
A30: E1450287506 | B30: 001 | C30: 2612162920683887 | D30: 폴리에틸렌 난연케이블 | E30: 0.6/1kv F-CV 1C×25㎟ | F30: m | G30: 5 | H30: =합산자재!H31 -> 5764 | I30: =TRUNC(G30*H30) -> 28820 | J30: 4 | K30: =합산자재!I31 -> 0 | L30: =TRUNC(G30*K30) -> 0 | M30: =합산자재!J31 -> 0 | N30: =TRUNC(G30*M30) -> 0 | P30: =SUM(I30,L30,N30) -> 28820 | AC30: =G30*H30 -> 28820
A31: E1450287508 | B31: 001 | C31: 2612162920683888 | D31: 폴리에틸렌 난연케이블 | E31: 0.6/1kv F-CV 1C×35㎟ | F31: m | G31: 5 | H31: =합산자재!H32 -> 7760 | I31: =TRUNC(G31*H31) -> 38800 | J31: 4 | K31: =합산자재!I32 -> 0 | L31: =TRUNC(G31*K31) -> 0 | M31: =합산자재!J32 -> 0 | N31: =TRUNC(G31*M31) -> 0 | P31: =SUM(I31,L31,N31) -> 38800 | AC31: =G31*H31 -> 38800
A32: E1450287524 | B32: 001 | C32: 2612162920683905 | D32: 폴리에틸렌 난연케이블 | E32: 0.6/1kv F-CV 2C×10㎟ | F32: m | G32: 27 | H32: =합산자재!H33 -> 5105 | I32: =TRUNC(G32*H32) -> 137835 | J32: 25 | K32: =합산자재!I33 -> 0 | L32: =TRUNC(G32*K32) -> 0 | M32: =합산자재!J33 -> 0 | N32: =TRUNC(G32*M32) -> 0 | P32: =SUM(I32,L32,N32) -> 137835 | AC32: =G32*H32 -> 137835
A33: E1450287565 | B33: 001 | C33: 2612162920683947 | D33: 폴리에틸렌 난연케이블 | E33: 0.6/1kv F-CV 4C×16㎟ | F33: m | G33: 11 | H33: =합산자재!H34 -> 15126 | I33: =TRUNC(G33*H33) -> 166386 | J33: 10 | K33: =합산자재!I34 -> 0 | L33: =TRUNC(G33*K33) -> 0 | M33: =합산자재!J34 -> 0 | N33: =TRUNC(G33*M33) -> 0 | P33: =SUM(I33,L33,N33) -> 166386 | AC33: =G33*H33 -> 166386
A34: MM510075121 | B34: 001 | C34: 2612152420683714 | D34: 기기용비닐절연전선 | E34: KIV 10㎟ | F34: m | G34: 4 | H34: =합산자재!H35 -> 1851 | I34: =TRUNC(G34*H34) -> 7404 | J34: 3 | K34: =합산자재!I35 -> 0 | L34: =TRUNC(G34*K34) -> 0 | M34: =합산자재!J35 -> 0 | N34: =TRUNC(G34*M34) -> 0 | P34: =SUM(I34,L34,N34) -> 7404 | AC34: =G34*H34 -> 7404
A35: MM510075123 | B35: 001 | C35: 2612152420683716 | D35: 기기용비닐절연전선 | E35: KIV 25㎟ | F35: m | G35: 5 | H35: =합산자재!H36 -> 4428 | I35: =TRUNC(G35*H35) -> 22140 | J35: 4 | K35: =합산자재!I36 -> 0 | L35: =TRUNC(G35*K35) -> 0 | M35: =합산자재!J36 -> 0 | N35: =TRUNC(G35*M35) -> 0 | P35: =SUM(I35,L35,N35) -> 22140 | AC35: =G35*H35 -> 22140
A36: 59301517002 | B36: 001 | C36: 3912998720170518 | D36: 매입스위치 | E36: 250V 1로2구 | F36: 개 | G36: 2 | H36: =합산자재!H37 -> 1887 | I36: =TRUNC(G36*H36) -> 3774 | J36: 2 | K36: =합산자재!I37 -> 0 | L36: =TRUNC(G36*K36) -> 0 | M36: =합산자재!J37 -> 0 | N36: =TRUNC(G36*M36) -> 0 | P36: =SUM(I36,L36,N36) -> 3774
A37: 59301517003 | B37: 001 | C37: 3912998720170519 | D37: 매입스위치 | E37: 250V 1로3구 | F37: 개 | G37: 1 | H37: =합산자재!H38 -> 2440 | I37: =TRUNC(G37*H37) -> 2440 | J37: 1 | K37: =합산자재!I38 -> 0 | L37: =TRUNC(G37*K37) -> 0 | M37: =합산자재!J38 -> 0 | N37: =TRUNC(G37*M37) -> 0 | P37: =SUM(I37,L37,N37) -> 2440
A38: 59350317301 | B38: 001 | C38: 3912140620170871 | D38: 콘센트 | E38: 둥근형(노출),250V1구접지 | F38: 개 | G38: 4 | H38: =합산자재!H39 -> 1320 | I38: =TRUNC(G38*H38) -> 5280 | J38: 4 | K38: =합산자재!I39 -> 0 | L38: =TRUNC(G38*K38) -> 0 | M38: =합산자재!J39 -> 0 | N38: =TRUNC(G38*M38) -> 0 | P38: =SUM(I38,L38,N38) -> 5280
A39: 59350317207 | B39: 001 | C39: 3912140621030227 | D39: 방우콘센트 | E39: 매입-접지형, 250V 1구 | F39: 개 | G39: 4 | H39: =합산자재!H40 -> 2075 | I39: =TRUNC(G39*H39) -> 8300 | J39: 4 | K39: =합산자재!I40 -> 0 | L39: =TRUNC(G39*K39) -> 0 | M39: =합산자재!J40 -> 0 | N39: =TRUNC(G39*M39) -> 0 | P39: =SUM(I39,L39,N39) -> 8300
A40: 59350317208 | B40: 001 | C40: 3912140621030228 | D40: 방우콘센트 | E40: 매입-접지형, 250V 2구 | F40: 개 | G40: 1 | H40: =합산자재!H41 -> 2163 | I40: =TRUNC(G40*H40) -> 2163 | J40: 1 | K40: =합산자재!I41 -> 0 | L40: =TRUNC(G40*K40) -> 0 | M40: =합산자재!J41 -> 0 | N40: =TRUNC(G40*M40) -> 0 | P40: =SUM(I40,L40,N40) -> 2163
A41: MM300011413 | B41: 001 | C41: 3912110220186204 | D41: 주택용분전반 | E41: 6회로 | F41: EA | G41: 1 | H41: =합산자재!H42 -> 80000 | I41: =TRUNC(G41*H41) -> 80000 | J41: 1 | K41: =합산자재!I42 -> 0 | L41: =TRUNC(G41*K41) -> 0 | M41: =합산자재!J42 -> 0 | N41: =TRUNC(G41*M41) -> 0 | P41: =SUM(I41,L41,N41) -> 80000
A42: 61100117511 | B42: 001 | C42: 3912110320178179 | D42: 배전반 부속재 | E42: ET | F42: 개 | G42: 1 | H42: =합산자재!H43 -> 5000 | I42: =TRUNC(G42*H42) -> 5000 | J42: 1 | K42: =합산자재!I43 -> 0 | L42: =TRUNC(G42*K42) -> 0 | M42: =합산자재!J43 -> 0 | N42: =TRUNC(G42*M42) -> 0 | P42: =SUM(I42,L42,N42) -> 5000
A43: 61100117551 | B43: 001 | C43: 3912110320178182 | D43: 배전반 부속재 | E43: NAME PLATE, 아크릴(대) | F43: 개 | G43: 1 | H43: =합산자재!H44 -> 1000 | I43: =TRUNC(G43*H43) -> 1000 | J43: 1 | K43: =합산자재!I44 -> 0 | L43: =TRUNC(G43*K43) -> 0 | M43: =합산자재!J44 -> 0 | N43: =TRUNC(G43*M43) -> 0 | P43: =SUM(I43,L43,N43) -> 1000
A44: MM300014904 | B44: 001 | C44: 3912161620167016 | D44: 배선용차단기(ABS-52) | E44: 2P 50AF 40AT | F44: EA | G44: 1 | H44: =합산자재!H45 -> 43300 | I44: =TRUNC(G44*H44) -> 43300 | J44: 1 | K44: =합산자재!I45 -> 0 | L44: =TRUNC(G44*K44) -> 0 | M44: =합산자재!J45 -> 0 | N44: =TRUNC(G44*M44) -> 0 | P44: =SUM(I44,L44,N44) -> 43300
A45: MM300015302 | B45: 001 | C45: 3912161620167036 | D45: 배선용차단기(ABS-102) | E45: 2P 100AF 75AT | F45: EA | G45: 1 | H45: =합산자재!H46 -> 87800 | I45: =TRUNC(G45*H45) -> 87800 | J45: 1 | K45: =합산자재!I46 -> 0 | L45: =TRUNC(G45*K45) -> 0 | M45: =합산자재!J46 -> 0 | N45: =TRUNC(G45*M45) -> 0 | P45: =SUM(I45,L45,N45) -> 87800
A46: MM300020604 | B46: 001 | C46: 3912161420167114 | D46: 누전차단기(32KGRc) | E46: 2P 30AF 20AT | F46: EA | G46: 37 | H46: =합산자재!H47 -> 18000 | I46: =TRUNC(G46*H46) -> 666000 | J46: 37 | K46: =합산자재!I47 -> 0 | L46: =TRUNC(G46*K46) -> 0 | M46: =합산자재!J47 -> 0 | N46: =TRUNC(G46*M46) -> 0 | P46: =SUM(I46,L46,N46) -> 666000
A47: E9400267005 | B47: 001 | C47: 3912143221650910 | D47: 압착단자 | E47: R형동선 나압착 10 ㎟ | F47: 개 | G47: 9 | H47: =합산자재!H48 -> 101 | I47: =TRUNC(G47*H47) -> 909 | J47: 9 | K47: =합산자재!I48 -> 0 | L47: =TRUNC(G47*K47) -> 0 | M47: =합산자재!J48 -> 0 | N47: =TRUNC(G47*M47) -> 0 | P47: =SUM(I47,L47,N47) -> 909
... A54: 59400247002 | B54: 001 | C54: 3912140920171333 | D54: 와이어콘넥터 | E54: 6 ㎟ x 2가닥 | F54: 개 | G54: 39 | H54: =합산자재!H55 -> 232 | I54: =TRUNC(G54*H54) -> 9048 | J54: 39 | K54: =합산자재!I55 -> 0 | L54: =TRUNC(G54*K54) -> 0 | M54: =합산자재!J55 -> 0 | N54: =TRUNC(G54*M54) -> 0 | P54: =SUM(I54,L54,N54) -> 9048
A55: 56950170112 | B55: 001 | C55: EAA110620000 | D55: EPS SUPPORT | E55: W150-1단 | F55: 식 | G55: 12 | H55: ='일대목차 (2)'!H4 -> 4338 | I55: =TRUNC(G55*H55) -> 52056 | J55: 12 | K55: ='일대목차 (2)'!K4 -> 29557 | L55: =TRUNC(G55*K55) -> 354684 | M55: ='일대목차 (2)'!M4 -> 0 | N55: =TRUNC(G55*M55) -> 0 | P55: =SUM(I55,L55,N55) -> 406740 | Q55: 일대1
A56: MM066585821 | B56: 001 | C56: 391115ZZ701Z0001 | D56: MCC-F | E56: 800W*1000H | F56: 면 | G56: 1 | H56: ='일대목차 (2)'!H8 -> 2937106 | I56: =TRUNC(G56*H56) -> 2937106 | J56: 1 | K56: ='일대목차 (2)'!K8 -> 1182997 | L56: =TRUNC(G56*K56) -> 1182997 | M56: =합산자재!J58 -> 0 | N56: =TRUNC(G56*M56) -> 0 | P56: =SUM(I56,L56,N56) -> 4120103 | Q56: 일대5
A57: MM066585822 | B57: 001 | C57: 391115ZZ701Z0002 | D57: 계량기철거후재설치 | E57: 디지털 | F57: EA | G57: 4 | H57: =합산자재!H59 -> 0 | I57: =TRUNC(G57*H57) -> 0 | J57: 4 | K57: =합산자재!I59 -> 0 | L57: =TRUNC(G57*K57) -> 0 | M57: =합산자재!J59 -> 0 | N57: =TRUNC(G57*M57) -> 0 | P57: =SUM(I57,L57,N57) -> 0
A58: MM066579852 | B58: 001 | C58: 391115ZZ701Z0003 | D58: 박스커버 | E58: 맹카바 | F58: EA | G58: 2 | H58: =합산자재!H60 -> 400 | I58: =TRUNC(G58*H58) -> 800 | J58: 2 | K58: =합산자재!I60 -> 0 | L58: =TRUNC(G58*K58) -> 0 | M58: =합산자재!J60 -> 0 | N58: =TRUNC(G58*M58) -> 0 | P58: =SUM(I58,L58,N58) -> 800
A59: MM066507827 | B59: 001 | C59: 391115ZZ701Z0004 | D59: 배관철거 | E59: FLEX 16C-1L | F59: m | G59: 26 | H59: =합산자재!H61 -> 0 | I59: =TRUNC(G59*H59) -> 0 | J59: 26 | K59: =합산자재!I61 -> 0 | L59: =TRUNC(G59*K59) -> 0 | M59: =합산자재!J61 -> 0 | N59: =TRUNC(G59*M59) -> 0 | P59: =SUM(I59,L59,N59) -> 0 | AC59: =G59*H59 -> 0
A60: MM068160542 | B60: 001 | C60: 391115ZZ701Z0005 | D60: 분전반(관리8) | E60: 600W*1000H*180D | F60: 면 | G60: 1 | H60: ='일대목차 (2)'!I14 -> 1412036 | I60: =TRUNC(G60*H60) -> 1412036 | J60: 1 | K60: ='일대목차 (2)'!L14 -> 248243 | L60: =TRUNC(G60*K60) -> 248243 | M60: =합산자재!J62 -> 0 | N60: =TRUNC(G60*M60) -> 0 | P60: =SUM(I60,L60,N60) -> 1660279 | Q60: 일대11
A61: MM066585825 | B61: 001 | C61: 391115ZZ701Z0006 | D61: 분전반(지하소방펌프실) | E61: 600W*700H | F61: 면 | G61: 1 | H61: ='일대목차 (2)'!H6 -> 917751 | I61: =TRUNC(G61*H61) -> 917751 | J61: 1 | K61: ='일대목차 (2)'!K6 -> 304070 | L61: =TRUNC(G61*K61) -> 304070 | M61: =합산자재!J63 -> 0 | N61: =TRUNC(G61*M61) -> 0 | P61: =SUM(I61,L61,N61) -> 1221821 | Q61: 일대3
A62: MM068160924 | B62: 001 | C62: 391115ZZ701Z0007 | D62: 분전반11 | E62: 750W*1600H*200D | F62: 면 | G62: 1 | H62: ='일대목차 (2)'!I13 -> 2729903 | I62: =TRUNC(G62*H62) -> 2729903 | J62: 1 | K62: ='일대목차 (2)'!L13 -> 442649 | L62: =TRUNC(G62*K62) -> 442649 | M62: =합산자재!J64 -> 0 | N62: =TRUNC(G62*M62) -> 0 | P62: =SUM(I62,L62,N62) -> 3172552 | Q62: 일대10
A63: MM068158876 | B63: 001 | C63: 391115ZZ701Z0008 | D63: 분전반23 | E63: 600W*1000H,속판교체 | F63: 면 | G63: 1 | H63: ='일대목차 (2)'!I10 -> 2086554 | I63: =TRUNC(G63*H63) -> 2086554 | J63: 1 | K63: ='일대목차 (2)'!L10 -> 523189 | L63: =TRUNC(G63*K63) -> 523189 | M63: =합산자재!J65 -> 0 | N63: =TRUNC(G63*M63) -> 0 | P63: =SUM(I63,L63,N63) -> 2609743 | Q63: 일대7
A64: MM068158877 | B64: 001 | C64: 391115ZZ701Z0009 | D64: 분전반24 | E64: 600W*800H,속판교체 | F64: 면 | G64: 1 | H64: ='일대목차 (2)'!I11 -> 650535 | I64: =TRUNC(G64*H64) -> 650535 | J64: 1 | K64: ='일대목차 (2)'!L11 -> 325401 | L64: =TRUNC(G64*K64) -> 325401 | M64: =합산자재!J66 -> 0 | N64: =TRUNC(G64*M64) -> 0 | P64: =SUM(I64,L64,N64) -> 975936 | Q64: 일대8
A65: MM068158878 | B65: 001 | C65: 391115ZZ701Z0010 | D65: 분전반25 | E65: 600W*800H,속판교체 | F65: 면 | G65: 1 | H65: ='일대목차 (2)'!I12 -> 1069494 | I65: =TRUNC(G65*H65) -> 1069494 | J65: 1 | K65: ='일대목차 (2)'!L12 -> 352730 | L65: =TRUNC(G65*K65) -> 352730 | M65: =합산자재!J67 -> 0 | N65: =TRUNC(G65*M65) -> 0 | P65: =SUM(I65,L65,N65) -> 1422224 | Q65: 일대9
A66: MM066585826 | B66: 001 | C66: 391115ZZ701Z0011 | D66: 분전반27 | E66: 700W*1100H,속판교체 | F66: 면 | G66: 1 | H66: ='일대목차 (2)'!H5 -> 1071463 | I66: =TRUNC(G66*H66) -> 1071463 | J66: 1 | K66: ='일대목차 (2)'!K5 -> 356861 | L66: =TRUNC(G66*K66) -> 356861 | M66: =합산자재!J68 -> 0 | N66: =TRUNC(G66*M66) -> 0 | P66: =SUM(I66,L66,N66) -> 1428324 | Q66: 일대2
A67: MM066585827 | B67: 001 | C67: 391115ZZ701Z0012 | D67: 분전반보수 | E67: 함석판 | F67: 면 | G67: 4 | H67: =합산자재!H69 -> 10000 | I67: =TRUNC(G67*H67) -> 40000 | J67: 4 | K67: =합산자재!I69 -> 0 | L67: =TRUNC(G67*K67) -> 0 | M67: =합산자재!J69 -> 0 | N67: =TRUNC(G67*M67) -> 0 | P67: =SUM(I67,L67,N67) -> 40000
A68: MM066585828 | B68: 001 | C68: 391115ZZ701Z0013 | D68: 분전반철거 | E68: MCC-F | F68: 면 | G68: 1 | H68: =합산자재!H70 -> 0 | I68: =TRUNC(G68*H68) -> 0 | J68: 1 | K68: =합산자재!I70 -> 0 | L68: =TRUNC(G68*K68) -> 0 | M68: =합산자재!J70 -> 0 | N68: =TRUNC(G68*M68) -> 0 | P68: =SUM(I68,L68,N68) -> 0
A69: MM068160550 | B69: 001 | C69: 391115ZZ701Z0014 | D69: 분전반철거 | E69: 분전반(관리8) | F69: 면 | G69: 1 | H69: =합산자재!H71 -> 0 | I69: =TRUNC(G69*H69) -> 0 | J69: 1 | K69: =합산자재!I71 -> 0 | L69: =TRUNC(G69*K69) -> 0 | M69: =합산자재!J71 -> 0 | N69: =TRUNC(G69*M69) -> 0 | P69: =SUM(I69,L69,N69) -> 0
A70: MM068160932 | B70: 001 | C70: 391115ZZ701Z0015 | D70: 분전반철거 | E70: 분전반11,속판 | F70: 면 | G70: 1 | H70: =합산자재!H72 -> 0 | I70: =TRUNC(G70*H70) -> 0 | J70: 1 | K70: =합산자재!I72 -> 0 | L70: =TRUNC(G70*K70) -> 0 | M70: =합산자재!J72 -> 0 | N70: =TRUNC(G70*M70) -> 0 | P70: =SUM(I70,L70,N70) -> 0
A71: MM068158882 | B71: 001 | C71: 391115ZZ701Z0016 | D71: 분전반철거 | E71: 분전반23,속판 | F71: 면 | G71: 1 | H71: =합산자재!H73 -> 0 | I71: =TRUNC(G71*H71) -> 0 | J71: 1 | K71: =합산자재!I73 -> 0 | L71: =TRUNC(G71*K71) -> 0 | M71: =합산자재!J73 -> 0 | N71: =TRUNC(G71*M71) -> 0 | P71: =SUM(I71,L71,N71) -> 0
A72: MM068158883 | B72: 001 | C72: 391115ZZ701Z0017 | D72: 분전반철거 | E72: 분전반24,속판 | F72: 면 | G72: 1 | H72: =합산자재!H74 -> 0 | I72: =TRUNC(G72*H72) -> 0 | J72: 1 | K72: =합산자재!I74 -> 0 | L72: =TRUNC(G72*K72) -> 0 | M72: =합산자재!J74 -> 0 | N72: =TRUNC(G72*M72) -> 0 | P72: =SUM(I72,L72,N72) -> 0
A73: MM068158884 | B73: 001 | C73: 391115ZZ701Z0018 | D73: 분전반철거 | E73: 분전반25,속판 | F73: 면 | G73: 1 | H73: =합산자재!H75 -> 0 | I73: =TRUNC(G73*H73) -> 0 | J73: 1 | K73: =합산자재!I75 -> 0 | L73: =TRUNC(G73*K73) -> 0 | M73: =합산자재!J75 -> 0 | N73: =TRUNC(G73*M73) -> 0 | P73: =SUM(I73,L73,N73) -> 0
A74: MM066585829 | B74: 001 | C74: 391115ZZ701Z0019 | D74: 분전반철거 | E74: 분전반27,속판 | F74: 면 | G74: 1 | H74: =합산자재!H76 -> 0 | I74: =TRUNC(G74*H74) -> 0 | J74: 1 | K74: =합산자재!I76 -> 0 | L74: =TRUNC(G74*K74) -> 0 | M74: =합산자재!J76 -> 0 | N74: =TRUNC(G74*M74) -> 0 | P74: =SUM(I74,L74,N74) -> 0
A75: MM066585830 | B75: 001 | C75: 391115ZZ701Z0020 | D75: 분전반철거 | E75: 소방MCC-F | F75: 면 | G75: 1 | H75: =합산자재!H77 -> 0 | I75: =TRUNC(G75*H75) -> 0 | J75: 1 | K75: =합산자재!I77 -> 0 | L75: =TRUNC(G75*K75) -> 0 | M75: =합산자재!J77 -> 0 | N75: =TRUNC(G75*M75) -> 0 | P75: =SUM(I75,L75,N75) -> 0
A76: MM066585831 | B76: 001 | C76: 391115ZZ701Z0021 | D76: 분전반철거 | E76: 소방MCC조작반 | F76: 면 | G76: 1 | H76: =합산자재!H78 -> 0 | I76: =TRUNC(G76*H76) -> 0 | J76: 1 | K76: =합산자재!I78 -> 0 | L76: =TRUNC(G76*K76) -> 0 | M76: =합산자재!J78 -> 0 | N76: =TRUNC(G76*M76) -> 0 | P76: =SUM(I76,L76,N76) -> 0
A77: MM066585832 | B77: 001 | C77: 391115ZZ701Z0022 | D77: 분전반철거 | E77: 지하소방펌프실 | F77: 면 | G77: 1 | H77: =합산자재!H79 -> 0 | I77: =TRUNC(G77*H77) -> 0 | J77: 1 | K77: =합산자재!I79 -> 0 | L77: =TRUNC(G77*K77) -> 0 | M77: =합산자재!J79 -> 0 | N77: =TRUNC(G77*M77) -> 0 | P77: =SUM(I77,L77,N77) -> 0
A78: MM066585833 | B78: 001 | C78: 391115ZZ701Z0023 | D78: 소방MCC-F | E78: 700W*1100H | F78: 면 | G78: 1 | H78: ='일대목차 (2)'!H9 -> 3015279 | I78: =TRUNC(G78*H78) -> 3015279 | J78: 1 | K78: ='일대목차 (2)'!K9 -> 1459190 | L78: =TRUNC(G78*K78) -> 1459190 | M78: =합산자재!J80 -> 0 | N78: =TRUNC(G78*M78) -> 0 | P78: =SUM(I78,L78,N78) -> 4474469 | Q78: 일대6
A79: MM066585834 | B79: 001 | C79: 391115ZZ701Z0024 | D79: 소방MCC조작반 | E79: 700W*1600H | F79: 면 | G79: 1 | H79: ='일대목차 (2)'!H7 -> 6549101 | I79: =TRUNC(G79*H79) -> 6549101 | J79: 1 | K79: ='일대목차 (2)'!K7 -> 1977497 | L79: =TRUNC(G79*K79) -> 1977497 | M79: =합산자재!J81 -> 0 | N79: =TRUNC(G79*M79) -> 0 | P79: =SUM(I79,L79,N79) -> 8526598 | Q79: 일대4
D80: 분전반 20 보수 | E80: DOOR 730W*1050H, SUS 1.2T | F80: 면 | G80: 1 | H80: 410256 | I80: =TRUNC(G80*H80) -> 410256 | P80: =SUM(I80,L80,N80) -> 410256
A81: MM066579833 | B81: 001 | C81: 391115ZZ701Z0025 | D81: 스위치철거 | E81: 1로2구 | F81: EA | G81: 2 | H81: =합산자재!H82 -> 0 | I81: =TRUNC(G81*H81) -> 0 | J81: 2 | K81: =합산자재!I82 -> 0 | L81: =TRUNC(G81*K81) -> 0 | M81: =합산자재!J82 -> 0 | N81: =TRUNC(G81*M81) -> 0 | P81: =SUM(I81,L81,N81) -> 0
A82: MM066579834 | B82: 001 | C82: 391115ZZ701Z0026 | D82: 스위치철거 | E82: 1로3구 | F82: EA | G82: 1 | H82: =합산자재!H83 -> 0 | I82: =TRUNC(G82*H82) -> 0 | J82: 1 | K82: =합산자재!I83 -> 0 | L82: =TRUNC(G82*K82) -> 0 | M82: =합산자재!J83 -> 0 | N82: =TRUNC(G82*M82) -> 0 | P82: =SUM(I82,L82,N82) -> 0
A83: MM068160254 | B83: 001 | C83: 391115ZZ701Z0027 | D83: 임시가설분전반 | E83: MAIN 50AT/4P,대여 | F83: 면 | G83: 1 | H83: =합산자재!H84 -> 600000 | I83: =TRUNC(G83*H83) -> 600000 | J83: 1 | K83: =합산자재!I84 -> 0 | L83: =TRUNC(G83*K83) -> 0 | M83: =합산자재!J84 -> 0 | N83: =TRUNC(G83*M83) -> 0 | P83: =SUM(I83,L83,N83) -> 600000
A84: MM066507826 | B84: 001 | C84: 391115ZZ701Z0028 | D84: 전선철거 | E84: HFIX2.5SQ-1L | F84: m | G84: 145 | H84: =합산자재!H85 -> 0 | I84: =TRUNC(G84*H84) -> 0 | J84: 145 | K84: =합산자재!I85 -> 0 | L84: =TRUNC(G84*K84) -> 0 | M84: =합산자재!J85 -> 0 | N84: =TRUNC(G84*M84) -> 0 | P84: =SUM(I84,L84,N84) -> 0 | R84: 전선 | S84: 2.5 | T84: 0.00896 | U84: 145 | V84: 0.8 | W84: =V84*U84*T84*S84 -> 2.5984 | AC84: =G84*H84 -> 0
A85: MM066594101 | B85: 001 | C85: 391115ZZ701Z0029 | D85: 전선철거 | E85: HFIX 4SQ-1L | F85: 개 | G85: 275 | H85: =합산자재!H86 -> 0 | I85: =TRUNC(G85*H85) -> 0 | J85: 275 | K85: =합산자재!I86 -> 0 | L85: =TRUNC(G85*K85) -> 0 | M85: =합산자재!J86 -> 0 | N85: =TRUNC(G85*M85) -> 0 | P85: =SUM(I85,L85,N85) -> 0 | S85: 4 | T85: 0.00896 | U85: 275 | V85: 0.8 | W85: =V85*U85*T85*S85 -> 7.8848 | Z85: 노임계
A86: MM066507816 | B86: 001 | C86: 391115ZZ701Z0030 | D86: 조명기구 (철거) | E86: LED15W,다운라이트 | F86: SET | G86: 12 | H86: =합산자재!H87 -> 0 | I86: =TRUNC(G86*H86) -> 0 | J86: 12 | K86: =합산자재!I87 -> 0 | L86: =TRUNC(G86*K86) -> 0 | M86: =합산자재!J87 -> 0 | N86: =TRUNC(G86*M86) -> 0 | P86: =SUM(I86,L86,N86) -> 0
A87: MM066507815 | B87: 001 | C87: 391115ZZ701Z0031 | D87: 조명기구 (철거) | E87: LED50W,슬립매입 | F87: SET | G87: 1 | H87: =합산자재!H88 -> 0 | I87: =TRUNC(G87*H87) -> 0 | J87: 1 | K87: =합산자재!I88 -> 0 | L87: =TRUNC(G87*K87) -> 0 | M87: =합산자재!J88 -> 0 | N87: =TRUNC(G87*M87) -> 0 | P87: =SUM(I87,L87,N87) -> 0 | R87: 부스바 | S87: 75 | T87: 0.00896 | U87: =U88+U89+U90+U91+U92+U93 -> 20.8 | V87: 0.8 | W87: =V87*U87*T87*S87 -> 11.18208
A88: MM066507813 | B88: 001 | C88: 391115ZZ701Z0032 | D88: 조명기구A-TYPE | E88: LED50W,LED노출직부등 | F88: SET | G88: 1 | H88: =합산자재!H89 -> 70000 | I88: =TRUNC(G88*H88) -> 70000 | J88: 1 | K88: =합산자재!I89 -> 0 | L88: =TRUNC(G88*K88) -> 0 | M88: =합산자재!J89 -> 0 | N88: =TRUNC(G88*M88) -> 0 | P88: =SUM(I88,L88,N88) -> 70000 | U88: 3.2
A89: MM066507814 | B89: 001 | C89: 391115ZZ701Z0033 | D89: 조명기구B-TYPE | E89: LED15W,LED매입다운라이트 | F89: SET | G89: 12 | H89: =합산자재!H90 -> 25000 | I89: =TRUNC(G89*H89) -> 300000 | J89: 12 | K89: =합산자재!I90 -> 0 | L89: =TRUNC(G89*K89) -> 0 | M89: =합산자재!J90 -> 0 | N89: =TRUNC(G89*M89) -> 0 | P89: =SUM(I89,L89,N89) -> 300000 | U89: 3.6 | W89: A동 계 KG | X89: =(W87+W85+W84)*0.7 -> 15.165696
A90: MM066510296 | B90: 001 | C90: 391115ZZ701Z0034 | D90: 조명센서 | E90: 철거후재설치 | F90: EA | G90: 3 | H90: =합산자재!H91 -> 0 | I90: =TRUNC(G90*H90) -> 0 | J90: 3 | K90: =합산자재!I91 -> 0 | L90: =TRUNC(G90*K90) -> 0 | M90: =합산자재!J91 -> 0 | N90: =TRUNC(G90*M90) -> 0 | P90: =SUM(I90,L90,N90) -> 0 | U90: 3.4 | X90: 15KG
A91: MM066585844 | B91: 001 | C91: 391115ZZ701Z0035 | D91: 차단기단자커버 | E91: 보호카바,2P | F91: EA | G91: 47 | H91: =합산자재!H92 -> 1200 | I91: =TRUNC(G91*H91) -> 56400 | J91: 47 | K91: =합산자재!I92 -> 0 | L91: =TRUNC(G91*K91) -> 0 | M91: =합산자재!J92 -> 0 | N91: =TRUNC(G91*M91) -> 0 | P91: =SUM(I91,L91,N91) -> 56400 | U91: 3.2
A92: MM066585845 | B92: 001 | C92: 391115ZZ701Z0036 | D92: 차단기단자커버 | E92: 보호카바,4P | F92: EA | G92: 6 | H92: =합산자재!H93 -> 2000 | I92: =TRUNC(G92*H92) -> 12000 | J92: 6 | K92: =합산자재!I93 -> 0 | L92: =TRUNC(G92*K92) -> 0 | M92: =합산자재!J93 -> 0 | N92: =TRUNC(G92*M92) -> 0 | P92: =SUM(I92,L92,N92) -> 12000 | U92: 2.6
A93: MM066585846 | B93: 001 | C93: 391115ZZ701Z0037 | D93: 차단기철거 | E93: ELB100/75,2P | F93: EA | G93: 1 | H93: =합산자재!H94 -> 0 | I93: =TRUNC(G93*H93) -> 0 | J93: 1 | K93: =합산자재!I94 -> 0 | L93: =TRUNC(G93*K93) -> 0 | M93: =합산자재!J94 -> 0 | N93: =TRUNC(G93*M93) -> 0 | P93: =SUM(I93,L93,N93) -> 0 | U93: 4.8
A94: MM066585847 | B94: 001 | C94: 391115ZZ701Z0038 | D94: 차단기철거 | E94: ELB30/30,2P | F94: EA | G94: 35 | H94: =합산자재!H95 -> 0 | I94: =TRUNC(G94*H94) -> 0 | J94: 35 | K94: =합산자재!I95 -> 0 | L94: =TRUNC(G94*K94) -> 0 | M94: =합산자재!J95 -> 0 | N94: =TRUNC(G94*M94) -> 0 | P94: =SUM(I94,L94,N94) -> 0
A95: MM066585848 | B95: 001 | C95: 391115ZZ701Z0039 | D95: 케이블철거후재설치 | E95: F-CV 16SQ/4C-1L | F95: m | G95: 3 | H95: =합산자재!H96 -> 0 | I95: =TRUNC(G95*H95) -> 0 | J95: 3 | K95: =합산자재!I96 -> 0 | L95: =TRUNC(G95*K95) -> 0 | M95: =합산자재!J96 -> 0 | N95: =TRUNC(G95*M95) -> 0 | P95: =SUM(I95,L95,N95) -> 0 | X95: 계 | AC95: =G95*H95 -> 0
A96: MM068161330 | B96: 001 | C96: 391115ZZ701Z0040 | D96: 케이블철거후재설치 | E96: F-CV 1C/50SQ-1 | F96: m | G96: 16 | H96: =합산자재!H97 -> 0 | I96: =TRUNC(G96*H96) -> 0 | J96: 16 | K96: =합산자재!I97 -> 0 | L96: =TRUNC(G96*K96) -> 0 | M96: =합산자재!J97 -> 0 | N96: =TRUNC(G96*M96) -> 0 | P96: =SUM(I96,L96,N96) -> 0 | R96: STS 304 | S96: 600W*1000H*180D | U96: =600*1000*2*1.2 -> 1440000 | V96: =600*2*180*1.2 -> 259200 | W96: =1000*2*180*1.2 -> 432000 | X96: =W96+V96+U96+U97+U98+U99 -> 4695000 | AC96: =G96*H96 -> 0
A97: MM066594722 | B97: 001 | C97: 391115ZZ701Z0041 | D97: 케이블철거후재설치 | E97: F-FR8 1C/10SQ-1 | F97: m | G97: 22 | H97: =합산자재!H98 -> 0 | I97: =TRUNC(G97*H97) -> 0 | J97: 22 | K97: =합산자재!I98 -> 0 | L97: =TRUNC(G97*K97) -> 0 | M97: =합산자재!J98 -> 0 | N97: =TRUNC(G97*M97) -> 0 | P97: =SUM(I97,L97,N97) -> 0 | R97: 1.2T | S97: 700W*1100H | U97: =700*1.2*1100 -> 924000 | AC97: =G97*H97 -> 0
A98: MM066594723 | B98: 001 | C98: 391115ZZ701Z0042 | D98: 케이블철거후재설치 | E98: F-FR8 1C/16SQ-1 | F98: m | G98: 30 | H98: =합산자재!H99 -> 0 | I98: =TRUNC(G98*H98) -> 0 | J98: 30 | K98: =합산자재!I99 -> 0 | L98: =TRUNC(G98*K98) -> 0 | M98: =합산자재!J99 -> 0 | N98: =TRUNC(G98*M98) -> 0 | P98: =SUM(I98,L98,N98) -> 0 | S98: 730W*1050H | U98: =730*1.2*1050 -> 919800 | W98: 7.93 | AC98: =G98*H98 -> 0
A99: MM066594724 | B99: 001 | C99: 391115ZZ701Z0043 | D99: 케이블철거후재설치 | E99: F-FR8 1C/25SQ-1 | F99: m | G99: 168 | H99: =합산자재!H100 -> 0 | I99: =TRUNC(G99*H99) -> 0 | J99: 168 | K99: =합산자재!I100 -> 0 | L99: =TRUNC(G99*K99) -> 0 | M99: =합산자재!J100 -> 0 | N99: =TRUNC(G99*M99) -> 0 | P99: =SUM(I99,L99,N99) -> 0 | S99: 600W*1000H | U99: =600*1000*1.2 -> 720000 | W99: =W98*X96/1000000 -> 37.23135 | Y99: 30KG | AC99: =G99*H99 -> 0
A100: MM066579835 | B100: 001 | C100: 391115ZZ701Z0044 | D100: 콘센트철거 | E100: 노출1구,원형 | F100: EA | G100: 6 | H100: =합산자재!H101 -> 0 | I100: =TRUNC(G100*H100) -> 0 | J100: 6 | K100: =합산자재!I101 -> 0 | L100: =TRUNC(G100*K100) -> 0 | M100: =합산자재!J101 -> 0 | N100: =TRUNC(G100*M100) -> 0 | P100: =SUM(I100,L100,N100) -> 0
A101: MM066579841 | B101: 001 | C101: 391115ZZ701Z0045 | D101: 콘센트철거 | E101: 매입2구,방우형 | F101: EA | G101: 6 | H101: =합산자재!H102 -> 0 | I101: =TRUNC(G101*H101) -> 0 | J101: 6 | K101: =합산자재!I102 -> 0 | L101: =TRUNC(G101*K101) -> 0 | M101: =합산자재!J102 -> 0 | N101: =TRUNC(G101*M101) -> 0 | P101: =SUM(I101,L101,N101) -> 0 | R101: 고철 | S101: 750W*1600H*200D | U101: =750*2*1600*1.6 -> 3840000 | V101: =2*750*200*1.6 -> 480000 | W101: =1.6*2*1600*200 -> 1024000 | X101: 계
A102: A0100000000 | B102: 001 | C102: RENT000000000003 | D102: [ 소모 잡자재 ] | E102: 전선, 전선관의 2 % | F102: 식 | G102: 1 | H102: =IF(TRUNC((AD102+AC102)/$AD$3)*$AD$3-AD102 <0, AC102, TRUNC((AD102+AC102)/$AD$3)*$AD$3-AD102) -> 26210 | I102: =H102 -> 26210 | J102: 1 | L102: =TRUNC(G102*K102) -> 0 | N102: =TRUNC(G102*M102) -> 0 | P102: =SUM(I102,L102,N102) -> 26210 | R102: 1.6T | S102: 700W*1100H*180D | U102: =700*1.6*2*1100 -> 2464000 | V102: =1.6*2*700*180 -> 403200 | W102: =1.6*2*1100*180 -> 633600 | X102: =U101+V101+W101+U102+V102+W102+U103+V103+W103+U104+V104+W104 -> 14688000 | AC102: =TRUNC(TRUNC(SUM(AC4:AC101))*옵션!$B$33/100) -> 26210 | AD102: =TRUNC(SUM(I4:I101))+TRUNC(SUM(N4:N101)) -> 26390595
A103: 56900017016 | B103: 001 | C103: L001010101000075 | D103: 노 무 비 | E103: 내선전공 | F103: 인 | G103: =노임근거!G84 -> 62.109 | H103: =합산자재!H103 -> 0 | I103: =TRUNC(G103*H103) -> 0 | J103: =노임근거!G84 -> 62.109 | K103: =합산자재!I103 -> 273676 | L103: =TRUNC(G103*K103) -> 16997742 | M103: =합산자재!J103 -> 0 | N103: =TRUNC(G103*M103) -> 0 | P103: =SUM(I103,L103,N103) -> 16997742 | S103: 800W*600H*180D | U103: =1.6*800*2*600 -> 1536000 | V103: =2*1.6*800*180 -> 460800 | W103: =1.6*2*600*180 -> 345600 | X103: 7.85 | AE103: =L103 -> 16997742
A104: 56900017076 | B104: 001 | C104: L001010101000078 | D104: 노 무 비 | E104: 저압케이블전공 | F104: 인 | G104: =노임근거!G85 -> 19.886 | H104: =합산자재!H104 -> 0 | I104: =TRUNC(G104*H104) -> 0 | J104: =노임근거!G85 -> 19.886 | K104: =합산자재!I104 -> 304156 | L104: =TRUNC(G104*K104) -> 6048446 | M104: =합산자재!J104 -> 0 | N104: =TRUNC(G104*M104) -> 0 | P104: =SUM(I104,L104,N104) -> 6048446 | S104: 700W*1100H*182D | U104: =700*1100*1.6*2 -> 2464000 | V104: =2*1.6*700*180 -> 403200 | W104: =2*1.6*1100*180 -> 633600 | X104: =7.85*X102/1000000 -> 115.3008 | AE104: =L104 -> 6048446
A105: 56900017031 | B105: 001 | C105: L001010101000081 | D105: 노 무 비 | E105: 배전전공 | F105: 인 | G105: =노임근거!G86 -> 0.07 | H105: =합산자재!H105 -> 0 | I105: =TRUNC(G105*H105) -> 0 | J105: =노임근거!G86 -> 0.07 | K105: =합산자재!I105 -> 414968 | L105: =TRUNC(G105*K105) -> 29047 | M105: =합산자재!J105 -> 0 | N105: =TRUNC(G105*M105) -> 0 | P105: =SUM(I105,L105,N105) -> 29047 | X105: 95KG | AE105: =L105 -> 29047
A106: 56900017041 | B106: 001 | C106: L001010101000002 | D106: 노 무 비 | E106: 보통인부 | F106: 인 | G106: =노임근거!G87 -> 0.18 | H106: =합산자재!H106 -> 0 | I106: =TRUNC(G106*H106) -> 0 | J106: =노임근거!G87 -> 0.18 | K106: =합산자재!I106 -> 172068 | L106: =TRUNC(G106*K106) -> 30972 | M106: =합산자재!J106 -> 0 | N106: =TRUNC(G106*M106) -> 0 | P106: =SUM(I106,L106,N106) -> 30972 | AE106: =L106 -> 30972
...

Sheet 노임근거
A1: 총줄수-> | B1: 107 | D1: [ 노후전기설비정비 전기공사 ] - 노임 산출근거(2026년 상반기 노임) | AA1: 내선전공 | AB1: 저압케이블전공 | AC1: 배전전공 | AD1: 보통인부
A2: 번호 | B2: 공종코드 | C2: 코드 | D2: 명 칭 | E2: 규 격 | F2: 단위 | G2: 수량 | K2: 코드 | L2: 공량산출 | P2: 단 위 단 가 산 출 | S2: 품셈근거 | T2: 비고
G3: 결정수량 | H3: 할증 | I3: 산출수량 | J3: 재할% | L3: 명칭 | M3: 품셈 | N3: 할증% | O3: 공량 | P3: 단가 | Q3: 단위단가 | R3: 단위계
B4: 공종줄 | D4: 1.전기공사
B5: 001 | C5: 3913170610034835 | D5: 강제전선관 | E5: 아연도 36 mm | F5: m | G5: =내역서!G5 -> 25 | H5: =IF(I5<>0,G5-I5,"") -> 3 | I5: =내역서!J5 -> 22 | J5: 10 | K5: 56900017016 | L5: 내선전공 | M5: 0.2 | N5: 100 | O5: =IF(I5*M5=0,"",I5*M5*(N5/100)) -> 4.4 | S5: 전기5-1 | AA5: =O5 -> 4.4
B6: 001 | C6: 3913170610035664 | D6: 합성수지제 가요전선관 | E6: CD-난연성 16㎜ | F6: m | G6: =내역서!G6 -> 14 | H6: =IF(I6<>0,G6-I6,"") -> 2 | I6: =내역서!J6 -> 12 | J6: 10 | K6: 56900017016 | L6: 내선전공 | M6: 0.04 | N6: 100 | O6: =IF(I6*M6=0,"",I6*M6*(N6/100)) -> 0.48 | S6: 전기5-1 | AA6: =O6 -> 0.48
B7: 001 | C7: 3913170610045632 | D7: 파상형 폴리에틸렌 전선관 | E7: 40㎜ | F7: m | G7: =내역서!G7 -> 11 | H7: =IF(I7<>0,G7-I7,"") -> 1 | I7: =내역서!J7 -> 10 | J7: 3 | K7: 56900017031 | L7: 배전전공 | M7: 0.007 | N7: 100 | O7: =IF(I7*M7=0,"",I7*M7*(N7/100)) -> 0.07 | S7: 전기4-31 | AC7: =O7 -> 0.07
B8: 001 | C8: 3913170610045632 | G8: =내역서!G7 -> 11 | H8: =IF(I8<>0,G8-I8,"") -> 1 | I8: =내역서!J7 -> 10 | J8: 3 | K8: 56900017041 | L8: 보통인부 | M8: 0.018 | N8: 100 | O8: =IF(I8*M8=0,"",I8*M8*(N8/100)) -> 0.18 | S8: 전기4-31 | AD8: =O8 -> 0.18
B9: 001 | C9: 3913170620174410 | D9: 1종금속제가요전선관 | E9: 16 mm 일반-비방수 | F9: m | G9: =내역서!G10 -> 73 | H9: =IF(I9<>0,G9-I9,"") -> 7 | I9: =내역서!J10 -> 66 | J9: 10 | K9: 56900017016 | L9: 내선전공 | M9: 0.044 | N9: 100 | O9: =IF(I9*M9=0,"",I9*M9*(N9/100)) -> 2.904 | S9: 전기5-1 | AA9: =O9 -> 2.904
B10: 001 | C10: 3913170620174411 | D10: 1종금속제가요전선관 | E10: 22 mm 일반-비방수 | F10: m | G10: =내역서!G11 -> 19 | H10: =IF(I10<>0,G10-I10,"") -> 2 | I10: =내역서!J11 -> 17 | J10: 10 | K10: 56900017016 | L10: 내선전공 | M10: 0.059 | N10: 100 | O10: =IF(I10*M10=0,"",I10*M10*(N10/100)) -> 1.003 | S10: 전기5-1 | AA10: =O10 -> 1.003
B11: 001 | C11: 3912130810035750 | D11: 아우트렛박스 | E11: 8각 54㎜ | F11: 개 | G11: =내역서!G14 -> 12 | H11: =IF(I11<>0,G11-I11,"") -> 0 | I11: =내역서!J14 -> 12 | K11: 56900017016 | L11: 내선전공 | M11: 0.12 | N11: 100 | O11: =IF(I11*M11=0,"",I11*M11*(N11/100)) -> 1.44 | S11: 전기5-3 | AA11: =O11 -> 1.44
B12: 001 | C12: 3912130810035753 | D12: 아우트렛박스 | E12: 중형4각 54㎜ | F12: 개 | G12: =내역서!G15 -> 8 | H12: =IF(I12<>0,G12-I12,"") -> 0 | I12: =내역서!J15 -> 8 | K12: 56900017016 | L12: 내선전공 | M12: 0.12 | N12: 100 | O12: =IF(I12*M12=0,"",I12*M12*(N12/100)) -> 0.96 | S12: 전기5-3 | AA12: =O12 -> 0.96
B13: 001 | C13: 3912130310035875 | D13: 노출박스 | E13: 16 mm - 1 방출 | F13: 개 | G13: =내역서!G18 -> 5 | H13: =IF(I13<>0,G13-I13,"") -> 0 | I13: =내역서!J18 -> 5 | K13: 56900017016 | L13: 내선전공 | M13: 0.29 | N13: 100 | O13: =IF(I13*M13=0,"",I13*M13*(N13/100)) -> 1.45 | S13: 전기5-3 | AA13: =O13 -> 1.45
B14: 001 | C14: 3912130310035797 | D14: 풀박스 | E14: 150×150×100 | F14: 개 | G14: =내역서!G19 -> 3 | H14: =IF(I14<>0,G14-I14,"") -> 0 | I14: =내역서!J19 -> 3 | K14: 56900017016 | L14: 내선전공 | M14: 0.55 | N14: 100 | O14: =IF(I14*M14=0,"",I14*M14*(N14/100)) -> 1.65 | S14: 전기5-4 | AA14: =O14 -> 1.65
B15: 001 | C15: 3913170420385334 | D15: 멀티덕트 BODY | E15: AL W150 x H70 | F15: m | G15: =내역서!G20 -> 6 | H15: =IF(I15<>0,G15-I15,"") -> 0 | I15: =내역서!J20 -> 6 | K15: 56900017016 | L15: 내선전공 | M15: 0.28 | N15: 100 | O15: =IF(I15*M15=0,"",I15*M15*(N15/100)) -> 1.68 | S15: 전기5-7 | AA15: =O15 -> 1.68
B16: 001 | C16: 3913170420385338 | D16: 멀티덕트 COVER | E16: AL W150 x H70 | F16: m | G16: =내역서!G21 -> 6 | H16: =IF(I16<>0,G16-I16,"") -> 0 | I16: =내역서!J21 -> 6 | K16: 56900017016 | L16: 내선전공 | M16: 0.056 | N16: 100 | O16: =IF(I16*M16=0,"",I16*M16*(N16/100)) -> 0.336 | S16: 전기5-8 | AA16: =O16 -> 0.336
B17: 001 | C17: 3913170420385342 | D17: 멀티덕트 H-ELBOW | E17: AL W150 x H70 | F17: 개 | G17: =내역서!G22 -> 5 | H17: =IF(I17<>0,G17-I17,"") -> 0 | I17: =내역서!J22 -> 5 | K17: 56900017016 | L17: 내선전공 | M17: 0.28 | N17: 100 | O17: =IF(I17*M17=0,"",I17*M17*(N17/100)) -> 1.4 | S17: 전기5-7 | AA17: =O17 -> 1.4
B18: 001 | C18: 3913171210033640 | D18: 몰드 | E18: 알루미늄(대) | F18: m | G18: =내역서!G23 -> 14 | H18: =IF(I18<>0,G18-I18,"") -> 0 | I18: =내역서!J23 -> 14 | K18: 56900017016 | L18: 내선전공 | M18: 0.22 | N18: 100 | O18: =IF(I18*M18=0,"",I18*M18*(N18/100)) -> 3.08 | S18: 전기5-9 | AA18: =O18 -> 3.08
B19: 001 | C19: 2612162922076727 | D19: 450/750V 내열비닐절연전선 | E19: HFIX 1.78mm(2.5㎟) | F19: m | G19: =내역서!G26 -> 239 | H19: =IF(I19<>0,G19-I19,"") -> 22 | I19: =내역서!J26 -> 217 | J19: 10 | K19: 56900017016 | L19: 내선전공 | M19: 0.01 | N19: 100 | O19: =IF(I19*M19=0,"",I19*M19*(N19/100)) -> 2.17 | S19: 전기5-10 | AA19: =O19 -> 2.17
B20: 001 | C20: 2612162922076728 | D20: 450/750V 내열비닐절연전선 | E20: HFIX 2.25mm(4㎟) | F20: m | G20: =내역서!G27 -> 183 | H20: =IF(I20<>0,G20-I20,"") -> 17 | I20: =내역서!J27 -> 166 | J20: 10 | K20: 56900017016 | L20: 내선전공 | M20: 0.01 | N20: 100 | O20: =IF(I20*M20=0,"",I20*M20*(N20/100)) -> 1.66 | S20: 전기5-10 | AA20: =O20 -> 1.66
B21: 001 | C21: 2612152420683698 | D21: 접지용비닐절연전선(F-GV) | E21: 10㎟ | F21: m | G21: =내역서!G28 -> 28 | H21: =IF(I21<>0,G21-I21,"") -> 3 | I21: =내역서!J28 -> 25 | J21: 10 | K21: 56900017016 | L21: 내선전공 | M21: 0.006 | N21: 150 | O21: =IF(I21*M21=0,"",I21*M21*(N21/100)) -> 0.225 | S21: 전기3-38 | AA21: =O21 -> 0.225
B22: 001 | C22: 2612152420683699 | D22: 접지용비닐절연전선(F-GV) | E22: 16㎟ | F22: m | G22: =내역서!G29 -> 14 | H22: =IF(I22<>0,G22-I22,"") -> 2 | I22: =내역서!J29 -> 12 | J22: 10 | K22: 56900017016 | L22: 내선전공 | M22: 0.007 | N22: 150 | O22: =IF(I22*M22=0,"",I22*M22*(N22/100)) -> 0.126 | S22: 전기3-38 | AA22: =O22 -> 0.126
B23: 001 | C23: 2612162920683887 | D23: 폴리에틸렌 난연케이블 | E23: 0.6/1kv F-CV 1C×25㎟ | F23: m | G23: =내역서!G30 -> 5 | H23: =IF(I23<>0,G23-I23,"") -> 1 | I23: =내역서!J30 -> 4 | J23: 5 | K23: 56900017076 | L23: 저압케이블전공 | M23: 0.03 | N23: 100 | O23: =IF(I23*M23=0,"",I23*M23*(N23/100)) -> 0.12 | S23: 전기5-11 | AB23: =O23 -> 0.12
B24: 001 | C24: 2612162920683888 | D24: 폴리에틸렌 난연케이블 | E24: 0.6/1kv F-CV 1C×35㎟ | F24: m | G24: =내역서!G31 -> 5 | H24: =IF(I24<>0,G24-I24,"") -> 1 | I24: =내역서!J31 -> 4 | J24: 5 | K24: 56900017076 | L24: 저압케이블전공 | M24: 0.036 | N24: 100 | O24: =IF(I24*M24=0,"",I24*M24*(N24/100)) -> 0.144 | S24: 전기5-11 | AB24: =O24 -> 0.144
B25: 001 | C25: 2612162920683905 | D25: 폴리에틸렌 난연케이블 | E25: 0.6/1kv F-CV 2C×10㎟ | F25: m | G25: =내역서!G32 -> 27 | H25: =IF(I25<>0,G25-I25,"") -> 2 | I25: =내역서!J32 -> 25 | J25: 5 | K25: 56900017076 | L25: 저압케이블전공 | M25: 0.025 | N25: 100 | O25: =IF(I25*M25=0,"",I25*M25*(N25/100)) -> 0.625 | S25: 전기5-13 | AB25: =O25 -> 0.625
B26: 001 | C26: 2612162920683947 | D26: 폴리에틸렌 난연케이블 | E26: 0.6/1kv F-CV 4C×16㎟ | F26: m | G26: =내역서!G33 -> 11 | H26: =IF(I26<>0,G26-I26,"") -> 1 | I26: =내역서!J33 -> 10 | J26: 5 | K26: 56900017076 | L26: 저압케이블전공 | M26: 0.0598 | N26: 100 | O26: =IF(I26*M26=0,"",I26*M26*(N26/100)) -> 0.598 | S26: 전기5-11 | AB26: =O26 -> 0.598
B27: 001 | C27: 2612152420683714 | D27: 기기용비닐절연전선 | E27: KIV 10㎟ | F27: m | G27: =내역서!G34 -> 4 | H27: =IF(I27<>0,G27-I27,"") -> 1 | I27: =내역서!J34 -> 3 | J27: 10 | K27: 56900017016 | L27: 내선전공 | M27: 0.023 | N27: 100 | O27: =IF(I27*M27=0,"",I27*M27*(N27/100)) -> 0.069 | S27: 전기5-10 | AA27: =O27 -> 0.069
B28: 001 | C28: 2612152420683716 | D28: 기기용비닐절연전선 | E28: KIV 25㎟ | F28: m | G28: =내역서!G35 -> 5 | H28: =IF(I28<>0,G28-I28,"") -> 1 | I28: =내역서!J35 -> 4 | J28: 10 | K28: 56900017016 | L28: 내선전공 | M28: 0.031 | N28: 100 | O28: =IF(I28*M28=0,"",I28*M28*(N28/100)) -> 0.124 | S28: 전기5-10 | AA28: =O28 -> 0.124
B29: 001 | C29: 3912998720170518 | D29: 매입스위치 | E29: 250V 1로2구 | F29: 개 | G29: =내역서!G36 -> 2 | H29: =IF(I29<>0,G29-I29,"") -> 0 | I29: =내역서!J36 -> 2 | K29: 56900017016 | L29: 내선전공 | M29: 0.085 | N29: 100 | O29: =IF(I29*M29=0,"",I29*M29*(N29/100)) -> 0.17 | S29: 전기5-23-2 | AA29: =O29 -> 0.17
B30: 001 | C30: 3912998720170519 | D30: 매입스위치 | E30: 250V 1로3구 | F30: 개 | G30: =내역서!G37 -> 1 | H30: =IF(I30<>0,G30-I30,"") -> 0 | I30: =내역서!J37 -> 1 | K30: 56900017016 | L30: 내선전공 | M30: 0.085 | N30: 100 | O30: =IF(I30*M30=0,"",I30*M30*(N30/100)) -> 0.085 | S30: 전기5-23-2 | AA30: =O30 -> 0.085
B31: 001 | C31: 3912140620170871 | D31: 콘센트 | E31: 둥근형(노출),250V1구접지 | F31: 개 | G31: =내역서!G38 -> 4 | H31: =IF(I31<>0,G31-I31,"") -> 0 | I31: =내역서!J38 -> 4 | K31: 56900017016 | L31: 내선전공 | M31: 0.096 | N31: 100 | O31: =IF(I31*M31=0,"",I31*M31*(N31/100)) -> 0.384 | S31: 전기5-23-1 | AA31: =O31 -> 0.384
B32: 001 | C32: 3912140621030227 | D32: 방우콘센트 | E32: 매입-접지형, 250V 1구 | F32: 개 | G32: =내역서!G39 -> 4 | H32: =IF(I32<>0,G32-I32,"") -> 0 | I32: =내역서!J39 -> 4 | K32: 56900017016 | L32: 내선전공 | M32: 0.08 | N32: 100 | O32: =IF(I32*M32=0,"",I32*M32*(N32/100)) -> 0.32 | S32: 전기5-23-1 | AA32: =O32 -> 0.32
B33: 001 | C33: 3912140621030228 | D33: 방우콘센트 | E33: 매입-접지형, 250V 2구 | F33: 개 | G33: =내역서!G40 -> 1 | H33: =IF(I33<>0,G33-I33,"") -> 0 | I33: =내역서!J40 -> 1 | K33: 56900017016 | L33: 내선전공 | M33: 0.08 | N33: 100 | O33: =IF(I33*M33=0,"",I33*M33*(N33/100)) -> 0.08 | S33: 전기5-23-1 | AA33: =O33 -> 0.08
B34: 001 | C34: 3912110220186204 | D34: 주택용분전반 | E34: 6회로 | F34: EA | G34: =내역서!G41 -> 1 | H34: =IF(I34<>0,G34-I34,"") -> 0 | I34: =내역서!J41 -> 1 | K34: 56900017016 | L34: 내선전공 | M34: 0.77 | N34: 100 | O34: =IF(I34*M34=0,"",I34*M34*(N34/100)) -> 0.77 | S34: 전기5-18-1 | AA34: =O34 -> 0.77
B35: 001 | C35: 3912161620167016 | D35: 배선용차단기(ABS-52) | E35: 2P 50AF 40AT | F35: EA | G35: =내역서!G44 -> 1 | H35: =IF(I35<>0,G35-I35,"") -> 0 | I35: =내역서!J44 -> 1 | K35: 56900017016 | L35: 내선전공 | M35: 0.182 | N35: 100 | O35: =IF(I35*M35=0,"",I35*M35*(N35/100)) -> 0.182 | S35: 전기5-19 | AA35: =O35 -> 0.182
B36: 001 | C36: 3912161620167036 | D36: 배선용차단기(ABS-102) | E36: 2P 100AF 75AT | F36: EA | G36: =내역서!G45 -> 1 | H36: =IF(I36<>0,G36-I36,"") -> 0 | I36: =내역서!J45 -> 1 | K36: 56900017016 | L36: 내선전공 | M36: 0.252 | N36: 100 | O36: =IF(I36*M36=0,"",I36*M36*(N36/100)) -> 0.252 | S36: 전기5-19 | AA36: =O36 -> 0.252
B37: 001 | C37: 3912161420167114 | D37: 누전차단기(32KGRc) | E37: 2P 30AF 20AT | F37: EA | G37: =내역서!G46 -> 37 | H37: =IF(I37<>0,G37-I37,"") -> 0 | I37: =내역서!J46 -> 37 | K37: 56900017016 | L37: 내선전공 | M37: 0.133 | N37: 100 | O37: =IF(I37*M37=0,"",I37*M37*(N37/100)) -> 4.921 | S37: 전기5-19 | AA37: =O37 -> 4.921
B38: 001 | C38: 3912143221650911 | D38: 압착단자 | E38: R형동선 나압착 16 ㎟ | F38: 개 | G38: =내역서!G48 -> 17 | H38: =IF(I38<>0,G38-I38,"") -> 0 | I38: =내역서!J48 -> 17 | K38: 56900017076 | L38: 저압케이블전공 | M38: 0.081 | N38: 120 | O38: =IF(I38*M38=0,"",I38*M38*(N38/100)) -> 1.6524 | S38: 전기4-37 | AB38: =O38 -> 1.6524
B39: 001 | C39: 3912143221650912 | D39: 압착단자 | E39: R형동선 나압착 25 ㎟ | F39: 개 | G39: =내역서!G49 -> 34 | H39: =IF(I39<>0,G39-I39,"") -> 0 | I39: =내역서!J49 -> 34 | K39: 56900017076 | L39: 저압케이블전공 | M39: 0.099 | N39: 120 | O39: =IF(I39*M39=0,"",I39*M39*(N39/100)) -> 4.0392 | S39: 전기4-37 | AB39: =O39 -> 4.0392
B40: 001 | C40: 3912143221650913 | D40: 압착단자 | E40: R형동선 나압착 35 ㎟ | F40: 개 | G40: =내역서!G50 -> 4 | H40: =IF(I40<>0,G40-I40,"") -> 0 | I40: =내역서!J50 -> 4 | K40: 56900017076 | L40: 저압케이블전공 | M40: 0.108 | N40: 120 | O40: =IF(I40*M40=0,"",I40*M40*(N40/100)) -> 0.5184 | S40: 전기4-37 | AB40: =O40 -> 0.5184
B41: 001 | C41: 391115ZZ701Z0001 | D41: MCC-F | E41: 800W*1000H | F41: 면 | G41: =내역서!G56 -> 1 | H41: =IF(I41<>0,G41-I41,"") -> 0 | I41: =내역서!J56 -> 1 | K41: 56900017016 | L41: 내선전공 | M41: 1.23 | N41: 100 | O41: =IF(I41*M41=0,"",I41*M41*(N41/100)) -> 1.23 | S41: 전기5-4 | AA41: =O41 -> 1.23
B42: 001 | C42: 391115ZZ701Z0002 | D42: 계량기철거후재설치 | E42: 디지털 | F42: EA | G42: =내역서!G57 -> 4 | H42: =IF(I42<>0,G42-I42,"") -> 0 | I42: =내역서!J57 -> 4 | K42: 56900017016 | L42: 내선전공 | M42: 0.48 | N42: 100 | O42: =IF(I42*M42=0,"",I42*M42*(N42/100)) -> 1.92 | S42: 전기5-21 | AA42: =O42 -> 1.92
B43: 001 | C43: 391115ZZ701Z0004 | D43: 배관철거 | E43: FLEX 16C-1L | F43: m | G43: =내역서!G59 -> 26 | H43: =IF(I43<>0,G43-I43,"") -> 0 | I43: =내역서!J59 -> 26 | K43: 56900017016 | L43: 내선전공 | M43: 0.0132 | N43: 100 | O43: =IF(I43*M43=0,"",I43*M43*(N43/100)) -> 0.3432 | S43: 전기5-1 | AA43: =O43 -> 0.3432
B44: 001 | C44: 391115ZZ701Z0005 | D44: 분전반(관리8) | E44: 600W*1000H*180D | F44: 면 | G44: =내역서!G60 -> 1 | H44: =IF(I44<>0,G44-I44,"") -> 0 | I44: =내역서!J60 -> 1 | K44: 56900017016 | L44: 내선전공 | M44: 1.23 | N44: 100 | O44: =IF(I44*M44=0,"",I44*M44*(N44/100)) -> 1.23 | S44: 전기5-4 | AA44: =O44 -> 1.23
B45: 001 | C45: 391115ZZ701Z0006 | D45: 분전반(지하소방펌프실) | E45: 600W*700H | F45: 면 | G45: =내역서!G61 -> 1 | H45: =IF(I45<>0,G45-I45,"") -> 0 | I45: =내역서!J61 -> 1 | K45: 56900017016 | L45: 내선전공 | M45: 0.95 | N45: 100 | O45: =IF(I45*M45=0,"",I45*M45*(N45/100)) -> 0.95 | S45: 전기5-4 | AA45: =O45 -> 0.95
B46: 001 | C46: 391115ZZ701Z0007 | D46: 분전반11 | E46: 750W*1600H | F46: 면 | G46: =내역서!G62 -> 1 | H46: =IF(I46<>0,G46-I46,"") -> 0 | I46: =내역서!J62 -> 1 | K46: 56900017016 | L46: 내선전공 | M46: 1.56 | N46: 100 | O46: =IF(I46*M46=0,"",I46*M46*(N46/100)) -> 1.56 | S46: 전기5-4 | AA46: =O46 -> 1.56
B47: 001 | C47: 391115ZZ701Z0008 | D47: 분전반23 | E47: 600W*1000H,속판교체 | F47: 면 | G47: =내역서!G63 -> 1 | H47: =IF(I47<>0,G47-I47,"") -> 0 | I47: =내역서!J63 -> 1 | K47: 56900017016 | L47: 내선전공 | M47: 1.23 | N47: 100 | O47: =IF(I47*M47=0,"",I47*M47*(N47/100)) -> 1.23 | S47: 전기5-4 | AA47: =O47 -> 1.23
B48: 001 | C48: 391115ZZ701Z0009 | D48: 분전반24 | E48: 600W*800H,속판교체 | F48: 면 | G48: =내역서!G64 -> 1 | H48: =IF(I48<>0,G48-I48,"") -> 0 | I48: =내역서!J64 -> 1 | K48: 56900017016 | L48: 내선전공 | M48: 1.23 | N48: 100 | O48: =IF(I48*M48=0,"",I48*M48*(N48/100)) -> 1.23 | S48: 전기5-4 | AA48: =O48 -> 1.23
B49: 001 | C49: 391115ZZ701Z0010 | D49: 분전반25 | E49: 600W*800H,속판교체 | F49: 면 | G49: =내역서!G65 -> 1 | H49: =IF(I49<>0,G49-I49,"") -> 0 | I49: =내역서!J65 -> 1 | K49: 56900017016 | L49: 내선전공 | M49: 1.23 | N49: 100 | O49: =IF(I49*M49=0,"",I49*M49*(N49/100)) -> 1.23 | S49: 전기5-4 | AA49: =O49 -> 1.23
B50: 001 | C50: 391115ZZ701Z0011 | D50: 분전반27 | E50: 700W*1100H,속판교체 | F50: 면 | G50: =내역서!G66 -> 1 | H50: =IF(I50<>0,G50-I50,"") -> 0 | I50: =내역서!J66 -> 1 | K50: 56900017016 | L50: 내선전공 | M50: 1.23 | N50: 100 | O50: =IF(I50*M50=0,"",I50*M50*(N50/100)) -> 1.23 | S50: 전기5-4 | AA50: =O50 -> 1.23
B51: 001 | C51: 391115ZZ701Z0012 | D51: 분전반보수 | E51: 함석판 | F51: 면 | G51: =내역서!G67 -> 4 | H51: =IF(I51<>0,G51-I51,"") -> 0 | I51: =내역서!J67 -> 4 | K51: 56900017016 | L51: 내선전공 | M51: 0.06 | N51: 100 | O51: =IF(I51*M51=0,"",I51*M51*(N51/100)) -> 0.24 | S51: 전기5-22 | AA51: =O51 -> 0.24
B52: 001 | C52: 391115ZZ701Z0013 | D52: 분전반철거 | E52: MCC-F | F52: 면 | G52: =내역서!G68 -> 1 | H52: =IF(I52<>0,G52-I52,"") -> 0 | I52: =내역서!J68 -> 1 | K52: 56900017016 | L52: 내선전공 | M52: 0.4 | N52: 100 | O52: =IF(I52*M52=0,"",I52*M52*(N52/100)) -> 0.4 | S52: 전기5-4 | AA52: =O52 -> 0.4
B53: 001 | C53: 391115ZZ701Z0014 | D53: 분전반철거 | E53: 분전반(관리8) | F53: 면 | G53: =내역서!G69 -> 1 | H53: =IF(I53<>0,G53-I53,"") -> 0 | I53: =내역서!J69 -> 1 | K53: 56900017016 | L53: 내선전공 | M53: 0.315 | N53: 100 | O53: =IF(I53*M53=0,"",I53*M53*(N53/100)) -> 0.315 | S53: 전기5-4 | AA53: =O53 -> 0.315
B54: 001 | C54: 391115ZZ701Z0015 | D54: 분전반철거 | E54: 분전반11,속판 | F54: 면 | G54: =내역서!G70 -> 1 | H54: =IF(I54<>0,G54-I54,"") -> 0 | I54: =내역서!J70 -> 1 | K54: 56900017016 | L54: 내선전공 | M54: 0.468 | N54: 100 | O54: =IF(I54*M54=0,"",I54*M54*(N54/100)) -> 0.468 | S54: 전기5-4 | AA54: =O54 -> 0.468
... B63: 001 | C63: 391115ZZ701Z0024 | D63: 소방MCC조작반 | E63: 700W*1600H | F63: 면 | G63: =내역서!G79 -> 1 | H63: =IF(I63<>0,G63-I63,"") -> 0 | I63: =내역서!J79 -> 1 | K63: 56900017016 | L63: 내선전공 | M63: 1.56 | N63: 100 | O63: =IF(I63*M63=0,"",I63*M63*(N63/100)) -> 1.56 | S63: 전기5-4 | AA63: =O63 -> 1.56
B64: 001 | C64: 391115ZZ701Z0025 | D64: 스위치철거 | E64: 1로2구 | F64: EA | G64: =내역서!G81 -> 2 | H64: =IF(I64<>0,G64-I64,"") -> 0 | I64: =내역서!J81 -> 2 | K64: 56900017016 | L64: 내선전공 | M64: 0.0255 | N64: 100 | O64: =IF(I64*M64=0,"",I64*M64*(N64/100)) -> 0.051 | S64: 전기5-23 | AA64: =O64 -> 0.051
B65: 001 | C65: 391115ZZ701Z0026 | D65: 스위치철거 | E65: 1로3구 | F65: EA | G65: =내역서!G82 -> 1 | H65: =IF(I65<>0,G65-I65,"") -> 0 | I65: =내역서!J82 -> 1 | K65: 56900017016 | L65: 내선전공 | M65: 0.0255 | N65: 100 | O65: =IF(I65*M65=0,"",I65*M65*(N65/100)) -> 0.0255 | S65: 전기5-23 | AA65: =O65 -> 0.0255
B66: 001 | C66: 391115ZZ701Z0028 | D66: 전선철거 | E66: HFIX2.5SQ-1L | F66: m | G66: =내역서!G84 -> 145 | H66: =IF(I66<>0,G66-I66,"") -> 0 | I66: =내역서!J84 -> 145 | K66: 56900017016 | L66: 내선전공 | M66: 0.003 | N66: 100 | O66: =IF(I66*M66=0,"",I66*M66*(N66/100)) -> 0.435 | S66: 전기5-10 | AA66: =O66 -> 0.435
B67: 001 | C67: 391115ZZ701Z0029 | D67: 전선철거 | E67: HFIX 4SQ-1L | F67: 개 | G67: =내역서!G85 -> 275 | H67: =IF(I67<>0,G67-I67,"") -> 0 | I67: =내역서!J85 -> 275 | K67: 56900017016 | L67: 내선전공 | M67: 0.003 | N67: 100 | O67: =IF(I67*M67=0,"",I67*M67*(N67/100)) -> 0.825 | S67: 전기5-10 | AA67: =O67 -> 0.825
B68: 001 | C68: 391115ZZ701Z0030 | D68: 조명기구 (철거) | E68: LED15W,다운라이트 | F68: SET | G68: =내역서!G86 -> 12 | H68: =IF(I68<>0,G68-I68,"") -> 0 | I68: =내역서!J86 -> 12 | K68: 56900017016 | L68: 내선전공 | M68: 0.0465 | N68: 100 | O68: =IF(I68*M68=0,"",I68*M68*(N68/100)) -> 0.558 | S68: 전기5-25-3 | AA68: =O68 -> 0.558
B69: 001 | C69: 391115ZZ701Z0031 | D69: 조명기구 (철거) | E69: LED50W,슬립매입 | F69: SET | G69: =내역서!G87 -> 1 | H69: =IF(I69<>0,G69-I69,"") -> 0 | I69: =내역서!J87 -> 1 | K69: 56900017016 | L69: 내선전공 | M69: 0.0918 | N69: 100 | O69: =IF(I69*M69=0,"",I69*M69*(N69/100)) -> 0.0918 | S69: 전기5-25-3 | AA69: =O69 -> 0.0918
B70: 001 | C70: 391115ZZ701Z0032 | D70: 조명기구A-TYPE | E70: LED50W,LED노출직부등 | F70: SET | G70: =내역서!G88 -> 1 | H70: =IF(I70<>0,G70-I70,"") -> 0 | I70: =내역서!J88 -> 1 | K70: 56900017016 | L70: 내선전공 | M70: 0.254 | N70: 100 | O70: =IF(I70*M70=0,"",I70*M70*(N70/100)) -> 0.254 | S70: 전기5-25-3 | AA70: =O70 -> 0.254
B71: 001 | C71: 391115ZZ701Z0033 | D71: 조명기구B-TYPE | E71: LED15W,LED매입다운라이트 | F71: SET | G71: =내역서!G89 -> 12 | H71: =IF(I71<>0,G71-I71,"") -> 0 | I71: =내역서!J89 -> 12 | K71: 56900017016 | L71: 내선전공 | M71: 0.155 | N71: 100 | O71: =IF(I71*M71=0,"",I71*M71*(N71/100)) -> 1.86 | S71: 전기5-25-3 | AA71: =O71 -> 1.86
B72: 001 | C72: 391115ZZ701Z0034 | D72: 조명센서 | E72: 철거후재설치 | F72: EA | G72: =내역서!G90 -> 3 | H72: =IF(I72<>0,G72-I72,"") -> 0 | I72: =내역서!J90 -> 3 | K72: 56900017016 | L72: 내선전공 | M72: 0.3 | N72: 100 | O72: =IF(I72*M72=0,"",I72*M72*(N72/100)) -> 0.9 | S72: 전기5-22 | AA72: =O72 -> 0.9
B73: 001 | C73: 391115ZZ701Z0035 | D73: 차단기단자커버 | E73: 보호카바,2P | F73: EA | G73: =내역서!G91 -> 47 | H73: =IF(I73<>0,G73-I73,"") -> 0 | I73: =내역서!J91 -> 47 | K73: 56900017016 | L73: 내선전공 | M73: 0.04 | N73: 100 | O73: =IF(I73*M73=0,"",I73*M73*(N73/100)) -> 1.88 | S73: 전기5-23 | AA73: =O73 -> 1.88
B74: 001 | C74: 391115ZZ701Z0036 | D74: 차단기단자커버 | E74: 보호카바,4P | F74: EA | G74: =내역서!G92 -> 6 | H74: =IF(I74<>0,G74-I74,"") -> 0 | I74: =내역서!J92 -> 6 | K74: 56900017016 | L74: 내선전공 | M74: 0.04 | N74: 100 | O74: =IF(I74*M74=0,"",I74*M74*(N74/100)) -> 0.24 | S74: 전기5-23 | AA74: =O74 -> 0.24
B75: 001 | C75: 391115ZZ701Z0037 | D75: 차단기철거 | E75: ELB100/75,2P | F75: EA | G75: =내역서!G93 -> 1 | H75: =IF(I75<>0,G75-I75,"") -> 0 | I75: =내역서!J93 -> 1 | K75: 56900017016 | L75: 내선전공 | M75: 0.126 | N75: 100 | O75: =IF(I75*M75=0,"",I75*M75*(N75/100)) -> 0.126 | S75: 전기5-19 | AA75: =O75 -> 0.126
B76: 001 | C76: 391115ZZ701Z0038 | D76: 차단기철거 | E76: ELB30/30,2P | F76: EA | G76: =내역서!G94 -> 35 | H76: =IF(I76<>0,G76-I76,"") -> 0 | I76: =내역서!J94 -> 35 | K76: 56900017016 | L76: 내선전공 | M76: 0.0665 | N76: 100 | O76: =IF(I76*M76=0,"",I76*M76*(N76/100)) -> 2.3275 | S76: 전기5-19 | AA76: =O76 -> 2.3275
B77: 001 | C77: 391115ZZ701Z0039 | D77: 케이블철거후재설치 | E77: F-CV 16SQ/4C-1L | F77: m | G77: =내역서!G95 -> 3 | H77: =IF(I77<>0,G77-I77,"") -> 0 | I77: =내역서!J95 -> 3 | K77: 56900017076 | L77: 저압케이블전공 | M77: 0.1136 | N77: 100 | O77: =IF(I77*M77=0,"",I77*M77*(N77/100)) -> 0.3408 | S77: 전기5-11 | AB77: =O77 -> 0.3408
B78: 001 | C78: 391115ZZ701Z0040 | D78: 케이블철거후재설치 | E78: F-CV 1C/50SQ-1 | F78: m | G78: =내역서!G96 -> 16 | H78: =IF(I78<>0,G78-I78,"") -> 0 | I78: =내역서!J96 -> 16 | K78: 56900017016 | L78: 내선전공 | M78: 0.0817 | N78: 100 | O78: =IF(I78*M78=0,"",I78*M78*(N78/100)) -> 1.3072 | AA78: =O78 -> 1.3072
B79: 001 | C79: 391115ZZ701Z0041 | D79: 케이블철거후재설치 | E79: F-FR8 1C/10SQ-1 | F79: m | G79: =내역서!G97 -> 22 | H79: =IF(I79<>0,G79-I79,"") -> 0 | I79: =내역서!J97 -> 22 | K79: 56900017076 | L79: 저압케이블전공 | M79: 0.0437 | N79: 100 | O79: =IF(I79*M79=0,"",I79*M79*(N79/100)) -> 0.9614 | S79: 전기5-11 | AB79: =O79 -> 0.9614
B80: 001 | C80: 391115ZZ701Z0042 | D80: 케이블철거후재설치 | E80: F-FR8 1C/16SQ-1 | F80: m | G80: =내역서!G98 -> 30 | H80: =IF(I80<>0,G80-I80,"") -> 0 | I80: =내역서!J98 -> 30 | K80: 56900017076 | L80: 저압케이블전공 | M80: 0.0437 | N80: 100 | O80: =IF(I80*M80=0,"",I80*M80*(N80/100)) -> 1.311 | S80: 전기5-11 | AB80: =O80 -> 1.311
B81: 001 | C81: 391115ZZ701Z0043 | D81: 케이블철거후재설치 | E81: F-FR8 1C/25SQ-1 | F81: m | G81: =내역서!G99 -> 168 | H81: =IF(I81<>0,G81-I81,"") -> 0 | I81: =내역서!J99 -> 168 | K81: 56900017076 | L81: 저압케이블전공 | M81: 0.057 | N81: 100 | O81: =IF(I81*M81=0,"",I81*M81*(N81/100)) -> 9.576 | S81: 전기5-11 | AB81: =O81 -> 9.576
B82: 001 | C82: 391115ZZ701Z0044 | D82: 콘센트철거 | E82: 노출1구,원형 | F82: EA | G82: =내역서!G100 -> 6 | H82: =IF(I82<>0,G82-I82,"") -> 0 | I82: =내역서!J100 -> 6 | K82: 56900017016 | L82: 내선전공 | M82: 0.0024 | N82: 100 | O82: =IF(I82*M82=0,"",I82*M82*(N82/100)) -> 0.0144 | S82: 전기5-23 | AA82: =O82 -> 0.0144
B83: 001 | C83: 391115ZZ701Z0045 | D83: 콘센트철거 | E83: 매입2구,방우형 | F83: EA | G83: =내역서!G101 -> 6 | H83: =IF(I83<>0,G83-I83,"") -> 0 | I83: =내역서!J101 -> 6 | K83: 56900017016 | L83: 내선전공 | M83: 0.024 | N83: 100 | O83: =IF(I83*M83=0,"",I83*M83*(N83/100)) -> 0.144 | S83: 전기5-23 | AA83: =O83 -> 0.144
B84: 001 | C84: L001010101000075 | D84: 노 무 비 | E84: 내선전공 | F84: 인 | G84: =IF(H84*I84/100+0.0005 <1, TRUNC(H84*I84/100, 3), TRUNC(H84*I84/100+0.0005, J84)) -> 62.109 | H84: =(옵션!$B$12*옵션!$B$41)/100 -> 100 | I84: =SUM(AA5:AA83) -> 62.1086 | J84: =옵션!$C$41 -> 3 | O84: =IF(I84*M84=0,"",I84*M84*(N84/100)) | AA84: =SUM(AA5:AA83) -> 62.1086 | AB84: =SUM(AB5:AB83) -> 19.8862 | AC84: =SUM(AC5:AC83) -> 0.07 | AD84: =SUM(AD5:AD83) -> 0.18
B85: 001 | C85: L001010101000078 | D85: 노 무 비 | E85: 저압케이블전공 | F85: 인 | G85: =IF(H85*I85/100+0.0005 <1, TRUNC(H85*I85/100, 3), TRUNC(H85*I85/100+0.0005, J85)) -> 19.886 | H85: =(옵션!$B$12*옵션!$B$41)/100 -> 100 | I85: =SUM(AB5:AB83) -> 19.8862 | J85: =옵션!$C$41 -> 3 | O85: =IF(I85*M85=0,"",I85*M85*(N85/100))
B86: 001 | C86: L001010101000081 | D86: 노 무 비 | E86: 배전전공 | F86: 인 | G86: =IF(H86*I86/100+0.0005 <1, TRUNC(H86*I86/100, 3), TRUNC(H86*I86/100+0.0005, J86)) -> 0.07 | H86: =(옵션!$B$12*옵션!$B$41)/100 -> 100 | I86: =SUM(AC5:AC83) -> 0.07 | J86: =옵션!$C$41 -> 3 | O86: =IF(I86*M86=0,"",I86*M86*(N86/100))
B87: 001 | C87: L001010101000002 | D87: 노 무 비 | E87: 보통인부 | F87: 인 | G87: =IF(H87*I87/100+0.0005 <1, TRUNC(H87*I87/100, 3), TRUNC(H87*I87/100+0.0005, J87)) -> 0.18 | H87: =(옵션!$B$12*옵션!$B$41)/100 -> 100 | I87: =SUM(AD5:AD83) -> 0.18 | J87: =옵션!$C$41 -> 3 | O87: =IF(I87*M87=0,"",I87*M87*(N87/100))

Sheet 일대목차 (2)
A1: 총줄수-> | B1: 29 | C1: [ 노후전기설비정비 전기공사 ] - 일위대가목차
A2: 번호 | B2: … | C2: 코드 | D2: 명 칭 | E2: 규 격 | F2: 단위 | G2: 수량 | H2: 재료비 | J2: 노무비 | M2: 경비 | O2: 계 | P2: 계 | Q2: 비고
H3: 단가 | I3: 금액 | J3: 수량 | K3: 단가 | L3: 금액 | M3: 단가 | N3: 금액 | O3: 단가
A4: 56950170112 | B4: EAA110620000 | C4: 일대1 | D4: EPS SUPPORT | E4: W150-1단 | F4: 식 | H4: ='일위대가 (2)'!I12 -> 4338 | I4: =H4 -> 4338 | K4: ='일위대가 (2)'!L12 -> 29557 | L4: =K4 -> 29557 | M4: ='일위대가 (2)'!N12 -> 0 | N4: =M4 -> 0 | P4: =I4+L4+N4 -> 33895
C5: 일대2 | D5: 분전반27 | E5: 700W*1100H | F5: 면 | H5: ='일위대가 (2)'!I30 -> 1071463 | I5: =H5 -> 1071463 | K5: ='일위대가 (2)'!L30 -> 356861 | L5: =K5 -> 356861 | P5: =I5+L5+N5 -> 1428324
C6: 일대3 | D6: 지하소방펌프실 | E6: 600W*700H*150D | F6: 면 | H6: ='일위대가 (2)'!I57 -> 917751 | I6: =H6 -> 917751 | K6: ='일위대가 (2)'!L57 -> 304070 | L6: =K6 -> 304070 | P6: =I6+L6+N6 -> 1221821
C7: 일대4 | D7: 소방MCC조작반 | E7: 700W*1600H*200D | F7: 면 | H7: ='일위대가 (2)'!I126 -> 6549101 | I7: =H7 -> 6549101 | K7: ='일위대가 (2)'!L126 -> 1977497 | L7: =K7 -> 1977497 | P7: =I7+L7+N7 -> 8526598
C8: 일대5 | D8: MCC-F | E8: 800W*1000H*200D | F8: 면 | H8: ='일위대가 (2)'!I178 -> 2937106 | I8: =H8 -> 2937106 | K8: ='일위대가 (2)'!L178 -> 1182997 | L8: =K8 -> 1182997 | P8: =I8+L8+N8 -> 4120103
C9: 일대6 | D9: 소방MCC-F | E9: 700W*1100H*200D | F9: 면 | H9: ='일위대가 (2)'!I230 -> 3015279 | I9: =H9 -> 3015279 | K9: ='일위대가 (2)'!L230 -> 1459190 | L9: =K9 -> 1459190 | P9: =I9+L9+N9 -> 4474469
C10: 일대7 | D10: 분전반23 | E10: 600W*1000H*180D | F10: 면 | H10: ='일위대가 (2)'!I251 -> 2086554 | I10: =H10 -> 2086554 | K10: ='일위대가 (2)'!L251 -> 523189 | L10: =K10 -> 523189 | P10: =I10+L10+N10 -> 2609743
C11: 일대8 | D11: 분전반24 | E11: 600W*800H | F11: 면 | H11: ='일위대가 (2)'!I268 -> 650535 | I11: =H11 -> 650535 | K11: ='일위대가 (2)'!L268 -> 325401 | L11: =K11 -> 325401 | P11: =I11+L11+N11 -> 975936
C12: 일대9 | D12: 분전반25 | E12: 600W*800H | F12: 면 | H12: ='일위대가 (2)'!I286 -> 1069494 | I12: =H12 -> 1069494 | K12: ='일위대가 (2)'!L286 -> 352730 | L12: =K12 -> 352730 | P12: =I12+L12+N12 -> 1422224
C13: 일대10 | D13: 분전반11 | E13: 750W*1600H*200D | F13: 면 | H13: ='일위대가 (2)'!I307 -> 2729903 | I13: =H13 -> 2729903 | K13: ='일위대가 (2)'!L307 -> 442649 | L13: =K13 -> 442649 | P13: =I13+L13+N13 -> 3172552
C14: 일대11 | D14: 분전반8 | E14: 600W*1000H*180D | F14: 면 | H14: ='일위대가 (2)'!I327 -> 1412036 | I14: =H14 -> 1412036 | K14: ='일위대가 (2)'!L327 -> 248243 | L14: =K14 -> 248243 | P14: =I14+L14+N14 -> 1660279
I15: =H15 -> 0 | L15: =K15 -> 0 | P15: =I15+L15+N15 -> 0
L16: =K16 -> 0 | P16: =I16+L16+N16 -> 0

Sheet 일위대가 (2)
A1: 총줄수-> | B1: 29 | D1: [ 노후전기설비정비 전기공사 ] - 일위대가표 | W1: 노임 계산 정보 | AA1: 부속재 및 손료
A2: 번호 | B2: 목차코드 | C2: 코드 | D2: 명 칭 | E2: 규 격 | F2: 단위 | G2: 수량 | H2: 재료비 | J2: 노무비 | M2: 경비 | P2: 계 | Q2: 비고 | W2: 노임계 | X2: 전체(%) | Y2: 공종별(%) | Z2: 노임 소수 | AA2: CD배관재 | AB2: 일반배관재 | AC2: 소모재 | AD2: 자재계 | AE2: 노임계
H3: 단가 | I3: 금액 | J3: 수량 | K3: 단가 | L3: 금액 | M3: 단가 | N3: 금액 | O3: 단가 | AD3: 1 | AE3: 1
A4: 56950170112 | B4: 일목줄 | C4: EAA110620000 | D4: [일대1] EPS SUPPORT W150-1단 [식]
A5: 59754967601 | B5: EAA110620000 | C5: 3913170520175128 | D5: 케이블트레이부속품 | E5: U CHANNEL, 41x41x2.6t | F5: m | G5: 0.25 | H5: =[2]합산자재!H18 -> 6176 | I5: =IF(G5*H5<>0, TRUNC(G5*H5,1),"") -> 1544 | J5: 0.25 | K5: =[2]합산자재!I18 -> 0 | L5: =IF(G5*K5<>0, TRUNC(G5*K5,1),"") | M5: =[2]합산자재!J18 -> 0 | N5: =IF(G5*M5<>0, TRUNC(G5*M5,1),"") | P5: =IF(SUM(I5,L5,N5)<>0,TRUNC(SUM(I5,L5,N5),1),"") -> 1544
A6: 53060807001 | B6: EAA110620000 | C6: 3116210220135769 | D6: 스트롱앵커 | E6: 3/8 | F6: 개 | G6: 2 | H6: =[2]합산자재!H25 -> 200 | I6: =IF(G6*H6<>0, TRUNC(G6*H6,1),"") -> 400 | J6: 2 | K6: =[2]합산자재!I25 -> 0 | L6: =IF(G6*K6<>0, TRUNC(G6*K6,1),"") | M6: =[2]합산자재!J25 -> 0 | N6: =IF(G6*M6<>0, TRUNC(G6*M6,1),"") | P6: =IF(SUM(I6,L6,N6)<>0,TRUNC(SUM(I6,L6,N6),1),"") -> 400 | Z6: 노임계
A7: 53100027003 | B7: EAA110620000 | C7: 3116172710024976 | D7: 6각너트 | E7: M10 | F7: 개 | G7: 4 | H7: =[2]합산자재!H46 -> 28 | I7: =IF(G7*H7<>0, TRUNC(G7*H7,1),"") -> 112 | J7: 4 | K7: =[2]합산자재!I46 -> 0 | L7: =IF(G7*K7<>0, TRUNC(G7*K7,1),"") | M7: =[2]합산자재!J46 -> 0 | N7: =IF(G7*M7<>0, TRUNC(G7*M7,1),"") | P7: =IF(SUM(I7,L7,N7)<>0,TRUNC(SUM(I7,L7,N7),1),"") -> 112
A8: 52100327001 | B8: EAA110620000 | C8: 3116181120136195 | D8: 스프링와샤 | E8: D10 | F8: EA | G8: 4 | H8: =[2]합산자재!H47 -> 9 | I8: =IF(G8*H8<>0, TRUNC(G8*H8,1),"") -> 36 | J8: 4 | K8: =[2]합산자재!I47 -> 0 | L8: =IF(G8*K8<>0, TRUNC(G8*K8,1),"") | M8: =[2]합산자재!J47 -> 0 | N8: =IF(G8*M8<>0, TRUNC(G8*M8,1),"") | P8: =IF(SUM(I8,L8,N8)<>0,TRUNC(SUM(I8,L8,N8),1),"") -> 36
A9: 59754967571 | B9: EAA110620000 | C9: 3913170520175125 | D9: 케이블트레이부속품 | E9: HOLD DOWN CLAMP, 아연도 | F9: 개 | G9: 2 | H9: =[2]합산자재!H16 -> 373 | I9: =IF(G9*H9<>0, TRUNC(G9*H9,1),"") -> 746 | J9: 2 | K9: =[2]합산자재!I16 -> 0 | L9: =IF(G9*K9<>0, TRUNC(G9*K9,1),"") | M9: =[2]합산자재!J16 -> 0 | N9: =IF(G9*M9<>0, TRUNC(G9*M9,1),"") | P9: =IF(SUM(I9,L9,N9)<>0,TRUNC(SUM(I9,L9,N9),1),"") -> 746
A10: 59754967581 | B10: EAA110620000 | C10: 3913170520175126 | D10: 케이블트레이부속품 | E10: 찬넬스프링 너트, 아연도 | F10: 개 | G10: 2 | H10: =[2]합산자재!H17 -> 750 | I10: =IF(G10*H10<>0, TRUNC(G10*H10,1),"") -> 1500 | J10: 2 | K10: =[2]합산자재!I17 -> 0 | L10: =IF(G10*K10<>0, TRUNC(G10*K10,1),"") | M10: =[2]합산자재!J17 -> 0 | N10: =IF(G10*M10<>0, TRUNC(G10*M10,1),"") | P10: =IF(SUM(I10,L10,N10)<>0,TRUNC(SUM(I10,L10,N10),1),"") -> 1500
A11: 56900017016 | B11: EAA110620000 | C11: L001010101000075 | D11: 노 무 비 | E11: 내선전공 | F11: 인 | G11: ='일위노임 (2)'!G6 -> 0.108 | H11: =[2]합산자재!H81 -> 0 | I11: =IF(G11*H11<>0, TRUNC(G11*H11,1),"") | J11: 0.108 | K11: =[2]합산자재!I81 -> 273676 | L11: =IF(G11*K11<>0, TRUNC(G11*K11,1),"") -> 29557 | M11: =[2]합산자재!J81 -> 0 | N11: =IF(G11*M11<>0, TRUNC(G11*M11,1),"") | P11: =IF(SUM(I11,L11,N11)<>0,TRUNC(SUM(I11,L11,N11),1),"") -> 29557 | AE11: =L11 -> 29557
B12: 합계줄 | D12: ( 합 계 ) | I12: =TRUNC(SUM(I4:I11)) -> 4338 | L12: =TRUNC(SUM(L4:L11)) -> 29557 | N12: =TRUNC(SUM(N4:N11)) -> 0 | P12: =IF(SUM(I12,L12,N12)<>0,TRUNC(SUM(I12,L12,N12),1),"") -> 33895 | AC12: =TRUNC(AE12*[2]옵션!$B$36/100,1) -> 886.7 | AD12: =TRUNC(SUM(L4:L11)) -> 29557 | AE12: =TRUNC(SUM(AE4:AE11)) -> 29557
B13: 일목줄
A14: 56950170112 | B14: 일목줄 | C14: EAA110620000 | D14: [일대2] 분전반27 700W*1100H [면]
A15: 59754967601 | B15: EAA110620000 | C15: 3913170520175128 | D15: DOOR (STS 1.5t) | E15: 700Wx1100H | F15: 면 | G15: 1 | H15: 451440 | I15: =IF(G15*H15<>0, TRUNC(G15*H15,1),"") -> 451440 | J15: =G15 -> 1 | K15: =[2]합산자재!I23 -> 0 | L15: =IF(G15*K15<>0, TRUNC(G15*K15,1),"") | M15: =[2]합산자재!J23 -> 0 | N15: =IF(G15*M15<>0, TRUNC(G15*M15,1),"") | P15: =IF(SUM(I15,L15,N15)<>0,TRUNC(SUM(I15,L15,N15),1),"") -> 451440
A16: 53060807001 | B16: EAA110620000 | C16: 3116210220135769 | D16: NAME PLATE | E16: 아크릴(M) | F16: 개 | G16: 1 | H16: 2475 | I16: =IF(G16*H16<>0, TRUNC(G16*H16,1),"") -> 2475 | J16: =G16 -> 1 | K16: =[2]합산자재!I30 -> 0 | L16: =IF(G16*K16<>0, TRUNC(G16*K16,1),"") | M16: =[2]합산자재!J30 -> 0 | N16: =IF(G16*M16<>0, TRUNC(G16*M16,1),"") | P16: =IF(SUM(I16,L16,N16)<>0,TRUNC(SUM(I16,L16,N16),1),"") -> 2475 | Z16: 노임계
A17: 53100027003 | B17: EAA110620000 | C17: 3116172710024976 | D17: NAME PLATE | E17: CARD HOLDER | F17: 개 | G17: 13 | H17: 220 | I17: =IF(G17*H17<>0, TRUNC(G17*H17,1),"") -> 2860 | J17: =G17 -> 13 | K17: =[2]합산자재!I51 -> 0 | L17: =IF(G17*K17<>0, TRUNC(G17*K17,1),"") | M17: =[2]합산자재!J51 -> 0 | N17: =IF(G17*M17<>0, TRUNC(G17*M17,1),"") | P17: =IF(SUM(I17,L17,N17)<>0,TRUNC(SUM(I17,L17,N17),1),"") -> 2860
A18: 52100327001 | B18: EAA110620000 | C18: 3116181120136195 | D18: DOOR HANDLE | E18: PUSH (L) | F18: 개 | G18: 1 | H18: 2343 | I18: =IF(G18*H18<>0, TRUNC(G18*H18,1),"") -> 2343 | J18: =G18 -> 1 | K18: 0 | L18: =IF(G18*K18<>0, TRUNC(G18*K18,1),"") | M18: =[2]합산자재!J52 -> 0 | N18: =IF(G18*M18<>0, TRUNC(G18*M18,1),"") | P18: =IF(SUM(I18,L18,N18)<>0,TRUNC(SUM(I18,L18,N18),1),"") -> 2343
A19: 59754967571 | B19: EAA110620000 | C19: 3913170520175125 | D19: E T | E19: 12 P | F19: 개 | G19: 1 | H19: 11500 | I19: =IF(G19*H19<>0, TRUNC(G19*H19,1),"") -> 11500 | J19: =G19 -> 1 | K19: =[2]합산자재!I21 -> 0 | L19: =IF(G19*K19<>0, TRUNC(G19*K19,1),"") | M19: =[2]합산자재!J21 -> 0 | N19: =IF(G19*M19<>0, TRUNC(G19*M19,1),"") | P19: =IF(SUM(I19,L19,N19)<>0,TRUNC(SUM(I19,L19,N19),1),"") -> 11500
A20: 59754967581 | B20: EAA110620000 | C20: 3913170520175126 | D20: MAIN BUS BAR | E20: 3.0 mm x 15 mm | F20: m | G20: 2.2 | H20: 14000 | I20: =IF(G20*H20<>0, TRUNC(G20*H20,1),"") -> 30800 | J20: =G20 -> 2.2 | K20: =[2]합산자재!I22 -> 0 | L20: =IF(G20*K20<>0, TRUNC(G20*K20,1),"") | M20: =[2]합산자재!J22 -> 0 | N20: =IF(G20*M20<>0, TRUNC(G20*M20,1),"") | P20: =IF(SUM(I20,L20,N20)<>0,TRUNC(SUM(I20,L20,N20),1),"") -> 30800
A21: 59754967601 | B21: EAA110620000 | C21: 3913170520175128 | D21: BUS BAR | E21: 3.0 mm x 15 mm | F21: m | G21: 2.88 | H21: 14000 | I21: =IF(G21*H21<>0, TRUNC(G21*H21,1),"") -> 40320 | J21: =G21 -> 2.88 | K21: =[2]합산자재!I29 -> 0 | L21: =IF(G21*K21<>0, TRUNC(G21*K21,1),"") | M21: =[2]합산자재!J29 -> 0 | N21: =IF(G21*M21<>0, TRUNC(G21*M21,1),"") | P21: =IF(SUM(I21,L21,N21)<>0,TRUNC(SUM(I21,L21,N21),1),"") -> 40320
A22: 53060807001 | B22: EAA110620000 | C22: 3116210220135769 | D22: INSULATION TUBE | E22: 150㎟ 이하 | F22: m | G22: 5.08 | H22: 1320 | I22: =IF(G22*H22<>0, TRUNC(G22*H22,1),"") -> 6705.6 | J22: =G22 -> 5.08 | K22: =[2]합산자재!I36 -> 0 | L22: =IF(G22*K22<>0, TRUNC(G22*K22,1),"") | M22: =[2]합산자재!J36 -> 0 | N22: =IF(G22*M22<>0, TRUNC(G22*M22,1),"") | P22: =IF(SUM(I22,L22,N22)<>0,TRUNC(SUM(I22,L22,N22),1),"") -> 6705.6 | Z22: 노임계
A23: 53100027003 | B23: EAA110620000 | C23: 3116172710024976 | D23: AG 도금 | F23: KG | G23: 2.03 | H23: 1980 | I23: =IF(G23*H23<>0, TRUNC(G23*H23,1),"") -> 4019.4 | J23: =G23 -> 2.03 | K23: =[2]합산자재!I57 -> 0 | L23: =IF(G23*K23<>0, TRUNC(G23*K23,1),"") | M23: =[2]합산자재!J57 -> 0 | N23: =IF(G23*M23<>0, TRUNC(G23*M23,1),"") | P23: =IF(SUM(I23,L23,N23)<>0,TRUNC(SUM(I23,L23,N23),1),"") -> 4019.4
A24: 52100327001 | B24: EAA110620000 | C24: 3116181120136195 | D24: M C C B (표준형) | E24: 4P 600V 50AF | F24: 개 | G24: 5 | H24: 75000 | I24: =IF(G24*H24<>0, TRUNC(G24*H24,1),"") -> 375000 | J24: =G24 -> 5 | K24: =[2]합산자재!I58 -> 0 | L24: =IF(G24*K24<>0, TRUNC(G24*K24,1),"") | M24: =[2]합산자재!J58 -> 0 | N24: =IF(G24*M24<>0, TRUNC(G24*M24,1),"") | P24: =IF(SUM(I24,L24,N24)<>0,TRUNC(SUM(I24,L24,N24),1),"") -> 375000
A25: 59754967571 | B25: EAA110620000 | C25: 3913170520175125 | D25: E L C B (분전반) | E25: 110/220V 2P 30AF | F25: 개 | G25: 8 | H25: 18000 | I25: =IF(G25*H25<>0, TRUNC(G25*H25,1),"") -> 144000 | J25: =G25 -> 8 | K25: =[2]합산자재!I27 -> 0 | L25: =IF(G25*K25<>0, TRUNC(G25*K25,1),"") | M25: =[2]합산자재!J27 -> 0 | N25: =IF(G25*M25<>0, TRUNC(G25*M25,1),"") | P25: =IF(SUM(I25,L25,N25)<>0,TRUNC(SUM(I25,L25,N25),1),"") -> 144000
A26: 56900017016 | B26: EAA110620000 | C26: L001010101000075 | D26: 노 무 비 | E26: 전기기계조립원 | F26: 인 | G26: =J26 -> 0.508 | H26: =[2]합산자재!H92 -> 0 | I26: =IF(G26*H26<>0, TRUNC(G26*H26,1),"") | J26: ='일위노임 (2)'!G16 -> 0.508 | K26: 122522 | L26: =IF(G26*K26<>0, TRUNC(G26*K26,1),"") -> 62241.1 | M26: =[2]합산자재!J92 -> 0 | N26: =IF(G26*M26<>0, TRUNC(G26*M26,1),"") | P26: =IF(SUM(I26,L26,N26)<>0,TRUNC(SUM(I26,L26,N26),1),"") -> 62241.1 | AE26: =L26 -> 62241.1
A27: 56900017016 | B27: EAA110620000 | C27: L001010101000075 | D27: 노 무 비 | E27: 전선원 | F27: 인 | G27: =J27 -> 2.69 | H27: =[2]합산자재!H93 -> 0 | I27: =IF(G27*H27<>0, TRUNC(G27*H27,1),"") | J27: ='일위노임 (2)'!G17 -> 2.69 | K27: 99248 | L27: =IF(G27*K27<>0, TRUNC(G27*K27,1),"") -> 266977.1 | M27: =[2]합산자재!J93 -> 0 | N27: =IF(G27*M27<>0, TRUNC(G27*M27,1),"") | P27: =IF(SUM(I27,L27,N27)<>0,TRUNC(SUM(I27,L27,N27),1),"") -> 266977.1 | AE27: =L27 -> 266977.1
A28: 56900017016 | B28: EAA110620000 | C28: L001010101000075 | D28: 노 무 비 | E28: 부품조립원 | F28: 인 | G28: =J28 -> 0 | H28: =[2]합산자재!H94 -> 0 | I28: =IF(G28*H28<>0, TRUNC(G28*H28,1),"") | J28: 0 | K28: 105323 | L28: =IF(G28*K28<>0, TRUNC(G28*K28,1),"") | M28: =[2]합산자재!J94 -> 0 | N28: =IF(G28*M28<>0, TRUNC(G28*M28,1),"") | P28: =IF(SUM(I28,L28,N28)<>0,TRUNC(SUM(I28,L28,N28),1),"") | AE28: =L28
A29: 56900017016 | B29: EAA110620000 | C29: L001010101000075 | D29: 노 무 비 | E29: 단순노무종사원 | F29: 인 | G29: =J29 -> 0.3048 | H29: =[2]합산자재!H95 -> 0 | I29: =IF(G29*H29<>0, TRUNC(G29*H29,1),"") | J29: ='일위노임 (2)'!G18 -> 0.3048 | K29: 90694 | L29: =IF(G29*K29<>0, TRUNC(G29*K29,1),"") -> 27643.5 | M29: =[2]합산자재!J95 -> 0 | N29: =IF(G29*M29<>0, TRUNC(G29*M29,1),"") | P29: =IF(SUM(I29,L29,N29)<>0,TRUNC(SUM(I29,L29,N29),1),"") -> 27643.5 | AE29: =L29 -> 27643.5
B30: 합계줄 | D30: ( 합 계 ) | I30: =TRUNC(SUM(I14:I29)) -> 1071463 | L30: =TRUNC(SUM(L14:L29)) -> 356861 | N30: =TRUNC(SUM(N14:N29)) -> 0 | P30: =IF(SUM(I30,L30,N30)<>0,TRUNC(SUM(I30,L30,N30),1),"") -> 1428324 | AC30: =TRUNC(AE30*[2]옵션!$B$36/100,1) -> 10705.8 | AD30: =TRUNC(SUM(L14:L26)) -> 62241 | AE30: =TRUNC(SUM(AE14:AE29)) -> 356861
B31: 일목줄
A32: 56950170112 | B32: 일목줄 | C32: EAA110620000 | D32: [일대3] 지하소방펌프실 600W*700H*150D [면]
A33: 59754967601 | B33: EAA110620000 | C33: 3913170520175128 | D33: 분전반 매입 BOX(STEEL 1.6t) | E33: 600Wx700Hx150D | F33: 면 | G33: 1 | H33: 177154 | I33: =IF(G33*H33<>0, TRUNC(G33*H33,1),"") -> 177154 | J33: =G33 -> 1 | K33: =[2]합산자재!I42 -> 0 | L33: =IF(G33*K33<>0, TRUNC(G33*K33,1),"") | M33: =[2]합산자재!J42 -> 0 | N33: =IF(G33*M33<>0, TRUNC(G33*M33,1),"") | P33: =IF(SUM(I33,L33,N33)<>0,TRUNC(SUM(I33,L33,N33),1),"") -> 177154
A34: 53060807001 | B34: EAA110620000 | C34: 3116210220135769 | D34: DOOR (STS 1.5t) | E34: 600Wx700H | F34: 면 | G34: 1 | H34: 246048 | I34: =IF(G34*H34<>0, TRUNC(G34*H34,1),"") -> 246048 | J34: =G34 -> 1 | K34: =[2]합산자재!I49 -> 0 | L34: =IF(G34*K34<>0, TRUNC(G34*K34,1),"") | M34: =[2]합산자재!J49 -> 0 | N34: =IF(G34*M34<>0, TRUNC(G34*M34,1),"") | P34: =IF(SUM(I34,L34,N34)<>0,TRUNC(SUM(I34,L34,N34),1),"") -> 246048 | Z34: 노임계
A35: 53100027003 | B35: EAA110620000 | C35: 3116172710024976 | D35: NAME PLATE | E35: 아크릴(M) | F35: 개 | G35: 1 | H35: 2475 | I35: =IF(G35*H35<>0, TRUNC(G35*H35,1),"") -> 2475 | J35: =G35 -> 1 | K35: =[2]합산자재!I70 -> 0 | L35: =IF(G35*K35<>0, TRUNC(G35*K35,1),"") | M35: =[2]합산자재!J70 -> 0 | N35: =IF(G35*M35<>0, TRUNC(G35*M35,1),"") | P35: =IF(SUM(I35,L35,N35)<>0,TRUNC(SUM(I35,L35,N35),1),"") -> 2475
A36: 52100327001 | B36: EAA110620000 | C36: 3116181120136195 | D36: NAME PLATE | E36: CARD HOLDER | F36: 개 | G36: 9 | H36: 220 | I36: =IF(G36*H36<>0, TRUNC(G36*H36,1),"") -> 1980 | J36: =G36 -> 9 | K36: 0 | L36: =IF(G36*K36<>0, TRUNC(G36*K36,1),"") | M36: =[2]합산자재!J71 -> 0 | N36: =IF(G36*M36<>0, TRUNC(G36*M36,1),"") | P36: =IF(SUM(I36,L36,N36)<>0,TRUNC(SUM(I36,L36,N36),1),"") -> 1980
A37: 59754967571 | B37: EAA110620000 | C37: 3913170520175125 | D37: DOOR HANDLE | E37: PUSH (L) | F37: 개 | G37: 1 | H37: 2343 | I37: =IF(G37*H37<>0, TRUNC(G37*H37,1),"") -> 2343 | J37: =G37 -> 1 | K37: =[2]합산자재!I40 -> 0 | L37: =IF(G37*K37<>0, TRUNC(G37*K37,1),"") | M37: =[2]합산자재!J40 -> 0 | N37: =IF(G37*M37<>0, TRUNC(G37*M37,1),"") | P37: =IF(SUM(I37,L37,N37)<>0,TRUNC(SUM(I37,L37,N37),1),"") -> 2343
A38: 59754967581 | B38: EAA110620000 | C38: 3913170520175126 | D38: E T | E38: 8 P | F38: 개 | G38: 1 | H38: 7900 | I38: =IF(G38*H38<>0, TRUNC(G38*H38,1),"") -> 7900 | J38: =G38 -> 1 | K38: =[2]합산자재!I41 -> 0 | L38: =IF(G38*K38<>0, TRUNC(G38*K38,1),"") | M38: =[2]합산자재!J41 -> 0 | N38: =IF(G38*M38<>0, TRUNC(G38*M38,1),"") | P38: =IF(SUM(I38,L38,N38)<>0,TRUNC(SUM(I38,L38,N38),1),"") -> 7900
A39: 59754967601 | B39: EAA110620000 | C39: 3913170520175128 | D39: MAIN BUS BAR | E39: 3.0 mm x 15 mm | F39: m | G39: 1.5 | H39: 14000 | I39: =IF(G39*H39<>0, TRUNC(G39*H39,1),"") -> 21000 | J39: =G39 -> 1.5 | K39: 0 | L39: =IF(G39*K39<>0, TRUNC(G39*K39,1),"") | M39: =[2]합산자재!J48 -> 0 | N39: =IF(G39*M39<>0, TRUNC(G39*M39,1),"") | P39: =IF(SUM(I39,L39,N39)<>0,TRUNC(SUM(I39,L39,N39),1),"") -> 21000
A40: 53060807001 | B40: EAA110620000 | C40: 3116210220135769 | D40: BUS BAR | E40: 3.0 mm x 15 mm | F40: m | G40: 1.8 | H40: 14000 | I40: =IF(G40*H40<>0, TRUNC(G40*H40,1),"") -> 25200 | J40: =G40 -> 1.8 | K40: =[2]합산자재!I55 -> 0 | L40: =IF(G40*K40<>0, TRUNC(G40*K40,1),"") | M40: =[2]합산자재!J55 -> 0 | N40: =IF(G40*M40<>0, TRUNC(G40*M40,1),"") | P40: =IF(SUM(I40,L40,N40)<>0,TRUNC(SUM(I40,L40,N40),1),"") -> 25200 | Z40: 노임계
A41: 53100027003 | B41: EAA110620000 | C41: 3116172710024976 | D41: INSULATION TUBE | E41: 150㎟ 이하 | F41: m | G41: 3.3 | H41: 1320 | I41: =IF(G41*H41<>0, TRUNC(G41*H41,1),"") -> 4356 | J41: =G41 -> 3.3 | K41: =[2]합산자재!I76 -> 0 | L41: =IF(G41*K41<>0, TRUNC(G41*K41,1),"") | M41: =[2]합산자재!J76 -> 0 | N41: =IF(G41*M41<>0, TRUNC(G41*M41,1),"") | P41: =IF(SUM(I41,L41,N41)<>0,TRUNC(SUM(I41,L41,N41),1),"") -> 4356
A42: 52100327001 | B42: EAA110620000 | C42: 3116181120136195 | D42: AG 도금 | F42: kg | G42: 1.32 | H42: 1980 | I42: =IF(G42*H42<>0, TRUNC(G42*H42,1),"") -> 2613.6 | J42: =G42 -> 1.32 | K42: =[2]합산자재!I77 -> 0 | L42: =IF(G42*K42<>0, TRUNC(G42*K42,1),"") | M42: =[2]합산자재!J77 -> 0 | N42: =IF(G42*M42<>0, TRUNC(G42*M42,1),"") | P42: =IF(SUM(I42,L42,N42)<>0,TRUNC(SUM(I42,L42,N42),1),"") -> 2613.6
A43: 59754967571 | B43: EAA110620000 | C43: 3913170520175125 | D43: M C (GMC-22) | E43: 4kW/220V 7.5kW/440V | F43: 대 | G43: 1 | H43: 23100 | I43: =IF(G43*H43<>0, TRUNC(G43*H43,1),"") -> 23100 | J43: =G43 -> 1 | K43: =[2]합산자재!I46 -> 0 | L43: =IF(G43*K43<>0, TRUNC(G43*K43,1),"") | M43: =[2]합산자재!J46 -> 0 | N43: =IF(G43*M43<>0, TRUNC(G43*M43,1),"") | P43: =IF(SUM(I43,L43,N43)<>0,TRUNC(SUM(I43,L43,N43),1),"") -> 23100
A44: 59754967601 | B44: EAA110620000 | C44: 3913170520175128 | D44: M C C B (표준형) | E44: 4P 600V 50AF | F44: 개 | G44: 3 | H44: 75000 | I44: =IF(G44*H44<>0, TRUNC(G44*H44,1),"") -> 225000 | J44: =G44 -> 3 | K44: =[2]합산자재!I47 -> 0 | L44: =IF(G44*K44<>0, TRUNC(G44*K44,1),"") | M44: =[2]합산자재!J53 -> 0 | N44: =IF(G44*M44<>0, TRUNC(G44*M44,1),"") | P44: =IF(SUM(I44,L44,N44)<>0,TRUNC(SUM(I44,L44,N44),1),"") -> 225000
A45: 53060807001 | B45: EAA110620000 | C45: 3116210220135769 | D45: E L C B (분전반) | E45: 110/220V 2P 30AF | F45: 개 | G45: 6 | H45: 18000 | I45: =IF(G45*H45<>0, TRUNC(G45*H45,1),"") -> 108000 | J45: =G45 -> 6 | K45: 0 | L45: =IF(G45*K45<>0, TRUNC(G45*K45,1),"") | M45: =[2]합산자재!J60 -> 0 | N45: =IF(G45*M45<>0, TRUNC(G45*M45,1),"") | P45: =IF(SUM(I45,L45,N45)<>0,TRUNC(SUM(I45,L45,N45),1),"") -> 108000 | Z45: 노임계
A46: 53100027003 | B46: EAA110620000 | C46: 3116172710024976 | D46: TIMER (정전보상용) | E46: AC110/220V 24HR | F46: 개 | G46: 1 | H46: 45020 | I46: =IF(G46*H46<>0, TRUNC(G46*H46,1),"") -> 45020 | J46: =G46 -> 1 | K46: =[2]합산자재!I49 -> 0 | L46: =IF(G46*K46<>0, TRUNC(G46*K46,1),"") | M46: =[2]합산자재!J81 -> 0 | N46: =IF(G46*M46<>0, TRUNC(G46*M46,1),"") | P46: =IF(SUM(I46,L46,N46)<>0,TRUNC(SUM(I46,L46,N46),1),"") -> 45020
A47: 52100327001 | B47: EAA110620000 | C47: 3116181120136195 | D47: LOAD WIRE | E47: KIV 6㎟ | F47: m | G47: 1.6 | H47: 1733 | I47: =IF(G47*H47<>0, TRUNC(G47*H47,1),"") -> 2772.8 | J47: =G47 -> 1.6 | K47: =[2]합산자재!I50 -> 0 | L47: =IF(G47*K47<>0, TRUNC(G47*K47,1),"") | M47: =[2]합산자재!J82 -> 0 | N47: =IF(G47*M47<>0, TRUNC(G47*M47,1),"") | P47: =IF(SUM(I47,L47,N47)<>0,TRUNC(SUM(I47,L47,N47),1),"") -> 2772.8
A48: 59754967571 | B48: EAA110620000 | C48: 3913170520175125 | D48: 단자대(TB) | E48: 3P 30A | F48: 개 | G48: 1 | H48: 1133 | I48: =IF(G48*H48<>0, TRUNC(G48*H48,1),"") -> 1133 | J48: =G48 -> 1 | K48: =[2]합산자재!I51 -> 0 | L48: =IF(G48*K48<>0, TRUNC(G48*K48,1),"") | M48: =[2]합산자재!J51 -> 0 | N48: =IF(G48*M48<>0, TRUNC(G48*M48,1),"") | P48: =IF(SUM(I48,L48,N48)<>0,TRUNC(SUM(I48,L48,N48),1),"") -> 1133
A49: 59754967581 | B49: EAA110620000 | C49: 3913170520175126 | D49: P B L S (LED) | E49: DC 110V/125V 25mm | F49: 개 | G49: 2 | H49: 5250 | I49: =IF(G49*H49<>0, TRUNC(G49*H49,1),"") -> 10500 | J49: =G49 -> 2 | K49: 0 | L49: =IF(G49*K49<>0, TRUNC(G49*K49,1),"") | M49: =[2]합산자재!J52 -> 0 | N49: =IF(G49*M49<>0, TRUNC(G49*M49,1),"") | P49: =IF(SUM(I49,L49,N49)<>0,TRUNC(SUM(I49,L49,N49),1),"") -> 10500
A50: 59754967601 | B50: EAA110620000 | C50: 3913170520175128 | D50: SELECTOR S/W | E50: 300V 6A 2a 2b | F50: 개 | G50: 1 | H50: 2365 | I50: =IF(G50*H50<>0, TRUNC(G50*H50,1),"") -> 2365 | J50: =G50 -> 1 | K50: 0 | L50: =IF(G50*K50<>0, TRUNC(G50*K50,1),"") | M50: =[2]합산자재!J59 -> 0 | N50: =IF(G50*M50<>0, TRUNC(G50*M50,1),"") | P50: =IF(SUM(I50,L50,N50)<>0,TRUNC(SUM(I50,L50,N50),1),"") -> 2365
A51: 53060807001 | B51: EAA110620000 | C51: 3116210220135769 | D51: DIAZED FUSE | E51: 25A 이하 W/HOLDER | F51: 개 | G51: 1 | H51: 4400 | I51: =IF(G51*H51<>0, TRUNC(G51*H51,1),"") -> 4400 | J51: =G51 -> 1 | K51: =[2]합산자재!I66 -> 0 | L51: =IF(G51*K51<>0, TRUNC(G51*K51,1),"") | M51: =[2]합산자재!J66 -> 0 | N51: =IF(G51*M51<>0, TRUNC(G51*M51,1),"") | P51: =IF(SUM(I51,L51,N51)<>0,TRUNC(SUM(I51,L51,N51),1),"") -> 4400 | Z51: 노임계
A52: 53100027003 | B52: EAA110620000 | C52: 3116172710024976 | D52: 이면배선 | E52: KIV 2.5㎟ | F52: m | G52: 5.8 | H52: 757 | I52: =IF(G52*H52<>0, TRUNC(G52*H52,1),"") -> 4390.6 | J52: =G52 -> 5.8 | K52: =[2]합산자재!I87 -> 0 | L52: =IF(G52*K52<>0, TRUNC(G52*K52,1),"") | M52: =[2]합산자재!J87 -> 0 | N52: =IF(G52*M52<>0, TRUNC(G52*M52,1),"") | P52: =IF(SUM(I52,L52,N52)<>0,TRUNC(SUM(I52,L52,N52),1),"") -> 4390.6
A53: 56900017016 | B53: EAA110620000 | C53: L001010101000075 | D53: 노 무 비 | E53: 전기기계조립원 | F53: 인 | G53: ='일위노임 (2)'!G34 -> 0.754 | H53: =[2]합산자재!H111 -> 0 | I53: =IF(G53*H53<>0, TRUNC(G53*H53,1),"") | J53: =G53 -> 0.754 | K53: 122522 | L53: =IF(G53*K53<>0, TRUNC(G53*K53,1),"") -> 92381.5 | M53: =[2]합산자재!J111 -> 0 | N53: =IF(G53*M53<>0, TRUNC(G53*M53,1),"") | P53: =IF(SUM(I53,L53,N53)<>0,TRUNC(SUM(I53,L53,N53),1),"") -> 92381.5 | AE53: =L53 -> 92381.5
A54: 56900017016 | B54: EAA110620000 | C54: L001010101000075 | D54: 노 무 비 | E54: 전선원 | F54: 인 | G54: ='일위노임 (2)'!G35 -> 1.952 | H54: =[2]합산자재!H112 -> 0 | I54: =IF(G54*H54<>0, TRUNC(G54*H54,1),"") | J54: =G54 -> 1.952 | K54: 99248 | L54: =IF(G54*K54<>0, TRUNC(G54*K54,1),"") -> 193732 | M54: =[2]합산자재!J112 -> 0 | N54: =IF(G54*M54<>0, TRUNC(G54*M54,1),"") | P54: =IF(SUM(I54,L54,N54)<>0,TRUNC(SUM(I54,L54,N54),1),"") -> 193732 | AE54: =L54 -> 193732
A55: 56900017016 | B55: EAA110620000 | C55: L001010101000075 | D55: 노 무 비 | E55: 부품조립원 | F55: 인 | G55: =J55 -> 0 | H55: =[2]합산자재!H113 -> 0 | I55: =IF(G55*H55<>0, TRUNC(G55*H55,1),"") | J55: 0 | K55: 105323 | L55: =IF(G55*K55<>0, TRUNC(G55*K55,1),"") | M55: =[2]합산자재!J113 -> 0 | N55: =IF(G55*M55<>0, TRUNC(G55*M55,1),"") | P55: =IF(SUM(I55,L55,N55)<>0,TRUNC(SUM(I55,L55,N55),1),"") | AE55: =L55
A56: 56900017016 | B56: EAA110620000 | C56: L001010101000075 | D56: 노 무 비 | E56: 단순노무종사원 | F56: 인 | G56: ='일위노임 (2)'!G36 -> 0.198 | H56: =[2]합산자재!H114 -> 0 | I56: =IF(G56*H56<>0, TRUNC(G56*H56,1),"") | J56: =G56 -> 0.198 | K56: 90694 | L56: =IF(G56*K56<>0, TRUNC(G56*K56,1),"") -> 17957.4 | M56: =[2]합산자재!J114 -> 0 | N56: =IF(G56*M56<>0, TRUNC(G56*M56,1),"") | P56: =IF(SUM(I56,L56,N56)<>0,TRUNC(SUM(I56,L56,N56),1),"") -> 17957.4 | AE56: =L56 -> 17957.4
B57: 합계줄 | D57: ( 합 계 ) | I57: =TRUNC(SUM(I32:I56)) -> 917751 | L57: =TRUNC(SUM(L32:L56)) -> 304070 | N57: =TRUNC(SUM(N32:N56)) -> 0 | P57: =IF(SUM(I57,L57,N57)<>0,TRUNC(SUM(I57,L57,N57),1),"") -> 1221821 | AC57: =TRUNC(AE57*[2]옵션!$B$36/100,1) -> 9122.1 | AD57: =TRUNC(SUM(L32:L53)) -> 92381 | AE57: =TRUNC(SUM(AE32:AE56)) -> 304070
B58: 일목줄
A59: 56950170112 | B59: 일목줄 | C59: EAA110620000 | D59: [일대4] 소방MCC조작반 700W*1600H*200D [면]
A60: 59754967601 | B60: EAA110620000 | C60: 3913170520175128 | D60: 외함(MCC반) | E60: 700Wx1600Hx200D | F60: 면 | G60: 1 | H60: 1383725 | I60: =IF(G60*H60<>0, TRUNC(G60*H60,1),"") -> 1383725 | J60: =G60 -> 1 | K60: =[2]합산자재!I30 -> 0 | L60: =IF(G60*K60<>0, TRUNC(G60*K60,1),"") | M60: =[2]합산자재!J30 -> 0 | N60: =IF(G60*M60<>0, TRUNC(G60*M60,1),"") | P60: =IF(SUM(I60,L60,N60)<>0,TRUNC(SUM(I60,L60,N60),1),"") -> 1383725
A61: 53060807001 | B61: EAA110620000 | C61: 3116210220135769 | D61: DOOR HANDLE | E61: W/KEY (L) | F61: 개 | G61: 1 | H61: 246048 | I61: =IF(G61*H61<>0, TRUNC(G61*H61,1),"") -> 246048 | J61: =G61 -> 1 | K61: =[2]합산자재!I37 -> 0 | L61: =IF(G61*K61<>0, TRUNC(G61*K61,1),"") | M61: =[2]합산자재!J37 -> 0 | N61: =IF(G61*M61<>0, TRUNC(G61*M61,1),"") | P61: =IF(SUM(I61,L61,N61)<>0,TRUNC(SUM(I61,L61,N61),1),"") -> 246048 | Z61: 노임계
A62: 53100027003 | B62: EAA110620000 | C62: 3116172710024976 | D62: NAME PLATE | E62: 아크릴(L) | F62: 개 | G62: 2 | H62: 2475 | I62: =IF(G62*H62<>0, TRUNC(G62*H62,1),"") -> 4950 | J62: =G62 -> 2 | K62: =[2]합산자재!I58 -> 0 | L62: =IF(G62*K62<>0, TRUNC(G62*K62,1),"") | M62: =[2]합산자재!J58 -> 0 | N62: =IF(G62*M62<>0, TRUNC(G62*M62,1),"") | P62: =IF(SUM(I62,L62,N62)<>0,TRUNC(SUM(I62,L62,N62),1),"") -> 4950
A63: 52100327001 | B63: EAA110620000 | C63: 3116181120136195 | D63: PVC DUCT | E63: 30x40x2m W/COVER | F63: 개 | G63: 3 | H63: 220 | I63: =IF(G63*H63<>0, TRUNC(G63*H63,1),"") -> 660 | J63: =G63 -> 3 | K63: 0 | L63: =IF(G63*K63<>0, TRUNC(G63*K63,1),"") | M63: =[2]합산자재!J59 -> 0 | N63: =IF(G63*M63<>0, TRUNC(G63*M63,1),"") | P63: =IF(SUM(I63,L63,N63)<>0,TRUNC(SUM(I63,L63,N63),1),"") -> 660
A64: 59754967571 | B64: EAA110620000 | C64: 3913170520175125 | D64: EARTH BAR | E64: 6.0 mm x 25 mm | F64: m | G64: 0.7 | H64: 2343 | I64: =IF(G64*H64<>0, TRUNC(G64*H64,1),"") -> 1640.1 | J64: =G64 -> 0.7 | K64: =[2]합산자재!I28 -> 0 | L64: =IF(G64*K64<>0, TRUNC(G64*K64,1),"") | M64: =[2]합산자재!J28 -> 0 | N64: =IF(G64*M64<>0, TRUNC(G64*M64,1),"") | P64: =IF(SUM(I64,L64,N64)<>0,TRUNC(SUM(I64,L64,N64),1),"") -> 1640.1
A65: 59754967581 | B65: EAA110620000 | C65: 3913170520175126 | D65: 이면배선 | E65: KIV 2.5㎟ | F65: m | G65: 13 | H65: 7900 | I65: =IF(G65*H65<>0, TRUNC(G65*H65,1),"") -> 102700 | J65: =G65 -> 13 | K65: =[2]합산자재!I29 -> 0 | L65: =IF(G65*K65<>0, TRUNC(G65*K65,1),"") | M65: =[2]합산자재!J29 -> 0 | N65: =IF(G65*M65<>0, TRUNC(G65*M65,1),"") | P65: =IF(SUM(I65,L65,N65)<>0,TRUNC(SUM(I65,L65,N65),1),"") -> 102700
A66: 59754967601 | B66: EAA110620000 | C66: 3913170520175128 | D66: 디지털 파워미터 | F66: 대 | G66: 1 | H66: 14000 | I66: =IF(G66*H66<>0, TRUNC(G66*H66,1),"") -> 14000 | J66: =G66 -> 1 | K66: 0 | L66: =IF(G66*K66<>0, TRUNC(G66*K66,1),"") | M66: =[2]합산자재!J36 -> 0 | N66: =IF(G66*M66<>0, TRUNC(G66*M66,1),"") | P66: =IF(SUM(I66,L66,N66)<>0,TRUNC(SUM(I66,L66,N66),1),"") -> 14000
A67: 53060807001 | B67: EAA110620000 | C67: 3116210220135769 | D67: M C C B (표준형) | E67: 4P 600V 100AF | F67: 개 | G67: 1 | H67: 14000 | I67: =IF(G67*H67<>0, TRUNC(G67*H67,1),"") -> 14000 | J67: =G67 -> 1 | K67: =[2]합산자재!I43 -> 0 | L67: =IF(G67*K67<>0, TRUNC(G67*K67,1),"") | M67: =[2]합산자재!J43 -> 0 | N67: =IF(G67*M67<>0, TRUNC(G67*M67,1),"") | P67: =IF(SUM(I67,L67,N67)<>0,TRUNC(SUM(I67,L67,N67),1),"") -> 14000 | Z67: 노임계
A68: 53100027003 | B68: EAA110620000 | C68: 3116172710024976 | D68: E L C B (분전반) | E68: 110/220V 2P 30AF | F68: 개 | G68: 1 | H68: 1320 | I68: =IF(G68*H68<>0, TRUNC(G68*H68,1),"") -> 1320 | J68: =G68 -> 1 | K68: =[2]합산자재!I64 -> 0 | L68: =IF(G68*K68<>0, TRUNC(G68*K68,1),"") | M68: =[2]합산자재!J64 -> 0 | N68: =IF(G68*M68<>0, TRUNC(G68*M68,1),"") | P68: =IF(SUM(I68,L68,N68)<>0,TRUNC(SUM(I68,L68,N68),1),"") -> 1320
A69: 52100327001 | B69: EAA110620000 | C69: 3116181120136195 | D69: C T 1150V 권선형 | E69: 300/5A 40VA 1.0 40In | F69: 개 | G69: 3 | H69: 1980 | I69: =IF(G69*H69<>0, TRUNC(G69*H69,1),"") -> 5940 | J69: =G69 -> 3 | K69: =[2]합산자재!I65 -> 0 | L69: =IF(G69*K69<>0, TRUNC(G69*K69,1),"") | M69: =[2]합산자재!J65 -> 0 | N69: =IF(G69*M69<>0, TRUNC(G69*M69,1),"") | P69: =IF(SUM(I69,L69,N69)<>0,TRUNC(SUM(I69,L69,N69),1),"") -> 5940
A70: 59754967571 | B70: EAA110620000 | C70: 3913170520175125 | D70: M C C B (표준형) | E70: 3P 600V 50AF | F70: 개 | G70: 2 | H70: 23100 | I70: =IF(G70*H70<>0, TRUNC(G70*H70,1),"") -> 46200 | J70: =G70 -> 2 | K70: =[2]합산자재!I34 -> 0 | L70: =IF(G70*K70<>0, TRUNC(G70*K70,1),"") | M70: =[2]합산자재!J34 -> 0 | N70: =IF(G70*M70<>0, TRUNC(G70*M70,1),"") | P70: =IF(SUM(I70,L70,N70)<>0,TRUNC(SUM(I70,L70,N70),1),"") -> 46200
A71: 59754967601 | B71: EAA110620000 | C71: 3913170520175128 | D71: M C (GMC-9) | E71: 2.2kW/220V 2.7kW/440V | F71: 대 | G71: 2 | H71: 75000 | I71: =IF(G71*H71<>0, TRUNC(G71*H71,1),"") -> 150000 | J71: =G71 -> 2 | K71: =[2]합산자재!I35 -> 0 | L71: =IF(G71*K71<>0, TRUNC(G71*K71,1),"") | M71: =[2]합산자재!J41 -> 0 | N71: =IF(G71*M71<>0, TRUNC(G71*M71,1),"") | P71: =IF(SUM(I71,L71,N71)<>0,TRUNC(SUM(I71,L71,N71),1),"") -> 150000
A72: 53060807001 | B72: EAA110620000 | C72: 3116210220135769 | D72: E O C R | F72: 개 | G72: 2 | H72: 18000 | I72: =IF(G72*H72<>0, TRUNC(G72*H72,1),"") -> 36000 | J72: =G72 -> 2 | K72: 0 | L72: =IF(G72*K72<>0, TRUNC(G72*K72,1),"") | M72: =[2]합산자재!J48 -> 0 | N72: =IF(G72*M72<>0, TRUNC(G72*M72,1),"") | P72: =IF(SUM(I72,L72,N72)<>0,TRUNC(SUM(I72,L72,N72),1),"") -> 36000 | Z72: 노임계
A73: 53100027003 | B73: EAA110620000 | C73: 3116172710024976 | D73: ZCT | F73: 개 | G73: 2 | H73: 45020 | I73: =IF(G73*H73<>0, TRUNC(G73*H73,1),"") -> 90040 | J73: =G73 -> 2 | K73: =[2]합산자재!I37 -> 0 | L73: =IF(G73*K73<>0, TRUNC(G73*K73,1),"") | M73: =[2]합산자재!J69 -> 0 | N73: =IF(G73*M73<>0, TRUNC(G73*M73,1),"") | P73: =IF(SUM(I73,L73,N73)<>0,TRUNC(SUM(I73,L73,N73),1),"") -> 90040
A74: 52100327001 | B74: EAA110620000 | C74: 3116181120136195 | D74: CONDENSER | E74: (380/440V) 3P 15UF | F74: 개 | G74: 2 | H74: 1733 | I74: =IF(G74*H74<>0, TRUNC(G74*H74,1),"") -> 3466 | J74: =G74 -> 2 | K74: =[2]합산자재!I38 -> 0 | L74: =IF(G74*K74<>0, TRUNC(G74*K74,1),"") | M74: =[2]합산자재!J70 -> 0 | N74: =IF(G74*M74<>0, TRUNC(G74*M74,1),"") | P74: =IF(SUM(I74,L74,N74)<>0,TRUNC(SUM(I74,L74,N74),1),"") -> 3466
A75: 59754967571 | B75: EAA110620000 | C75: 3913170520175125 | D75: LOAD TB | E75: 3P 60A | F75: 개 | G75: 2 | H75: 1133 | I75: =IF(G75*H75<>0, TRUNC(G75*H75,1),"") -> 2266 | J75: =G75 -> 2 | K75: =[2]합산자재!I39 -> 0 | L75: =IF(G75*K75<>0, TRUNC(G75*K75,1),"") | M75: =[2]합산자재!J39 -> 0 | N75: =IF(G75*M75<>0, TRUNC(G75*M75,1),"") | P75: =IF(SUM(I75,L75,N75)<>0,TRUNC(SUM(I75,L75,N75),1),"") -> 2266
A76: 59754967581 | B76: EAA110620000 | C76: 3913170520175126 | D76: LOAD WIRE | E76: KIV 4㎟ | F76: m | G76: 7 | H76: 5250 | I76: =IF(G76*H76<>0, TRUNC(G76*H76,1),"") -> 36750 | J76: =G76 -> 7 | K76: 0 | L76: =IF(G76*K76<>0, TRUNC(G76*K76,1),"") | M76: =[2]합산자재!J40 -> 0 | N76: =IF(G76*M76<>0, TRUNC(G76*M76,1),"") | P76: =IF(SUM(I76,L76,N76)<>0,TRUNC(SUM(I76,L76,N76),1),"") -> 36750
A77: 59754967601 | B77: EAA110620000 | C77: 3913170520175128 | D77: DIAZED FUSE | E77: 25A 이하 W/HOLDER | F77: 개 | G77: 2 | H77: 2365 | I77: =IF(G77*H77<>0, TRUNC(G77*H77,1),"") -> 4730 | J77: =G77 -> 2 | K77: 0 | L77: =IF(G77*K77<>0, TRUNC(G77*K77,1),"") | M77: =[2]합산자재!J47 -> 0 | N77: =IF(G77*M77<>0, TRUNC(G77*M77,1),"") | P77: =IF(SUM(I77,L77,N77)<>0,TRUNC(SUM(I77,L77,N77),1),"") -> 4730
A78: 53060807001 | B78: EAA110620000 | C78: 3116210220135769 | D78: A U X - R | E78: AC 2a2b | F78: 개 | G78: 2 | H78: 4400 | I78: =IF(G78*H78<>0, TRUNC(G78*H78,1),"") -> 8800 | J78: =G78 -> 2 | K78: =[2]합산자재!I54 -> 0 | L78: =IF(G78*K78<>0, TRUNC(G78*K78,1),"") | M78: =[2]합산자재!J54 -> 0 | N78: =IF(G78*M78<>0, TRUNC(G78*M78,1),"") | P78: =IF(SUM(I78,L78,N78)<>0,TRUNC(SUM(I78,L78,N78),1),"") -> 8800 | Z78: 노임계
A79: 53100027003 | B79: EAA110620000 | C79: 3116172710024976 | D79: 이면배선 | E79: KIV 2.5㎟ | F79: m | G79: 30 | H79: 757 | I79: =IF(G79*H79<>0, TRUNC(G79*H79,1),"") -> 22710 | J79: =G79 -> 30 | K79: =[2]합산자재!I75 -> 0 | L79: =IF(G79*K79<>0, TRUNC(G79*K79,1),"") | M79: =[2]합산자재!J75 -> 0 | N79: =IF(G79*M79<>0, TRUNC(G79*M79,1),"") | P79: =IF(SUM(I79,L79,N79)<>0,TRUNC(SUM(I79,L79,N79),1),"") -> 22710
A80: 59754967601 | B80: EAA110620000 | C80: 3913170520175128 | D80: 단자대(TB) | E80: 4P 30A | F80: 개 | G80: 4 | H80: 177154 | I80: =IF(G80*H80<>0, TRUNC(G80*H80,1),"") -> 708616 | J80: =G80 -> 4 | K80: =[2]합산자재!I50 -> 0 | L80: =IF(G80*K80<>0, TRUNC(G80*K80,1),"") | M80: =[2]합산자재!J50 -> 0 | N80: =IF(G80*M80<>0, TRUNC(G80*M80,1),"") | P80: =IF(SUM(I80,L80,N80)<>0,TRUNC(SUM(I80,L80,N80),1),"") -> 708616
A81: 53060807001 | B81: EAA110620000 | C81: 3116210220135769 | D81: P L (LED) | E81: DC 110/125V 30mm | F81: 개 | G81: 2 | H81: 246048 | I81: =IF(G81*H81<>0, TRUNC(G81*H81,1),"") -> 492096 | J81: =G81 -> 2 | K81: =[2]합산자재!I57 -> 0 | L81: =IF(G81*K81<>0, TRUNC(G81*K81,1),"") | M81: =[2]합산자재!J57 -> 0 | N81: =IF(G81*M81<>0, TRUNC(G81*M81,1),"") | P81: =IF(SUM(I81,L81,N81)<>0,TRUNC(SUM(I81,L81,N81),1),"") -> 492096 | Z81: 노임계
A82: 53100027003 | B82: EAA110620000 | C82: 3116172710024976 | D82: P B L S (LED) | E82: DC 110V/125V 25mm | F82: 개 | G82: 4 | H82: 2475 | I82: =IF(G82*H82<>0, TRUNC(G82*H82,1),"") -> 9900 | J82: =G82 -> 4 | K82: =[2]합산자재!I78 -> 0 | L82: =IF(G82*K82<>0, TRUNC(G82*K82,1),"") | M82: =[2]합산자재!J78 -> 0 | N82: =IF(G82*M82<>0, TRUNC(G82*M82,1),"") | P82: =IF(SUM(I82,L82,N82)<>0,TRUNC(SUM(I82,L82,N82),1),"") -> 9900
A83: 52100327001 | B83: EAA110620000 | C83: 3116181120136195 | D83: SELECTOR S/W | E83: 300V 6A 1a 1b | F83: 개 | G83: 2 | H83: 220 | I83: =IF(G83*H83<>0, TRUNC(G83*H83,1),"") -> 440 | J83: =G83 -> 2 | K83: 0 | L83: =IF(G83*K83<>0, TRUNC(G83*K83,1),"") | M83: =[2]합산자재!J79 -> 0 | N83: =IF(G83*M83<>0, TRUNC(G83*M83,1),"") | P83: =IF(SUM(I83,L83,N83)<>0,TRUNC(SUM(I83,L83,N83),1),"") -> 440
A84: 59754967571 | B84: EAA110620000 | C84: 3913170520175125 | D84: NAME PLATE | E84: 아크릴(S) | F84: 개 | G84: 2 | H84: 2343 | I84: =IF(G84*H84<>0, TRUNC(G84*H84,1),"") -> 4686 | J84: =G84 -> 2 | K84: 0 | L84: =IF(G84*K84<>0, TRUNC(G84*K84,1),"") | M84: =[2]합산자재!J48 -> 0 | N84: =IF(G84*M84<>0, TRUNC(G84*M84,1),"") | P84: =IF(SUM(I84,L84,N84)<>0,TRUNC(SUM(I84,L84,N84),1),"") -> 4686
A85: 59754967581 | B85: EAA110620000 | C85: 3913170520175126 | D85: 압착터미날 | E85: 4㎟ | F85: 개 | G85: 30 | H85: 7900 | I85: =IF(G85*H85<>0, TRUNC(G85*H85,1),"") -> 237000 | J85: =G85 -> 30 | K85: =[2]합산자재!I49 -> 0 | L85: =IF(G85*K85<>0, TRUNC(G85*K85,1),"") | M85: =[2]합산자재!J49 -> 0 | N85: =IF(G85*M85<>0, TRUNC(G85*M85,1),"") | P85: =IF(SUM(I85,L85,N85)<>0,TRUNC(SUM(I85,L85,N85),1),"") -> 237000
A86: 59754967601 | B86: EAA110620000 | C86: 3913170520175128 | D86: FLOAT S/W | E86: AC 220V 4P ALARM | F86: 개 | G86: 2 | H86: 14000 | I86: =IF(G86*H86<>0, TRUNC(G86*H86,1),"") -> 28000 | J86: =G86 -> 2 | K86: 0 | L86: =IF(G86*K86<>0, TRUNC(G86*K86,1),"") | M86: =[2]합산자재!J56 -> 0 | N86: =IF(G86*M86<>0, TRUNC(G86*M86,1),"") | P86: =IF(SUM(I86,L86,N86)<>0,TRUNC(SUM(I86,L86,N86),1),"") -> 28000
A87: 53060807001 | B87: EAA110620000 | C87: 3116210220135769 | D87: M C C B (표준형) | E87: 3P 600V 50AF | F87: 개 | G87: 2 | H87: 14000 | I87: =IF(G87*H87<>0, TRUNC(G87*H87,1),"") -> 28000 | J87: =G87 -> 2 | K87: =[2]합산자재!I63 -> 0 | L87: =IF(G87*K87<>0, TRUNC(G87*K87,1),"") | M87: =[2]합산자재!J63 -> 0 | N87: =IF(G87*M87<>0, TRUNC(G87*M87,1),"") | P87: =IF(SUM(I87,L87,N87)<>0,TRUNC(SUM(I87,L87,N87),1),"") -> 28000 | Z87: 노임계
A88: 53100027003 | B88: EAA110620000 | C88: 3116172710024976 | D88: M C (GMC-12) | E88: 2.7kW/220V 4kW/440V | F88: 대 | G88: 2 | H88: 1320 | I88: =IF(G88*H88<>0, TRUNC(G88*H88,1),"") -> 2640 | J88: =G88 -> 2 | K88: =[2]합산자재!I84 -> 0 | L88: =IF(G88*K88<>0, TRUNC(G88*K88,1),"") | M88: =[2]합산자재!J84 -> 0 | N88: =IF(G88*M88<>0, TRUNC(G88*M88,1),"") | P88: =IF(SUM(I88,L88,N88)<>0,TRUNC(SUM(I88,L88,N88),1),"") -> 2640
A89: 52100327001 | B89: EAA110620000 | C89: 3116181120136195 | D89: E O C R | F89: 개 | G89: 2 | H89: 1980 | I89: =IF(G89*H89<>0, TRUNC(G89*H89,1),"") -> 3960 | J89: =G89 -> 2 | K89: =[2]합산자재!I85 -> 0 | L89: =IF(G89*K89<>0, TRUNC(G89*K89,1),"") | M89: =[2]합산자재!J85 -> 0 | N89: =IF(G89*M89<>0, TRUNC(G89*M89,1),"") | P89: =IF(SUM(I89,L89,N89)<>0,TRUNC(SUM(I89,L89,N89),1),"") -> 3960
A90: 59754967571 | B90: EAA110620000 | C90: 3913170520175125 | D90: ZCT | F90: 개 | G90: 2 | H90: 23100 | I90: =IF(G90*H90<>0, TRUNC(G90*H90,1),"") -> 46200 | J90: =G90 -> 2 | K90: =[2]합산자재!I54 -> 0 | L90: =IF(G90*K90<>0, TRUNC(G90*K90,1),"") | M90: =[2]합산자재!J54 -> 0 | N90: =IF(G90*M90<>0, TRUNC(G90*M90,1),"") | P90: =IF(SUM(I90,L90,N90)<>0,TRUNC(SUM(I90,L90,N90),1),"") -> 46200
A91: 59754967601 | B91: EAA110620000 | C91: 3913170520175128 | D91: CONDENSER | E91: (380/440V) 3P 20UF | F91: 개 | G91: 2 | H91: 75000 | I91: =IF(G91*H91<>0, TRUNC(G91*H91,1),"") -> 150000 | J91: =G91 -> 2 | K91: =[2]합산자재!I55 -> 0 | L91: =IF(G91*K91<>0, TRUNC(G91*K91,1),"") | M91: =[2]합산자재!J61 -> 0 | N91: =IF(G91*M91<>0, TRUNC(G91*M91,1),"") | P91: =IF(SUM(I91,L91,N91)<>0,TRUNC(SUM(I91,L91,N91),1),"") -> 150000
A92: 53060807001 | B92: EAA110620000 | C92: 3116210220135769 | D92: LOAD TB | E92: 3P 60A | F92: 개 | G92: 2 | H92: 18000 | I92: =IF(G92*H92<>0, TRUNC(G92*H92,1),"") -> 36000 | J92: =G92 -> 2 | K92: 0 | L92: =IF(G92*K92<>0, TRUNC(G92*K92,1),"") | M92: =[2]합산자재!J68 -> 0 | N92: =IF(G92*M92<>0, TRUNC(G92*M92,1),"") | P92: =IF(SUM(I92,L92,N92)<>0,TRUNC(SUM(I92,L92,N92),1),"") -> 36000 | Z92: 노임계
A93: 53100027003 | B93: EAA110620000 | C93: 3116172710024976 | D93: LOAD WIRE | E93: KIV 4㎟ | F93: m | G93: 7 | H93: 45020 | I93: =IF(G93*H93<>0, TRUNC(G93*H93,1),"") -> 315140 | J93: =G93 -> 7 | K93: =[2]합산자재!I57 -> 0 | L93: =IF(G93*K93<>0, TRUNC(G93*K93,1),"") | M93: =[2]합산자재!J89 -> 0 | N93: =IF(G93*M93<>0, TRUNC(G93*M93,1),"") | P93: =IF(SUM(I93,L93,N93)<>0,TRUNC(SUM(I93,L93,N93),1),"") -> 315140
A94: 52100327001 | B94: EAA110620000 | C94: 3116181120136195 | D94: DIAZED FUSE | E94: 25A 이하 W/HOLDER | F94: 개 | G94: 2 | H94: 1733 | I94: =IF(G94*H94<>0, TRUNC(G94*H94,1),"") -> 3466 | J94: =G94 -> 2 | K94: =[2]합산자재!I58 -> 0 | L94: =IF(G94*K94<>0, TRUNC(G94*K94,1),"") | M94: =[2]합산자재!J90 -> 0 | N94: =IF(G94*M94<>0, TRUNC(G94*M94,1),"") | P94: =IF(SUM(I94,L94,N94)<>0,TRUNC(SUM(I94,L94,N94),1),"") -> 3466
A95: 59754967571 | B95: EAA110620000 | C95: 3913170520175125 | D95: A U X - R | E95: AC 2a2b | F95: 개 | G95: 2 | H95: 1133 | I95: =IF(G95*H95<>0, TRUNC(G95*H95,1),"") -> 2266 | J95: =G95 -> 2 | K95: =[2]합산자재!I59 -> 0 | L95: =IF(G95*K95<>0, TRUNC(G95*K95,1),"") | M95: =[2]합산자재!J59 -> 0 | N95: =IF(G95*M95<>0, TRUNC(G95*M95,1),"") | P95: =IF(SUM(I95,L95,N95)<>0,TRUNC(SUM(I95,L95,N95),1),"") -> 2266
A96: 59754967581 | B96: EAA110620000 | C96: 3913170520175126 | D96: 이면배선 | E96: KIV 2.5㎟ | F96: m | G96: 30 | H96: 5250 | I96: =IF(G96*H96<>0, TRUNC(G96*H96,1),"") -> 157500 | J96: =G96 -> 30 | K96: 0 | L96: =IF(G96*K96<>0, TRUNC(G96*K96,1),"") | M96: =[2]합산자재!J60 -> 0 | N96: =IF(G96*M96<>0, TRUNC(G96*M96,1),"") | P96: =IF(SUM(I96,L96,N96)<>0,TRUNC(SUM(I96,L96,N96),1),"") -> 157500
A97: 59754967601 | B97: EAA110620000 | C97: 3913170520175128 | D97: 단자대(TB) | E97: 4P 30A | F97: 개 | G97: 4 | H97: 2365 | I97: =IF(G97*H97<>0, TRUNC(G97*H97,1),"") -> 9460 | J97: =G97 -> 4 | K97: 0 | L97: =IF(G97*K97<>0, TRUNC(G97*K97,1),"") | M97: =[2]합산자재!J67 -> 0 | N97: =IF(G97*M97<>0, TRUNC(G97*M97,1),"") | P97: =IF(SUM(I97,L97,N97)<>0,TRUNC(SUM(I97,L97,N97),1),"") -> 9460
A98: 53060807001 | B98: EAA110620000 | C98: 3116210220135769 | D98: P L (LED) | E98: DC 110/125V 30mm | F98: 개 | G98: 2 | H98: 4400 | I98: =IF(G98*H98<>0, TRUNC(G98*H98,1),"") -> 8800 | J98: =G98 -> 2 | K98: =[2]합산자재!I74 -> 0 | L98: =IF(G98*K98<>0, TRUNC(G98*K98,1),"") | M98: =[2]합산자재!J74 -> 0 | N98: =IF(G98*M98<>0, TRUNC(G98*M98,1),"") | P98: =IF(SUM(I98,L98,N98)<>0,TRUNC(SUM(I98,L98,N98),1),"") -> 8800 | Z98: 노임계
A99: 53100027003 | B99: EAA110620000 | C99: 3116172710024976 | D99: P B L S (LED) | E99: DC 110V/125V 25mm | F99: 개 | G99: 4 | H99: 757 | I99: =IF(G99*H99<>0, TRUNC(G99*H99,1),"") -> 3028 | J99: =G99 -> 4 | K99: =[2]합산자재!I95 -> 0 | L99: =IF(G99*K99<>0, TRUNC(G99*K99,1),"") | M99: =[2]합산자재!J95 -> 0 | N99: =IF(G99*M99<>0, TRUNC(G99*M99,1),"") | P99: =IF(SUM(I99,L99,N99)<>0,TRUNC(SUM(I99,L99,N99),1),"") -> 3028
A100: 59754967601 | B100: EAA110620000 | C100: 3913170520175128 | D100: SELECTOR S/W | E100: 300V 6A 1a 1b | F100: 개 | G100: 2 | H100: 177154 | I100: =IF(G100*H100<>0, TRUNC(G100*H100,1),"") -> 354308 | J100: =G100 -> 2 | K100: =[2]합산자재!I70 -> 0 | L100: =IF(G100*K100<>0, TRUNC(G100*K100,1),"") | M100: =[2]합산자재!J70 -> 0 | N100: =IF(G100*M100<>0, TRUNC(G100*M100,1),"") | P100: =IF(SUM(I100,L100,N100)<>0,TRUNC(SUM(I100,L100,N100),1),"") -> 354308
...

Sheet 일위노임 (2)
A1: 총줄수-> | B1: 29 | D1: [ 노후전기설비정비 전기공사 ] - 일위노임 산출근거(2026년 상반기 노임) | AA1: 내선전공
A2: 번호 | B2: 공종코드 | C2: 코드 | D2: 명 칭 | E2: 규 격 | F2: 단위 | G2: 수량 | K2: 코드 | L2: 공량산출 | P2: 단 위 단 가 산 출 | S2: 품셈근거 | T2: 비고
G3: 결정수량 | H3: 할증 | I3: 산출수량 | J3: 재할% | L3: 명칭 | M3: 품셈 | N3: 할증% | O3: 공량 | P3: 단가 | Q3: 단위단가 | R3: 단위계
B4: 공종줄 | D4: EPS SUPPORT W150-1단 [식]
B5: 800 | C5: 3116210220135769 | D5: 스트롱앵커 | E5: 3/8 | F5: 개 | G5: 2 | H5: =IF(I5<>0,G5-I5,"") -> 0 | I5: 2 | K5: 56900017016 | L5: 내선전공 | M5: 0.036 | N5: 150 | O5: =IF(I5*M5=0,"",I5*M5*(N5/100)) -> 0.108 | S5: 전기5-29 | AA5: =O5 -> 0.108
B6: 800 | C6: L001010101000075 | D6: 노 무 비 | E6: 내선전공 | F6: 인 | G6: =IF(H6*I6/100 <1, TRUNC(H6*I6/100, [2]옵션!$E$13), TRUNC(H6*I6/100, [2]옵션!$E$13)) -> 0.108 | H6: =[2]옵션!$B$13 -> 100 | I6: =SUM(AA5:AA5) -> 0.108 | O6: =IF(I6*M6=0,"",I6*M6*(N6/100)) | AA6: =SUM(AA5:AA5) -> 0.108
D8: 분전반27 700W*1100H [면]
D9: MAIN BUS BAR | E9: 3.0 mm x 15 mm | F9: m | G9: =I9 -> 2.2 | I9: ='일위대가 (2)'!G20 -> 2.2 | L9: 전기기계조립원 | M9: 0.08 | N9: 100 | O9: =M9*G9 -> 0.176 | S9: 전기3-21
L10: 단순노무종사원 | M10: 0.06 | N10: 100 | O10: =M10*G9 -> 0.132 | S10: 전기3-21
D11: BUS BAR | E11: 3.0 mm x 15 mm | F11: m | G11: =I11 -> 2.88 | I11: ='일위대가 (2)'!G21 -> 2.88 | L11: 전기기계조립원 | M11: 0.08 | N11: 100 | O11: =M11*G11 -> 0.2304 | S11: 전기3-21
L12: 단순노무종사원 | M12: 0.06 | N12: 100 | O12: =M12*G11 -> 0.1728 | S12: 전기3-21
D13: INSULATION TUBE | E13: 150㎟ 이하 | F13: m | G13: =I13 -> 5.08 | I13: ='일위대가 (2)'!G22 -> 5.08 | L13: 전기기계조립원 | M13: 0.02 | N13: 100 | O13: =M13*G13 -> 0.1016 | S13: 전기3-23-1
D14: M C C B (표준형) | E14: 4P 600V 50AF | F14: 개 | G14: =I14 -> 5 | I14: ='일위대가 (2)'!G24 -> 5 | L14: 전선원 | M14: 0.33 | N14: 100 | O14: =M14*G14 -> 1.65 | S14: 전기5-19
D15: E L C B (분전반) | E15: 110/220V 2P 30AF | F15: 개 | G15: =I15 -> 8 | I15: ='일위대가 (2)'!G25 -> 8 | L15: 전선원 | M15: 0.13 | N15: 100 | O15: =M15*G15 -> 1.04 | S15: 전기5-19
D16: 노 무 비 | E16: 전기기계조립원 | F16: 인 | G16: =O9+O11+O13 -> 0.508
E17: 전선원 | F17: 인 | G17: =O14+O15 -> 2.69
E18: 단순노무종사원 | F18: 인 | G18: =O10+O12 -> 0.3048
D20: 지하소방펌프실 600W*700H*150D [면]
D21: MAIN BUS BAR | E21: 3.0 mm x 15 mm | F21: m | G21: =I21 -> 1.5 | I21: ='일위대가 (2)'!G39 -> 1.5 | L21: 전기기계조립원 | M21: 0.08 | N21: 100 | O21: =M21*G21 -> 0.12 | S21: 전기3-21
L22: 단순노무종사원 | M22: 0.06 | N22: 100 | O22: =M22*G21 -> 0.09 | S22: 전기3-21
D23: BUS BAR | E23: 3.0 mm x 15 mm | F23: m | G23: =I23 -> 1.8 | I23: ='일위대가 (2)'!G40 -> 1.8 | L23: 전기기계조립원 | M23: 0.08 | N23: 100 | O23: =M23*G23 -> 0.144 | S23: 전기3-21
L24: 단순노무종사원 | M24: 0.06 | N24: 100 | O24: =M24*G23 -> 0.108 | S24: 전기3-21
D25: M C (GMC-22) | E25: 4kW/220V 7.5kW/440V | F25: 대 | G25: =I25 -> 1 | I25: ='일위대가 (2)'!G43 -> 1 | L25: 전선원 | M25: 0.12 | N25: 100 | O25: =M25*G25 -> 0.12 | S25: 전기5-19
D26: LOAD WIRE | E26: KIV 6㎟ | F26: m | G26: =I26 -> 1.6 | I26: ='일위대가 (2)'!G47 -> 1.6 | L26: 전선원 | M26: 0.01 | N26: 100 | O26: =M26*G26 -> 0.016 | S26: 전기5-10
D27: P B L S (LED) | E27: DC 110V/125V 25mm | F27: 개 | G27: =I27 -> 2 | I27: ='일위대가 (2)'!G49 -> 2 | L27: 전선원 | M27: 0.01 | N27: 100 | O27: =M27*G27 -> 0.02 | S27: 전기5-23
D28: SELECTOR S/W | E28: 300V 6A 2a 2b | F28: 개 | G28: =I28 -> 1 | I28: ='일위대가 (2)'!G50 -> 1 | L28: 전선원 | M28: 0.01 | N28: 100 | O28: =M28*G28 -> 0.01 | S28: 전기5-23
D29: INSULATION TUBE | E29: 150㎟ 이하 | F29: m | G29: =I29 -> 1 | I29: ='일위대가 (2)'!G33 -> 1 | L29: 전기기계조립원 | M29: 0.02 | N29: 100 | O29: =M29*G29 -> 0.02 | S29: 전기3-23-1
D30: TIMER (정전보상용) | E30: AC110/220V 24HR | F30: 개 | G30: =I30 -> 1 | I30: ='일위대가 (2)'!G46 -> 1 | L30: 전기기계조립원 | M30: 0.18 | N30: 100 | O30: =M30*G30 -> 0.18 | S30: 전기3-34
D31: M C C B (표준형) | E31: 4P 600V 50AF | F31: 개 | G31: =I31 -> 3 | I31: ='일위대가 (2)'!G44 -> 3 | L31: 전선원 | M31: 0.33 | N31: 100 | O31: =M31*G31 -> 0.99 | S31: 전기5-19
D32: E L C B (분전반) | E32: 110/220V 2P 30AF | F32: 개 | G32: =I32 -> 6 | I32: ='일위대가 (2)'!G45 -> 6 | L32: 전선원 | M32: 0.13 | N32: 100 | O32: =M32*G32 -> 0.78 | S32: 전기5-19
D33: 이면배선 | E33: KIV 2.5㎟ | F33: m | G33: =I33 -> 5.8 | I33: ='일위대가 (2)'!G52 -> 5.8 | L33: 전기기계조립원 | M33: 0.05 | N33: 100 | O33: =M33*G33 -> 0.29 | S33: 전기3-34
D34: 노 무 비 | E34: 전기기계조립원 | F34: 인 | G34: =O21+O23+O29+O30+O33 -> 0.754
E35: 전선원 | F35: 인 | G35: =O25+O26+O27+O26+O28+O31+O32 -> 1.952
E36: 단순노무종사원 | F36: 인 | G36: =O22+O24 -> 0.198
D38: 소방MCC조작반 700W*1600H*200D [면]
D39: PVC DUCT | E39: 30x40x2m W/COVER | F39: 개 | G39: =I39 -> 3 | I39: ='일위대가 (2)'!G63 -> 3 | L39: 전선원 | M39: 0.22 | N39: 100 | O39: =M39*G39 -> 0.66 | S39: 전기5-9
D40: EARTH BAR | E40: 6.0 mm x 25 mm | F40: m | G40: =I40 -> 0.7 | I40: ='일위대가 (2)'!G64 -> 0.7 | L40: 전기기계조립원 | M40: 0.09 | N40: 100 | O40: =M40*G40 -> 0.063 | S40: 전기3-21
L41: 단순노무종사원 | M41: 0.7 | N41: 100 | O41: =M41*G40 -> 0.49 | S41: 전기3-21
D42: 디지털 파워미터 | F42: 대 | G42: =I42 -> 1 | I42: ='일위대가 (2)'!G66 -> 1 | L42: 전기기계조립원 | M42: 1.31 | N42: 100 | O42: =M42*G42 -> 1.31 | S42: 전기6-2
D43: C T 1150V 권선형 | E43: 300/5A 40VA 1.0 40In | F43: 개 | G43: =I43 -> 3 | I43: ='일위대가 (2)'!G69 -> 3 | L43: 전기기계조립원 | M43: 0.34 | N43: 100 | O43: =M43*G43 -> 1.02 | S43: 전기3-34
D44: M C C B (표준형) | E44: 3P 600V 50AF | F44: 개 | G44: =I44 -> 4 | I44: 4 | L44: 전선원 | M44: 0.26 | N44: 100 | O44: =M44*G44 -> 1.04 | S44: 전기5-19
D45: M C (GMC-9) | E45: 2.2kW/220V 2.7kW/440V | F45: 대 | G45: =I45 -> 2 | I45: ='일위대가 (2)'!G71 -> 2 | L45: 전선원 | M45: 0.12 | N45: 100 | O45: =M45*G45 -> 0.24 | S45: 전기5-19
D46: M C (GMC-12) | E46: 2.7kW/220V 4kW/440V | F46: 대 | G46: =I46 -> 2 | I46: ='일위대가 (2)'!G88 -> 2 | L46: 전선원 | M46: 0.12 | N46: 100 | O46: =M46*G46 -> 0.24 | S46: 전기5-19
D47: M C (GMC-22) | E47: 4kW/220V 7.5kW/440V | F47: 대 | G47: =I47 -> 2 | I47: ='일위대가 (2)'!G105 -> 2 | L47: 전선원 | M47: 0.12 | N47: 100 | O47: =M47*G47 -> 0.24 | S47: 전기5-19
D48: M C (GMC-32) | E48: 5.5kW/220V 11kW/440V | F48: 대 | G48: =I48 -> 4 | I48: ='일위대가 (2)'!G104 -> 4 | L48: 전선원 | M48: 0.12 | N48: 100 | O48: =M48*G48 -> 0.48 | S48: 전기5-19
D49: E O C R | F49: 개 | G49: =I49 -> 6 | I49: 6 | L49: 전기기계조립원 | M49: 0.18 | N49: 100 | O49: =M49*G49 -> 1.08 | S49: 전기3-34
D50: ZCT | F50: 개 | G50: =I50 -> 6 | I50: 6 | L50: 전기기계조립원 | M50: 0.1 | N50: 100 | O50: =M50*G50 -> 0.6 | S50: 전기3-34
D51: CONDENSER | E51: (380/440V) 3P 15UF | F51: 개 | G51: =I51 -> 2 | I51: ='일위대가 (2)'!G74 -> 2 | L51: 전기기계조립원 | M51: 0.09 | N51: 100 | O51: =M51*G51 -> 0.18 | S51: 전기5-40
D52: CONDENSER | E52: (380/440V) 3P 20UF | F52: 개 | G52: =I52 -> 2 | I52: ='일위대가 (2)'!G91 -> 2 | L52: 전기기계조립원 | M52: 0.09 | N52: 100 | O52: =M52*G52 -> 0.18 | S52: 전기5-40
D53: CONDENSER | E53: (380/440V) 3P 100UF | F53: 개 | G53: =I53 -> 2 | I53: ='일위대가 (2)'!G108 -> 2 | L53: 전기기계조립원 | M53: 0.09 | N53: 100 | O53: =M53*G53 -> 0.18 | S53: 전기5-40
D54: LOAD WIRE | E54: KIV 2.5㎟ | F54: m | G54: =I54 -> 60 | I54: 60 | L54: 전선원 | M54: 0.05 | N54: 100 | O54: =M54*G54 -> 3 | S54: 전기3-34
D55: LOAD WIRE | E55: KIV 4㎟ | F55: m | G55: =I55 -> 14 | I55: 14 | L55: 전선원 | M55: 0.01 | N55: 100 | O55: =M55*G55 -> 0.14 | S55: 전기5-10
D56: LOAD WIRE | E56: KIV 6㎟ | F56: m | G56: =I56 -> 11.2 | I56: 11.2 | L56: 전선원 | M56: 0.01 | N56: 100 | O56: =M56*G56 -> 0.112 | S56: 전기5-10
D57: A U X - R | E57: AC 2a2b | F57: 개 | G57: =I57 -> 10 | I57: 10 | L57: 전기기계조립원 | M57: 0.18 | N57: 100 | O57: =M57*G57 -> 1.8 | S57: 전기3-34
D58: P L (LED) | E58: DC 110/125V 30mm | F58: 개 | G58: =I58 -> 6 | I58: 6 | L58: 전선원 | M58: 0.1 | N58: 100 | O58: =M58*G58 -> 0.6 | S58: 전기5-23
D59: 압착터미날 | E59: 2.5㎟ | F59: 개 | G59: =I59 -> 74 | I59: 74 | L59: 전선원 | M59: 0.01 | N59: 100 | O59: =M59*G59 -> 0.74 | S59: 전기5-13
D60: 압착터미날 | E60: 4㎟ | F60: 개 | G60: =I60 -> 60 | I60: 60 | L60: 전선원 | M60: 0.01 | N60: 100 | O60: =M60*G60 -> 0.6 | S60: 전기5-13
D61: 압착터미날 | E61: 6㎟ | F61: 개 | G61: =I61 -> 74 | I61: 74 | L61: 전선원 | M61: 0.01 | N61: 100 | O61: =M61*G61 -> 0.74 | S61: 전기5-13
D62: FLOAT S/W | E62: AC 220V 4P ALARM | F62: 개 | G62: =I62 -> 2 | I62: 2 | L62: 전선원 | M62: 0.01 | N62: 100 | O62: =M62*G62 -> 0.02 | S62: 전기5-23
D63: P B L S (LED) | E63: DC 110V/125V 25mm | F63: 개 | G63: =I63 -> 12 | I63: 12 | L63: 전선원 | M63: 0.01 | N63: 100 | O63: =M63*G63 -> 0.12 | S63: 전기5-23
D64: SELECTOR S/W | E64: 300V 6A 1a 1b | F64: 개 | G64: =I64 -> 6 | I64: 6 | L64: 전선원 | M64: 0.01 | N64: 100 | O64: =M64*G64 -> 0.06 | S64: 전기5-23
D65: INSULATION TUBE | E65: 150㎟ 이하 | F65: m | G65: =I65 -> 1 | I65: 1 | L65: 전기기계조립원 | M65: 0.02 | N65: 100 | O65: =M65*G65 -> 0.02 | S65: 전기3-23-1
D66: TIMER (정전보상용) | E66: AC110/220V 24HR | F66: 개 | G66: =I66 -> 3 | I66: ='일위대가 (2)'!G63 -> 3 | L66: 전기기계조립원 | M66: 0.18 | N66: 100 | O66: =M66*G66 -> 0.54 | S66: 전기3-34
D67: M C C B (표준형) | E67: 4P 600V 100AF | F67: 개 | G67: =I67 -> 1 | I67: ='일위대가 (2)'!G67 -> 1 | L67: 전선원 | M67: 0.46 | N67: 100 | O67: =M67*G67 -> 0.46 | S67: 전기5-19
D68: E L C B (분전반) | E68: 110/220V 2P 30AF | F68: 개 | G68: =I68 -> 1 | I68: ='일위대가 (2)'!G68 -> 1 | L68: 전선원 | M68: 0.13 | N68: 100 | O68: =M68*G68 -> 0.13 | S68: 전기5-19
D69: TIMER (Ｙ-Δ 용) | E69: AC110/220V 1-60S | F69: 개 | G69: =I69 -> 2 | I69: 2 | L69: 전기기계조립원 | M69: 0.18 | N69: 100 | O69: =M69*G69 -> 0.36 | S69: 전기3-34
D70: 이면배선 | E70: KIV 2.5㎟ | F70: m | G70: =I70 -> 13 | I70: ='일위대가 (2)'!G65 -> 13 | L70: 전기기계조립원 | M70: 0.05 | N70: 100 | O70: =M70*G70 -> 0.65 | S70: 전기3-34
D71: 노 무 비 | E71: 전기기계조립원 | F71: 인 | G71: =O40+O42+O43+O49+O50+O51+O52+O53+O57+O65+O66+O70+O69 -> 7.983
E72: 전선원 | F72: 인 | G72: =O68+O67+O64+O63+O62+O61+O60+O59+O58+O56+O55+O54+O48+O47+O46+O45+O44+O39 -> 9.622
E73: 단순노무종사원 | F73: 인 | G73: =O41 -> 0.49
D75: MCC-F 800W*1000H*200D [면]
D76: PVC DUCT | E76: 30x40x2m W/COVER | F76: 개 | G76: =I76 -> 3 | I76: ='일위대가 (2)'!G132 -> 3 | L76: 전선원 | M76: 0.22 | N76: 100 | O76: =M76*G76 -> 0.66 | S76: 전기5-9
D77: EARTH BAR | E77: 6.0 mm x 25 mm | F77: m | G77: =I77 -> 0.8 | I77: ='일위대가 (2)'!G133 -> 0.8 | L77: 전기기계조립원 | M77: 0.09 | N77: 100 | O77: =M77*G77 -> 0.072 | S77: 전기3-21
L78: 단순노무종사원 | M78: 0.7 | N78: 100 | O78: =M78*G77 -> 0.56 | S78: 전기3-21
D79: 디지털 파워미터 | F79: 대 | G79: =I79 -> 1 | I79: ='일위대가 (2)'!G135 -> 1 | L79: 전기기계조립원 | M79: 1.31 | N79: 100 | O79: =M79*G79 -> 1.31 | S79: 전기6-2
D80: C T 1150V 권선형 | E80: 300/5A 40VA 1.0 40In | F80: 개 | G80: =I80 -> 3 | I80: ='일위대가 (2)'!G138 -> 3 | L80: 전기기계조립원 | M80: 0.34 | N80: 100 | O80: =M80*G80 -> 1.02 | S80: 전기3-34
D81: M C C B (표준형) | E81: 3P 600V 100AF | F81: 개 | G81: =I81 -> 1 | I81: ='일위대가 (2)'!G136 -> 1 | L81: 전선원 | M81: 0.36 | N81: 100 | O81: =M81*G81 -> 0.36 | S81: 전기5-19
D82: M C C B (표준형) | E82: 3P 600V 50AF | F82: 개 | G82: =I82 -> 1 | I82: ='일위대가 (2)'!G155 -> 1 | L82: 전선원 | M82: 0.26 | N82: 100 | O82: =M82*G82 -> 0.26 | S82: 전기5-19
D83: M C (GMC-12) | E83: 2.7kW/220V 4kW/440V | F83: 대 | G83: =I83 -> 1 | I83: ='일위대가 (2)'!G140 -> 1 | L83: 전선원 | M83: 0.12 | N83: 100 | O83: =M83*G83 -> 0.12 | S83: 전기5-19
D84: M C (GMC-22) | E84: 4kW/220V 7.5kW/440V | F84: 대 | G84: =I84 -> 1 | I84: ='일위대가 (2)'!G157 -> 1 | L84: 전선원 | M84: 0.12 | N84: 100 | O84: =M84*G84 -> 0.12 | S84: 전기5-19
D85: M C (GMC-32) | E85: 5.5kW/220V 11kW/440V | F85: 대 | G85: =I85 -> 2 | I85: ='일위대가 (2)'!G156 -> 2 | L85: 전선원 | M85: 0.12 | N85: 100 | O85: =M85*G85 -> 0.24 | S85: 전기5-19
D86: E O C R | F86: 개 | G86: =I86 -> 2 | I86: 2 | L86: 전기기계조립원 | M86: 0.18 | N86: 100 | O86: =M86*G86 -> 0.36 | S86: 전기3-34
D87: ZCT | F87: 개 | G87: =I87 -> 2 | I87: 2 | L87: 전기기계조립원 | M87: 0.1 | N87: 100 | O87: =M87*G87 -> 0.2 | S87: 전기3-34
D88: CONDENSER | E88: (380/440V) 3P 20UF | F88: 개 | G88: =I88 -> 1 | I88: ='일위대가 (2)'!G143 -> 1 | L88: 전기기계조립원 | M88: 0.09 | N88: 100 | O88: =M88*G88 -> 0.09 | S88: 전기5-40
D89: CONDENSER | E89: (380/440V) 3P 100UF | F89: 개 | G89: =I89 -> 1 | I89: ='일위대가 (2)'!G160 -> 1 | L89: 전기기계조립원 | M89: 0.09 | N89: 100 | O89: =M89*G89 -> 0.09 | S89: 전기5-40
D90: LOAD WIRE | E90: KIV 4㎟ | F90: m | G90: =I90 -> 3.5 | I90: ='일위대가 (2)'!G145 -> 3.5 | L90: 전선원 | M90: 0.01 | N90: 100 | O90: =M90*G90 -> 0.035 | S90: 전기5-10
D91: LOAD WIRE | E91: KIV 6㎟ | F91: m | G91: =I91 -> 5.6 | I91: 5.6 | L91: 전선원 | M91: 0.01 | N91: 100 | O91: =M91*G91 -> 0.056 | S91: 전기5-10
D92: A U X - R | E92: AC 2a2b | F92: 개 | G92: =I92 -> 4 | I92: 4 | L92: 전기기계조립원 | M92: 0.18 | N92: 100 | O92: =M92*G92 -> 0.72 | S92: 전기3-34
D93: P L (LED) | E93: DC 110/125V 30mm | F93: 개 | G93: =I93 -> 2 | I93: 2 | L93: 전선원 | M93: 0.1 | N93: 100 | O93: =M93*G93 -> 0.2 | S93: 전기5-23
D94: 압착터미날 | E94: 2.5㎟ | F94: 개 | G94: =I94 -> 37 | I94: 37 | L94: 전선원 | M94: 0.01 | N94: 100 | O94: =M94*G94 -> 0.37 | S94: 전기5-13
D95: 압착터미날 | E95: 4㎟ | F95: 개 | G95: =I95 -> 15 | I95: 15 | L95: 전선원 | M95: 0.01 | N95: 100 | O95: =M95*G95 -> 0.15 | S95: 전기5-13
D96: 압착터미날 | E96: 6㎟ | F96: 개 | G96: =I96 -> 37 | I96: 37 | L96: 전선원 | M96: 0.01 | N96: 100 | O96: =M96*G96 -> 0.37 | S96: 전기5-13
D97: P B L S (LED) | E97: DC 110V/125V 25mm | F97: 개 | G97: =I97 -> 4 | I97: 4 | L97: 전선원 | M97: 0.01 | N97: 100 | O97: =M97*G97 -> 0.04 | S97: 전기5-23
D98: SELECTOR S/W | E98: 300V 6A 1a 1b | F98: 개 | G98: =I98 -> 2 | I98: 2 | L98: 전선원 | M98: 0.01 | N98: 100 | O98: =M98*G98 -> 0.02 | S98: 전기5-23
D99: INSULATION TUBE | E99: 150㎟ 이하 | F99: m | G99: =I99 -> 2 | I99: ='일위대가 (2)'!G87 -> 2 | L99: 전기기계조립원 | M99: 0.02 | N99: 100 | O99: =M99*G99 -> 0.04 | S99: 전기3-23-1
D100: M C C B (표준형) | E100: 4P 600V 100AF | F100: 개 | G100: =I100 -> 1 | I100: ='일위대가 (2)'!G136 -> 1 | L100: 전선원 | M100: 0.46 | N100: 100 | O100: =M100*G100 -> 0.46 | S100: 전기5-19
D101: E L C B (분전반) | E101: 110/220V 2P 30AF | F101: 개 | G101: =I101 -> 1 | I101: ='일위대가 (2)'!G137 -> 1 | L101: 전선원 | M101: 0.13 | N101: 100 | O101: =M101*G101 -> 0.13 | S101: 전기5-19
D102: TIMER (Ｙ-Δ 용) | E102: AC110/220V 1-60S | F102: 개 | G102: =I102 -> 1 | I102: 1 | L102: 전기기계조립원 | M102: 0.18 | N102: 100 | O102: =M102*G102 -> 0.18 | S102: 전기3-34
D103: 이면배선 | E103: KIV 2.5㎟ | F103: m | G103: =I103 -> 45 | I103: 45 | L103: 전기기계조립원 | M103: 0.05 | N103: 100 | O103: =M103*G103 -> 2.25 | S103: 전기3-34
D104: 노 무 비 | E104: 전기기계조립원 | F104: 인 | G104: =O103+O102+O99+O92+O89+O88+O87+O86+O80+O79+O77 -> 6.332
...

Sheet 합산자재
A1: 총줄수-> | B1: 107 | C1: [ 농수산물도매시장 노후전기설비정비 실시설계 ] - 합산자재목록
A2: 번호 | B2: … | C2: 코드 | D2: 명 칭 | E2: 규 격 | F2: 단위 | G2: 수량 | H2: 재료비 | I2: 노무비 | J2: 경비 | K2: 지급비 | L2: 계 | M2: 비고
C4: 3913170610034835 | D4: 강제전선관 | E4: 아연도 36 mm | F4: m | G4: 25 | H4: =TRUNC(단가조사!G4*옵션!$D$11) -> 5134 | L4: =SUM(H4,I4,J4) -> 5134
C5: 3913170610035664 | D5: 합성수지제 가요전선관 | E5: CD-난연성 16㎜ | F5: m | G5: 14 | H5: =TRUNC(단가조사!G5*옵션!$D$11) -> 170 | L5: =SUM(H5,I5,J5) -> 170
C6: 3913170610045632 | D6: 파상형 폴리에틸렌 전선관 | E6: 40㎜ | F6: m | G6: 11 | H6: =TRUNC(단가조사!G6*옵션!$D$11) -> 522 | L6: =SUM(H6,I6,J6) -> 522
C7: 3913170620174410 | D7: 1종금속제가요전선관 | E7: 16 mm 일반-비방수 | F7: m | G7: 73 | H7: =TRUNC(단가조사!G7*옵션!$D$11) -> 1151 | L7: =SUM(H7,I7,J7) -> 1151
C8: 3913170620174411 | D8: 1종금속제가요전선관 | E8: 22 mm 일반-비방수 | F8: m | G8: 19 | H8: =TRUNC(단가조사!G8*옵션!$D$11) -> 1914 | L8: =SUM(H8,I8,J8) -> 1914
C9: 3913170620174434 | D9: 1종금속제가요전선관 | E9: 커넥터, 16 mm 일반-비방수 | F9: 개 | G9: 26 | H9: =TRUNC(단가조사!G9*옵션!$D$11) -> 407 | L9: =SUM(H9,I9,J9) -> 407
C10: 3913170820935618 | D10: 경질비닐전선관용 부품 | E10: 노말밴드, 36 mm | F10: 개 | G10: 5 | H10: =TRUNC(단가조사!G10*옵션!$D$11) -> 3739 | L10: =SUM(H10,I10,J10) -> 3739
C11: 3912130810035750 | D11: 아우트렛박스 | E11: 8각 54㎜ | F11: 개 | G11: 12 | H11: =TRUNC(단가조사!G11*옵션!$D$11) -> 638 | L11: =SUM(H11,I11,J11) -> 638
C12: 3912130810035753 | D12: 아우트렛박스 | E12: 중형4각 54㎜ | F12: 개 | G12: 8 | H12: =TRUNC(단가조사!G12*옵션!$D$11) -> 973 | L12: =SUM(H12,I12,J12) -> 973
C13: 3912130820174710 | D13: 아우트렛박스 커버 | E13: 커버, 8각, 평형 | F13: 개 | G13: 12 | H13: =TRUNC(단가조사!G13*옵션!$D$11) -> 343 | L13: =SUM(H13,I13,J13) -> 343
C14: 3912130820174713 | D14: 아우트렛박스 커버 | E14: 커버, 4각, 평형 | F14: 개 | G14: 8 | H14: =TRUNC(단가조사!G14*옵션!$D$11) -> 343 | L14: =SUM(H14,I14,J14) -> 343
C15: 3912130310035875 | D15: 노출박스 | E15: 16 mm - 1 방출 | F15: 개 | G15: 5 | H15: =TRUNC(단가조사!G15*옵션!$D$11) -> 2577 | L15: =SUM(H15,I15,J15) -> 2577
... C102: 391115ZZ701Z0045 | D102: 콘센트철거 | E102: 매입2구,방우형 | F102: EA | G102: 6 | H102: =TRUNC(단가조사!G102*옵션!$D$11) -> 0 | L102: =SUM(H102,I102,J102) -> 0
C103: L001010101000075 | D103: 노 무 비 | E103: 내선전공 | F103: 인 | G103: 63.405 | I103: =TRUNC(단가조사!G106) -> 273676 | L103: =SUM(H103,I103,J103) -> 273676
C104: L001010101000078 | D104: 노 무 비 | E104: 저압케이블전공 | F104: 인 | G104: 19.886 | I104: =TRUNC(단가조사!G107) -> 304156 | L104: =SUM(H104,I104,J104) -> 304156
C105: L001010101000081 | D105: 노 무 비 | E105: 배전전공 | F105: 인 | G105: 0.07 | I105: =TRUNC(단가조사!G108) -> 414968 | L105: =SUM(H105,I105,J105) -> 414968
C106: L001010101000002 | D106: 노 무 비 | E106: 보통인부 | F106: 인 | G106: 0.18 | I106: =TRUNC(단가조사!G109) -> 172068 | L106: =SUM(H106,I106,J106) -> 172068
L107: =SUM(H107,I107,J107) -> 0

Sheet 단가조사
A1: 총줄수-> | B1: 123 | D1: [ 노후전기설비정비 전기공사 ] - 단가조사서(1/6단가:2026년08월)
A2: 번호 | B2: 공종코드 | C2: 코드 | D2: 명 칭 | E2: 규 격 | F2: 단위 | G2: 적용단가 | H2: 시설단가 | J2: 거래가격 | L2: 물가정보 | N2: 물가자료 | P2: 조사단가1 | R2: 조사단가2 | T2: 비고
H3: 단가 | I3: 코드 | J3: 단가 | K3: PAGE | L3: 단가 | M3: PAGE | N3: 단가 | O3: PAGE | P3: 단가 | Q3: PAGE | R3: 단가 | S3: PAGE
C4: 3913170610034835 | D4: 강제전선관 | E4: 아연도 36 mm | F4: m | G4: =MIN(H4,J4,L4,N4,P4) -> 5134 | H4: 5134 | J4: 6390 | K4: 1029 | L4: 7306 | M4: I-1202
C5: 3913170610035664 | D5: 합성수지제 가요전선관 | E5: CD-난연성 16㎜ | F5: m | G5: =MIN(H5,J5,L5,N5,P5) -> 170 | H5: 170 | J5: 360 | K5: 1025 | L5: 275 | M5: I-1204
C6: 3913170610045632 | D6: 파상형 폴리에틸렌 전선관 | E6: 40㎜ | F6: m | G6: =MIN(H6,J6,L6,N6,P6) -> 522 | H6: 522 | J6: 857 | K6: 1025 | L6: 607 | M6: I-1204
C7: 3913170620174410 | D7: 1종금속제가요전선관 | E7: 16 mm 일반-비방수 | F7: m | G7: =MIN(H7,J7,L7,N7,P7) -> 1151 | L7: 1151
C8: 3913170620174411 | D8: 1종금속제가요전선관 | E8: 22 mm 일반-비방수 | F8: m | G8: =MIN(H8,J8,L8,N8,P8) -> 1914 | L8: 1914
C9: 3913170620174434 | D9: 1종금속제가요전선관 | E9: 커넥터, 16 mm 일반-비방수 | F9: 개 | G9: =MIN(H9,J9,L9,N9,P9) -> 407 | H9: 407 | L9: 520 | M9: 인터넷
C10: 3913170820935618 | D10: 강제전선관용 부품 | E10: 노말밴드, 아연도36 mm | F10: 개 | G10: =MIN(H10,J10,L10,N10,P10) -> 3739 | H10: 3739 | J10: 4940 | K10: 1029 | L10: 5412 | M10: I-1203
C11: 3912130810035750 | D11: 아우트렛박스 | E11: 8각 54㎜ | F11: 개 | G11: =MIN(H11,J11,L11,N11,P11) -> 638 | H11: 638 | J11: 800 | K11: 1028 | L11: 845 | M11: I-1207
C12: 3912130810035753 | D12: 아우트렛박스 | E12: 중형4각 54㎜ | F12: 개 | G12: =MIN(H12,J12,L12,N12,P12) -> 973 | J12: 3100 | K12: 1028 | L12: 973 | M12: I-1207
C13: 3912130820174710 | D13: 아우트렛박스 커버 | E13: 커버, 8각, 평형 | F13: 개 | G13: =MIN(H13,J13,L13,N13,P13) -> 343 | J13: 400 | K13: 1028 | L13: 343 | M13: I-1207
C14: 3912130820174713 | D14: 아우트렛박스 커버 | E14: 커버, 4각, 평형 | F14: 개 | G14: =MIN(H14,J14,L14,N14,P14) -> 343 | J14: 400 | K14: 1028 | L14: 343 | M14: I-1207
C15: 3912130310035875 | D15: 노출박스 | E15: 16 mm - 1 방출 | F15: 개 | G15: =MIN(H15,J15,L15,N15,P15) -> 2577 | H15: 2577 | J15: 2818 | K15: 1030 | L15: 3382 | M15: I-1203
C16: 3912130310035797 | D16: 풀박스 | E16: 150×150×100 | F16: 개 | G16: =MIN(H16,J16,L16,N16,P16) -> 2856 | H16: 2856 | J16: 8261 | K16: 1028 | L16: 3360 | M16: I-1207
C17: 3913170520175125 | D17: 케이블트레이부속품 | E17: HOLD DOWN CLAMP, 아연도 | F17: 개 | G17: =MIN(H17,J17,L17,N17,P17) -> 373 | H17: 373
C18: 3913170520175126 | D18: 케이블트레이부속품 | E18: 찬넬스프링 너트, 아연도 | F18: 개 | G18: =MIN(H18,J18,L18,N18,P18) -> 750 | H18: 750
C19: 3913170520175128 | D19: 케이블트레이부속품 | E19: U CHANNEL, 41x41x2.6t | F19: m | G19: =MIN(H19,J19,L19,N19,P19) -> 6176 | H19: 6176
C20: 3913170420385334 | D20: 멀티덕트 BODY | E20: AL W150 x H70 | F20: m | G20: =MIN(H20,J20,L20,N20,P20) -> 40000 | L20: 40000 | M20: 1200
C21: 3913170420385338 | D21: 멀티덕트 COVER | E21: AL W150 x H70 | F21: m | G21: =MIN(H21,J21,L21,N21,P21) -> 5000 | L21: 5000 | M21: 1200
C22: 3913170420385342 | D22: 멀티덕트 H-ELBOW | E22: AL W150 x H70 | F22: 개 | G22: =MIN(H22,J22,L22,N22,P22) -> 5000 | L22: 5000 | M22: 1200
C23: 3913171210033640 | D23: 몰드 | E23: 알루미늄(대) | F23: m | G23: =MIN(H23,J23,L23,N23,P23) -> 3000 | J23: 3000 | K23: 1031 | L23: 12000 | M23: I-1206
C24: 3913170810037051 | D24: 강제전선관용 부품 | E24: 새들 (KS) 16c | F24: EA | G24: =MIN(H24,J24,L24,N24,P24) -> 90 | J24: 90 | K24: 1029 | L24: 98 | M24: I-1203
C25: 3913170810037052 | D25: 강제전선관용 부품 | E25: 새들 (KS) 22c | F25: EA | G25: =MIN(H25,J25,L25,N25,P25) -> 90 | J25: 90 | K25: 1029 | L25: 104 | M25: I-1203
C26: 3116210220135769 | D26: 스트롱앵커 | E26: 3/8 | F26: 개 | G26: =MIN(H26,J26,L26,N26,P26) -> 200 | L26: 200 | M26: I-643
C27: 2612162922076727 | D27: 450/750V 내열비닐절연전선 | E27: HFIX 1.78mm(2.5㎟) | F27: m | G27: =MIN(H27,J27,L27,N27,P27) -> 544 | H27: 544 | J27: 727 | K27: 993 | L27: 1028 | M27: I-1165
C28: 2612162922076728 | D28: 450/750V 내열비닐절연전선 | E28: HFIX 2.25mm(4㎟) | F28: m | G28: =MIN(H28,J28,L28,N28,P28) -> 826 | H28: 826 | J28: 1101 | K28: 993 | L28: 1601 | M28: I-1165
C29: 2612152420683698 | D29: 접지용비닐절연전선(F-GV) | E29: 10㎟ | F29: m | G29: =MIN(H29,J29,L29,N29,P29) -> 2090 | H29: 2090 | J29: 3279 | K29: 994 | L29: 3134 | M29: I-1165
C30: 2612152420683699 | D30: 접지용비닐절연전선(F-GV) | E30: 16㎟ | F30: m | G30: =MIN(H30,J30,L30,N30,P30) -> 3041 | H30: 3041 | J30: 4604 | K30: 994 | L30: 4278 | M30: I-1165
C31: 2612162920683887 | D31: 폴리에틸렌 난연케이블 | E31: 0.6/1kv F-CV 1C×25㎟ | F31: m | G31: =MIN(H31,J31,L31,N31,P31) -> 5764 | H31: 5764 | J31: 6997 | K31: 993 | L31: 6572 | M31: I-1168
C32: 2612162920683888 | D32: 폴리에틸렌 난연케이블 | E32: 0.6/1kv F-CV 1C×35㎟ | F32: m | G32: =MIN(H32,J32,L32,N32,P32) -> 7760 | H32: 7760 | J32: 9550 | K32: 993 | L32: 8969 | M32: I-1168
C33: 2612162920683905 | D33: 폴리에틸렌 난연케이블 | E33: 0.6/1kv F-CV 2C×10㎟ | F33: m | G33: =MIN(H33,J33,L33,N33,P33) -> 5105 | H33: 5105 | J33: 6731 | K33: 993 | L33: 5922 | M33: I-1168
C34: 2612162920683947 | D34: 폴리에틸렌 난연케이블 | E34: 0.6/1kv F-CV 4C×16㎟ | F34: m | G34: =MIN(H34,J34,L34,N34,P34) -> 15126 | H34: 15126 | J34: 18405 | K34: 993 | L34: 17285 | M34: I-1168
C35: 2612152420683714 | D35: 기기용비닐절연전선 | E35: KIV 10㎟ | F35: m | G35: =MIN(H35,J35,L35,N35,P35) -> 1851 | H35: 1851 | J35: 2544 | K35: 994 | L35: 3169 | M35: I-1167 | P35: 2932 | Q35: 선영
C36: 2612152420683716 | D36: 기기용비닐절연전선 | E36: KIV 25㎟ | F36: m | G36: =MIN(H36,J36,L36,N36,P36) -> 4428 | H36: 4428 | J36: 5994 | K36: 994 | L36: 7665 | M36: I-1167
C37: 3912998720170518 | D37: 매입스위치 | E37: 250V 1로2구 | F37: 개 | G37: =MIN(H37,J37,L37,N37,P37) -> 1887 | H37: 1887 | J37: 5500 | K37: 1098 | L37: 6195 | M37: I-1288
C38: 3912998720170519 | D38: 매입스위치 | E38: 250V 1로3구 | F38: 개 | G38: =MIN(H38,J38,L38,N38,P38) -> 2440 | H38: 2440 | J38: 7070 | K38: 1098 | L38: 7812 | M38: I-1288
C39: 3912140620170871 | D39: 콘센트 | E39: 둥근형(노출),250V1구접지 | F39: 개 | G39: =MIN(H39,J39,L39,N39,P39) -> 1320 | H39: 1320 | L39: 2932 | M39: I-1288
C40: 3912140621030227 | D40: 방우콘센트 | E40: 매입-접지형, 250V 1구 | F40: 개 | G40: =MIN(H40,J40,L40,N40,P40) -> 2075 | H40: 2075 | J40: 3567 | K40: 1099
C41: 3912140621030228 | D41: 방우콘센트 | E41: 매입-접지형, 250V 2구 | F41: 개 | G41: =MIN(H41,J41,L41,N41,P41) -> 2163 | H41: 2163 | J41: 4251 | K41: 1099
C42: 3912110220186204 | D42: 주택용분전반 | E42: 6회로 | F42: EA | G42: =MIN(H42,J42,L42,N42,P42) -> 80000 | P42: 80000 | Q42: 인터넷
C43: 3912110320178179 | D43: 배전반 부속재 | E43: ET | F43: 개 | G43: =MIN(H43,J43,L43,N43,P43) -> 5000 | L43: 5000
C44: 3912110320178182 | D44: 배전반 부속재 | E44: NAME PLATE, 아크릴(대) | F44: 개 | G44: =MIN(H44,J44,L44,N44,P44) -> 1000 | L44: 1000
C45: 3912161620167016 | D45: 배선용차단기(ABS-52) | E45: 2P 50AF 40AT | F45: EA | G45: =MIN(H45,J45,L45,N45,P45) -> 43300 | J45: 44900 | K45: 1068 | L45: 43300 | M45: I-1238
C46: 3912161620167036 | D46: 배선용차단기(ABS-102) | E46: 2P 100AF 75AT | F46: EA | G46: =MIN(H46,J46,L46,N46,P46) -> 87800 | J46: 91100 | K46: 1068 | L46: 87800 | M46: I-1238
C47: 3912161420167114 | D47: 누전차단기(32KGRc) | E47: 2P 30AF 20AT | F47: EA | G47: =MIN(H47,J47,L47,N47,P47) -> 18000 | J47: 18000 | K47: 1064 | L47: 18600 | M47: I-1237 | P47: 18000 | Q47: 선영
C48: 3912143221650910 | D48: 압착단자 | E48: R형동선 나압착 10 ㎟ | F48: 개 | G48: =MIN(H48,J48,L48,N48,P48) -> 101 | H48: 101 | J48: 133 | K48: 1019 | L48: 262 | M48: I-1199
C49: 3912143221650911 | D49: 압착단자 | E49: R형동선 나압착 16 ㎟ | F49: 개 | G49: =MIN(H49,J49,L49,N49,P49) -> 128 | H49: 128 | J49: 200 | K49: 1019 | L49: 668 | M49: I-1199
C50: 3912143221650912 | D50: 압착단자 | E50: R형동선 나압착 25 ㎟ | F50: 개 | G50: =MIN(H50,J50,L50,N50,P50) -> 191 | H50: 191 | J50: 260 | K50: 1019 | L50: 818 | M50: I-1199
C51: 3912143221650913 | D51: 압착단자 | E51: R형동선 나압착 35 ㎟ | F51: 개 | G51: =MIN(H51,J51,L51,N51,P51) -> 247 | H51: 247 | J51: 316 | K51: 1019 | L51: 1040 | M51: I-1199
C52: 3912140421650870 | D52: 압착슬리이브 | E52: 동압착슬리브-L형 16 ㎟ | F52: 개 | G52: =MIN(H52,J52,L52,N52,P52) -> 376 | L52: 376 | M52: I-1198
C53: 3912140421650871 | D53: 압착슬리이브 | E53: 동압착슬리브-L형 25 ㎟ | F53: 개 | G53: =MIN(H53,J53,L53,N53,P53) -> 602 | L53: 602 | M53: I-1198
C54: 3912140421650872 | D54: 압착슬리이브 | E54: 동압착슬리브-L형 35 ㎟ | F54: 개 | G54: =MIN(H54,J54,L54,N54,P54) -> 805 | L54: 805 | M54: I-1198
C55: 3912140920171333 | D55: 와이어콘넥터 | E55: 6 ㎟ x 2가닥 | F55: 개 | G55: =MIN(H55,J55,L55,N55,P55) -> 232 | J55: 270 | K55: 1021 | L55: 232
C56: 3116172710024976 | D56: 6각너트 | E56: M10 | F56: 개 | G56: =MIN(H56,J56,L56,N56,P56) -> 28 | L56: 28 | M56: I-39
C57: 3116181120136195 | D57: 스프링와샤 | E57: D10 | F57: EA | G57: =MIN(H57,J57,L57,N57,P57) -> 9 | L57: 9 | M57: I-43
C58: 391115ZZ701Z0001 | D58: MCC-F | E58: 800W*1000H | F58: 면 | G58: =MIN(H58,J58,L58,N58,P58) -> 4132876 | P58: 4132876 | Q58: 견적
C59: 391115ZZ701Z0002 | D59: 계량기철거후재설치 | E59: 디지털 | F59: EA | G59: =MIN(H59,J59,L59,N59,P59) -> 0
C60: 391115ZZ701Z0003 | D60: 박스커버 | E60: 맹카바 | F60: EA | G60: =MIN(H60,J60,L60,N60,P60) -> 400 | J60: 400 | K60: 1028 | N60: 400 | O60: 1105
C61: 391115ZZ701Z0004 | D61: 배관철거 | E61: FLEX 16C-1L | F61: m | G61: =MIN(H61,J61,L61,N61,P61) -> 0
C62: 391115ZZ701Z0005 | D62: 분전반(관리8) | E62: 600W*1000H,속판교체 | F62: 면 | G62: =MIN(H62,J62,L62,N62,P62) -> 1697532 | P62: 1697532 | Q62: 견적
C63: 391115ZZ701Z0006 | D63: 분전반(지하소방펌프실) | E63: 600W*700H | F63: 면 | G63: =MIN(H63,J63,L63,N63,P63) -> 1227418 | P63: 1227418 | Q63: 견적
C64: 391115ZZ701Z0007 | D64: 분전반11 | E64: 750W*1600H | F64: 면 | G64: =MIN(H64,J64,L64,N64,P64) -> 4000000 | P64: 4000000 | Q64: 견적
C65: 391115ZZ701Z0008 | D65: 분전반23 | E65: 600W*1000H,속판교체 | F65: 면 | G65: =MIN(H65,J65,L65,N65,P65) -> 1697532 | P65: 1697532 | Q65: 견적
C66: 391115ZZ701Z0009 | D66: 분전반24 | E66: 600W*800H,속판교체 | F66: 면 | G66: =MIN(H66,J66,L66,N66,P66) -> 1697532 | P66: 1697532 | Q66: 견적
C67: 391115ZZ701Z0010 | D67: 분전반25 | E67: 600W*800H,속판교체 | F67: 면 | G67: =MIN(H67,J67,L67,N67,P67) -> 1697532 | P67: 1697532 | Q67: 견적
C68: 391115ZZ701Z0011 | D68: 분전반27 | E68: 700W*1100H,속판교체 | F68: 면 | G68: =MIN(H68,J68,L68,N68,P68) -> 1697532 | P68: 1697532 | Q68: 견적
C69: 391115ZZ701Z0012 | D69: 분전반보수 | E69: 함석판 | F69: 면 | G69: =MIN(H69,J69,L69,N69,P69) -> 10000 | P69: 10000 | Q69: 조사
C70: 391115ZZ701Z0013 | D70: 분전반철거 | E70: MCC-F | F70: 면 | G70: =MIN(H70,J70,L70,N70,P70) -> 0
C71: 391115ZZ701Z0014 | D71: 분전반철거 | E71: 분전반(관리8),속판 | F71: 면 | G71: =MIN(H71,J71,L71,N71,P71) -> 0
C72: 391115ZZ701Z0015 | D72: 분전반철거 | E72: 분전반11,속판 | F72: 면 | G72: =MIN(H72,J72,L72,N72,P72) -> 0
C73: 391115ZZ701Z0016 | D73: 분전반철거 | E73: 분전반23,속판 | F73: 면 | G73: =MIN(H73,J73,L73,N73,P73) -> 0
C74: 391115ZZ701Z0017 | D74: 분전반철거 | E74: 분전반24,속판 | F74: 면 | G74: =MIN(H74,J74,L74,N74,P74) -> 0
C75: 391115ZZ701Z0018 | D75: 분전반철거 | E75: 분전반25,속판 | F75: 면 | G75: =MIN(H75,J75,L75,N75,P75) -> 0
C76: 391115ZZ701Z0019 | D76: 분전반철거 | E76: 분전반27,속판 | F76: 면 | G76: =MIN(H76,J76,L76,N76,P76) -> 0
C77: 391115ZZ701Z0020 | D77: 분전반철거 | E77: 소방MCC-F | F77: 면 | G77: =MIN(H77,J77,L77,N77,P77) -> 0
C78: 391115ZZ701Z0021 | D78: 분전반철거 | E78: 소방MCC조작반 | F78: 면 | G78: =MIN(H78,J78,L78,N78,P78) -> 0
C79: 391115ZZ701Z0022 | D79: 분전반철거 | E79: 지하소방펌프실 | F79: 면 | G79: =MIN(H79,J79,L79,N79,P79) -> 0
C80: 391115ZZ701Z0023 | D80: 소방MCC-F | E80: 700W*1100H | F80: 면 | G80: =MIN(H80,J80,L80,N80,P80) -> 4429883 | P80: 4429883 | Q80: 견적
C81: 391115ZZ701Z0024 | D81: 소방MCC조작반 | E81: 700W*1600H | F81: 면 | G81: =MIN(H81,J81,L81,N81,P81) -> 7730960 | P81: 7730960 | Q81: 견적
C82: 391115ZZ701Z0025 | D82: 스위치철거 | E82: 1로2구 | F82: EA | G82: =MIN(H82,J82,L82,N82,P82) -> 0
C83: 391115ZZ701Z0026 | D83: 스위치철거 | E83: 1로3구 | F83: EA | G83: =MIN(H83,J83,L83,N83,P83) -> 0
C84: 391115ZZ701Z0027 | D84: 임시가설분전반 | E84: MAIN 50AT/4P,대여 | F84: 면 | G84: =MIN(H84,J84,L84,N84,P84) -> 600000 | P84: 600000 | Q84: 인터넷
C85: 391115ZZ701Z0028 | D85: 전선철거 | E85: HFIX2.5SQ-1L | F85: m | G85: =MIN(H85,J85,L85,N85,P85) -> 0
C86: 391115ZZ701Z0029 | D86: 전선철거 | E86: HFIX 4SQ-1L | F86: 개 | G86: =MIN(H86,J86,L86,N86,P86) -> 0
C87: 391115ZZ701Z0030 | D87: 조명기구 (철거) | E87: LED15W,다운라이트 | F87: SET | G87: =MIN(H87,J87,L87,N87,P87) -> 0
C88: 391115ZZ701Z0031 | D88: 조명기구 (철거) | E88: LED50W,슬립매입 | F88: SET | G88: =MIN(H88,J88,L88,N88,P88) -> 0
C89: 391115ZZ701Z0032 | D89: 조명기구A-TYPE | E89: LED50W,LED노출직부등 | F89: SET | G89: =MIN(H89,J89,L89,N89,P89) -> 70000 | P89: 70000
C90: 391115ZZ701Z0033 | D90: 조명기구B-TYPE | E90: LED15W,LED매입다운라이트 | F90: SET | G90: =MIN(H90,J90,L90,N90,P90) -> 25000 | P90: 25000
C91: 391115ZZ701Z0034 | D91: 조명센서 | E91: 철거후재설치 | F91: EA | G91: =MIN(H91,J91,L91,N91,P91) -> 0
C92: 391115ZZ701Z0035 | D92: 차단기단자커버 | E92: 보호카바,2P | F92: EA | G92: =MIN(H92,J92,L92,N92,P92) -> 1200 | P92: 1200 | Q92: 인터넷
C93: 391115ZZ701Z0036 | D93: 차단기단자커버 | E93: 보호카바,4P | F93: EA | G93: =MIN(H93,J93,L93,N93,P93) -> 2000 | P93: 2000 | Q93: 인터넷
C94: 391115ZZ701Z0037 | D94: 차단기철거 | E94: ELB100/75,2P | F94: EA | G94: =MIN(H94,J94,L94,N94,P94) -> 0
C95: 391115ZZ701Z0038 | D95: 차단기철거 | E95: ELB30/30,2P | F95: EA | G95: =MIN(H95,J95,L95,N95,P95) -> 0
C96: 391115ZZ701Z0039 | D96: 케이블철거후재설치 | E96: F-CV 16SQ/4C-1L | F96: m | G96: =MIN(H96,J96,L96,N96,P96) -> 0
C97: 391115ZZ701Z0040 | D97: 케이블철거후재설치 | E97: F-CV 1C/50SQ-1 | F97: m | G97: =MIN(H97,J97,L97,N97,P97) -> 0
C98: 391115ZZ701Z0041 | D98: 케이블철거후재설치 | E98: F-FR8 1C/10SQ-1 | F98: m | G98: =MIN(H98,J98,L98,N98,P98) -> 0
C99: 391115ZZ701Z0042 | D99: 케이블철거후재설치 | E99: F-FR8 1C/16SQ-1 | F99: m | G99: =MIN(H99,J99,L99,N99,P99) -> 0
C100: 391115ZZ701Z0043 | D100: 케이블철거후재설치 | E100: F-FR8 1C/25SQ-1 | F100: m | G100: =MIN(H100,J100,L100,N100,P100) -> 0
...

Sheet 옵션
B1: 재료비 | C1: 노무비 | D1: 경비 | F1: 계
A2: 총 급 액 | B2: =총괄표!I29 -> 27109991 | C2: =총괄표!L29 -> 30633718 | D2: =총괄표!N29 -> 0 | F2: =SUM(B2,C2,D2) -> 57743709
A3: 관급 자재비 | F3: =SUM(B3,C3,D3) -> 0 | H3: 금액조정이 안되나요?
H6: 이지테크에서 변환할 때 2번 옵션을 지정하여 다시 해보세요
H9: 시트를 삭제할 때 에러가 뜨면 1번 옵션으로 하면 됩니다.
B10: 적용율(%) | C10: 끝자리 | D10: 적용율(%)/100 | E10: 일위대가소수
A11: 전체자재 적용율(%)(공종/일위대가) | B11: 100 | C11: 1 | D11: =$B$11/100 -> 1
A12: 전체노임 적용율(%)(공종) | B12: 100 | C12: 1 | D12: =$B$12/100 -> 1 | E12: 2 | H12: 2번 옵션으로 변환했을 때에는 결과값이 다를 수 있습니다.
A13: 전체노임 적용율(%)(일위대가) | B13: 100 | C13: 1 | D13: =$B$13/100 -> 1 | E13: 5
A20: *(그룹별 자재 단가 추가 할증)* | B20: 적용율(%) | D20: 적용율(%)/100
A21: Cable(CAB) 할증(%) | B21: =B11 -> 100 | D21: =$B$21/100 -> 1
A22: Wire (WIR) 할증(%) | B22: =B11 -> 100 | D22: =$B$22/100 -> 1
A23: Pipe (PIP) 할증(%) | B23: =B11 -> 100 | D23: =$B$23/100 -> 1
A24: 제 4그룹 할증(%) | B24: =B11 -> 100 | D24: =$B$24/100 -> 1
A25: 제 5그룹 할증(%) | B25: =B11 -> 100 | D25: =$B$25/100 -> 1
A30: *(그룹별 노임 추가 할증)* | B30: 적용율(%) | C30: 자동부속재(전기) | D30: 자동부속재(통신)
A31: 배관부속재(%) | B31: 15 | C31: 15 | D31: 20
A32: CD관부속재(%) | B32: 40 | C32: 40 | D32: 40
A33: 소모잡자재(%) | B33: 2 | H33: 본 파일은 이지테크에서 2번 옵션으로 만들었습니다.
A34: 방폭할증(%)
A35: 고소할증(%) | B35: 2
A36: 공구손료(%) | B36: 3
A40: *(공종별 노임 적용율(%))* | B40: 적용율(%) | C40: 소수자릿수
A41: 1.전기공사 | B41: 100 | C41: 3

Sheet 사용설명
B1: ** 반드시 다음 사항을 숙지하신 다음 수정 작업을 하십시오 **
A2: 1. | B2: 속성이 숫자인 셀을 삭제할 때는 반드시 'Delete' 키를 사용하십시오.
B3: **주의:'Space Bar' 로 지웠을 때는 '#Value' Error가 발생됩니다.
A4: 2. | B4: 일위대가(을지)는 소수점 처리 때문에 셀 속성을 '일반'으로 하였습니다.(소수점 능동 처리)
B5: **참고: (수량*단가)의 결과는 소수 한자리, 금액을 취합한 소계는 1원 이하 절사입니다.
A6: 3. | B6: 내역서에서는 수량에만 셀 속성을 '일반'으로 하였습니다.(소수점 능동 처리)
A7: 4. | B7: 단가수정은 '단가조사서'시트 에서 하십시오.
B8: a)표지와 원가 -> 총괄표 -> 내역서 ->일위대가와 합산자재 ->단가조사서 를 참조하고
B9: 있으므로 단가조사서의 결정단가를 수정하면 전체 금액이 갱신됩니다.
B10: **주의: 금액란은 공식이 걸려있으므로 조심하여 수정하십시오.
B11: b)전체 자재를 일정 요율(%)로 변경할 때는 옵션시트의 자재 적용율을 조정하면 됩니다.
A12: 5. | B12: 노임 단가는 '단가조사서'시트에서 품셈은 '노임근거'시트에서 수정하십시오.
B13: a)전체 노임을 일정 요율(%)로 변경할 때는 '옵션시트'의 전체노임 적용율을 조정하면 됩니다.
B14: b)공종별로 노임을 수정하려면 '옵션시트'의 공종별 노임 적용율을 조정하면 됩니다.
B15: c)케이블 및 전선 자재 단가를 추가로 조정하려면 그룹별 자재 적용율을 조정하면 됩니다.
B16: 그룹은 견적 프로그램에서 엑셀파일이 만들어질때 지정됩니다.
A17: 6. | B17: 겉표지의 모든 정보는 표지를 참조하였습니다.(정보 수정은 표지에서만 하시면 됩니다.)
A18: 7. | B18: 필수 :본 프로그램의 총 금액을 확인한 후 사용하십시오.
A19: 8. | B19: 본 파일의 내용을 인쇄할 경우, 미리보기를 통하여 페이지 절선을 확인 후 인쇄하십시오.
A20: 9. | B20: 관급자재 Sheet가 해당이 없을 경우엔 삭제하십시오.
A21: 10. | B21: 페이지 절선이 맞지 않으면 다음을 참고하십시오.
B33: a. 해당시트의 셀 전체를 선택합니다.
B34: b. 행높이를 적절히 가감하면 페이지 절선을 맞출 수 있습니다.
