Workbook
Name __A183154: #REF!
Name __A183154: #REF!
Name __eee1: [0]!BlankMacro1
Name __JO11: #REF!
Name __JO11: #REF!
Name __lll1: [0]!BlankMacro1
Name __NON1: #REF!
Name __NON1: #REF!
Name __NON2: #N/A
Name __SUB1: #REF!
Name __SUB1: #REF!
Name __SUB2: #REF!
Name __SUB2: #REF!
Name __SUB3: #N/A
Name __SUB4: #N/A
Name __TOT1: #REF!
Name __TOT1: #REF!
Name __TOT2: #REF!
Name __TOT2: #REF!
Name _1: #N/A
Name _10: #N/A
Name _10_8: #REF!
Name _10_8: #REF!
Name _11: #N/A
Name _11_9: #REF!
Name _11_9: #REF!
Name _12: #N/A
Name _12a1_: [0]!BlankMacro1
Name _13: #N/A
Name _13C_: #REF!
Name _13C_: #REF!
Name _14: #N/A
Name _14G_0Extr: #REF!
Name _14G_0Extr: #REF!
Name _15: #N/A
Name _15G_0Extract: #REF!
Name _15G_0Extract: #REF!
Name _16: #N/A
Name _16G__Extr: #REF!
Name _16G__Extr: #REF!
Name _17: #N/A
Name _17G__Extract: #REF!
Name _17G__Extract: #REF!
Name _18: #N/A
Name _19: #N/A
Name _1a1_: [0]!BlankMacro1
Name _1C_: #REF!
Name _1C_: #REF!
Name _1공장: #REF!
Name _1공장: #REF!
Name _2: #N/A
Name _2_10: #REF!
Name _2_10: #REF!
Name _20: #N/A
Name _21: #N/A
Name _22: #N/A
Name _23: #N/A
Name _24: #N/A
Name _25: #N/A
Name _26: #N/A

Sheet 설계서
A1: 설 계 서 용 지
A3: 과 장 | D3: 팀 장 | G3: 심 사 자 | J3: 설 계 자 | M3: 2026년 9월 설계
C6: 2026년도
A7: 새물공원 생활체육시설 개선사업
C9: □ 개 요
D10: 1. 위 치 : 만안구 석천로 1 일원(새물공원 내)
D11: 2. 내 용 : 새물공원 내 농구장 1면 및 족구장 2면을 테니스장 3면으로 조성, 조경공사
C13: 구 분 | F13: 금 액 | M13: 비 고
C14: 총공사비 | F14: ="일금 "&NUMBERSTRING(K14,1)&" 원정" -> 일금 영 원정 | K14: =K19 -> 0
C15: 도급비 | D15: 공급가액 | F15: ="일금 "&NUMBERSTRING(K15,1)&" 원정" -> 일금 영 원정 | K15: =원가계산서!E35 -> 0
D16: 부가가치세 | F16: ="일금 "&NUMBERSTRING(K16,1)&" 원정" -> 일금 영 원정 | K16: =원가계산서!E36 -> 0
D17: 도급비 | F17: ="일금 "&NUMBERSTRING(K17,1)&" 원정" -> 일금 영 원정 | K17: =원가계산서!E37 -> 0
C18: 관 급 자 재 비 | F18: ="일금 "&NUMBERSTRING(K18,1)&" 원정" -> 일금 영 원정 | K18: =원가계산서!E40 -> 0
C19: 사 업 비 합 계 | F19: ="일금 "&NUMBERSTRING(K19,1)&" 원정" -> 일금 영 원정 | K19: =원가계산서!E41 -> 0

Sheet 설계설명서
A1: 설 계 설 명 서
B3: 1. 과업의 목적
B4: 1. 기존 이용율이 낮은 족구장 및 농구장을 수요가 높은 체육시설인 테니스장으로 변경하여 효율적으로 활용할수 있도록 개선하고자 함.
B5: 2. 파크골프장의 노후화된 그린부분의 인조잔디를 보완하여쾌적한 이용환경 조성
B6: 3. 노후된 시설을 정비하고 주변 환경을 개선하여 쾌적하고 안전한 공원 환경 조성
B7: 2. 과 업 명 : 새물공원 생활체육시설 개선사업 설계용역
B9: 3. 대상지 위치 : 안양시 만안구 석천로 1 (새물공원내)
B11: 4. 공 사 기 간 : 착공후 60일
B13: 5. 공 사 개 요
B14: ○ 철거공사 : 인조잔디철거, 휀스철거, 안내판철거등
B15: ○ 시설물공사 : 테니스장휀스, 안내판, 타석매트등
B16: ○ 포장공사 : 인조잔디포장, 인조화강석블럭포장. 경계엣지등
B18: 6. 설계변경조건
... B27: 준공검사일로부터 2년

Sheet 예정공정표
A1: 예 정 공 정 표
A3: =설계서!C6 -> 2026년도
A4: 공 종 | B4: 공사기간(일) | T4: 비 고
B5: 10일 | E5: 20일 | H5: 30일 | K5: 40일 | N5: 50일 | Q5: 60일
A6: 1. 사 전 준 비
A9: 2. 철 거 공 사
A12: 3. 시 설 물 공 사
A15: 4. 포 장 공 사
A18: 5. 파크골프장공사
A21: 6. 현 장 정 리
A24: ■ 본 예정공정표는 전체 공정계획을 위한것으로 착공시 세부공정별 공사예정표를 작성하여 감독원에게 제출하여 승인을 득하여야 한다.

Sheet 원가계산서
A1: 공 사 원 가 계 산 서
A3: 사업명 : 안양새물공원 생활체육시설 개선사업
D4: 구 분 | E4: 금 액 | F4: 구 성 비 | G4: 비 고
A5: 비 목
A6: 순 공 사 원 가 | B6: 재료비 | C6: 재료비
C7: 간접재료비
C8: 작업설·부산물등(△)
C9: 소계
B10: 노무비 | C10: 직접노무비
C11: 간접노무비
C12: 소계
B13: 경 비 | C13: 산출경비
C14: 산재보험료
C15: 고용보험료
C16: 석면분담금
C17: 임금채권부담금
C18: 건강보험료
C19: 연금보험료
C20: 노인장기요양보험료
C21: 퇴직공제부금비
C22: 산업안전보건관리비
C23: a. 산업안전보건관리비
C24: b. 산업안전보건관리비
C25: 기타경비
... C29: 소계
A30: 순 공 사 원 가
A31: 일반관리비
A32: 소계
A33: 이윤
A34: 폐기물처리비
A35: 공급가액
A36: 부가가치세
A37: 도급비
A38: 도급자 관급자재비
A39: 관급자관급자재비
A40: 관급자재비 합계
A41: 총공사비

Sheet 내역서
A1: 내역서
A2: 공 종 명 | B2: 규 격 | C2: 수량 | D2: 단위 | E2: 합 계 | G2: 재 료 비 | I2: 노 무 비 | K2: 경 비 | M2: 비 고
E3: 단 가 | F3: 금 액 | G3: 단 가 | H3: 금 액 | I3: 단 가 | J3: 금 액 | K3: 단 가 | L3: 금 액 | S3: 할 증 | T3: 화폐변환 | U3: OP값 | V3: EQ | W3: LA | X3: MA | Y3: 금액계상
A4: ■ 새물공원 생활체육시설 개선사업 | C4: 1 | D4: 식 | O4: A0000
A5: 1. 테니스장 조성공사 | C5: 1 | D5: 식 | P5: 10 | R5: A0100 | BI5: =HYPERLINK("#내역서!A12","A0100 →") -> A0100 →
A6: 2. 파크골프장 개선공사 | C6: 1 | D6: 식 | P6: 20 | R6: A0200 | BI6: =HYPERLINK("#내역서!A45","A0200 →") -> A0200 →
A7: 합계 | P7: 65
P8: 74
A9: A. 관급공사 | C9: 1 | D9: 식 | P9: 83 | Q9: * | R9: B0100 | BI9: =HYPERLINK("#내역서!A58","B0100 →") -> B0100 →
P10: 100
P11: 110
A12: 1. 테니스장 조성공사 | C12: 1 | D12: 식 | O12: A0100
A13: 1] 철거공사 | P13: 105
A14: 족구대철거 | C14: 2 | D14: 개소 | P14: 106 | R14: XE-100-1 | T14: T | BI14: =HYPERLINK("#일위대가목록!A7","XE-100-1 →") -> XE-100-1 →
A15: 농구대철거 | C15: 2 | D15: 개소 | P15: 107 | R15: XE-100-2 | T15: T | BI15: =HYPERLINK("#일위대가목록!A8","XE-100-2 →") -> XE-100-2 →
A16: 안내판철거 | B16: 목재 | C16: 3 | D16: 개소 | P16: 108 | R16: XE-100-3 | T16: T | BI16: =HYPERLINK("#일위대가목록!A9","XE-100-3 →") -> XE-100-3 →
A17: 휀스철거 | C17: 160 | D17: M | P17: 110 | R17: XE-100-4 | T17: T | BI17: =HYPERLINK("#일위대가목록!A10","XE-100-4 →") -> XE-100-4 →
A18: 그레이팅철거 | C18: 240 | D18: M | P18: 122 | R18: XE-100-41 | T18: T | BI18: =HYPERLINK("#일위대가목록!A11","XE-100-41 →") -> XE-100-41 →
A19: 인조잔디철거 | C19: 1709 | D19: M2 | P19: 135 | R19: XE-100-5 | T19: T | BI19: =HYPERLINK("#일위대가목록!A12","XE-100-5 →") -> XE-100-5 →
A20: 야자매트철거 | C20: 280 | D20: M2 | P20: 145 | R20: XE-100-6 | T20: T | BI20: =HYPERLINK("#일위대가목록!A13","XE-100-6 →") -> XE-100-6 →
P21: 147
A22: 2] 폐기물처리 | P22: 150
A23: 폐기물처리비 | B23: 폐콘크리트 | C23: 0.22 | D23: TON | P23: 155 | R23: G004 | BI23: =HYPERLINK("#경비!A5","G004 →") -> G004 →
A24: 폐기물처리비 | B24: 혼합폐기물 | C24: 17.86 | D24: TON | P24: 156 | R24: G001 | BI24: =HYPERLINK("#경비!A3","G001 →") -> G001 →
A25: 폐기물운반비 | C25: 24.98 | D25: M3 | P25: 188 | R25: G003 | BI25: =HYPERLINK("#경비!A4","G003 →") -> G003 →
A26: 폐기물처리-인조잔디철거 | B26: 덤프트럭 24ton | C26: 1709 | D26: M2 | P26: 194 | R26: G009 | BI26: =HYPERLINK("#경비!A8","G009 →") -> G009 →
A27: 폐기물처리-인조잔디걷어내기 | B27: 덤프트럭 24ton | C27: 180 | D27: M2 | P27: 196 | R27: G010 | BI27: =HYPERLINK("#경비!A9","G010 →") -> G010 →
A28: 철거공사 소계 | P28: 199
P29: 200
A30: 2] 시설물공사 | P30: 201
A31: 방풍막설치 | B31: - | C31: 360 | D31: M2 | P31: 203 | R31: PA-507-4 | T31: T | BI31: =HYPERLINK("#일위대가목록!A14","PA-507-4 →") -> PA-507-4 →
A32: 테니스장포스트네트 | B32: - | C32: 3 | D32: 개소 | P32: 206 | R32: M100-003 | BI32: =HYPERLINK("#자재조서!A4","M100-003 →") -> M100-003 →
A33: 심판석 | B33: - | C33: 3 | D33: 개소 | P33: 211 | R33: M200-007 | BI33: =HYPERLINK("#자재조서!A7","M200-007 →") -> M200-007 →
A34: 등벤치 | B34: - | C34: 6 | D34: 개소 | P34: 216 | R34: M200-008 | BI34: =HYPERLINK("#자재조서!A8","M200-008 →") -> M200-008 →
A35: 시설안내판 | B35: - | C35: 1 | D35: 개소 | P35: 225 | R35: M200-005 | BI35: =HYPERLINK("#자재조서!A5","M200-005 →") -> M200-005 →
A36: 이용안내판 | B36: - | C36: 2 | D36: 개소 | P36: 230 | R36: M200-006 | BI36: =HYPERLINK("#자재조서!A6","M200-006 →") -> M200-006 →
A37: 시설물공사 소계 | P37: 299
P38: 300
A39: 3] 포장공사 | P39: 305
A40: 인조잔디포장 | B40: T20 | C40: 1709 | D40: M2 | P40: 307 | R40: PA-0012 | T40: T | BI40: =HYPERLINK("#일위대가목록!A15","PA-0012 →") -> PA-0012 →
...

Sheet 철거집계
A1: 철거물량 집계표
A2: 연번 | B2: 시 설 명 | C2: 수량 | D2: 단위 | E2: 폐콘크리트 | I2: 혼합폐기물 | M2: 비 고
E3: 단위수량 (M3) | F3: 수량 (M3) | G3: 단위수량 (TON) | H3: 수량 (TON) | I3: 단위수량 (M3) | J3: 수량 (M3) | K3: 단위수량 (TON) | L3: 수량 (TON)
A4: 1 | B4: 족구대 철거 | C4: 2 | D4: 개소
A5: 2 | B5: 농구대 철거 | C5: 2 | D5: 개소
A6: 3 | B6: 안내판 철거 | C6: 3 | D6: 개소
A7: 4 | B7: 휀스철거 | C7: 160 | D7: M
A8: 5 | B8: 그레이팅철거 | C8: 240 | D8: M
A9: 6 | B9: 인조잔디 철거 | C9: 1709 | D9: M2 | M9: 별도 일괄처리
A10: 7 | B10: 야자매트 철거 | C10: 280 | D10: M2 | O10: 0.05㎥ | P10: 0.06T | Q10: 280㎡
A11: 8 | B11: 홀컵 철거 | C11: 18 | D11: 개소 | O11: 1㎡당 | P11: 1㎡당
A12: 9 | B12: 인조잔디 걷어내기 | C12: 180 | D12: M2 | M12: 별도 일괄처리
B13: 합계 | F13: =SUM(F4:F12) -> 0 | H13: =SUM(H4:H12) -> 0 | J13: =SUM(J4:J12) -> 0 | L13: =SUM(L4:L12) -> 0
B15: 1. 폐기물처리
B16: 1) 폐콘크리트 | C16: =H13 -> 0 | D16: TON
B17: 2) 혼합폐기물 | C17: 17.855712 | D17: TON
B18: 합계 | C18: =SUM(C16:C17) -> 17.855712 | D18: TON
B20: 2. 폐기물운반 | C20: 24.980912 | D20: M3

Sheet 전역변수
A1: 전역변수
A2: 변 수 명 | B2: 형 식 | C2: 값 | D2: 비 고 | E2: 적용단위

Sheet 중기전역변수
A1: 중기전역변수
A2: 변 수 명 | B2: 형 식 | C2: 값 | D2: 비 고
A3: QCODE | B3: 문자 | C3: 100000000001
A4: QUS2WON | B4: 숫자 | C4: 1157 | D4: 환율(장비가격10만불이하)
A5: QUS2WON1 | B5: 숫자 | C5: 1157 | D5: 환율(장비가격10만불이상)
A6: QYEN2WON | B6: 숫자 | C6: 100 | D6: 환율(엔화)
A7: QDM2WON | B7: 숫자 | C7: 724.05 | D7: 환율(마르크화)
A8: QSDR2WON | B8: 숫자 | C8: 1000 | D8: 환율(IMF특별인출권)
A9: QECU2WON | B9: 숫자 | C9: 1000 | D9: 환율(유로화)
A10: QEQTY1 | B10: 문자 | C10: (SANG + JUNG + KWAN)*10^-4 | D10: 중기주간경비산출계수
A11: QEQTY2 | B11: 문자 | C11: (SANG + JUNG + KWAN)*10^-4 | D11: 중기야간경비산출계수
A12: QEQTY3 | B12: 문자 | C12: (SANG + JUNG + int(KWAN/3))*10^-4 | D12: 중기주야간경비산출계수
A13: QEINC2 | B13: 숫자 | C13: 1.25 | D13: 중기야간할증계수
A14: QEINC3 | B14: 숫자 | C14: 1.071 | D14: 중기주야간할증계수
A15: QDECPEQ | B15: 문자 | C15: 0 | D15: 경비단가소숫점
A16: QDECCEQ | B16: 문자 | C16: 1 | D16: 경비금액소숫점
A17: QDECEQ | B17: 문자 | C17: 0 | D17: 경비계금액소숫점
A18: QH1 | B18: 문자 | C18: =25/20 * 16/12 * 1/8 -> 0.20833333 | D18: 시간당노임산출계수(일반구간)
A19: QH2 | B19: 문자 | C19: =25/20 * 16/12 * 1/8 -> 0.20833333 | D19: 시간당노임산출계수(터널구간)
A20: QH21 | B20: 문자 | C20: =25/20 * 16/12 * 1/8 -> 0.20833333 | D20: 시간당노임산출계수(장대터널)
A21: QH31 | B21: 문자 | C21: =25/20 * 16/12 * 1/8 -> 0.20833333 | D21: 시간당노임산출계수(해상장비:펌프준설선)
A22: QH32 | B22: 문자 | C22: =25/20 * 16/12 * 1/8 -> 0.20833333 | D22: 시간당노임산출계수(해상장비:GRAB준설선)
A23: QH33 | B23: 문자 | C23: =25/20 * 16/12 * 1/8 -> 0.20833333 | D23: 시간당노임산출계수(해상장비:버켓준설선)
A24: QLINC1 | B24: 숫자 | C24: 1 | D24: 노임할증계수(일반구간:주간)
A25: QLINC2 | B25: 숫자 | C25: 1.5 | D25: 노임할증계수(일반구간:야간)
A26: QLINC3 | B26: 숫자 | C26: 1.16 | D26: 노임할증계수(일반구간:주야간)
A27: QLINCA | B27: 숫자 | C27: 1.6 | D27: 노임할증계수(터널구간:주간)
A28: QLINCB | B28: 숫자 | C28: 1.6 | D28: 노임할증계수(터널구간:야간)
A29: QLINCC | B29: 숫자 | C29: 1.6 | D29: 노임할증계수(터널구간:주야간)
A30: QLINCD | B30: 숫자 | C30: 1.94 | D30: 노임할증계수(장대터널:주간)
A31: QLINCE | B31: 숫자 | C31: 1.94 | D31: 노임할증계수(장대터널:야간)
A32: QLINCF | B32: 숫자 | C32: 1.94 | D32: 노임할증계수(장대터널:주야간)
A33: QLINCX | B33: 숫자 | C33: 1 | D33: 노임할증계수(해상장비:주간)
A34: QLINCY | B34: 숫자 | C34: 1 | D34: 노임할증계수(해상장비:야간)
A35: QLINCZ | B35: 숫자 | C35: 1 | D35: 노임할증계수(해상장비:주야간)
A36: QDECPLA | B36: 문자 | C36: 1 | D36: 노임단가소숫점
A37: QDECCLA | B37: 문자 | C37: 1 | D37: 노임금액소숫점
A38: QDECLA | B38: 문자 | C38: 0 | D38: 노임계금액소숫점
A39: QMINC2 | B39: 숫자 | C39: 1.11 | D39: 재료비할증계수(야간)
A40: QMINC3 | B40: 숫자 | C40: 1.12 | D40: 재료비할증계수(주야간)
...
