Workbook
Name _: "="
Name ____________END1: #REF!
Name ____________END2: #REF!
Name ___________CDT2: #REF!
Name ___________END3: #REF!
Name ___________END4: #REF!
Name ___________gap1: #REF!
Name ___________gap2: #REF!
Name ___________GO1: #REF!
Name ___________GO2: #REF!
Name ___________go3: #REF!
Name ___________ksg1: #REF!
Name ___________LP1: #REF!
Name ___________LP2: #REF!
Name ___________PE1: #REF!
Name ___________PE10: #REF!
Name ___________PE11: #REF!
Name ___________PE12: #REF!
Name ___________PE13: #REF!
Name ___________PE14: #REF!
Name ___________PE15: #REF!
Name ___________PE16: #REF!
Name ___________PE17: #REF!
Name ___________PE18: #REF!
Name ___________PE19: #REF!
Name ___________PE2: #REF!
Name ___________PE20: #REF!
Name ___________PE21: #REF!
Name ___________PE22: #REF!
Name ___________PE23: #REF!
Name ___________PE24: #REF!
Name ___________PE25: #REF!
Name ___________PE26: #REF!
Name ___________PE27: #REF!
Name ___________PE28: #REF!
Name ___________PE29: #REF!
Name ___________PE3: #REF!
Name ___________PE30: #REF!
Name ___________PE31: #REF!
Name ___________PE32: #REF!
Name ___________PE33: #REF!
Name ___________PE34: #REF!
Name ___________PE35: #REF!
Name ___________PE36: #REF!
Name ___________PE37: #REF!
Name ___________PE38: #REF!
Name ___________PE39: #REF!
Name ___________PE4: #REF!
Name ___________PE40: #REF!
Name ___________PE41: #REF!
Name ___________PE42: #REF!
Name ___________PE43: #REF!
Name ___________PE44: #REF!
Name ___________PE45: #REF!
Name ___________PE46: #REF!
Name ___________PE47: #REF!
Name ___________PE48: #REF!
Name ___________PE49: #REF!
Name ___________PE5: #REF!
Name ___________PE50: #REF!

Sheet 필지내역서
A1: 필 지 내 역 서
A3: 계획구 | B3: 임반 | C3: 소반 | D3: 사 업 대 상 지 | I3: 지적면적 | K3: 사업내역 | P3: 산림기능구분
K4: 구 분 | L4: 사업면적 | M4: 솎아베기 | N4: 산물수집 | O4: 임내정리
D5: 읍·면·동 | E5: 리 | F5: 지번 | G5: 지목 | H5: 소유구분 | I5: (㎡) | J5: (ha) | L5: (ha) | M5: (ha) | N5: (ha) | O5: (ha)
A6: 양촌 | B6: 1-0 | C6: 1-0 | D6: 양촌 | E6: 산직 | F6: 산2-1 | G6: 임 | H6: 개인 | I6: 456750 | J6: 45.675 | K6: 핵심구역 | L6: 3.2 | M6: 3.2 | N6: 3.2 | O6: 0 | P6: 목재생산림
C7: 소반계 | F7: 1 | I7: 456750 | J7: 45.675 | L7: 3.2 | M7: 3.2 | N7: 3.2 | O7: 0
C8: 2-0 | D8: 양촌 | E8: 산직 | F8: 산2-1 | G8: 임 | H8: 개인 | I8: 456750 | J8: 45.675 | K8: 일반구역 | L8: 16.8 | M8: 16.8 | N8: 0 | O8: 4.7 | P8: 목재생산림
C9: 소반계 | F9: 1 | I9: 456750 | J9: 45.675 | L9: 16.8 | M9: 16.8 | N9: 0 | O9: 4.7
A10: 임반계 | F10: 1 | I10: 456750 | J10: 45.675 | L10: 20 | M10: 20 | N10: 3.2 | O10: 4.7
A11: 총계 | F11: 1 | I11: 456750 | J11: 45.675 | L11: 20 | M11: 20 | N11: 3.2 | O11: 4.7

Sheet 원가계산서
A1: 원 가 계 산 서
A4: 비 목 | E4: 금 액 | G4: 적 용 기 준 | K4: 비 고
E5: (원) | G5: 적 용 방 법 | J5: 요 율
A6: 순 공 사 비 | B6: 재료비 | C6: 직접재료비 | G6: 주재료비+잡품
C7: 간접재료비
C8: 소계
B9: 노무비 | C9: 직접노무비
C10: 간접노무비 | G10: 직접노무비× | J10: 0.184 | K10: 조달청 토목공사 원가계산 제비율 적용(조경부문)
C11: 소계
B12: 경 비 | C12: 기계경비 | G12: 기계손료×장비단가
C13: 산업재해보상보험료 | G13: 노무비× | J13: 0.0586 | K13: 관계법령의 보험요율
C14: 고용보험료 | G14: 노무비× | J14: 0.0115 | K14: 관계법령의 보험요율
C15: 국민건강보험료 | G15: 직접노무비× | J15: 0.03595 | K15: 공사기간 30일 이상 적용
C16: 국민연금보험료 | G16: 직접노무비× | J16: 0.0475 | K16: 공사기간 30일 이상 적용
C17: 노인장기보험료 | G17: 건강보험료× | J17: 0.1314 | K17: 공사기간 30일 이상 적용
C18: 산업안전보건관리비 | G18: (재료비+직접노무비)× | J18: 0.0315 | K18: 총공사비 2천만원 이상 적용
C19: 기타경비 | G19: (재료비+노무비)× | J19: 0.049 | K19: 조달청 토목공사 원가계산 제비율 적용(조경부문)
C20: 석면분담금 | G20: 노무비× | J20: 6e-05 | K20: 모든 건설공사에 적용
C21: 임금채권부담금 | G21: 노무비× | J21: 0.0009 | K21: 모든 건설공사에 적용
C22: 소계
A23: 일반관리비 | G23: (재료비+노무비+경비)× | J23: 0.08 | K23: 조달청 토목공사 원가계산 제비율 적용(조경부문)
A24: 이윤 | G24: (노무비+경비+일반관리비)× | J24: 0.15 | K24: 조달청 토목공사 원가계산 제비율 적용
A25: 총원가
A26: 부가가치세 | G26: 총원가× | J26: 0.1 | K26: 부가가치세법
A27: 도급공사비 | G27: 천원단위미만 절사
A28: 관급자재비 | G28: 천원단위미만 절상
A29: 총공사비

Sheet 설계내역서(총괄)
A1: 설 계 내 역 서
A2: - 총 괄 -
A4: 구분 | C4: 수량 | D4: 단위 | E4: 계 | G4: 노무비 | I4: 재료비 | K4: 경비 | M4: 비고
E5: 금액 | G5: 금액 | I5: 금액 | K5: 금액
A6: 솎아베기 | C6: 20 | D6: ha
A8: 산물수집(기계+인력) | C8: 3.2 | D8: ha
A10: 산물 임내정리 | C10: 4.7 | D10: ha
A12: 산물 소운반 | C12: 3.2 | D12: ha
A14: 기계화작업로 개설 및 복구 | C14: 310 | D14: m
A28: 총계

Sheet 작업로 설계내역서
A1: 설 계 내 역 서
A2: - 기계화작업로 개설 -
A4: 기계화작업로 개설
A5: 구분 | D5: 작업량 | F5: 단위품 | H5: 소요품 | J5: 단가 | L5: 계
F6: (인원, 수량, 요율) | H6: (인원, 수량, 요율)
A7: 단 위 작 업 별 | B7: 단위작업 | E7: 단위 | G7: 단위 | I7: 단위 | K7: 종류
B8: □ 기계화작업로 개설
B9: ▷ 직접노무비 | D9: ='작업로 수량산출서'!C10 -> 640 | E9: m | J9: =#REF! -> #REF! | K9: 원/m | L9: =TRUNC(D9*J9,0) -> #REF!
B10: ▷ 재료비 | D10: ='작업로 수량산출서'!C10 -> 640 | E10: m | J10: =#REF! -> #REF! | K10: 원/m | L10: =TRUNC(D10*J10,0) -> #REF!
B11: ▷ 경비 | D11: ='작업로 수량산출서'!C10 -> 640 | E11: m | J11: =#REF! -> #REF! | K11: 원/m | L11: =TRUNC(D11*J11,0) -> #REF!
B13: □ 기계화작업로 복구 | D13: 개설비의 50%
B14: ▷ 직접노무비 | D14: =D9 -> 640 | E14: m | J14: =J9/2 -> #REF! | K14: 원/m | L14: =TRUNC(D14*J14,0) -> #REF!
B15: ▷ 재료비 | D15: =D10 -> 640 | E15: m | J15: =J10/2 -> #REF! | K15: 원/m | L15: =TRUNC(D15*J15,0) -> #REF!
B16: ▷ 경비 | D16: =D11 -> 640 | E16: m | J16: =J11/2 -> #REF! | K16: 원/m | L16: =TRUNC(D16*J16,0) -> #REF!
A17: 합 계 | B17: 순 원 가 | L17: =SUM(L18:L20) -> #REF!
B18: □ 직접노무비 | L18: =L9+L14 -> #REF!
B19: □ 재료비 | L19: =L10+L15 -> #REF!
B20: □ 경비(기계경비) | L20: =L11+L16 -> #REF!

Sheet 중하층 단가산출서
A1: 중ㆍ하층가꾸기 단가산출서(삭제)
A3: 사업소재지 | D3: 임천면 군사리 산1-2 외 1필지 | H3: 임ㆍ소반명 | K3: 임천임반 1소반
A4: 사업면적 | D4: 3 | F4: ha
A5: 중ㆍ하층가꾸기 단가산출서
A6: 구분 | D6: 작업량 | F6: 단위품 | H6: 밀도 | I6: 소요품 | J6: 단가 | L6: 계
F7: (인원, 수량, 요율) | H7: 비율
A8: 단 위 작 업 별 | B8: 단위작업 | E8: 단위 | G8: 단위 | H8: (%) | K8: 종류
B9: □ 중ㆍ하층가꾸기
B10: ▷ 직접노무비 | D10: 1 | E10: ha | F10: 4.5 | G10: 인/ha | H10: 0.8 | I10: =ROUND((D10*F10)*H10,2) -> 3.6 | J10: =(#REF!*0.5)+(#REF!*0.5) -> #REF! | K10: 특별인부 0.5 | L10: 0
K11: 보통인부 0.5 | L11: 0
B13: ▷ 재료비 | L13: 0
B14: ㆍ 주재료 | D14: =I10/2 -> 1.8 | E14: 대/ha | F14: 5.6 | G14: ℓ/일, 대 | H14: =ROUND(D14*F14,2) -> 10.08 | J14: =#REF! -> #REF! | K14: 원/ℓ | L14: 0
B15: ㆍ 잡품 | D15: =L14 -> 0 | E15: 원 | F15: 95 | G15: % | L15: 0
L16: 0
B17: ▷ 경비 | L17: 0
B18: ㆍ 기계경비 | D18: =I10/2 -> 1.8 | E18: 대/ha | F18: 0.0084 | G18: 1대 2인 | J18: 900000 | K18: 원/대 | L18: 0
L19: 0
L20: 0
A23: 합 계 | B23: 순 원 가 | L23: =SUM(L24:L26) -> 0
B24: □ 직접노무비 | L24: =L10 -> 0
B25: □ 재료비 | L25: =L13 -> 0
B26: □ 경비(기계경비) | L26: =L17 -> 0

Sheet 산물수집(기계) 단가산출서
A1: 산물 수집 단가산출서
A3: 사업소재지 | D3: 임천면 군사리 산1-2 외 1필지 | H3: 임ㆍ소반명 | K3: 임천임반 1소반
A4: 사업면적 | D4: 3 | F4: ha
A5: 산물 수집 단가산출서 - 기계장비(원목)
A6: 구분 | D6: 작업량 | F6: 단위품 | H6: 소요품 | I6: 단가 | K6: 할인 ㆍ 할증 | L6: 계
F7: (인원, 수량, 요율)
A8: 단 위 작 업 별 | B8: 단위작업 | E8: 단위 | G8: 단위 | J8: 종류
B9: □ 트랙터 집재
B10: ▷ 직접노무비 | D10: =#REF! -> #REF! | E10: ㎥/ha | F10: =E57 -> 20.07 | G10: ㎥/조 | H10: =ROUND(D10/F10,2) -> #REF! | I10: =#REF!+#REF!+#REF! -> #REF! | J10: 운전기사 1 | K10: =I69 -> 0.1 | L10: =TRUNC((H10*I10*(K10+100%)),0) -> #REF! | M10: 70.16
J11: 특별인부 1
J12: 보통인부 1
B14: ▷ 재료비 | L14: =SUM(L15:L16) -> #REF!
B15: ㆍ 주재료 | D15: =H10 -> #REF! | E15: 대 | F15: 20.8 | G15: ℓ/일 | H15: =ROUND(D15*F15,2) -> #REF! | I15: =#REF! -> #REF! | J15: 원/ℓ | L15: =TRUNC((H15*I15*(K15+100%)),0) -> #REF!
B16: ㆍ 잡품 | D16: =L15 -> #REF! | E16: 원 | F16: 30 | G16: % | L16: =TRUNC(D16*F16%,0) -> #REF!
B18: ▷ 경비 | L18: =SUM(L19) -> 0
B19: ㆍ 기계경비 | D19: =H10 -> #REF! | E19: 대 | F19: 0.0008 | I19: 55000000 | J19: 원/대 | L19: 0
B21: □ 규격재 조재
B22: ▷ 직접노무비 | D22: =#REF! -> #REF! | E22: ㎥/ha | F22: 60 | G22: ㎥/인 | H22: =ROUND(D22/D4/F22,2) -> #REF! | I22: =#REF! -> #REF! | J22: 특별인부 1 | L22: =TRUNC((H22*I22*(K22+100%)),0) -> #REF!
B23: 전간
B25: ▷ 재료비 | L25: =SUM(L26:L27) -> #REF!
B26: ㆍ 주재료 | D26: =H22 -> #REF! | E26: 대 | F26: 5.6 | G26: ℓ/일, 대 | H26: =ROUND(D26*F26,2) -> #REF! | I26: =#REF! -> #REF! | J26: 원/ℓ | L26: =TRUNC((H26*I26*(K26+100%)),0) -> #REF!
B27: ㆍ 잡품 | D27: =L26 -> #REF! | E27: 원 | F27: 95 | G27: % | L27: =TRUNC(D27*F27%,0) -> #REF!
B29: ▷ 경비 | L29: =SUM(L30) -> #REF!
B30: ㆍ 기계경비 | D30: =H22 -> #REF! | E30: 대 | F30: 0.0084 | I30: 900000 | J30: 원/대 | L30: =TRUNC(D30*F30*I30,0) -> #REF!
B32: □ 우드그랩 집적
B33: ▷ 직접노무비 | D33: =#REF! -> #REF! | E33: ㎥/ha | F33: =E62 -> 33.55 | G33: ㎥/조 | H33: =ROUND(D33/F33,2) -> #REF! | I33: =#REF! -> #REF! | J33: 운전기사 1 | L33: =TRUNC((H33*I33*(K33+100%)),0) -> #REF!
B35: ▷ 재료비 | L35: =SUM(L36:L37) -> #REF!
B36: ㆍ 주재료 | D36: =H33 -> #REF! | E36: 대 | F36: 20.8 | G36: ℓ/일, 대 | H36: =ROUND(D36*F36,2) -> #REF! | I36: =#REF! -> #REF! | J36: 원/ℓ | L36: =TRUNC((H36*I36*(K36+100%)),0) -> #REF!
B37: ㆍ 잡품 | D37: =L36 -> #REF! | E37: 원 | F37: 30 | G37: % | L37: =TRUNC(D37*F37%,0) -> #REF!
B39: ▷ 경비 | L39: =SUM(L40) -> 0
B40: ㆍ 기계경비 | D40: =H33 -> #REF! | E40: 대 | F40: 0.0015 | I40: =#REF!+#REF! -> #REF! | J40: 원/대 | L40: 0
A42: 합 계 | B42: 순 원 가 | L42: =SUM(L43:L45) -> #REF!
B43: □ 직접노무비 | L43: =L10+L22+L33 -> #REF!
B44: □ 재료비 | L44: =L14+L25+L35 -> #REF!
B45: □ 경비(기계경비) | L45: =L18+L29+L39 -> #REF!
A47: 참 고 사 항
B48: □ ha 당 작업량
B49: ▷ 산물 수집량 산출(㎥/ha)
C50: 산물 수집량(㎥/ha) | I50: 원목단재적 | J50: 평균 직경
C51: 원목 수집량 | E51: 미이용 산물 수집량 | G51: 총 산물 수집량
...

Sheet 산물수집(인력) 단가산출서
A1: 산물 수집 단가산출서
A3: 사업소재지 | D3: 임천면 군사리 산1-2 외 1필지 | H3: 임ㆍ소반명 | K3: 임천임반 1소반
A4: 사업면적 | D4: 3 | F4: ha
A5: 산물 수집 단가산출서 - 인력(미이용)
A6: 구분 | D6: 작업량 | F6: 단위품 | H6: 소요품 | I6: 단가 | K6: 할인 ㆍ 할증 | L6: 계
F7: (인원, 수량, 요율)
A8: 단 위 작 업 별 | B8: 단위작업 | E8: 단위 | G8: 단위 | J8: 종류
B9: □ 산물수집
B10: ▷ 직접노무비 | D10: =G23 -> #REF! | E10: ㎥/ha | F10: =E28 -> 2.36 | G10: 인/일 | H10: =ROUND(D10/F10,2) -> #REF! | I10: =#REF! -> #REF! | J10: 보통인부 | K10: =I35 -> 0.2 | L10: =TRUNC((H10*I10*(K10+100%)),0) -> #REF!
B11: 인력수집
A13: 합 계 | B13: 순 원 가 | L13: =SUM(L14:L16) -> #REF!
B14: □ 직접노무비 | L14: =L10 -> #REF!
B15: □ 재료비 | L15: 0
B16: □ 경비(기계경비) | L16: 0
A18: 참 고 사 항
B19: □ ha 당 작업량
B20: ▷ 산물 수집량 산출(㎥/ha)
C21: 미이용 산물량(㎥/ha) | I21: 제거목 평균 흉고직경
C22: 자투리나무량 | E22: 지조량 | G22: 소계
C23: =#REF! -> #REF! | E23: =#REF! -> #REF! | G23: =C23+E23 -> #REF! | I23: 18
B25: ▷ ha 당 소요인력 적용
B26: ㆍ 간벌재 직경 적용기준 : | E26: =I23 -> 18
B27: ㆍ 집재거리 적용기준 : | E27: 40m 이하
B28: ㆍ ha당 소요인력 산출 : | E28: =INDEX(산물수집!$B$6:$I$10,MATCH(E27,산물수집!$A$6:$A$10),MATCH(E26,산물수집!$B$5:$I$5,0)) -> 2.36
B30: □ 할인ㆍ할증률 산정
B31: ▷ 할인ㆍ할증 적용 내용
C32: 구분 | F32: 할인ㆍ할증 조사내용 | I32: 할인ㆍ할증률
C33: 경사도 | F33: 중(15-30°) | I33: =VLOOKUP(F33,할인할증품셈!$F$5:$G$8,2,FALSE) -> 0.05
C34: 중ㆍ하층목 분포 밀도 | F34: 밀(61-80%) | I34: =VLOOKUP(F34,[98]할인할증품셈!$M$4:$N$9,2,FALSE) -> 0.15
C35: 총계 | I35: =SUM(I33:J34) -> 0.2

Sheet 산물파쇄 단가산출서
A1: 산물 파쇄 단가산출서
A3: 사업소재지 | D3: 임천면 군사리 산1-2 외 1필지 | H3: 임ㆍ소반명 | K3: 임천임반 1소반
A4: 사업면적 | D4: 3 | F4: ha
A5: 산물 파쇄 단가산출서 - 미이용
A6: 구분 | D6: 작업량 | F6: 단위품 | H6: 소요품 | I6: 단가 | K6: 계
F7: (인원, 수량, 요율)
A8: 단 위 작 업 별 | B8: 단위작업 | E8: 단위 | G8: 단위 | J8: 종류
B9: □ 산물 파쇄
B10: ▷ 직접노무비 | D10: =E28 -> #REF! | E10: ㎥/ha | F10: 28 | G10: ㎥/조 | H10: =ROUND(D10/F10,2) -> #REF! | I10: =#REF!+#REF!+#REF! -> #REF! | J10: 운전기사 1 | K10: 0
J11: 보통인부 2 | K11: 0
K12: 0
B13: ▷ 재료비 | K13: 0
B14: ㆍ 주재료 | D14: =H10 -> #REF! | E14: 대 | F14: 13.5 | G14: ℓ/일 | H14: =ROUND(D14*F14,2) -> #REF! | I14: =#REF! -> #REF! | J14: 원/ℓ | K14: 0
B15: ㆍ 잡품 | D15: =K14 -> 0 | E15: 원 | F15: 16 | G15: % | K15: 0
K16: 0
B17: ▷ 경비 | K17: 0
B18: ㆍ 기계경비 | D18: =H10 -> #REF! | E18: 대 | F18: 0.00268 | I18: 135941000 | J18: 원/대 | K18: 0
K19: 0
A20: 합 계 | B20: 순 원 가 | K20: 0
B21: □ 직접노무비 | K21: 0
B22: □ 재료비 | K22: 0
B23: □ 경비(기계경비) | K23: 0
K24: 0
A25: 참 고 사 항
B26: □ ha 당 작업량
B27: ▷ 미이용 산물 파쇄량 산출
B28: ㆍ ha당 수량 산출 : | E28: =#REF! -> #REF!
B30: □ 적용 기계장비
B31: ▷ 임목파쇄기(93.25 Kw)
B32: ㆍ 건설기계운전기사 1인 + 보통인부 2인 = 3인 1조

Sheet 어린나무 단가산출서
A1: 어린나무가꾸기 단가산출서
A3: 사업소재지 | D3: 임천면 군사리 산1-2 | H3: 임ㆍ소반명 | J3: 임천임반 3소반
A4: 사업면적 | D4: 0.83 | F4: ha
A5: 어린나무가꾸기 단가산출서
A6: 구분 | D6: 작업량 | F6: 단위품 | H6: 소요품 | I6: 단가 | K6: 할인 ㆍ 할증 | L6: 계
F7: (인원, 수량, 요율)
A8: 단 위 작 업 별 | B8: 단위작업 | E8: 단위 | G8: 단위 | J8: 종류
B9: □ 어린나무가꾸기
B10: ▷ 직접노무비 | D10: 1 | E10: ha | F10: 6 | G10: 인/ha | H10: =ROUND((D10*F10),2) -> 6 | I10: =(#REF!*0.5)+(#REF!*0.5) -> #REF! | J10: 특별인부 0.5 | K10: =I36 -> 0.25 | L10: =TRUNC(H10*I10*(K10+100%),0) -> #REF!
B11: 유령림 단계 | J11: 보통인부 0.5
B13: ▷ 재료비 | L13: =SUM(L14:L15) -> #REF!
B14: ㆍ 주재료 | D14: =H10/2 -> 3 | E14: 대/ha | F14: =5.6 -> 5.6 | G14: ℓ/일, 대 | H14: =ROUND((D14*F14),2) -> 16.8 | I14: =#REF! -> #REF! | J14: 원/ℓ | L14: =TRUNC(H14*I14,0) -> #REF!
B15: ㆍ 잡품 | D15: =L14 -> #REF! | E15: 원 | F15: 95 | G15: % | L15: =TRUNC(D15*F15%,0) -> #REF!
B17: ▷ 경비 | L17: =SUM(L18) -> 22680
B18: ㆍ 기계경비 | D18: =H10/2 -> 3 | E18: 대/ha | F18: 0.0084 | G18: 1대 2인 | I18: 900000 | J18: 원/대 | L18: =TRUNC(D18*F18*I18,0) -> 22680
A23: 합 계 | B23: 순 원 가 | L23: =SUM(L24:L26) -> #REF!
B24: □ 직접노무비 | L24: =L10 -> #REF!
B25: □ 재료비 | L25: =L13 -> #REF!
B26: □ 경비(기계경비) | L26: =L17 -> 22680
A28: 참 고 사 항
B29: □ 할인ㆍ할증률 산정
B30: ▷ 할인ㆍ할증 적용 내용
C31: 구분 | F31: 할인ㆍ할증 조사내용 | I31: 할인ㆍ할증률
C32: 경사도 | F32: 중(15-30°) | I32: =VLOOKUP(F32,할인할증품셈!$F$5:$G$8,2,FALSE) -> 0.05
C33: 집단화 정도 | F33: 개소당 3ha 이상 | I33: 0
C34: 작업시기 | F34: 10월 - 12월 | I34: 0
C35: 제거대상 피복도 | F35: 밀(임지의 71% 이상 분포) | I35: 0.2
C36: 총계 | I36: =SUM(I32:K35) -> 0.25
B38: □ 적용 기준
B39: ▷ 어린나무가꾸기 유령림 단계 적용
B40: ㆍ 대나무류 제거를 위한, 현지 조사 결과, 유령림 단계 제거 작업 적용, 제거대상식생(밀) 적용

Sheet 산물소운반(핵심)
A1: 산물 소운반 단가산출서 (핵심구역)
A3: 산물 소운반 단가산출서 | P3: 횡단경사별 절성토량
A4: 산 출 내 역
A5: 산 출 근 거 | P5: ※ 노폭 : 2.50m / 편구배 : -4% 적용
B6: 1. 산물 상차
P7: 횡단경사별 | Q7: 절ㆍ성토량
B8: - 적 용 기 계 장 비 : | D8: =#REF! -> #REF! | P8: 0.1 | Q8: 0.13
P9: 0.15 | Q9: 0.18
B10: - 작 업 방 법 : | D10: 산물 집적 및 상차 | P10: 0.2 | Q10: 0.24
P11: 0.25 | Q11: 0.31
B12: - 기 준 | P12: 0.3 | Q12: 0.39
B13: ㆍ 입목단위중량 : | D13: 0.85 | E13: ton/㎥ | P13: 0.35 | Q13: 0.6
P14: 0.4 | Q14: 0.88
B15: - 산 출 식 : | D15: Q = 3,600 × q × K × f × (E1 ÷ Cm1) = | H15: =ROUND(3600*G16*M16*J16*(C17/F17),2) -> 22.44 | I15: ton/hr
B16: ㆍ q : | C16: 0.2 | D16: × | E16: =D13 -> 0.85 | F16: = | G16: =C16*E16 -> 0.17 | I16: ㆍ f : | J16: 1 | L16: ㆍ K : | M16: 1.1 | P16: f 값 | Q16: 모래 | R16: 모래진흙(보통토) | S16: 역이섞인점질 | T16: 점질토 | U16: 호박돌점질토 | V16: 연암 | W16: 연암보통암 | X16: 다양함
B17: ㆍ E1 : | C17: 0.6 | E17: ㆍ Cm1 : | F17: 18 | G17: sec(135˚) | Q17: 0.87 | R17: 0.8 | S17: 0.74 | T17: 0.77 | U17: 0.71 | V17: 0.71 | W17: 0.63 | X17: 0.74
B19: - 산 출 내 용 :
B20: ㆍ q : | C20: 시간당 작업량(㎥/hr) | F20: ㆍ f : | G20: 토량 체적 환산계수 | J20: ㆍ K : | K20: 버킷계수
B21: ㆍ E1 : | C21: 작업효율 | F21: ㆍ Cm1 : | G21: 1회 사이클 시간(초)
B23: - 산 출 금 액 : | D23: =H24 -> #REF! | E23: + | F23: =H25 -> #REF! | G23: + | H23: =H26 -> #REF! | I23: = | J23: =D23+F23+H23 -> #REF! | K23: 원
B24: ㆍ 노 무 비 : | D24: =#REF! -> #REF! | E24: ÷ | F24: =H15 -> 22.44 | G24: = | H24: =TRUNC((D24/F24),0) -> #REF! | I24: 원
B25: ㆍ 재 료 비 : | D25: =#REF! -> #REF! | E25: ÷ | F25: =H15 -> 22.44 | G25: = | H25: =TRUNC((D25/F25),0) -> #REF! | I25: 원
B26: ㆍ 경 비 : | D26: =#REF! -> #REF! | E26: ÷ | F26: =H15 -> 22.44 | G26: = | H26: =TRUNC((D26/F26),0) -> #REF! | I26: 원
A28: 산물 소운반 단가산출서 | P28: 횡단경사별 절성토량
A29: 산 출 내 역
A30: 산 출 근 거
B31: 2. 산물 소운반
B33: - 적 용 기 계 장 비 : | D33: =#REF!&"("&#REF!&")" -> #REF!
B35: - 작 업 방 법 : | D35: 산물 소운반
B37: - 기 준
B38: ㆍ 입목단위중량 : | D38: =D13 -> 0.85 | E38: ton/㎥ | G38: ㆍ 운 반 거 리 : | I38: ='작업로 수량산출서'!E25/1000 -> 0.225 | J38: km
B40: - 산 출 식 : | D40: Q = 60 × q × f × (E ÷ Cm) = | G40: =ROUND(60*C41*I41*(F41/M44),2) -> 7.44 | H40: ton/hr
B41: ㆍ q : | C41: 2.5 | E41: ㆍ E : | F41: 0.6 | H41: ㆍ f : | I41: 1 | K41: ㆍ K : | L41: 1.1
B42: ㆍ q1 : | C42: 0.2 | D42: × | E42: =D38 -> 0.85 | F42: = | G42: =C42*E42 -> 0.17 | I42: ㆍ n : | J42: q ÷ (q1 × K) = | L42: =C41/(G42*L41) -> 13.368984 | M42: 회
B43: ㆍ t1 : | C43: Cm1 × n ÷ (60 × E1) = | F43: =F17*L42/(60*C17) -> 6.684492 | G43: 분 | I43: ㆍ t2 : | J43: (L ÷ 7 + L ÷ 8) × 60 = | M43: =(I38/7+I38/8)*60 -> 3.6160714 | N43: 분
B44: ㆍ t3 : | C44: 1.1 | D44: 분 | F44: ㆍ t4 : | G44: 0.7 | H44: 분 | J44: ㆍ Cm : | K44: t1 + t2 + t3 + t4 = | M44: =F43+M43+C44+G44 -> 12.100563 | N44: 분
B46: - 산 출 내 용 :
B47: ㆍ q : | C47: 흐트러진 상태의 토사 1회 적재량 | F47: ㆍ f : | G47: 토량 체적 환산계수 | J47: ㆍ K : | K47: 버킷계수
B48: ㆍ E : | C48: 작업효율 | F48: ㆍ Cm : | G48: 1회 사이클 시간(분) | J48: ㆍ t1 : | K48: 적재시간(분)
B49: ㆍ t2 : | C49: 왕복시간(분) | F49: ㆍ t3 : | G49: 적하시간(분) | J49: ㆍ t4 : | K49: 대기시간(분)
...

Sheet 산물소운반(일반)
A1: 산물 소운반 단가산출서 (핵심구역)
A3: 산물 소운반 단가산출서 | P3: 횡단경사별 절성토량
A4: 산 출 내 역
A5: 산 출 근 거 | P5: ※ 노폭 : 2.50m / 편구배 : -4% 적용
B6: 1. 산물 상차
P7: 횡단경사별 | Q7: 절ㆍ성토량
B8: - 적 용 기 계 장 비 : | D8: =#REF! -> #REF! | P8: 0.1 | Q8: 0.13
P9: 0.15 | Q9: 0.18
B10: - 작 업 방 법 : | D10: 산물 집적 및 상차 | P10: 0.2 | Q10: 0.24
P11: 0.25 | Q11: 0.31
B12: - 기 준 | P12: 0.3 | Q12: 0.39
B13: ㆍ 입목단위중량 : | D13: 0.85 | E13: ton/㎥ | P13: 0.35 | Q13: 0.6
P14: 0.4 | Q14: 0.88
B15: - 산 출 식 : | D15: Q = 3,600 × q × K × f × (E1 ÷ Cm1) = | H15: =ROUND(3600*G16*M16*J16*(C17/F17),2) -> 22.44 | I15: ton/hr
B16: ㆍ q : | C16: 0.2 | D16: × | E16: =D13 -> 0.85 | F16: = | G16: =C16*E16 -> 0.17 | I16: ㆍ f : | J16: 1 | L16: ㆍ K : | M16: 1.1 | P16: f 값 | Q16: 모래 | R16: 모래진흙(보통토) | S16: 역이섞인점질 | T16: 점질토 | U16: 호박돌점질토 | V16: 연암 | W16: 연암보통암 | X16: 다양함
B17: ㆍ E1 : | C17: 0.6 | E17: ㆍ Cm1 : | F17: 18 | G17: sec(135˚) | Q17: 0.87 | R17: 0.8 | S17: 0.74 | T17: 0.77 | U17: 0.71 | V17: 0.71 | W17: 0.63 | X17: 0.74
B19: - 산 출 내 용 :
B20: ㆍ q : | C20: 시간당 작업량(㎥/hr) | F20: ㆍ f : | G20: 토량 체적 환산계수 | J20: ㆍ K : | K20: 버킷계수
B21: ㆍ E1 : | C21: 작업효율 | F21: ㆍ Cm1 : | G21: 1회 사이클 시간(초)
B23: - 산 출 금 액 : | D23: =H24 -> #REF! | E23: + | F23: =H25 -> #REF! | G23: + | H23: =H26 -> #REF! | I23: = | J23: =D23+F23+H23 -> #REF! | K23: 원
B24: ㆍ 노 무 비 : | D24: =#REF! -> #REF! | E24: ÷ | F24: =H15 -> 22.44 | G24: = | H24: =TRUNC((D24/F24),0) -> #REF! | I24: 원
B25: ㆍ 재 료 비 : | D25: =#REF! -> #REF! | E25: ÷ | F25: =H15 -> 22.44 | G25: = | H25: =TRUNC((D25/F25),0) -> #REF! | I25: 원
B26: ㆍ 경 비 : | D26: =#REF! -> #REF! | E26: ÷ | F26: =H15 -> 22.44 | G26: = | H26: =TRUNC((D26/F26),0) -> #REF! | I26: 원
A28: 산물 소운반 단가산출서 | P28: 횡단경사별 절성토량
A29: 산 출 내 역
A30: 산 출 근 거
B31: 2. 산물 소운반
B33: - 적 용 기 계 장 비 : | D33: =#REF!&"("&#REF!&")" -> #REF!
B35: - 작 업 방 법 : | D35: 산물 소운반
B37: - 기 준
B38: ㆍ 입목단위중량 : | D38: =D13 -> 0.85 | E38: ton/㎥ | G38: ㆍ 운 반 거 리 : | I38: ='작업로 수량산출서'!E31/1000 -> 2.1175 | J38: km
B40: - 산 출 식 : | D40: Q = 60 × q × f × (E ÷ Cm) = | G40: =ROUND(60*C41*I41*(F41/M44),2) -> 2.12 | H40: ton/hr
B41: ㆍ q : | C41: 2.5 | E41: ㆍ E : | F41: 0.6 | H41: ㆍ f : | I41: 1 | K41: ㆍ K : | L41: 1.1
B42: ㆍ q1 : | C42: 0.2 | D42: × | E42: =D38 -> 0.85 | F42: = | G42: =C42*E42 -> 0.17 | I42: ㆍ n : | J42: q ÷ (q1 × K) = | L42: =C41/(G42*L41) -> 13.368984 | M42: 회
B43: ㆍ t1 : | C43: Cm1 × n ÷ (60 × E1) = | F43: =F17*L42/(60*C17) -> 6.684492 | G43: 분 | I43: ㆍ t2 : | J43: (L ÷ 7 + L ÷ 8) × 60 = | M43: =(I38/7+I38/8)*60 -> 34.03125 | N43: 분
B44: ㆍ t3 : | C44: 1.1 | D44: 분 | F44: ㆍ t4 : | G44: 0.7 | H44: 분 | J44: ㆍ Cm : | K44: t1 + t2 + t3 + t4 = | M44: =F43+M43+C44+G44 -> 42.515742 | N44: 분
B46: - 산 출 내 용 :
B47: ㆍ q : | C47: 흐트러진 상태의 토사 1회 적재량 | F47: ㆍ f : | G47: 토량 체적 환산계수 | J47: ㆍ K : | K47: 버킷계수
B48: ㆍ E : | C48: 작업효율 | F48: ㆍ Cm : | G48: 1회 사이클 시간(분) | J48: ㆍ t1 : | K48: 적재시간(분)
B49: ㆍ t2 : | C49: 왕복시간(분) | F49: ㆍ t3 : | G49: 적하시간(분) | J49: ㆍ t4 : | K49: 대기시간(분)
...

Sheet 작업로 수량산출서
A1: 수량산출서
A2: - 기계화작업로 수량산출서 -
A4: 임ㆍ소반 | C4: 작업로 길이 | E4: 횡단경사 | G4: 집재거리 | I4: 비고
C5: (m) | E5: (%) | G5: (m)
A6: 임천-1 | C6: 270 | E6: 20 | G6: 40 | I6: - 지표면으로부터 50cm 미만으로 토공 작업 실시
I7: - 기존 산책로 활용
C8: 370 | E8: 30 | G8: 40 | I8: - 지표면으로부터 50cm 미만으로 토공 작업 실시
A10: 총 계 | C10: =SUM(C6:D9) -> 640 | E10: =30 -> 30 | G10: 0~40 m
A13: ※ 작업 유의사항
A14: - 기계화작업로 : 임업기계장비의 주행이 가능하도록 노폭 2.5m 내외로 개설한 작업로
A15: - 장비 집재거리는 작업로로부터 최대 집재거리를 적용
A18: - 운반거리 수량산출서 -
A20: 구 분 | B20: 노 선 명 | C20: 집재거리 | E20: 소운반거리 | G20: 적용기준
C21: (m) | E21: (m)
A22: 핵심구역 | B22: A1~A2 | C22: 50 | E22: 450 | G22: - 소운반거리는 A1~A2 구간의 도상 거리로 산출
G23: - 산물 수집 시, 중토장(B1) 까지 소운반 실시
A24: 적 용 값 | C24: 0~60 | E24: =SUM(E22) -> 450 | G24: - 작업로 상, 산물을 수집하는 지점이 상이하므로, 총 소운반거리의 50% 적용
E25: =E22/2 -> 225 | G25: - 장비 집재거리는 수집 가능한 지점부터 최대 집재거리를 적용
A26: 일반구역 | B26: A1~A2 | C26: 30 | E26: 1175 | G26: - 소운반거리는 A1~A2 구간의 도상 거리로 산출
G27: - 산물 수집 시, 임도변에서 수집을 실시하며, 수집 산물이 방치되지 않도록 전량 수집
B28: A2~A3 | C28: 0 | E28: 1530 | G28: - 소운반거리는 A2~A3 구간의 도상 거리로 산출
A30: 적 용 값 | C30: 0~40 | E30: =SUM(E26:F29) -> 2705 | G30: - A1~A2구간의 산물을 수집하는 지점이 상이하므로, 해당 구간 총 소운반거리는 50% 적용
E31: =(E26/2)+E28 -> 2117.5 | G31: - 장비 집재거리는 수집 가능한 지점부터 최대 집재거리를 적용

Sheet 소나무재선충병 확인서
A1: 소나무재선충병 미감염증상 확인서
A3: 사업명 | C3: =#REF! -> #REF! | G3: 사업면적 | I3: =#REF! -> #REF!
C4: =#REF! -> #REF!
A5: 위치 | C5: =#REF! -> #REF!
A7: 감염여부 | C7: □ 감 염 | G7: ■ 미 감 염
A9: 점검자 의견 | C9: 1. 점검방법 ㆍ 현장조사 시, 소나무류 재선충병 감염 확인 및 점검 실시. 2. 점검결과 ㆍ 전 사업대상지 소나무재선충병 미감염 확인. 3. 의견사항 ㆍ 전 사업대상지 소나무재선충병 미감염 확인되어, 본 사업 진행 시, 영향 이 없을 것으로 판단. ㆍ 사업 진행 간, 시공자는 수시로 감염목 발생 여부 점검 실시하며, 감염이 의심될 경우, 감리ㆍ감독에게 즉시 보고 후, 조치
A21: =C3&C4&" 사업대상지에 대한 소나무재선충병 미감영증상 여부를" -> #REF!
A22: 위와 같이 확인합니다.
A25: 2025년 02월
A28: 점 검 자 : 산림경영기술자 기술고급 박 규 현 ( 인 )

Sheet 설계적용 근거자료
A1: 설계적용 근거자료
A4: 조재율표(국립산림과학원)

Sheet 조재율표
A1: 흉고직경 | B1: 조재율(%)
A2: (cm) | B2: 강원지방소나무 | C2: 중부지방소나무 | D2: 잣나무 | E2: 낙엽송 | F2: 상수리나무 | G2: 신갈나무 | H2: 수종통합
A3: 2 | B3: 0 | C3: 0 | D3: 0 | E3: 0 | F3: 0 | G3: 0
A4: 4 | B4: 0 | C4: 0 | D4: 0 | E4: 0 | F4: 0 | G4: 0
A5: 6 | B5: 0 | C5: 0 | D5: 0 | E5: 0 | F5: 0 | G5: 0
A6: 8 | B6: 0 | C6: 0 | D6: 0 | E6: 0 | F6: 0 | G6: 0
A7: 10 | B7: 28.9 | C7: 24 | D7: 35.5 | E7: 28.2 | F7: 30.6 | G7: 38.3 | H7: 0.31
A8: 12 | B8: 48.9 | C8: 47.5 | D8: 55.4 | E8: 51.1 | F8: 50.9 | G8: 55 | H8: 0.51
A9: 14 | B9: 62.1 | C9: 62.5 | D9: 67.5 | E9: 65.5 | F9: 63.9 | G9: 65.4 | H9: 0.64
A10: 16 | B10: 70.3 | C10: 71.3 | D10: 74.7 | E10: 73.9 | F10: 71.8 | G10: 71.9 | H10: 0.72
A11: 18 | B11: 75.6 | C11: 76.6 | D11: 79.1 | E11: 78.9 | F11: 76.7 | G11: 76.1 | H11: 0.77
A12: 20 | B12: 79 | C12: 79.9 | D12: 81.9 | E12: 82 | F12: 79.8 | G12: 78.9 | H12: 0.8
A13: 22 | B13: 81.4 | C13: 82.1 | D13: 83.8 | E13: 84 | F13: 82 | G13: 80.8 | H13: 0.82
A14: 24 | B14: 83.1 | C14: 83.6 | D14: 85.1 | E14: 85.4 | F14: 83.4 | G14: 82.2 | H14: 0.84
A15: 26 | B15: 84.3 | C15: 84.7 | D15: 86 | E15: 86.4 | F15: 84.5 | G15: 83.2 | H15: 0.85
A16: 28 | B16: 85.3 | C16: 85.6 | D16: 86.8 | E16: 87.1 | F16: 85.3 | G16: 84 | H16: 0.86
A17: 30 | B17: 86.1 | C17: 86.3 | D17: 87.3 | E17: 87.7 | F17: 85.9 | G17: 84.7 | H17: 0.86
A18: 32 | B18: 86.7 | C18: 86.8 | D18: 87.8 | E18: 88.1 | F18: 86.5 | G18: 85.2 | H18: 0.87
... A32: 60 | B32: 90.7 | C32: 89.9 | D32: 90.9 | E32: 90.6 | F32: 89.2 | G32: 87.7 | H32: 0.9
A33: 62 | B33: 90.7 | C33: 89.9 | D33: 90.9 | E33: 90.6 | F33: 89.2 | G33: 87.7
A34: 64 | B34: 90.7 | C34: 89.9 | D34: 90.9 | E34: 90.6 | F34: 89.2 | G34: 87.7
A35: 66 | B35: 90.7 | C35: 89.9 | D35: 90.9 | E35: 90.6 | F35: 89.2 | G35: 87.7
A36: 68 | B36: 90.7 | C36: 89.9 | D36: 90.9 | E36: 90.6 | F36: 89.2 | G36: 87.7
A37: 70 | B37: 90.7 | C37: 89.9 | D37: 90.9 | E37: 90.6 | F37: 89.2 | G37: 87.7
A38: 72 | B38: 90.7 | C38: 89.9 | D38: 90.9 | E38: 90.6 | F38: 89.2 | G38: 87.7
A39: 74 | B39: 90.7 | C39: 89.9 | D39: 90.9 | E39: 90.6 | F39: 89.2 | G39: 87.7
A40: 76 | B40: 90.7 | C40: 89.9 | D40: 90.9 | E40: 90.6 | F40: 89.2 | G40: 87.7
A41: 78 | B41: 90.7 | C41: 89.9 | D41: 90.9 | E41: 90.6 | F41: 89.2 | G41: 87.7
A42: 80 | B42: 90.7 | C42: 89.9 | D42: 90.9 | E42: 90.6 | F42: 89.2 | G42: 87.7
A43: 82 | B43: 90.7 | C43: 89.9 | D43: 90.9 | E43: 90.6 | F43: 89.2 | G43: 87.7
A44: 84 | B44: 90.7 | C44: 89.9 | D44: 90.9 | E44: 90.6 | F44: 89.2 | G44: 87.7
... A52: 100 | B52: 90.7 | C52: 89.9 | D52: 90.9 | E52: 90.6 | F52: 89.2 | G52: 87.7
A53: 평균 | B53: 81.6 | C53: 81.4 | D53: 83.3 | E53: 82.9 | F53: 81.5 | G53: 80.9
A55: ※ 기타 침엽수는 중부지방소나무, 기타 활엽수는 신갈나무 적용

Sheet 산물수집
A1: 3. 산물수집
A2: 3-1. 인력집재
A3: 가. 소요인력(1인 1일당) | I3: (단위 : ㎥)
A4: 집재거리 | B4: 간벌재 직경(cm) | J4: 인력 구분
B5: 8 | C5: 10 | D5: 12 | E5: 14 | F5: 16 | G5: 18 | H5: 20 | I5: 22 이상
A6: 10m 이하 | B6: 2.02 | C6: 2.84 | D6: 3.51 | E6: 4.08 | F6: 4.82 | G6: 5.81 | H6: 6.95 | I6: 8.16 | J6: 보통인부
A7: 20m 이하 | B7: 1.4 | C7: 1.89 | D7: 2.32 | E7: 2.76 | F7: 3.36 | G7: 3.88 | H7: 4.53 | I7: 5.2
A8: 30m 이하 | B8: 1.1 | C8: 1.49 | D8: 1.84 | E8: 2.27 | F8: 2.71 | G8: 3.06 | H8: 3.51 | I8: 4.07
A9: 40m 이하 | B9: 0.88 | C9: 1.18 | D9: 1.45 | E9: 1.72 | F9: 2.09 | G9: 2.36 | H9: 2.8 | I9: 3.31
A10: 50m 이하 | B10: 0.74 | C10: 0.99 | D10: 1.22 | E10: 1.47 | F10: 1.76 | G10: 1.94 | H10: 2.3 | I10: 2.75

Sheet 할인할증품셈
A1: 1. 솎아베기(간벌) | E1: 2. 산물수집 | I1: 3. 경계표시 | M1: 4. 소나무류 피복도 | P1: 5. 트랙터 집재(국유림 매각기준 적용시)
P2: 집재거리 | Q2: 원목단재적 | AA2: 할인할증
A3: 1-1. 할인ㆍ할증요소 | E3: 2-1. 인력집재 | I3: 3-1. 할인ㆍ할증요소 | M3: 구분 | N3: 할인ㆍ할증 | Q3: 0.1 | R3: 0.2 | S3: 0.3 | T3: 0.4 | U3: 0.5 | V3: 0.6 | W3: 0.7 | X3: 0.8 | Y3: 0.9 | Z3: 1 | AA3: 집재방향 | AB3: 상향집재 | AC3: 0
A4: 구분 | B4: 내용 | C4: 할인ㆍ할증 | E4: 구분 | F4: 내용 | G4: 할인ㆍ할증 | I4: 구분 | J4: 내용 | K4: 할인ㆍ할증 | M4: 없음 | N4: 0 | P4: 30 m 이하 | Q4: 25.95 | R4: 40.63 | S4: 47.75 | T4: 50.68 | U4: 52.54 | V4: 56.2 | W4: 64.31 | X4: 72.11 | Y4: 79.63 | Z4: 86.88 | AB4: 하향집재 | AC4: 0.1
A5: 경사도 | B5: 완(15° 미만) | C5: 0 | E5: 경사도 | F5: 완(15° 미만) | G5: 0 | I5: 경사도 | J5: 완 | K5: 0 | M5: 20% 미만 | N5: 0.1 | P5: 31-50 m | Q5: 18.46 | R5: 29.09 | S5: 34.39 | T5: 36.71 | U5: 38.26 | V5: 41.14 | W5: 47.32 | X5: 53.33 | Y5: 59.18 | Z5: 64.86 | AB5: 상ㆍ하향집재 | AC5: 0.05
B6: 중(15-30°) | C6: 0.05 | F6: 중(15-30°) | G6: 0.05 | J6: 중 | K6: 0.05 | M6: 20-50% 미만 | N6: 0.2 | P6: 51-70 m | Q6: 15 | R6: 23.7 | S6: 28.1 | T6: 30.07 | U6: 31.43 | V6: 33.88 | W6: 39.07 | X6: 44.14 | Y6: 49.09 | Z6: 53.93
B7: 급(30° 초과) | C7: 0.1 | F7: 급(30° 초과) | G7: 0.1 | J7: 급 | K7: 0.1 | M7: 50% 이상 | N7: 0.3 | P7: 71 m 이상 | Q7: 13.6 | R7: 21.51 | S7: 25.53 | T7: 27.35 | U7: 28.62 | V7: 30.88 | W7: 35.65 | X7: 40.31 | Y7: 44.88 | Z7: 49.36
A8: 장애물 정도 | B8: 무릎높이 이하 | C8: -0.1 | F8: - | G8: 0
B9: 가슴높이 미만 | C9: 0 | E9: 장애물 정도 | F9: 무릎높이 이하 | G9: -0.1 | M9: 1ha 미만 | P9: 6. 우드그랩 집적
B10: 가슴높이 이상 | C10: 0.1 | F10: 가슴높이 미만 | G10: 0 | M10: 1-3ha 미만 | Q10: 9cm 이하 | R10: 10 - 15cm | S10: 16 - 20cm | T10: 21 - 25cm | U10: 26 - 30cm | V10: 30cm 초과
A11: 규격재 생산 | B11: 해당없음 | C11: 0 | F11: 가슴높이 이상 | G11: 0.1 | M11: 3ha 이상 | P11: 1.8 m | Q11: 25.39 | R11: 28.21 | S11: 31.35 | T11: 34.48 | U11: 37.93 | V11: 41.73
B12: 규격재 생산 | C12: 0.1 | F12: - | G12: 0 | P12: 2.1 m | Q12: 27.17 | R12: 30.19 | S12: 33.55 | T12: 36.89 | U12: 40.59 | V12: 44.65
P13: 2.7 m | Q13: 29.42 | R13: 32.63 | S13: 36.32 | T13: 39.94 | U13: 43.94 | V13: 48.33
A14: 3. 임내정리 | P14: 3.6 m | Q14: 33.44 | R14: 37.16 | S14: 41.29 | T14: 45.41 | U14: 49.96 | V14: 54.95
A15: 3-1. 할인ㆍ할증요소
A16: 구분 | B16: 내용 | C16: 할인ㆍ할증 | E16: 어린나무가꾸기 할증 | P16: 5. 트랙터 집재(숲가꾸기 품셈 적용시)
A17: 경사도 | B17: 완 | C17: 0 | E17: 집단화정도 | P17: 집재거리
B18: 중 | C18: 0.05 | Q18: 0.1-0.2 ㎥ | R18: 0.3-0.4 ㎥ | S18: 0.5 ㎥ 이상
B19: 급 | C19: 0.1 | P19: 0-40 m | Q19: 20.07 | R19: 20.69 | S19: 21.33
B20: - | C20: 0 | P20: 0-60 m | Q20: 17.61 | R20: 18.15 | S20: 18.71
P21: 0-80 m | Q21: 15.45 | R21: 15.92 | S21: 16.42
A22: 피복도 | B22: 없음 | C22: 0 | P22: 0-100 m | Q22: 13.55 | R22: 13.97 | S22: 14.4
B23: 20% 미만 | C23: 0.1
B24: 20-50% 미만 | C24: 0.2
B25: 50% 이상 | C25: 0.3
