Workbook
Name \a: #N/A
Name \c: #N/A
Name \d: #REF!
Name \f: #REF!
Name \q: #N/A
Name \r: #N/A
Name \s: #N/A
Name A: #REF!
Name D: #REF!
Name danga: '[1]danga'!$A$1:$M$235
Name ggg: #REF!
Name ilch: '[1]ilch'!$A$3:$M$25
Name L: #REF!
Name print: #REF!
Name sanch_2: #REF!
Name sanch_3: #REF!
Name sanch_4: #REF!
Name 가시나무R4: '[2]데이타'!$E$2
Name 가시나무R5: '[2]데이타'!$E$3
Name 가시나무R6: '[2]데이타'!$E$4
Name 가시나무R8: '[2]데이타'!$E$5
Name 가이즈까향1204: '[2]데이타'!$E$6
Name 가이즈까향1505: '[2]데이타'!$E$7
Name 가이즈까향2006: '[2]데이타'!$E$8
Name 가이즈까향2008: '[2]데이타'!$E$9
Name 가이즈까향2510: '[2]데이타'!$E$10
Name 가중나무B10: '[2]데이타'!$E$19
Name 가중나무B4: '[2]데이타'!$E$15
Name 가중나무B5: '[2]데이타'!$E$16
Name 가중나무B6: '[2]데이타'!$E$17
Name 가중나무B8: '[2]데이타'!$E$18
Name 감R10: '[2]데이타'!$E$24
Name 감R12: '[2]데이타'!$E$25
Name 감R15: '[2]데이타'!$E$26
Name 감R5: '[2]데이타'!$E$20
Name 감R6: '[2]데이타'!$E$21
Name 감R7: '[2]데이타'!$E$22
Name 감R8: '[2]데이타'!$E$23
Name 개나리12: '[2]데이타'!$E$31
Name 개나리3: '[2]데이타'!$E$27
Name 개나리5: '[2]데이타'!$E$28
Name 개나리7: '[2]데이타'!$E$29
Name 개나리9: '[2]데이타'!$E$30
Name 개쉬땅1204: '[2]데이타'!$E$32
Name 개쉬땅1506: '[2]데이타'!$E$33
Name 겹동백1002: '[2]데이타'!$E$145
Name 겹동백1204: '[2]데이타'!$E$146
Name 겹동백1506: '[2]데이타'!$E$147
Name 겹벗R6: '[2]데이타'!$E$34
Name 겹벗R8: '[2]데이타'!$E$35
Name 겹철쭉0304: '[2]데이타'!$E$36
Name 겹철쭉0506: '[2]데이타'!$E$37
Name 겹철쭉0608: '[2]데이타'!$E$38
Name 겹철쭉0810: '[2]데이타'!$E$39
Name 겹철쭉0812: '[2]데이타'!$E$40
Name 계수B5: '[2]데이타'!$E$41
Name 계수B6: '[2]데이타'!$E$42
Name 계수B8: '[2]데이타'!$E$43
Name 고광3: '[2]데이타'!$E$44
Name 고광5: '[2]데이타'!$E$45

Sheet 〓 목 차 〓
D1: =IF('〓 INITIAL 〓'!C4,"※※ 기본정보의 일부가 삭제되어 Stmate로 변환할 수 없습니다 ※※","") -> ※※ 기본정보의 일부가 삭제되어 Stmate로 변환할 수 없습니다 ※※
B2: 목 차 | D2: ※ 본 엑셀자료는 【STmate w26.07】버전 이상에서 STmate 자료로 다시 등록할 수 있습니다.
D3: 단, 임의로 수정한 내용(Sheet삭제, 산근내용변경, 기타계산식변경..)은 반영되지 않을 수 있습니다.
B4: 1. ※※안내※※ | D4: =HYPERLINK("#'※※안내※※'!A1","※※안내※※ →") -> ※※안내※※ →
B5: 2. 공사원가계산서 | D5: =HYPERLINK("#"&#REF!&"!A1","공사원가계산서 →") -> #REF!
B6: 3. 총괄설계내역서 | D6: =HYPERLINK("#"&#REF!&"!A1","총괄설계내역서 →") -> #REF!
B7: 4. 설계내역서 | D7: =HYPERLINK("#"&설계내역서!O2&"!A1","설계내역서 →") -> 설계내역서 →
B8: 5. 일위대가목록표 | D8: =HYPERLINK("#"&#REF!&"!A1","일위대가목록표 →") -> #REF!
B9: 6. 일위대가표 | D9: =HYPERLINK("#"&#REF!&"!A1","일위대가표 →") -> #REF!
B10: 7. 단가산출근거목록표 | D10: =HYPERLINK("#"&#REF!&"!A1","단가산출근거목록표 →") -> #REF!
B11: 8. 단가산출근거 | D11: =HYPERLINK("#"&#REF!&"!A1","단가산출근거 →") -> #REF!
B12: 9. 환율및기초자료 | D12: =HYPERLINK("#"&#REF!&"!A1","환율및기초자료 →") -> #REF!
B13: 10. 중기목록표 | D13: =HYPERLINK("#"&#REF!&"!A1","중기목록표 →") -> #REF!
B14: 11. 중기사용료 | D14: =HYPERLINK("#"&#REF!&"!A1","중기사용료 →") -> #REF!
B15: 12. 재료비목록표 | D15: =HYPERLINK("#"&#REF!&"!A1","재료비목록표 →") -> #REF!
B16: 13. 노무비목록표 | D16: =HYPERLINK("#"&#REF!&"!A1","노무비목록표 →") -> #REF!
B17: 14. 경비목록표 | D17: =HYPERLINK("#"&#REF!&"!A1","경비목록표 →") -> #REF!
B18: 15. 일식견적목록표 | D18: =HYPERLINK("#"&#REF!&"!A1","일식견적목록표 →") -> #REF!

Sheet ※※안내※※
A2: =HYPERLINK("#'〓 목 차 〓'!B2","목차 →") -> 목차 → | B2: === 엑셀파일에 작성에 대한 안내문(반드시 읽어보세요) ===
B4: 엑셀파일 수정후 계산식 반영이 안될경우 :【 Ctrl+Alt(+Shift)+F9 】
B6: ◈ 엑셀파일내의 산식은 기초단가, 복합단가, 내역서 및 총괄내역서까지 연결됩니다.
B7: (모든산식은 단가만을 불러오며, 명칭, 규격, 단위, 비고.. 등은 TEXT로 입력됩니다)
B8: ◈ 각 Sheet우측에는 해당 항목을 찾아가는 위치이동(→) 링크가 있으며, 클릭하면 이동됩니다.
B9: (Alt + ← 키를 이용하여 찾아갔던 항목을 되돌아 올 수 있습니다.)
B10: ◈ 일위대가표 및 중기사용료 및 총괄내역서의 양식은 일반양식을 적용합니다.
B11: =HYPERLINK("#"&#REF!&"!Y3","◈ 단가산출근거의 수량부분은 산출근거 우측 연두색 부분에서 수정합니다. →") -> #REF!
B12: ◈ [목차] 및 [안내] Sheet의 이름을 변경하지 마시고, Sheet이름을 변경할때 공백문자 및 특수문자를 사용하지 마십시요.
B14: ※※※ 아래의 내용(안내 및 오류)을 확인/검토 하세요 ※※※
B15: =HYPERLINK("#"&#REF!&"!I"&ROW(#REF!)," → ") -> #REF! | C15: 【총괄설계내역서】30번째줄의 I열 이윤보정액은 총공사비 금액이 다를경우 임의조정(±α) 하십시요.

Sheet 설계내역서
A1: 설 계 내 역 서 | O1: STmate | AC1: STmate
A2: 공사명 : 초성초 운동장 인조잔디 조성공사 | O2: =MID(CELL("filename",$A$1),FIND("]",CELL("filename",$A$1))+1,LEN(CELL("filename",$A$1))) -> 설계내역서
A3: 공 종 | B3: 명 칭 | C3: 규 격 | D3: 수 량 | E3: 단위 | F3: 재 료 비 | H3: 노 무 비 | J3: 경 비 | L3: 합 계 | N3: 비 고
F4: 단 가 | G4: 금 액 | H4: 단 가 | I4: 금 액 | J4: 단 가 | K4: 금 액 | L4: 단 가 | M4: 금 액 | AC4: =HYPERLINK("#'〓 목 차 〓'!B2","목차 →") -> 목차 →
B5: 초성초 운동장 인조잔디 조성공사 | O5: ="_x0007_`COD|E3_x0005_`QTY1|1_x0005_`EXI|0_x0005_`ITT|0_x0005_`END|"&ROW(M137)&"_x0005_`" -> _x0007_`COD|E3_x0005_`QTY1|1_x0005_`EXI|0_x0005_`ITT|0_x0005_`END|137_x0005_` | P5: E3_1 | Q5: E10_1
A6: 1 | B6: 토공사 및 철거공사 | O6: ="_x0007_`COD|E2_x0005_`QTY1|1_x0005_`EXI|0_x0005_`ITT|0_x0005_`END|"&ROW(M25)&"_x0005_`" -> _x0007_`COD|E2_x0005_`QTY1|1_x0005_`EXI|0_x0005_`ITT|0_x0005_`END|25_x0005_` | P6: E2_1 | Q6: E3_1
A7: 1.1 | B7: 토공사 | O7: ="_x0007_`COD|E1_x0005_`QTY1|1_x0005_`EXI|0_x0005_`ITT|0_x0005_`END|"&ROW(M10)&"_x0005_`" -> _x0007_`COD|E1_x0005_`QTY1|1_x0005_`EXI|0_x0005_`ITT|0_x0005_`END|10_x0005_` | P7: E1_1 | Q7: E2_1
A8: 1.1.1 | B8: 포장절취 | C8: 굴삭기0.7M3.135' | D8: 764 | E8: M3 | N8: 산근 2호표 | O8: _x0007_`COD|D00002_x0005_`QTY1|1_x0005_`EXI|0_x0005_`IPR|0_x0005_`BLA|F_x0005_` | P8: D00002_1 | Q8: E1_1 | AC8: =HYPERLINK("#"&#REF!&"!A"&ROW(#REF!),"D00002 →") -> #REF!
A9: 1.1.2 | B9: 사토상차운반 | C9: 15TON.D.T,L=20KM | D9: 857 | E9: M3 | N9: 산근 3호표 | O9: _x0007_`COD|D00003_x0005_`QTY1|1_x0005_`EXI|0_x0005_`IPR|0_x0005_`BLA|F_x0005_` | P9: D00003_1 | Q9: E1_1 | AC9: =HYPERLINK("#"&#REF!&"!A"&ROW(#REF!),"D00003 →") -> #REF!
O10: _x0007_`COD|_x0005_`QTY1|1_x0005_`EXI|1_x0005_`ITT|0_x0005_` | P10: CMT_1 | Q10: E2_1
A11: 1.2 | B11: 철거공사 | O11: ="_x0007_`COD|E1_x0005_`QTY1|1_x0005_`EXI|0_x0005_`ITT|0_x0005_`END|"&ROW(M25)&"_x0005_`" -> _x0007_`COD|E1_x0005_`QTY1|1_x0005_`EXI|0_x0005_`ITT|0_x0005_`END|25_x0005_` | P11: E1_1 | Q11: E2_1
A12: 1.2.1 | B12: 구조물헐기(무근)30미만 | C12: 굴삭기0.4m3+브레이카 | D12: 1 | E12: M3 | N12: 산근 13호표 | O12: _x0007_`COD|D00019_x0005_`QTY1|1_x0005_`EXI|0_x0005_`IPR|0_x0005_`BLA|F_x0005_` | P12: D00019_1 | Q12: E1_1 | AC12: =HYPERLINK("#"&#REF!&"!A"&ROW(#REF!),"D00019 →") -> #REF!
A13: 1.2.2 | B13: 이중벽관철거 | D13: 31 | E13: M | N13: 대가 25호표 | O13: _x0007_`COD|B00840_x0005_`QTY1|1_x0005_`EXI|0_x0005_`IPR|0_x0005_`BLA|F_x0005_` | P13: B00840_1 | Q13: E1_1 | AC13: =HYPERLINK("#"&#REF!&"!A"&ROW(#REF!),"B00840 →") -> #REF!
A14: 1.2.3 | B14: 빗물받이철거 | D14: 3 | E14: 개소 | N14: 대가 26호표 | O14: _x0007_`COD|B00841_x0005_`QTY1|1_x0005_`EXI|0_x0005_`IPR|0_x0005_`BLA|F_x0005_` | P14: B00841_1 | Q14: E1_1 | AC14: =HYPERLINK("#"&#REF!&"!A"&ROW(#REF!),"B00841 →") -> #REF!
A15: 1.2.4 | B15: 배수로뚜껑철거 | D15: 87 | E15: M | N15: 대가 11호표 | O15: _x0007_`COD|B00011_x0005_`QTY1|1_x0005_`EXI|0_x0005_`IPR|0_x0005_`BLA|F_x0005_` | P15: B00011_1 | Q15: E1_1 | AC15: =HYPERLINK("#"&#REF!&"!A"&ROW(#REF!),"B00011 →") -> #REF!
A16: 1.2.5 | B16: 배수로준설 | C16: 인력 | D16: 87 | E16: M | N16: 대가 10호표 | O16: _x0007_`COD|B00010_x0005_`QTY1|1_x0005_`EXI|0_x0005_`IPR|0_x0005_`BLA|F_x0005_` | P16: B00010_1 | Q16: E1_1 | AC16: =HYPERLINK("#"&#REF!&"!A"&ROW(#REF!),"B00010 →") -> #REF!
A17: 1.2.6 | B17: 원형데크 밴치 철거 | D17: 2 | E17: 개소 | N17: 대가 34호표 | O17: _x0007_`COD|B00854_x0005_`QTY1|1_x0005_`EXI|0_x0005_`IPR|0_x0005_`BLA|F_x0005_` | P17: B00854_1 | Q17: E1_1 | AC17: =HYPERLINK("#"&#REF!&"!A"&ROW(#REF!),"B00854 →") -> #REF!
A18: 1.2.7 | B18: 벤치이설 | D18: 2 | E18: 개소 | N18: 대가 35호표 | O18: _x0007_`COD|B00855_x0005_`QTY1|1_x0005_`EXI|0_x0005_`IPR|0_x0005_`BLA|F_x0005_` | P18: B00855_1 | Q18: E1_1 | AC18: =HYPERLINK("#"&#REF!&"!A"&ROW(#REF!),"B00855 →") -> #REF!
A19: 1.2.8 | B19: 목재흔들의자및재설치 | D19: 2 | E19: 개소 | N19: 대가 33호표 | O19: _x0007_`COD|B00853_x0005_`QTY1|1_x0005_`EXI|0_x0005_`IPR|0_x0005_`BLA|F_x0005_` | P19: B00853_1 | Q19: E1_1 | AC19: =HYPERLINK("#"&#REF!&"!A"&ROW(#REF!),"B00853 →") -> #REF!
A20: 1.2.9 | B20: 경계목철거 | D20: 76 | E20: M | N20: 대가 39호표 | O20: _x0007_`COD|B00862_x0005_`QTY1|1_x0005_`EXI|0_x0005_`IPR|0_x0005_`BLA|F_x0005_` | P20: B00862_1 | Q20: E1_1 | AC20: =HYPERLINK("#"&#REF!&"!A"&ROW(#REF!),"B00862 →") -> #REF!
A21: 1.2.10 | B21: 축구골대이설 | C21: 학교위치지정 | D21: 2 | E21: EA | N21: 대가 13호표 | O21: _x0007_`COD|B00015_x0005_`QTY1|1_x0005_`EXI|0_x0005_`IPR|0_x0005_`BLA|F_x0005_` | P21: B00015_1 | Q21: E1_1 | AC21: =HYPERLINK("#"&#REF!&"!A"&ROW(#REF!),"B00015 →") -> #REF!
A22: 1.2.11 | B22: 수목 이식(근원직경,굴취,식재) | C22: R30,학교위치지정 | D22: 2 | E22: 주 | N22: 대가 49호표 | O22: _x0007_`COD|B00873_x0005_`QTY1|1_x0005_`EXI|0_x0005_`IPR|0_x0005_`BLA|F_x0005_` | P22: B00873_1 | Q22: E1_1 | AC22: =HYPERLINK("#"&#REF!&"!A"&ROW(#REF!),"B00873 →") -> #REF!
A23: 1.2.12 | B23: 수목 이식(근원직경,굴취,식재) | C23: R20,학교위치지정 | D23: 3 | E23: 주 | N23: 대가 43호표 | O23: _x0007_`COD|B00866_x0005_`QTY1|1_x0005_`EXI|0_x0005_`IPR|0_x0005_`BLA|F_x0005_` | P23: B00866_1 | Q23: E1_1 | AC23: =HYPERLINK("#"&#REF!&"!A"&ROW(#REF!),"B00866 →") -> #REF!
A24: 1.2.13 | B24: 차량 진입용 철판설치및철거 | C24: 부직포+철판10T | D24: 10 | E24: m2 | N24: 대가 24호표 | O24: _x0007_`COD|B00834_x0005_`QTY1|1_x0005_`EXI|0_x0005_`IPR|0_x0005_`BLA|F_x0005_`PSKP|1_x0005_` | P24: B00834_1 | Q24: E1_1 | AC24: =HYPERLINK("#"&#REF!&"!A"&ROW(#REF!),"B00834 →") -> #REF!
A30: 2 | B30: 배수공사 | O30: ="_x0007_`COD|E2_x0005_`QTY1|1_x0005_`EXI|0_x0005_`ITT|0_x0005_`END|"&ROW(M37)&"_x0005_`" -> _x0007_`COD|E2_x0005_`QTY1|1_x0005_`EXI|0_x0005_`ITT|0_x0005_`END|37_x0005_` | P30: E2_1 | Q30: E3_1
A31: 2.1 | B31: 배수로뚜껑교체 | C31: 스틸->디자인 | D31: 87 | E31: M | N31: 대가 32호표 | O31: _x0007_`COD|B00852_x0005_`QTY1|1_x0005_`EXI|0_x0005_`IPR|0_x0005_`BLA|F_x0005_` | P31: B00852_1 | Q31: E2_1 | AC31: =HYPERLINK("#"&#REF!&"!A"&ROW(#REF!),"B00852 →") -> #REF!
A32: 2.2 | B32: 측구수로관(300x300,기성제품) | C32: 앵글부착,디자인그레이팅,CON'C기초 | D32: 4 | E32: M | N32: 대가 17호표 | O32: _x0007_`COD|B00026_x0005_`QTY1|1_x0005_`EXI|0_x0005_`IPR|0_x0005_`BLA|F_x0005_` | P32: B00026_1 | Q32: E2_1 | AC32: =HYPERLINK("#"&#REF!&"!A"&ROW(#REF!),"B00026 →") -> #REF!
A33: 2.3 | B33: 측구수로관(300x300,기성제품) | C33: 앵글부착,무소음그레이팅,CON'C기초 | D33: 4 | E33: M | N33: 대가 36호표 | O33: _x0007_`COD|B00858_x0005_`QTY1|1_x0005_`EXI|0_x0005_`IPR|0_x0005_`BLA|F_x0005_` | P33: B00858_1 | Q33: E2_1 | AC33: =HYPERLINK("#"&#REF!&"!A"&ROW(#REF!),"B00858 →") -> #REF!
A34: 2.4 | B34: 측구수로관(300x300,기성제품) | C34: 앵글부착,스틸그레이팅,CON'C기초 | D34: 187 | E34: M | N34: 대가 12호표 | O34: _x0007_`COD|B00012_x0005_`QTY1|1_x0005_`EXI|0_x0005_`IPR|0_x0005_`BLA|F_x0005_` | P34: B00012_1 | Q34: E2_1 | AC34: =HYPERLINK("#"&#REF!&"!A"&ROW(#REF!),"B00012 →") -> #REF!
A35: 2.5 | B35: PE빗물받이 | C35: 510*410*600(앵글,디자인뚜껑) | D35: 1 | E35: 개소 | N35: 대가 37호표 | O35: _x0007_`COD|B00860_x0005_`QTY1|1_x0005_`EXI|0_x0005_`IPR|0_x0005_`BLA|F_x0005_` | P35: B00860_1 | Q35: E2_1 | AC35: =HYPERLINK("#"&#REF!&"!A"&ROW(#REF!),"B00860 →") -> #REF!
A36: 2.6 | B36: 배수로부분철거 | C36: 기존배수로연결 | D36: 2 | E36: 개소 | N36: 대가 4호표 | O36: _x0007_`COD|B00004_x0005_`QTY1|1_x0005_`EXI|0_x0005_`IPR|0_x0005_`BLA|F_x0005_`PSKP|1_x0005_` | P36: B00004_1 | Q36: E2_1 | AC36: =HYPERLINK("#"&#REF!&"!A"&ROW(#REF!),"B00004 →") -> #REF!
A55: 3 | B55: 포장공사 | O55: ="_x0007_`COD|E2_x0005_`QTY1|1_x0005_`EXI|0_x0005_`ITT|0_x0005_`END|"&ROW(M82)&"_x0005_`" -> _x0007_`COD|E2_x0005_`QTY1|1_x0005_`EXI|0_x0005_`ITT|0_x0005_`END|82_x0005_` | P55: E2_1 | Q55: E3_1
A56: 3.1 | B56: 인조화강석블록포장 | O56: ="_x0007_`COD|E1_x0005_`QTY1|1_x0005_`EXI|0_x0005_`ITT|0_x0005_`END|"&ROW(M61)&"_x0005_`" -> _x0007_`COD|E1_x0005_`QTY1|1_x0005_`EXI|0_x0005_`ITT|0_x0005_`END|61_x0005_` | P56: E1_1 | Q56: E2_1
A57: 3.1.1 | B57: 노상다짐 | C57: 진동로울러10TON | D57: 575 | E57: M2 | N57: 산근 4호표 | O57: _x0007_`COD|D00004_x0005_`QTY1|1_x0005_`EXI|0_x0005_`IPR|0_x0005_`BLA|F_x0005_` | P57: D00004_1 | Q57: E1_1 | AC57: =HYPERLINK("#"&#REF!&"!A"&ROW(#REF!),"D00004 →") -> #REF!
A58: 3.1.2 | B58: 보조기층포설및다짐 | C58: T=200,소규모공사 | D58: 575 | E58: M2 | N58: 대가 18호표 | O58: _x0007_`COD|B00032_x0005_`QTY1|1_x0005_`EXI|0_x0005_`IPR|0_x0005_`BLA|F_x0005_` | P58: B00032_1 | Q58: E1_1 | AC58: =HYPERLINK("#"&#REF!&"!A"&ROW(#REF!),"B00032 →") -> #REF!
A59: 3.1.3 | B59: 블록포장(A-type,300m2/일) | C59: T=60~80mm | D59: 575 | E59: M2 | N59: 대가 1호표 | O59: _x0007_`COD|B00001_x0005_`QTY1|1_x0005_`EXI|0_x0005_`IPR|0_x0005_`BLA|F_x0005_` | P59: B00001_1 | Q59: E1_1 | AC59: =HYPERLINK("#"&#REF!&"!A"&ROW(#REF!),"B00001 →") -> #REF!
A60: 3.1.4 | B60: 인조화강석블록 | C60: T80mm | D60: 598 | E60: M2 | N60: M00012 | O60: _x0007_`COD|M00012_x0005_`QTY1|1_x0005_`EXI|0_x0005_`IPR|0_x0005_`KWN|0_x0005_`BLA|F_x0005_` | P60: M00012_1 | Q60: E1_1 | AC60: =HYPERLINK("#"&#REF!&"!A"&ROW(#REF!),"M00012 →") -> #REF!
O61: _x0007_`COD|_x0005_`QTY1|1_x0005_`EXI|1_x0005_`ITT|0_x0005_` | P61: CMT_1 | Q61: E2_1
A62: 3.2 | B62: 탄성포장 하부 | O62: ="_x0007_`COD|E1_x0005_`QTY1|1_x0005_`EXI|0_x0005_`ITT|0_x0005_`END|"&ROW(M69)&"_x0005_`" -> _x0007_`COD|E1_x0005_`QTY1|1_x0005_`EXI|0_x0005_`ITT|0_x0005_`END|69_x0005_` | P62: E1_1 | Q62: E2_1
A63: 3.2.1 | B63: 노상다짐 | C63: 진동로울러10TON | D63: 252 | E63: M2 | N63: 산근 4호표 | O63: _x0007_`COD|D00004_x0005_`QTY1|1_x0005_`EXI|0_x0005_`IPR|0_x0005_`BLA|F_x0005_` | P63: D00004_1 | Q63: E1_1 | AC63: =HYPERLINK("#"&#REF!&"!A"&ROW(#REF!),"D00004 →") -> #REF!
A64: 3.2.2 | B64: 보조기층포설및다짐 | C64: T=300,소규모공사 | D64: 252 | E64: M2 | N64: 대가 22호표 | O64: _x0007_`COD|B00832_x0005_`QTY1|1_x0005_`EXI|0_x0005_`IPR|0_x0005_`BLA|F_x0005_` | P64: B00832_1 | Q64: E1_1 | AC64: =HYPERLINK("#"&#REF!&"!A"&ROW(#REF!),"B00832 →") -> #REF!
A65: 3.2.3 | B65: 아스콘기층포설및다짐 | C65: T=5Cm(프라임코팅포함,기계식소규모) | D65: 252 | E65: M2 | N65: 대가 21호표 | O65: _x0007_`COD|B00828_x0005_`QTY1|1_x0005_`EXI|0_x0005_`IPR|0_x0005_`BLA|F_x0005_` | P65: B00828_1 | Q65: E1_1 | AC65: =HYPERLINK("#"&#REF!&"!A"&ROW(#REF!),"B00828 →") -> #REF!
A66: 3.2.4 | B66: 아스콘표층포설및다짐 | C66: T=5Cm(택코팅포함,소규모) | D66: 252 | E66: M2 | N66: 대가 20호표 | O66: _x0007_`COD|B00827_x0005_`QTY1|1_x0005_`EXI|0_x0005_`IPR|0_x0005_`BLA|F_x0005_` | P66: B00827_1 | Q66: E1_1 | AC66: =HYPERLINK("#"&#REF!&"!A"&ROW(#REF!),"B00827 →") -> #REF!
A67: 3.2.5 | B67: 아스콘 | C67: BB-2 | D67: 30 | E67: TON | N67: M00064 | O67: _x0007_`COD|M00064_x0005_`QTY1|1_x0005_`EXI|0_x0005_`IPR|0_x0005_`KWN|0_x0005_`BLA|F_x0005_` | P67: M00064_1 | Q67: E1_1 | AC67: =HYPERLINK("#"&#REF!&"!A"&ROW(#REF!),"M00064 →") -> #REF!
A68: 3.2.6 | B68: 아스콘 | C68: WC-2 | D68: 30 | E68: TON | N68: M00063 | O68: _x0007_`COD|M00063_x0005_`QTY1|1_x0005_`EXI|0_x0005_`IPR|0_x0005_`KWN|0_x0005_`BLA|F_x0005_` | P68: M00063_1 | Q68: E1_1 | AC68: =HYPERLINK("#"&#REF!&"!A"&ROW(#REF!),"M00063 →") -> #REF!
O69: _x0007_`COD|_x0005_`QTY1|1_x0005_`EXI|1_x0005_`ITT|0_x0005_` | P69: CMT_1 | Q69: E2_1
A70: 3.3 | B70: 인조잔디포장 하부 | C70: T=55(55-100-100) | O70: ="_x0007_`COD|E1_x0005_`QTY1|1_x0005_`EXI|0_x0005_`ITT|0_x0005_`END|"&ROW(M76)&"_x0005_`" -> _x0007_`COD|E1_x0005_`QTY1|1_x0005_`EXI|0_x0005_`ITT|0_x0005_`END|76_x0005_` | P70: E1_1 | Q70: E2_1
A71: 3.3.1 | B71: 노상다짐 | C71: 진동로울러10TON | D71: 2012 | E71: M2 | N71: 산근 4호표 | O71: _x0007_`COD|D00004_x0005_`QTY1|1_x0005_`EXI|0_x0005_`IPR|0_x0005_`BLA|F_x0005_` | P71: D00004_1 | Q71: E1_1 | AC71: =HYPERLINK("#"&#REF!&"!A"&ROW(#REF!),"D00004 →") -> #REF!
A72: 3.3.2 | B72: 쇄석골재포설및다짐 | C72: T=100(Φ13mm) | D72: 2012 | E72: M2 | N72: 대가 38호표 | O72: _x0007_`COD|B00861_x0005_`QTY1|1_x0005_`EXI|0_x0005_`IPR|0_x0005_`BLA|F_x0005_` | P72: B00861_1 | Q72: E1_1 | AC72: =HYPERLINK("#"&#REF!&"!A"&ROW(#REF!),"B00861 →") -> #REF!
A73: 3.3.3 | B73: 부직포설치 | D73: 2012 | E73: M2 | N73: 대가 5호표 | O73: _x0007_`COD|B00005_x0005_`QTY1|1_x0005_`EXI|0_x0005_`IPR|0_x0005_`BLA|F_x0005_` | P73: B00005_1 | Q73: E1_1 | AC73: =HYPERLINK("#"&#REF!&"!A"&ROW(#REF!),"B00005 →") -> #REF!
A74: 3.3.4 | B74: 석분포설및다짐 | C74: T=100 | D74: 2012 | E74: M2 | N74: 대가 6호표 | O74: _x0007_`COD|B00006_x0005_`QTY1|1_x0005_`EXI|0_x0005_`IPR|0_x0005_`BLA|F_x0005_` | P74: B00006_1 | Q74: E1_1 | AC74: =HYPERLINK("#"&#REF!&"!A"&ROW(#REF!),"B00006 →") -> #REF!
A75: 3.3.5 | B75: 면정리 및 다짐 | C75: 정밀 | D75: 2012 | E75: M2 | N75: 대가 19호표 | O75: _x0007_`COD|B00826_x0005_`QTY1|1_x0005_`EXI|0_x0005_`IPR|0_x0005_`BLA|F_x0005_` | P75: B00826_1 | Q75: E1_1 | AC75: =HYPERLINK("#"&#REF!&"!A"&ROW(#REF!),"B00826 →") -> #REF!
O76: _x0007_`COD|_x0005_`QTY1|1_x0005_`EXI|1_x0005_`ITT|0_x0005_` | P76: CMT_1 | Q76: E2_1
A77: 3.4 | B77: 기타공사 | O77: ="_x0007_`COD|E1_x0005_`QTY1|1_x0005_`EXI|0_x0005_`ITT|0_x0005_`END|"&ROW(M82)&"_x0005_`" -> _x0007_`COD|E1_x0005_`QTY1|1_x0005_`EXI|0_x0005_`ITT|0_x0005_`END|82_x0005_` | P77: E1_1 | Q77: E2_1
A78: 3.4.1 | B78: 모래포장 | C78: T300 | D78: 253 | E78: m2 | N78: 대가 47호표 | O78: _x0007_`COD|B00871_x0005_`QTY1|1_x0005_`EXI|0_x0005_`IPR|0_x0005_`BLA|F_x0005_` | P78: B00871_1 | Q78: E1_1 | AC78: =HYPERLINK("#"&#REF!&"!A"&ROW(#REF!),"B00871 →") -> #REF!
A79: 3.4.2 | B79: 재료분리석 - 직선 | C79: 150*150*1000(화강석) | D79: 33 | E79: M | N79: 대가 28호표 | O79: _x0007_`COD|B00843_x0005_`QTY1|1_x0005_`EXI|0_x0005_`IPR|0_x0005_`BLA|F_x0005_` | P79: B00843_1 | Q79: E1_1 | AC79: =HYPERLINK("#"&#REF!&"!A"&ROW(#REF!),"B00843 →") -> #REF!
A80: 3.4.3 | B80: 재료분리석 - 곡선 | C80: 150*150*1000(화강석) | D80: 20 | E80: M | N80: 대가 30호표 | O80: _x0007_`COD|B00845_x0005_`QTY1|1_x0005_`EXI|0_x0005_`IPR|0_x0005_`BLA|F_x0005_` | P80: B00845_1 | Q80: E1_1 | AC80: =HYPERLINK("#"&#REF!&"!A"&ROW(#REF!),"B00845 →") -> #REF!
A81: 3.4.4 | B81: 고무경계블럭 | C81: 150*200*1000(고무) | D81: 83 | E81: M | N81: 대가 44호표 | O81: _x0007_`COD|B00867_x0005_`QTY1|1_x0005_`EXI|0_x0005_`IPR|0_x0005_`BLA|F_x0005_`PSKP|1_x0005_` | P81: B00867_1 | Q81: E1_1 | AC81: =HYPERLINK("#"&#REF!&"!A"&ROW(#REF!),"B00867 →") -> #REF!
A105: 4 | B105: 운반비 | O105: ="_x0007_`COD|E2_x0005_`QTY1|1_x0005_`EXI|0_x0005_`ITT|0_x0005_`END|"&ROW(M107)&"_x0005_`" -> _x0007_`COD|E2_x0005_`QTY1|1_x0005_`EXI|0_x0005_`ITT|0_x0005_`END|107_x0005_` | P105: E2_1 | Q105: E3_1
A106: 4.1 | B106: 중기운반(L=20KM) | C106: 트레일러 20Ton | D106: 6 | E106: 회 | N106: 산근 1호표 | O106: _x0007_`COD|D00001_x0005_`QTY1|1_x0005_`EXI|0_x0005_`IPR|0_x0005_`BLA|F_x0005_`PSKP|1_x0005_` | P106: D00001_1 | Q106: E2_1 | AC106: =HYPERLINK("#"&#REF!&"!A"&ROW(#REF!),"D00001 →") -> #REF!
A130: 5 | B130: 폐기물 상차 및 처리 | C130: (경비에포함) | O130: ="_x0007_`COD|E2_x0005_`QTY1|1_x0005_`EXI|0_x0005_`ITT|0_x0005_`END|"&ROW(M137)&"_x0005_`" -> _x0007_`COD|E2_x0005_`QTY1|1_x0005_`EXI|0_x0005_`ITT|0_x0005_`END|137_x0005_` | P130: E2_1 | Q130: E3_1
A131: 5.1 | B131: 건설 폐기물 처리 | O131: ="_x0007_`COD|E1_x0005_`QTY1|1_x0005_`EXI|0_x0005_`ITT|0_x0005_`END|"&ROW(M137)&"_x0005_`" -> _x0007_`COD|E1_x0005_`QTY1|1_x0005_`EXI|0_x0005_`ITT|0_x0005_`END|137_x0005_` | P131: E1_1 | Q131: E2_1
A132: 5.1.1 | B132: 폐기물상차 | D132: 13 | E132: TON | N132: W00001 | O132: _x0007_`COD|W00001_x0005_`QTY1|1_x0005_`EXI|0_x0005_`IPR|0_x0005_`BLA|F_x0005_` | P132: W00001_1 | Q132: E1_1 | AC132: =HYPERLINK("#"&#REF!&"!A"&ROW(#REF!),"W00001 →") -> #REF!
A133: 5.1.2 | B133: 폐기물처리수수료 | C133: 폐콘크리트 | D133: 2 | E133: TON | N133: W00002 | O133: _x0007_`COD|W00002_x0005_`QTY1|1_x0005_`EXI|0_x0005_`IPR|0_x0005_`BLA|F_x0005_` | P133: W00002_1 | Q133: E1_1 | AC133: =HYPERLINK("#"&#REF!&"!A"&ROW(#REF!),"W00002 →") -> #REF!
A134: 5.1.3 | B134: 폐기물처리수수료 | C134: 혼합건설폐기물 | D134: 2 | E134: TON | N134: W00005 | O134: _x0007_`COD|W00005_x0005_`QTY1|1_x0005_`EXI|0_x0005_`IPR|0_x0005_`BLA|F_x0005_` | P134: W00005_1 | Q134: E1_1 | AC134: =HYPERLINK("#"&#REF!&"!A"&ROW(#REF!),"W00005 →") -> #REF!
A135: 5.1.4 | B135: 폐기물처리수수료 | C135: 건설오니 | D135: 9 | E135: TON | N135: W00004 | O135: _x0007_`COD|W00004_x0005_`QTY1|1_x0005_`EXI|0_x0005_`IPR|0_x0005_`BLA|F_x0005_` | P135: W00004_1 | Q135: E1_1 | AC135: =HYPERLINK("#"&#REF!&"!A"&ROW(#REF!),"W00004 →") -> #REF!
A136: 5.1.5 | B136: 폐기물운반비 | C136: 24톤,30km이하 | D136: 13 | E136: TON | N136: W00003 | O136: _x0007_`COD|W00003_x0005_`QTY1|1_x0005_`EXI|0_x0005_`IPR|0_x0005_`BLA|F_x0005_`PSKP|1_x0005_` | P136: W00003_1 | Q136: E1_1 | AC136: =HYPERLINK("#"&#REF!&"!A"&ROW(#REF!),"W00003 →") -> #REF!
B155: 시험검사비 | C155: (순공사비제외) | N155: (제외금액) | O155: ="_x0007_`COD|C3_x0005_`QTY1|1_x0005_`EXI|1_x0005_`ITT|0_x0005_`END|"&ROW(M157)&"_x0005_`" -> _x0007_`COD|C3_x0005_`QTY1|1_x0005_`EXI|1_x0005_`ITT|0_x0005_`END|157_x0005_` | P155: C3_1
A156: 1 | B156: 모래 검사수수료 | C156: 환경보건법 시행규칙 별표4,납 외4종,기생충(란) | D156: 1 | E156: 회 | N156: 대가 45호표 | O156: _x0007_`COD|B00868_x0005_`QTY1|1_x0005_`EXI|0_x0005_`IPR|0_x0005_`BLA|F_x0005_`PSKP|1_x0005_` | P156: B00868_1 | Q156: C3_1 | AC156: =HYPERLINK("#"&#REF!&"!A"&ROW(#REF!),"B00868 →") -> #REF!
B180: 관급자재비 | C180: 관급자 | N180: (제외금액) | O180: ="_x0007_`COD|C3_x0005_`QTY1|1_x0005_`EXI|1_x0005_`ITT|0_x0005_`END|"&ROW(M185)&"_x0005_`" -> _x0007_`COD|C3_x0005_`QTY1|1_x0005_`EXI|1_x0005_`ITT|0_x0005_`END|185_x0005_` | P180: C3_1
A181: 1 | B181: (관급)인조잔디 | C181: T55mm | D181: 2119 | E181: m2 | N181: M00005 | O181: _x0007_`COD|M00005_x0005_`QTY1|1_x0005_`EXI|0_x0005_`IPR|1_x0005_`KWN|0_x0005_`BLA|F_x0005_` | P181: M00005_1 | Q181: C3_1 | R181: 1_3_01 | AC181: =HYPERLINK("#"&#REF!&"!A"&ROW(#REF!),"M00005 →") -> #REF!
A182: 2 | B182: (관급)배수판 | C182: T21mm | D182: 2068 | E182: M2 | N182: M00006 | O182: _x0007_`COD|M00006_x0005_`QTY1|1_x0005_`EXI|0_x0005_`IPR|1_x0005_`KWN|0_x0005_`BLA|F_x0005_` | P182: M00006_1 | Q182: C3_1 | R182: 1_3_01 | AC182: =HYPERLINK("#"&#REF!&"!A"&ROW(#REF!),"M00006 →") -> #REF!
A183: 3 | B183: (관급)체육시설탄성포장 | C183: T13mm | D183: 263 | E183: m2 | N183: M00060 | O183: _x0007_`COD|M00060_x0005_`QTY1|1_x0005_`EXI|1_x0005_`IPR|1_x0005_`KWN|0_x0005_`BLA|F_x0005_` | P183: M00060_1 | Q183: C3_1 | R183: 1_3_01 | AC183: =HYPERLINK("#"&#REF!&"!A"&ROW(#REF!),"M00060 →") -> #REF!
A184: 4 | B184: 조달수수료 | C184: 재료비의 % | D184: 0.54 | E184: % | O184: _x0007_`COD|PR_x0005_`QTY1|1_x0005_`EXI|1_x0005_`IPR|0_x0005_`EQC|A01_x0005_`PRI|1_x0005_`PRO|3_x0005_`UNI|%_x0005_`RCU|0_x0005_`BLA|F_x0005_` | P184: PR_1 | Q184: C3_1
B205: 직접공사비 | G205: =SUMIF(Q5:Q204,"E10_1",G5:G204) -> 0 | I205: =SUMIF(Q5:Q204,"E10_1",I5:I204) -> 0 | K205: =SUMIF(Q5:Q204,"E10_1",K5:K204) -> 0 | M205: =SUMIF(Q5:Q204,"E10_1",M5:M204) -> 0

Sheet 〓 INITIAL 〓
B2: ※※ 현재 Sheet를 수정 또는 삭제하지 마십시요[수정/삭제시 STmate 데이타로 변환할 수 없습니다] ※※
B4: [Sheet정보] | C4: =ISERROR(SUM(C6:X15,C18:X23)) -> TRUE | D4: =ROW(C24) -> 24
B5: 목차 | C5: Sheet | D5: FPos | E5: ITNAME | F5: NAME | G5: SIZE | H5: QTY | I5: UNIT | J5: SPOS | K5: EPOS | L5: TAMT | M5: TAMOUNT | N5: MAMT | O5: MAMOUNT | P5: LAMT | Q5: LAMOUNT | R5: SAMT | S5: SAMOUNT | T5: AAMT | U5: AAMOUNT | V5: NAMT | W5: NAMOUNT | X5: INFO
B6: 1. 재료비목록표 | C6: =IF(D6="","재료비목록표",MID(D6,FIND("]",D6)+1,LEN(D6))) -> #REF! | D6: =CELL("filename",#REF!) -> #REF! | F6: =HYPERLINK("#"&C6&"!"&ADDRESS(3,COLUMN(#REF!),1),COLUMN(#REF!)) -> #REF! | G6: =HYPERLINK("#"&C6&"!"&ADDRESS(3,COLUMN(#REF!),1),COLUMN(#REF!)) -> #REF! | I6: =HYPERLINK("#"&C6&"!"&ADDRESS(3,COLUMN(#REF!),1),COLUMN(#REF!)) -> #REF! | J6: =HYPERLINK("#"&C6&"!A"&ROW(#REF!),ROW(#REF!)) -> #REF! | K6: =HYPERLINK("#"&C6&"!A"&ROW(#REF!),ROW(#REF!)) -> #REF! | L6: =HYPERLINK("#"&C6&"!"&ADDRESS(3,COLUMN(#REF!),1),COLUMN(#REF!)) -> #REF! | X6: =HYPERLINK("#"&C6&"!"&ADDRESS(3,COLUMN(#REF!),1),COLUMN(#REF!)) -> #REF!
B7: 2. 노무비목록표 | C7: =IF(D7="","노무비목록표",MID(D7,FIND("]",D7)+1,LEN(D7))) -> #REF! | D7: =CELL("filename",#REF!) -> #REF! | F7: =HYPERLINK("#"&C7&"!"&ADDRESS(3,COLUMN(#REF!),1),COLUMN(#REF!)) -> #REF! | G7: =HYPERLINK("#"&C7&"!"&ADDRESS(3,COLUMN(#REF!),1),COLUMN(#REF!)) -> #REF! | I7: =HYPERLINK("#"&C7&"!"&ADDRESS(3,COLUMN(#REF!),1),COLUMN(#REF!)) -> #REF! | J7: =HYPERLINK("#"&C7&"!A"&ROW(#REF!),ROW(#REF!)) -> #REF! | K7: =HYPERLINK("#"&C7&"!A"&ROW(#REF!),ROW(#REF!)) -> #REF! | L7: =HYPERLINK("#"&C7&"!"&ADDRESS(3,COLUMN(#REF!),1),COLUMN(#REF!)) -> #REF! | X7: =HYPERLINK("#"&C7&"!"&ADDRESS(3,COLUMN(#REF!),1),COLUMN(#REF!)) -> #REF!
B8: 3. 경비목록표 | C8: =IF(D8="","경비목록표",MID(D8,FIND("]",D8)+1,LEN(D8))) -> #REF! | D8: =CELL("filename",#REF!) -> #REF! | F8: =HYPERLINK("#"&C8&"!"&ADDRESS(3,COLUMN(#REF!),1),COLUMN(#REF!)) -> #REF! | G8: =HYPERLINK("#"&C8&"!"&ADDRESS(3,COLUMN(#REF!),1),COLUMN(#REF!)) -> #REF! | I8: =HYPERLINK("#"&C8&"!"&ADDRESS(3,COLUMN(#REF!),1),COLUMN(#REF!)) -> #REF! | J8: =HYPERLINK("#"&C8&"!A"&ROW(#REF!),ROW(#REF!)) -> #REF! | K8: =HYPERLINK("#"&C8&"!A"&ROW(#REF!),ROW(#REF!)) -> #REF! | L8: =HYPERLINK("#"&C8&"!"&ADDRESS(3,COLUMN(#REF!),1),COLUMN(#REF!)) -> #REF! | X8: =HYPERLINK("#"&C8&"!"&ADDRESS(3,COLUMN(#REF!),1),COLUMN(#REF!)) -> #REF!
B9: 4. 일식목록표 | C9: =IF(D9="","일식견적목록표",MID(D9,FIND("]",D9)+1,LEN(D9))) -> #REF! | D9: =CELL("filename",#REF!) -> #REF! | F9: =HYPERLINK("#"&C9&"!"&ADDRESS(3,COLUMN(#REF!),1),COLUMN(#REF!)) -> #REF! | G9: =HYPERLINK("#"&C9&"!"&ADDRESS(3,COLUMN(#REF!),1),COLUMN(#REF!)) -> #REF! | I9: =HYPERLINK("#"&C9&"!"&ADDRESS(3,COLUMN(#REF!),1),COLUMN(#REF!)) -> #REF! | J9: =HYPERLINK("#"&C9&"!A"&ROW(#REF!),ROW(#REF!)) -> #REF! | K9: =HYPERLINK("#"&C9&"!A"&ROW(#REF!),ROW(#REF!)) -> #REF! | L9: =HYPERLINK("#"&C9&"!"&ADDRESS(3,COLUMN(#REF!),1),COLUMN(#REF!)) -> #REF! | N9: =HYPERLINK("#"&C9&"!"&ADDRESS(3,COLUMN(#REF!),1),COLUMN(#REF!)) -> #REF! | P9: =HYPERLINK("#"&C9&"!"&ADDRESS(3,COLUMN(#REF!),1),COLUMN(#REF!)) -> #REF! | R9: =HYPERLINK("#"&C9&"!"&ADDRESS(3,COLUMN(#REF!),1),COLUMN(#REF!)) -> #REF! | X9: =HYPERLINK("#"&C9&"!"&ADDRESS(3,COLUMN(#REF!),1),COLUMN(#REF!)) -> #REF!
B10: 5. 환율 및 기초자료 | C10: =IF(D10="","환율및기초자료",MID(D10,FIND("]",D10)+1,LEN(D10))) -> #REF! | D10: =CELL("filename",#REF!) -> #REF! | E10: =HYPERLINK("#"&C10&"!"&ADDRESS(5,COLUMN(#REF!),1),COLUMN(#REF!)) -> #REF! | F10: =HYPERLINK("#"&C10&"!"&ADDRESS(5,COLUMN(#REF!),1),COLUMN(#REF!)) -> #REF! | G10: =HYPERLINK("#"&C10&"!"&ADDRESS(5,COLUMN(#REF!),1),COLUMN(#REF!)) -> #REF! | I10: =HYPERLINK("#"&C10&"!"&ADDRESS(5,COLUMN(#REF!),1),COLUMN(#REF!)) -> #REF! | J10: =HYPERLINK("#"&C10&"!A"&ROW(#REF!),ROW(#REF!)) -> #REF! | K10: =HYPERLINK("#"&C10&"!A"&ROW(#REF!),ROW(#REF!)) -> #REF! | L10: =HYPERLINK("#"&C10&"!"&ADDRESS(5,COLUMN(#REF!),1),COLUMN(#REF!)) -> #REF! | X10: =HYPERLINK("#"&C10&"!"&ADDRESS(5,COLUMN(#REF!),1),COLUMN(#REF!)) -> #REF!
B11: 6. 중기목록표 | C11: =IF(D11="","중기목록표",MID(D11,FIND("]",D11)+1,LEN(D11))) -> #REF! | D11: =CELL("filename",#REF!) -> #REF! | F11: =HYPERLINK("#"&C11&"!"&ADDRESS(3,COLUMN(#REF!),1),COLUMN(#REF!)) -> #REF! | G11: =HYPERLINK("#"&C11&"!"&ADDRESS(3,COLUMN(#REF!),1),COLUMN(#REF!)) -> #REF! | I11: =HYPERLINK("#"&C11&"!"&ADDRESS(3,COLUMN(#REF!),1),COLUMN(#REF!)) -> #REF! | J11: =HYPERLINK("#"&C11&"!A"&ROW(#REF!),ROW(#REF!)) -> #REF! | K11: =HYPERLINK("#"&C11&"!A"&ROW(#REF!),ROW(#REF!)) -> #REF! | L11: =HYPERLINK("#"&C11&"!"&ADDRESS(3,COLUMN(#REF!),1),COLUMN(#REF!)) -> #REF! | N11: =HYPERLINK("#"&C11&"!"&ADDRESS(3,COLUMN(#REF!),1),COLUMN(#REF!)) -> #REF! | P11: =HYPERLINK("#"&C11&"!"&ADDRESS(3,COLUMN(#REF!),1),COLUMN(#REF!)) -> #REF! | R11: =HYPERLINK("#"&C11&"!"&ADDRESS(3,COLUMN(#REF!),1),COLUMN(#REF!)) -> #REF! | X11: =HYPERLINK("#"&C11&"!"&ADDRESS(3,COLUMN(#REF!),1),COLUMN(#REF!)) -> #REF!
B12: 7. 실적단가표
B13: 8. 일위대가목록표 | C13: =IF(D13="","일위대가목록표",MID(D13,FIND("]",D13)+1,LEN(D13))) -> #REF! | D13: =CELL("filename",#REF!) -> #REF! | F13: =HYPERLINK("#"&C13&"!"&ADDRESS(3,COLUMN(#REF!),1),COLUMN(#REF!)) -> #REF! | G13: =HYPERLINK("#"&C13&"!"&ADDRESS(3,COLUMN(#REF!),1),COLUMN(#REF!)) -> #REF! | I13: =HYPERLINK("#"&C13&"!"&ADDRESS(3,COLUMN(#REF!),1),COLUMN(#REF!)) -> #REF! | J13: =HYPERLINK("#"&C13&"!A"&ROW(#REF!),ROW(#REF!)) -> #REF! | K13: =HYPERLINK("#"&C13&"!A"&ROW(#REF!),ROW(#REF!)) -> #REF! | L13: =HYPERLINK("#"&C13&"!"&ADDRESS(3,COLUMN(#REF!),1),COLUMN(#REF!)) -> #REF! | N13: =HYPERLINK("#"&C13&"!"&ADDRESS(3,COLUMN(#REF!),1),COLUMN(#REF!)) -> #REF! | P13: =HYPERLINK("#"&C13&"!"&ADDRESS(3,COLUMN(#REF!),1),COLUMN(#REF!)) -> #REF! | R13: =HYPERLINK("#"&C13&"!"&ADDRESS(3,COLUMN(#REF!),1),COLUMN(#REF!)) -> #REF! | X13: =HYPERLINK("#"&C13&"!"&ADDRESS(3,COLUMN(#REF!),1),COLUMN(#REF!)) -> #REF!
B14: 9. 산출근거목록표 | C14: =IF(D14="","단가산출근거목록표",MID(D14,FIND("]",D14)+1,LEN(D14))) -> #REF! | D14: =CELL("filename",#REF!) -> #REF! | F14: =HYPERLINK("#"&C14&"!"&ADDRESS(3,COLUMN(#REF!),1),COLUMN(#REF!)) -> #REF! | G14: =HYPERLINK("#"&C14&"!"&ADDRESS(3,COLUMN(#REF!),1),COLUMN(#REF!)) -> #REF! | I14: =HYPERLINK("#"&C14&"!"&ADDRESS(3,COLUMN(#REF!),1),COLUMN(#REF!)) -> #REF! | J14: =HYPERLINK("#"&C14&"!A"&ROW(#REF!),ROW(#REF!)) -> #REF! | K14: =HYPERLINK("#"&C14&"!A"&ROW(#REF!),ROW(#REF!)) -> #REF! | L14: =HYPERLINK("#"&C14&"!"&ADDRESS(3,COLUMN(#REF!),1),COLUMN(#REF!)) -> #REF! | N14: =HYPERLINK("#"&C14&"!"&ADDRESS(3,COLUMN(#REF!),1),COLUMN(#REF!)) -> #REF! | P14: =HYPERLINK("#"&C14&"!"&ADDRESS(3,COLUMN(#REF!),1),COLUMN(#REF!)) -> #REF! | R14: =HYPERLINK("#"&C14&"!"&ADDRESS(3,COLUMN(#REF!),1),COLUMN(#REF!)) -> #REF! | X14: =HYPERLINK("#"&C14&"!"&ADDRESS(3,COLUMN(#REF!),1),COLUMN(#REF!)) -> #REF!
B15: 10. 자재단가대비표
B16: 11. 내역서 | C16: =IF(D16="","설계내역서",MID(D16,FIND("]",D16)+1,LEN(D16))) -> 설계내역서 | D16: =CELL("filename",설계내역서!A1) -> C:\Users\user\Desktop\2026년 백진아\계약\2026 인조잔디 공사\6. 입찰공고\[초성초 운동장 인조잔디 조성공사 내역서(공고용).xlsx]설계내역서 | E16: =HYPERLINK("#"&C16&"!"&ADDRESS(4,COLUMN(설계내역서!A1),1),COLUMN(설계내역서!A1)) -> 1 | F16: =HYPERLINK("#"&C16&"!"&ADDRESS(4,COLUMN(설계내역서!B1),1),COLUMN(설계내역서!B1)) -> 2 | G16: =HYPERLINK("#"&C16&"!"&ADDRESS(4,COLUMN(설계내역서!C1),1),COLUMN(설계내역서!C1)) -> 3 | H16: =HYPERLINK("#"&C16&"!"&ADDRESS(4,COLUMN(설계내역서!D1),1),COLUMN(설계내역서!D1)) -> 4 | I16: =HYPERLINK("#"&C16&"!"&ADDRESS(4,COLUMN(설계내역서!E1),1),COLUMN(설계내역서!E1)) -> 5 | J16: =HYPERLINK("#"&C16&"!A"&ROW(설계내역서!A5),ROW(설계내역서!A5)) -> 5 | K16: =HYPERLINK("#"&C16&"!A"&ROW(설계내역서!A205),ROW(설계내역서!A205)) -> 205 | L16: =HYPERLINK("#"&C16&"!"&ADDRESS(4,COLUMN(설계내역서!L1),1),COLUMN(설계내역서!L1)) -> 12 | M16: =HYPERLINK("#"&C16&"!"&ADDRESS(4,COLUMN(설계내역서!M1),1),COLUMN(설계내역서!M1)) -> 13 | N16: =HYPERLINK("#"&C16&"!"&ADDRESS(4,COLUMN(설계내역서!F1),1),COLUMN(설계내역서!F1)) -> 6 | O16: =HYPERLINK("#"&C16&"!"&ADDRESS(4,COLUMN(설계내역서!G1),1),COLUMN(설계내역서!G1)) -> 7 | P16: =HYPERLINK("#"&C16&"!"&ADDRESS(4,COLUMN(설계내역서!H1),1),COLUMN(설계내역서!H1)) -> 8 | Q16: =HYPERLINK("#"&C16&"!"&ADDRESS(4,COLUMN(설계내역서!I1),1),COLUMN(설계내역서!I1)) -> 9 | R16: =HYPERLINK("#"&C16&"!"&ADDRESS(4,COLUMN(설계내역서!J1),1),COLUMN(설계내역서!J1)) -> 10 | S16: =HYPERLINK("#"&C16&"!"&ADDRESS(4,COLUMN(설계내역서!K1),1),COLUMN(설계내역서!K1)) -> 11 | X16: =HYPERLINK("#"&C16&"!"&ADDRESS(4,COLUMN(설계내역서!O1),1),COLUMN(설계내역서!O1)) -> 15
B17: 12. 총괄내역서 | C17: =IF(D17="","총괄설계내역서",MID(D17,FIND("]",D17)+1,LEN(D17))) -> #REF! | D17: =CELL("filename",#REF!) -> #REF! | E17: =HYPERLINK("#"&C17&"!"&ADDRESS(3,COLUMN(#REF!),1),COLUMN(#REF!)) -> #REF! | F17: =HYPERLINK("#"&C17&"!"&ADDRESS(3,COLUMN(#REF!),1),COLUMN(#REF!)) -> #REF! | G17: =HYPERLINK("#"&C17&"!"&ADDRESS(3,COLUMN(#REF!),1),COLUMN(#REF!)) -> #REF! | I17: =HYPERLINK("#"&C17&"!"&ADDRESS(3,COLUMN(#REF!),1),COLUMN(#REF!)) -> #REF! | J17: =HYPERLINK("#"&C17&"!A"&ROW(#REF!),ROW(#REF!)) -> #REF! | K17: =HYPERLINK("#"&C17&"!A"&ROW(#REF!),ROW(#REF!)) -> #REF! | L17: =HYPERLINK("#"&C17&"!"&ADDRESS(3,COLUMN(#REF!),1),COLUMN(#REF!)) -> #REF! | M17: =HYPERLINK("#"&C17&"!"&ADDRESS(3,COLUMN(#REF!),1),COLUMN(#REF!)) -> #REF! | N17: =HYPERLINK("#"&C17&"!"&ADDRESS(3,COLUMN(#REF!),1),COLUMN(#REF!)) -> #REF! | O17: =HYPERLINK("#"&C17&"!"&ADDRESS(3,COLUMN(#REF!),1),COLUMN(#REF!)) -> #REF! | P17: =HYPERLINK("#"&C17&"!"&ADDRESS(3,COLUMN(#REF!),1),COLUMN(#REF!)) -> #REF! | Q17: =HYPERLINK("#"&C17&"!"&ADDRESS(3,COLUMN(#REF!),1),COLUMN(#REF!)) -> #REF! | X17: =HYPERLINK("#"&C17&"!"&ADDRESS(3,COLUMN(#REF!),1),COLUMN(#REF!)) -> #REF!
B18: 13. 중기사용료 | C18: =IF(D18="","중기사용료",MID(D18,FIND("]",D18)+1,LEN(D18))) -> #REF! | D18: =CELL("filename",#REF!) -> #REF! | F18: =HYPERLINK("#"&C18&"!"&ADDRESS(4,COLUMN(#REF!),1),COLUMN(#REF!)) -> #REF! | G18: =HYPERLINK("#"&C18&"!"&ADDRESS(4,COLUMN(#REF!),1),COLUMN(#REF!)) -> #REF! | H18: =HYPERLINK("#"&C18&"!"&ADDRESS(4,COLUMN(#REF!),1),COLUMN(#REF!)) -> #REF! | I18: =HYPERLINK("#"&C18&"!"&ADDRESS(4,COLUMN(#REF!),1),COLUMN(#REF!)) -> #REF! | J18: =HYPERLINK("#"&C18&"!A"&ROW(#REF!),ROW(#REF!)) -> #REF! | K18: =HYPERLINK("#"&C18&"!A"&ROW(#REF!),ROW(#REF!)) -> #REF! | L18: =HYPERLINK("#"&C18&"!"&ADDRESS(4,COLUMN(#REF!),1),COLUMN(#REF!)) -> #REF! | M18: =HYPERLINK("#"&C18&"!"&ADDRESS(4,COLUMN(#REF!),1),COLUMN(#REF!)) -> #REF! | N18: =HYPERLINK("#"&C18&"!"&ADDRESS(4,COLUMN(#REF!),1),COLUMN(#REF!)) -> #REF! | O18: =HYPERLINK("#"&C18&"!"&ADDRESS(4,COLUMN(#REF!),1),COLUMN(#REF!)) -> #REF! | P18: =HYPERLINK("#"&C18&"!"&ADDRESS(4,COLUMN(#REF!),1),COLUMN(#REF!)) -> #REF! | Q18: =HYPERLINK("#"&C18&"!"&ADDRESS(4,COLUMN(#REF!),1),COLUMN(#REF!)) -> #REF! | R18: =HYPERLINK("#"&C18&"!"&ADDRESS(4,COLUMN(#REF!),1),COLUMN(#REF!)) -> #REF! | S18: =HYPERLINK("#"&C18&"!"&ADDRESS(4,COLUMN(#REF!),1),COLUMN(#REF!)) -> #REF! | X18: =HYPERLINK("#"&C18&"!"&ADDRESS(4,COLUMN(#REF!),1),COLUMN(#REF!)) -> #REF!
B19: 14. 일위대가표 | C19: =IF(D19="","일위대가표",MID(D19,FIND("]",D19)+1,LEN(D19))) -> #REF! | D19: =CELL("filename",#REF!) -> #REF! | F19: =HYPERLINK("#"&C19&"!"&ADDRESS(4,COLUMN(#REF!),1),COLUMN(#REF!)) -> #REF! | G19: =HYPERLINK("#"&C19&"!"&ADDRESS(4,COLUMN(#REF!),1),COLUMN(#REF!)) -> #REF! | H19: =HYPERLINK("#"&C19&"!"&ADDRESS(4,COLUMN(#REF!),1),COLUMN(#REF!)) -> #REF! | I19: =HYPERLINK("#"&C19&"!"&ADDRESS(4,COLUMN(#REF!),1),COLUMN(#REF!)) -> #REF! | J19: =HYPERLINK("#"&C19&"!A"&ROW(#REF!),ROW(#REF!)) -> #REF! | K19: =HYPERLINK("#"&C19&"!A"&ROW(#REF!),ROW(#REF!)) -> #REF! | L19: =HYPERLINK("#"&C19&"!"&ADDRESS(4,COLUMN(#REF!),1),COLUMN(#REF!)) -> #REF! | M19: =HYPERLINK("#"&C19&"!"&ADDRESS(4,COLUMN(#REF!),1),COLUMN(#REF!)) -> #REF! | N19: =HYPERLINK("#"&C19&"!"&ADDRESS(4,COLUMN(#REF!),1),COLUMN(#REF!)) -> #REF! | O19: =HYPERLINK("#"&C19&"!"&ADDRESS(4,COLUMN(#REF!),1),COLUMN(#REF!)) -> #REF! | P19: =HYPERLINK("#"&C19&"!"&ADDRESS(4,COLUMN(#REF!),1),COLUMN(#REF!)) -> #REF! | Q19: =HYPERLINK("#"&C19&"!"&ADDRESS(4,COLUMN(#REF!),1),COLUMN(#REF!)) -> #REF! | R19: =HYPERLINK("#"&C19&"!"&ADDRESS(4,COLUMN(#REF!),1),COLUMN(#REF!)) -> #REF! | S19: =HYPERLINK("#"&C19&"!"&ADDRESS(4,COLUMN(#REF!),1),COLUMN(#REF!)) -> #REF! | X19: =HYPERLINK("#"&C19&"!"&ADDRESS(4,COLUMN(#REF!),1),COLUMN(#REF!)) -> #REF!
B20: 15. 단가산출근거 | C20: =IF(D20="","단가산출근거",MID(D20,FIND("]",D20)+1,LEN(D20))) -> #REF! | D20: =CELL("filename",#REF!) -> #REF! | E20: =HYPERLINK("#"&C20&"!"&ADDRESS(4,COLUMN(#REF!),1),COLUMN(#REF!)) -> #REF! | F20: =HYPERLINK("#"&C20&"!"&ADDRESS(4,COLUMN(#REF!),1),COLUMN(#REF!)) -> #REF! | J20: =HYPERLINK("#"&C20&"!A"&ROW(#REF!),ROW(#REF!)) -> #REF! | K20: =HYPERLINK("#"&C20&"!A"&ROW(#REF!),ROW(#REF!)) -> #REF! | L20: =HYPERLINK("#"&C20&"!"&ADDRESS(4,COLUMN(#REF!),1),COLUMN(#REF!)) -> #REF! | N20: =HYPERLINK("#"&C20&"!"&ADDRESS(4,COLUMN(#REF!),1),COLUMN(#REF!)) -> #REF! | P20: =HYPERLINK("#"&C20&"!"&ADDRESS(4,COLUMN(#REF!),1),COLUMN(#REF!)) -> #REF! | R20: =HYPERLINK("#"&C20&"!"&ADDRESS(4,COLUMN(#REF!),1),COLUMN(#REF!)) -> #REF! | X20: =HYPERLINK("#"&C20&"!"&ADDRESS(4,COLUMN(#REF!),1),COLUMN(#REF!)) -> #REF!
B21: 16.
B22: 17.
B23: 18. 표준시장목록표
B24: [공사정보] | D24: =ROW(C33) -> 33
B25: M_DVER | C25: 26.07
B26: PNAME | C26: 초성초 운동장 인조잔디 조성공사
B27: PCLAS | C27: 0
B28: SCLAS | C28: 0
B29: K_ORD | C29: 0
B30: PRIPR | C30: True
B31: ACTYP | C31: 1
B32: ACTOP | C32: 2
B33: [초기값] | D33: =ROW(C52) -> 52
B34: P_ORD | C34: 1 | D34: 1 | E34: 0 | F34: 0 | G34: 0 | H34: 0
B35: EXNM_ | C35: =#REF! -> #REF! | D35: =#REF! -> #REF! | E35: =#REF! -> #REF! | F35: =#REF! -> #REF! | G35: =#REF! -> #REF! | H35: =#REF! -> #REF! | I35: =#REF! -> #REF! | J35: =#REF! -> #REF!
B36: EXRNM | C36: True
B37: RXNM_ | C37: 1/8 * 16/12 * 25/20 | E37: 25/20 * 16/12 * 1/8
B38: COND_ | C38: L00003L00004L00005 | D38: L00003L00004
B39: KCDNM | C39: 1
B40: JCDNM | C40: 1
B41: ECDNM | C41: 0
B42: ACDNM | C42: 1
B43: BPNNM | C43: 1
B44: ZCDNM | C44: 2
B45: CHGNM | C45: True
B46: CHBNM | C46: True
B47: CHNNM | C47: True
B48: CUTNM | C48: True
B49: OPTNM | C49: SML
B50: S_JDA | C50: True
B51: SUBNM
B52: [인쇄정보] | D52: =ROW(C75) -> 75
B53: BMSTR | C53: 재 료 비 | D53: 노 무 비 | E53: 경 비 | F53: 합 계
B54: BMKNM | C54: MLST
B55: JEMNM | C55: 123456
B56: JMKN1 | C56: 가격 정보 | D56: 가.정
B57: JMKN2 | C57: 물가 자료 | D57: 물.자
B58: JMKN3 | C58: 물가 정보 | D58: 물.정
B59: JMKN4 | C59: 견적단가1 | D59: 견적 1
B60: JMKN5 | C60: 거래가격 | D60: 거.가
B61: JMKN6 | C61: 적용 단가
B62: CAP_CODE | C62: 코드번호
B63: CAP_NO | C63: 호표
B64: CAP_IBRD | C64: 분류번호
B65: CAP_EQCOD | C65: 시설코드
B66: CAP_ITNUM | C66: 공 종
B67: CAP_NAME | C67: 명 칭
B68: CAP_SIZE | C68: 규 격
B69: CAP_QTY | C69: 수 량
B70: CAP_SUNIT | C70: 단위
B71: CAP_AMT | C71: 단 가
B72: CAP_PAGE | C72: 페이지
... B74: CAP_BIGO | C74: 비 고
B75: [PREPARE] | D75: =ROW(C79) -> 79
B76: PREP_VER | C76: w26.08
B77: PREP_COP | C77: (주)다옴엔지니어링 #02
B78: PREP_DATE | C78: 2026-08-20 14:01
B79: [.끝.]
