Workbook

Sheet 장비관리
A1: K-건설맵 | k-conmap.com 무료 건설 서식 | G1: ← 이 1행을 지우고 쓰셔도 됩니다
A2: =IF(N(K3)=0,"장 비 관 리","장 비 관 리 "&K3)
I3: 연도(제목용)
A5: ■ 업체별 현황
A6: 번호 | B6: 거래처 | C6: 대표 | D6: 장비 임대료 | E6: 기수급금 (유류대 포함) | F6: 미수급금 | G6: 임대료 비율 | H6: 수금률 | I6: 미수율 | J6: 유 류 대 | K6: 연 락 처
A7: 1 | B7: =IF('거래처등록'!B5="","",'거래처등록'!B5) | C7: =IF('거래처등록'!B5="","",'거래처등록'!D5) | D7: =IF(B7="","",SUMIF('거래내역원장'!F5:F104,B7,'거래내역원장'!I5:I104)) | E7: =IF(B7="","",SUMIF('장비임대료수금원장'!D5:D54,B7,'장비임대료수금원장'!E5:E54)+N(J7)) | F7: =IF(B7="","",N(D7)-N(E7)) | G7: =IF(OR(B7="",N(D22)=0),"",N(D7)/D22) | H7: =IF(OR(B7="",N(D7)=0),"",N(E7)/D7) | I7: =IF(OR(B7="",N(D7)=0),"",N(F7)/D7) | J7: =IF(B7="","",SUMIF('거래내역원장'!F5:F104,B7,'거래내역원장'!J5:J104)) | K7: =IF('거래처등록'!B5="","",'거래처등록'!E5)
A8: 2 | B8: =IF('거래처등록'!B6="","",'거래처등록'!B6) | C8: =IF('거래처등록'!B6="","",'거래처등록'!D6) | D8: =IF(B8="","",SUMIF('거래내역원장'!F5:F104,B8,'거래내역원장'!I5:I104)) | E8: =IF(B8="","",SUMIF('장비임대료수금원장'!D5:D54,B8,'장비임대료수금원장'!E5:E54)+N(J8)) | F8: =IF(B8="","",N(D8)-N(E8)) | G8: =IF(OR(B8="",N(D22)=0),"",N(D8)/D22) | H8: =IF(OR(B8="",N(D8)=0),"",N(E8)/D8) | I8: =IF(OR(B8="",N(D8)=0),"",N(F8)/D8) | J8: =IF(B8="","",SUMIF('거래내역원장'!F5:F104,B8,'거래내역원장'!J5:J104)) | K8: =IF('거래처등록'!B6="","",'거래처등록'!E6)
A9: 3 | B9: =IF('거래처등록'!B7="","",'거래처등록'!B7) | C9: =IF('거래처등록'!B7="","",'거래처등록'!D7) | D9: =IF(B9="","",SUMIF('거래내역원장'!F5:F104,B9,'거래내역원장'!I5:I104)) | E9: =IF(B9="","",SUMIF('장비임대료수금원장'!D5:D54,B9,'장비임대료수금원장'!E5:E54)+N(J9)) | F9: =IF(B9="","",N(D9)-N(E9)) | G9: =IF(OR(B9="",N(D22)=0),"",N(D9)/D22) | H9: =IF(OR(B9="",N(D9)=0),"",N(E9)/D9) | I9: =IF(OR(B9="",N(D9)=0),"",N(F9)/D9) | J9: =IF(B9="","",SUMIF('거래내역원장'!F5:F104,B9,'거래내역원장'!J5:J104)) | K9: =IF('거래처등록'!B7="","",'거래처등록'!E7)
A10: 4 | B10: =IF('거래처등록'!B8="","",'거래처등록'!B8) | C10: =IF('거래처등록'!B8="","",'거래처등록'!D8) | D10: =IF(B10="","",SUMIF('거래내역원장'!F5:F104,B10,'거래내역원장'!I5:I104)) | E10: =IF(B10="","",SUMIF('장비임대료수금원장'!D5:D54,B10,'장비임대료수금원장'!E5:E54)+N(J10)) | F10: =IF(B10="","",N(D10)-N(E10)) | G10: =IF(OR(B10="",N(D22)=0),"",N(D10)/D22) | H10: =IF(OR(B10="",N(D10)=0),"",N(E10)/D10) | I10: =IF(OR(B10="",N(D10)=0),"",N(F10)/D10) | J10: =IF(B10="","",SUMIF('거래내역원장'!F5:F104,B10,'거래내역원장'!J5:J104)) | K10: =IF('거래처등록'!B8="","",'거래처등록'!E8)
A11: 5 | B11: =IF('거래처등록'!B9="","",'거래처등록'!B9) | C11: =IF('거래처등록'!B9="","",'거래처등록'!D9) | D11: =IF(B11="","",SUMIF('거래내역원장'!F5:F104,B11,'거래내역원장'!I5:I104)) | E11: =IF(B11="","",SUMIF('장비임대료수금원장'!D5:D54,B11,'장비임대료수금원장'!E5:E54)+N(J11)) | F11: =IF(B11="","",N(D11)-N(E11)) | G11: =IF(OR(B11="",N(D22)=0),"",N(D11)/D22) | H11: =IF(OR(B11="",N(D11)=0),"",N(E11)/D11) | I11: =IF(OR(B11="",N(D11)=0),"",N(F11)/D11) | J11: =IF(B11="","",SUMIF('거래내역원장'!F5:F104,B11,'거래내역원장'!J5:J104)) | K11: =IF('거래처등록'!B9="","",'거래처등록'!E9)
A12: 6 | B12: =IF('거래처등록'!B10="","",'거래처등록'!B10) | C12: =IF('거래처등록'!B10="","",'거래처등록'!D10) | D12: =IF(B12="","",SUMIF('거래내역원장'!F5:F104,B12,'거래내역원장'!I5:I104)) | E12: =IF(B12="","",SUMIF('장비임대료수금원장'!D5:D54,B12,'장비임대료수금원장'!E5:E54)+N(J12)) | F12: =IF(B12="","",N(D12)-N(E12)) | G12: =IF(OR(B12="",N(D22)=0),"",N(D12)/D22) | H12: =IF(OR(B12="",N(D12)=0),"",N(E12)/D12) | I12: =IF(OR(B12="",N(D12)=0),"",N(F12)/D12) | J12: =IF(B12="","",SUMIF('거래내역원장'!F5:F104,B12,'거래내역원장'!J5:J104)) | K12: =IF('거래처등록'!B10="","",'거래처등록'!E10)
A13: 7 | B13: =IF('거래처등록'!B11="","",'거래처등록'!B11) | C13: =IF('거래처등록'!B11="","",'거래처등록'!D11) | D13: =IF(B13="","",SUMIF('거래내역원장'!F5:F104,B13,'거래내역원장'!I5:I104)) | E13: =IF(B13="","",SUMIF('장비임대료수금원장'!D5:D54,B13,'장비임대료수금원장'!E5:E54)+N(J13)) | F13: =IF(B13="","",N(D13)-N(E13)) | G13: =IF(OR(B13="",N(D22)=0),"",N(D13)/D22) | H13: =IF(OR(B13="",N(D13)=0),"",N(E13)/D13) | I13: =IF(OR(B13="",N(D13)=0),"",N(F13)/D13) | J13: =IF(B13="","",SUMIF('거래내역원장'!F5:F104,B13,'거래내역원장'!J5:J104)) | K13: =IF('거래처등록'!B11="","",'거래처등록'!E11)
A14: 8 | B14: =IF('거래처등록'!B12="","",'거래처등록'!B12) | C14: =IF('거래처등록'!B12="","",'거래처등록'!D12) | D14: =IF(B14="","",SUMIF('거래내역원장'!F5:F104,B14,'거래내역원장'!I5:I104)) | E14: =IF(B14="","",SUMIF('장비임대료수금원장'!D5:D54,B14,'장비임대료수금원장'!E5:E54)+N(J14)) | F14: =IF(B14="","",N(D14)-N(E14)) | G14: =IF(OR(B14="",N(D22)=0),"",N(D14)/D22) | H14: =IF(OR(B14="",N(D14)=0),"",N(E14)/D14) | I14: =IF(OR(B14="",N(D14)=0),"",N(F14)/D14) | J14: =IF(B14="","",SUMIF('거래내역원장'!F5:F104,B14,'거래내역원장'!J5:J104)) | K14: =IF('거래처등록'!B12="","",'거래처등록'!E12)
A15: 9 | B15: =IF('거래처등록'!B13="","",'거래처등록'!B13) | C15: =IF('거래처등록'!B13="","",'거래처등록'!D13) | D15: =IF(B15="","",SUMIF('거래내역원장'!F5:F104,B15,'거래내역원장'!I5:I104)) | E15: =IF(B15="","",SUMIF('장비임대료수금원장'!D5:D54,B15,'장비임대료수금원장'!E5:E54)+N(J15)) | F15: =IF(B15="","",N(D15)-N(E15)) | G15: =IF(OR(B15="",N(D22)=0),"",N(D15)/D22) | H15: =IF(OR(B15="",N(D15)=0),"",N(E15)/D15) | I15: =IF(OR(B15="",N(D15)=0),"",N(F15)/D15) | J15: =IF(B15="","",SUMIF('거래내역원장'!F5:F104,B15,'거래내역원장'!J5:J104)) | K15: =IF('거래처등록'!B13="","",'거래처등록'!E13)
A16: 10 | B16: =IF('거래처등록'!B14="","",'거래처등록'!B14) | C16: =IF('거래처등록'!B14="","",'거래처등록'!D14) | D16: =IF(B16="","",SUMIF('거래내역원장'!F5:F104,B16,'거래내역원장'!I5:I104)) | E16: =IF(B16="","",SUMIF('장비임대료수금원장'!D5:D54,B16,'장비임대료수금원장'!E5:E54)+N(J16)) | F16: =IF(B16="","",N(D16)-N(E16)) | G16: =IF(OR(B16="",N(D22)=0),"",N(D16)/D22) | H16: =IF(OR(B16="",N(D16)=0),"",N(E16)/D16) | I16: =IF(OR(B16="",N(D16)=0),"",N(F16)/D16) | J16: =IF(B16="","",SUMIF('거래내역원장'!F5:F104,B16,'거래내역원장'!J5:J104)) | K16: =IF('거래처등록'!B14="","",'거래처등록'!E14)
A17: 11 | B17: =IF('거래처등록'!B15="","",'거래처등록'!B15) | C17: =IF('거래처등록'!B15="","",'거래처등록'!D15) | D17: =IF(B17="","",SUMIF('거래내역원장'!F5:F104,B17,'거래내역원장'!I5:I104)) | E17: =IF(B17="","",SUMIF('장비임대료수금원장'!D5:D54,B17,'장비임대료수금원장'!E5:E54)+N(J17)) | F17: =IF(B17="","",N(D17)-N(E17)) | G17: =IF(OR(B17="",N(D22)=0),"",N(D17)/D22) | H17: =IF(OR(B17="",N(D17)=0),"",N(E17)/D17) | I17: =IF(OR(B17="",N(D17)=0),"",N(F17)/D17) | J17: =IF(B17="","",SUMIF('거래내역원장'!F5:F104,B17,'거래내역원장'!J5:J104)) | K17: =IF('거래처등록'!B15="","",'거래처등록'!E15)
A18: 12 | B18: =IF('거래처등록'!B16="","",'거래처등록'!B16) | C18: =IF('거래처등록'!B16="","",'거래처등록'!D16) | D18: =IF(B18="","",SUMIF('거래내역원장'!F5:F104,B18,'거래내역원장'!I5:I104)) | E18: =IF(B18="","",SUMIF('장비임대료수금원장'!D5:D54,B18,'장비임대료수금원장'!E5:E54)+N(J18)) | F18: =IF(B18="","",N(D18)-N(E18)) | G18: =IF(OR(B18="",N(D22)=0),"",N(D18)/D22) | H18: =IF(OR(B18="",N(D18)=0),"",N(E18)/D18) | I18: =IF(OR(B18="",N(D18)=0),"",N(F18)/D18) | J18: =IF(B18="","",SUMIF('거래내역원장'!F5:F104,B18,'거래내역원장'!J5:J104)) | K18: =IF('거래처등록'!B16="","",'거래처등록'!E16)
A19: 13 | B19: =IF('거래처등록'!B17="","",'거래처등록'!B17) | C19: =IF('거래처등록'!B17="","",'거래처등록'!D17) | D19: =IF(B19="","",SUMIF('거래내역원장'!F5:F104,B19,'거래내역원장'!I5:I104)) | E19: =IF(B19="","",SUMIF('장비임대료수금원장'!D5:D54,B19,'장비임대료수금원장'!E5:E54)+N(J19)) | F19: =IF(B19="","",N(D19)-N(E19)) | G19: =IF(OR(B19="",N(D22)=0),"",N(D19)/D22) | H19: =IF(OR(B19="",N(D19)=0),"",N(E19)/D19) | I19: =IF(OR(B19="",N(D19)=0),"",N(F19)/D19) | J19: =IF(B19="","",SUMIF('거래내역원장'!F5:F104,B19,'거래내역원장'!J5:J104)) | K19: =IF('거래처등록'!B17="","",'거래처등록'!E17)
A20: 14 | B20: =IF('거래처등록'!B18="","",'거래처등록'!B18) | C20: =IF('거래처등록'!B18="","",'거래처등록'!D18) | D20: =IF(B20="","",SUMIF('거래내역원장'!F5:F104,B20,'거래내역원장'!I5:I104)) | E20: =IF(B20="","",SUMIF('장비임대료수금원장'!D5:D54,B20,'장비임대료수금원장'!E5:E54)+N(J20)) | F20: =IF(B20="","",N(D20)-N(E20)) | G20: =IF(OR(B20="",N(D22)=0),"",N(D20)/D22) | H20: =IF(OR(B20="",N(D20)=0),"",N(E20)/D20) | I20: =IF(OR(B20="",N(D20)=0),"",N(F20)/D20) | J20: =IF(B20="","",SUMIF('거래내역원장'!F5:F104,B20,'거래내역원장'!J5:J104)) | K20: =IF('거래처등록'!B18="","",'거래처등록'!E18)
A21: 15 | B21: =IF('거래처등록'!B19="","",'거래처등록'!B19) | C21: =IF('거래처등록'!B19="","",'거래처등록'!D19) | D21: =IF(B21="","",SUMIF('거래내역원장'!F5:F104,B21,'거래내역원장'!I5:I104)) | E21: =IF(B21="","",SUMIF('장비임대료수금원장'!D5:D54,B21,'장비임대료수금원장'!E5:E54)+N(J21)) | F21: =IF(B21="","",N(D21)-N(E21)) | G21: =IF(OR(B21="",N(D22)=0),"",N(D21)/D22) | H21: =IF(OR(B21="",N(D21)=0),"",N(E21)/D21) | I21: =IF(OR(B21="",N(D21)=0),"",N(F21)/D21) | J21: =IF(B21="","",SUMIF('거래내역원장'!F5:F104,B21,'거래내역원장'!J5:J104)) | K21: =IF('거래처등록'!B19="","",'거래처등록'!E19)
A22: 총 계 | D22: =SUM(D7:D21) | E22: =SUM(E7:E21) | F22: =SUM(F7:F21) | G22: =IF(N(D22)=0,"",1) | H22: =IF(N(D22)=0,"",E22/D22) | I22: =IF(N(D22)=0,"",F22/D22) | J22: =SUM(J7:J21)
A24: ■ 기사별 수금 현황
A25: 번호 | B25: 기사명 | C25: 장비번호 | D25: 장비 임대료 | E25: 기수급금 (유류대 포함) | F25: 미수급금 | G25: 임대료 비율 | H25: 수금률 | I25: 미수율 | J25: 유 류 대 | K25: 연 락 처
A26: 1 | B26: =IF('기사명등록'!B5="","",'기사명등록'!B5) | C26: =IF('기사명등록'!B5="","",'기사명등록'!D5) | D26: =IF(B26="","",SUMIF('거래내역원장'!D5:D104,B26,'거래내역원장'!I5:I104)) | E26: =IF(B26="","",SUMIF('장비임대료수금원장'!F5:F54,B26,'장비임대료수금원장'!E5:E54)+N(J26)) | F26: =IF(B26="","",N(D26)-N(E26)) | G26: =IF(OR(B26="",N(D41)=0),"",N(D26)/D41) | H26: =IF(OR(B26="",N(D26)=0),"",N(E26)/D26) | I26: =IF(OR(B26="",N(D26)=0),"",N(F26)/D26) | J26: =IF(B26="","",SUMIF('거래내역원장'!D5:D104,B26,'거래내역원장'!J5:J104)) | K26: =IF('기사명등록'!B5="","",'기사명등록'!F5)
A27: 2 | B27: =IF('기사명등록'!B6="","",'기사명등록'!B6) | C27: =IF('기사명등록'!B6="","",'기사명등록'!D6) | D27: =IF(B27="","",SUMIF('거래내역원장'!D5:D104,B27,'거래내역원장'!I5:I104)) | E27: =IF(B27="","",SUMIF('장비임대료수금원장'!F5:F54,B27,'장비임대료수금원장'!E5:E54)+N(J27)) | F27: =IF(B27="","",N(D27)-N(E27)) | G27: =IF(OR(B27="",N(D41)=0),"",N(D27)/D41) | H27: =IF(OR(B27="",N(D27)=0),"",N(E27)/D27) | I27: =IF(OR(B27="",N(D27)=0),"",N(F27)/D27) | J27: =IF(B27="","",SUMIF('거래내역원장'!D5:D104,B27,'거래내역원장'!J5:J104)) | K27: =IF('기사명등록'!B6="","",'기사명등록'!F6)
A28: 3 | B28: =IF('기사명등록'!B7="","",'기사명등록'!B7) | C28: =IF('기사명등록'!B7="","",'기사명등록'!D7) | D28: =IF(B28="","",SUMIF('거래내역원장'!D5:D104,B28,'거래내역원장'!I5:I104)) | E28: =IF(B28="","",SUMIF('장비임대료수금원장'!F5:F54,B28,'장비임대료수금원장'!E5:E54)+N(J28)) | F28: =IF(B28="","",N(D28)-N(E28)) | G28: =IF(OR(B28="",N(D41)=0),"",N(D28)/D41) | H28: =IF(OR(B28="",N(D28)=0),"",N(E28)/D28) | I28: =IF(OR(B28="",N(D28)=0),"",N(F28)/D28) | J28: =IF(B28="","",SUMIF('거래내역원장'!D5:D104,B28,'거래내역원장'!J5:J104)) | K28: =IF('기사명등록'!B7="","",'기사명등록'!F7)
A29: 4 | B29: =IF('기사명등록'!B8="","",'기사명등록'!B8) | C29: =IF('기사명등록'!B8="","",'기사명등록'!D8) | D29: =IF(B29="","",SUMIF('거래내역원장'!D5:D104,B29,'거래내역원장'!I5:I104)) | E29: =IF(B29="","",SUMIF('장비임대료수금원장'!F5:F54,B29,'장비임대료수금원장'!E5:E54)+N(J29)) | F29: =IF(B29="","",N(D29)-N(E29)) | G29: =IF(OR(B29="",N(D41)=0),"",N(D29)/D41) | H29: =IF(OR(B29="",N(D29)=0),"",N(E29)/D29) | I29: =IF(OR(B29="",N(D29)=0),"",N(F29)/D29) | J29: =IF(B29="","",SUMIF('거래내역원장'!D5:D104,B29,'거래내역원장'!J5:J104)) | K29: =IF('기사명등록'!B8="","",'기사명등록'!F8)
A30: 5 | B30: =IF('기사명등록'!B9="","",'기사명등록'!B9) | C30: =IF('기사명등록'!B9="","",'기사명등록'!D9) | D30: =IF(B30="","",SUMIF('거래내역원장'!D5:D104,B30,'거래내역원장'!I5:I104)) | E30: =IF(B30="","",SUMIF('장비임대료수금원장'!F5:F54,B30,'장비임대료수금원장'!E5:E54)+N(J30)) | F30: =IF(B30="","",N(D30)-N(E30)) | G30: =IF(OR(B30="",N(D41)=0),"",N(D30)/D41) | H30: =IF(OR(B30="",N(D30)=0),"",N(E30)/D30) | I30: =IF(OR(B30="",N(D30)=0),"",N(F30)/D30) | J30: =IF(B30="","",SUMIF('거래내역원장'!D5:D104,B30,'거래내역원장'!J5:J104)) | K30: =IF('기사명등록'!B9="","",'기사명등록'!F9)
A31: 6 | B31: =IF('기사명등록'!B10="","",'기사명등록'!B10) | C31: =IF('기사명등록'!B10="","",'기사명등록'!D10) | D31: =IF(B31="","",SUMIF('거래내역원장'!D5:D104,B31,'거래내역원장'!I5:I104)) | E31: =IF(B31="","",SUMIF('장비임대료수금원장'!F5:F54,B31,'장비임대료수금원장'!E5:E54)+N(J31)) | F31: =IF(B31="","",N(D31)-N(E31)) | G31: =IF(OR(B31="",N(D41)=0),"",N(D31)/D41) | H31: =IF(OR(B31="",N(D31)=0),"",N(E31)/D31) | I31: =IF(OR(B31="",N(D31)=0),"",N(F31)/D31) | J31: =IF(B31="","",SUMIF('거래내역원장'!D5:D104,B31,'거래내역원장'!J5:J104)) | K31: =IF('기사명등록'!B10="","",'기사명등록'!F10)
A32: 7 | B32: =IF('기사명등록'!B11="","",'기사명등록'!B11) | C32: =IF('기사명등록'!B11="","",'기사명등록'!D11) | D32: =IF(B32="","",SUMIF('거래내역원장'!D5:D104,B32,'거래내역원장'!I5:I104)) | E32: =IF(B32="","",SUMIF('장비임대료수금원장'!F5:F54,B32,'장비임대료수금원장'!E5:E54)+N(J32)) | F32: =IF(B32="","",N(D32)-N(E32)) | G32: =IF(OR(B32="",N(D41)=0),"",N(D32)/D41) | H32: =IF(OR(B32="",N(D32)=0),"",N(E32)/D32) | I32: =IF(OR(B32="",N(D32)=0),"",N(F32)/D32) | J32: =IF(B32="","",SUMIF('거래내역원장'!D5:D104,B32,'거래내역원장'!J5:J104)) | K32: =IF('기사명등록'!B11="","",'기사명등록'!F11)
A33: 8 | B33: =IF('기사명등록'!B12="","",'기사명등록'!B12) | C33: =IF('기사명등록'!B12="","",'기사명등록'!D12) | D33: =IF(B33="","",SUMIF('거래내역원장'!D5:D104,B33,'거래내역원장'!I5:I104)) | E33: =IF(B33="","",SUMIF('장비임대료수금원장'!F5:F54,B33,'장비임대료수금원장'!E5:E54)+N(J33)) | F33: =IF(B33="","",N(D33)-N(E33)) | G33: =IF(OR(B33="",N(D41)=0),"",N(D33)/D41) | H33: =IF(OR(B33="",N(D33)=0),"",N(E33)/D33) | I33: =IF(OR(B33="",N(D33)=0),"",N(F33)/D33) | J33: =IF(B33="","",SUMIF('거래내역원장'!D5:D104,B33,'거래내역원장'!J5:J104)) | K33: =IF('기사명등록'!B12="","",'기사명등록'!F12)
A34: 9 | B34: =IF('기사명등록'!B13="","",'기사명등록'!B13) | C34: =IF('기사명등록'!B13="","",'기사명등록'!D13) | D34: =IF(B34="","",SUMIF('거래내역원장'!D5:D104,B34,'거래내역원장'!I5:I104)) | E34: =IF(B34="","",SUMIF('장비임대료수금원장'!F5:F54,B34,'장비임대료수금원장'!E5:E54)+N(J34)) | F34: =IF(B34="","",N(D34)-N(E34)) | G34: =IF(OR(B34="",N(D41)=0),"",N(D34)/D41) | H34: =IF(OR(B34="",N(D34)=0),"",N(E34)/D34) | I34: =IF(OR(B34="",N(D34)=0),"",N(F34)/D34) | J34: =IF(B34="","",SUMIF('거래내역원장'!D5:D104,B34,'거래내역원장'!J5:J104)) | K34: =IF('기사명등록'!B13="","",'기사명등록'!F13)
A35: 10 | B35: =IF('기사명등록'!B14="","",'기사명등록'!B14) | C35: =IF('기사명등록'!B14="","",'기사명등록'!D14) | D35: =IF(B35="","",SUMIF('거래내역원장'!D5:D104,B35,'거래내역원장'!I5:I104)) | E35: =IF(B35="","",SUMIF('장비임대료수금원장'!F5:F54,B35,'장비임대료수금원장'!E5:E54)+N(J35)) | F35: =IF(B35="","",N(D35)-N(E35)) | G35: =IF(OR(B35="",N(D41)=0),"",N(D35)/D41) | H35: =IF(OR(B35="",N(D35)=0),"",N(E35)/D35) | I35: =IF(OR(B35="",N(D35)=0),"",N(F35)/D35) | J35: =IF(B35="","",SUMIF('거래내역원장'!D5:D104,B35,'거래내역원장'!J5:J104)) | K35: =IF('기사명등록'!B14="","",'기사명등록'!F14)
A36: 11 | B36: =IF('기사명등록'!B15="","",'기사명등록'!B15) | C36: =IF('기사명등록'!B15="","",'기사명등록'!D15) | D36: =IF(B36="","",SUMIF('거래내역원장'!D5:D104,B36,'거래내역원장'!I5:I104)) | E36: =IF(B36="","",SUMIF('장비임대료수금원장'!F5:F54,B36,'장비임대료수금원장'!E5:E54)+N(J36)) | F36: =IF(B36="","",N(D36)-N(E36)) | G36: =IF(OR(B36="",N(D41)=0),"",N(D36)/D41) | H36: =IF(OR(B36="",N(D36)=0),"",N(E36)/D36) | I36: =IF(OR(B36="",N(D36)=0),"",N(F36)/D36) | J36: =IF(B36="","",SUMIF('거래내역원장'!D5:D104,B36,'거래내역원장'!J5:J104)) | K36: =IF('기사명등록'!B15="","",'기사명등록'!F15)
A37: 12 | B37: =IF('기사명등록'!B16="","",'기사명등록'!B16) | C37: =IF('기사명등록'!B16="","",'기사명등록'!D16) | D37: =IF(B37="","",SUMIF('거래내역원장'!D5:D104,B37,'거래내역원장'!I5:I104)) | E37: =IF(B37="","",SUMIF('장비임대료수금원장'!F5:F54,B37,'장비임대료수금원장'!E5:E54)+N(J37)) | F37: =IF(B37="","",N(D37)-N(E37)) | G37: =IF(OR(B37="",N(D41)=0),"",N(D37)/D41) | H37: =IF(OR(B37="",N(D37)=0),"",N(E37)/D37) | I37: =IF(OR(B37="",N(D37)=0),"",N(F37)/D37) | J37: =IF(B37="","",SUMIF('거래내역원장'!D5:D104,B37,'거래내역원장'!J5:J104)) | K37: =IF('기사명등록'!B16="","",'기사명등록'!F16)
A38: 13 | B38: =IF('기사명등록'!B17="","",'기사명등록'!B17) | C38: =IF('기사명등록'!B17="","",'기사명등록'!D17) | D38: =IF(B38="","",SUMIF('거래내역원장'!D5:D104,B38,'거래내역원장'!I5:I104)) | E38: =IF(B38="","",SUMIF('장비임대료수금원장'!F5:F54,B38,'장비임대료수금원장'!E5:E54)+N(J38)) | F38: =IF(B38="","",N(D38)-N(E38)) | G38: =IF(OR(B38="",N(D41)=0),"",N(D38)/D41) | H38: =IF(OR(B38="",N(D38)=0),"",N(E38)/D38) | I38: =IF(OR(B38="",N(D38)=0),"",N(F38)/D38) | J38: =IF(B38="","",SUMIF('거래내역원장'!D5:D104,B38,'거래내역원장'!J5:J104)) | K38: =IF('기사명등록'!B17="","",'기사명등록'!F17)
A39: 14 | B39: =IF('기사명등록'!B18="","",'기사명등록'!B18) | C39: =IF('기사명등록'!B18="","",'기사명등록'!D18) | D39: =IF(B39="","",SUMIF('거래내역원장'!D5:D104,B39,'거래내역원장'!I5:I104)) | E39: =IF(B39="","",SUMIF('장비임대료수금원장'!F5:F54,B39,'장비임대료수금원장'!E5:E54)+N(J39)) | F39: =IF(B39="","",N(D39)-N(E39)) | G39: =IF(OR(B39="",N(D41)=0),"",N(D39)/D41) | H39: =IF(OR(B39="",N(D39)=0),"",N(E39)/D39) | I39: =IF(OR(B39="",N(D39)=0),"",N(F39)/D39) | J39: =IF(B39="","",SUMIF('거래내역원장'!D5:D104,B39,'거래내역원장'!J5:J104)) | K39: =IF('기사명등록'!B18="","",'기사명등록'!F18)
A40: 15 | B40: =IF('기사명등록'!B19="","",'기사명등록'!B19) | C40: =IF('기사명등록'!B19="","",'기사명등록'!D19) | D40: =IF(B40="","",SUMIF('거래내역원장'!D5:D104,B40,'거래내역원장'!I5:I104)) | E40: =IF(B40="","",SUMIF('장비임대료수금원장'!F5:F54,B40,'장비임대료수금원장'!E5:E54)+N(J40)) | F40: =IF(B40="","",N(D40)-N(E40)) | G40: =IF(OR(B40="",N(D41)=0),"",N(D40)/D41) | H40: =IF(OR(B40="",N(D40)=0),"",N(E40)/D40) | I40: =IF(OR(B40="",N(D40)=0),"",N(F40)/D40) | J40: =IF(B40="","",SUMIF('거래내역원장'!D5:D104,B40,'거래내역원장'!J5:J104)) | K40: =IF('기사명등록'!B19="","",'기사명등록'!F19)
A41: 총 계 | D41: =SUM(D26:D40) | E41: =SUM(E26:E40) | F41: =SUM(F26:F40) | G41: =IF(N(D41)=0,"",1) | H41: =IF(N(D41)=0,"",E41/D41) | I41: =IF(N(D41)=0,"",F41/D41) | J41: =SUM(J26:J40)
A42: =IF(ROUND(D22-SUM('거래내역원장'!I5:I104),0)=0,"","⚠ 거래내역 금액 합계와 업체별 임대료 합계가 다릅니다 — 거래처등록에 없는 거래처가 거래내역에 있는지 보세요.")
...

Sheet 거래내역원장
A1: K-건설맵 | k-conmap.com 무료 건설 서식 | I1: ← 이 1행을 지우고 쓰셔도 됩니다
A2: 거 래 내 역 원 장
A3: 합 계 (거르기 하면 보이는 줄만) | E3: 금 액 | G3: =SUBTOTAL(9,I5:I104) | I3: 유 류 대 | K3: =SUBTOTAL(9,J5:J104)
A4: 년 | B4: 월 | C4: 일 | D4: 기 사 명 | E4: 장 비 명 | F4: 거 래 처 | G4: 시간 | H4: 단 가 | I4: 금 액 | J4: 유 류 대 | K4: 현 장 명 | L4: 비 고 | M4: 수금 여부 | N4: 날짜(도움) | O4: 청구 | P4: 순번
I5: =IF(OR(N(G5)=0,IF(N(H5)>0,H5,IFERROR(VLOOKUP(D5,'기사명등록'!B5:E19,4,0),0))=0),"",ROUND(G5*IF(N(H5)>0,H5,IFERROR(VLOOKUP(D5,'기사명등록'!B5:E19,4,0),0)),0)) | M5: =IF(OR(F5="",I5=""),"",IF(SUMIF(F5:F5,F5,I5:I5)<=SUMIF('장비임대료수금원장'!D5:D54,F5,'장비임대료수금원장'!E5:E54)+SUMIF(F5:F104,F5,J5:J104),"수금","미수금")) | N5: =IF(OR(N(A5)=0,N(B5)=0,N(C5)=0),"",DATE(A5,B5,C5)) | O5: =IF(AND(F5<>"",F5='청구서'!C5,I5<>"",OR(N('청구서'!C6)=0,AND(N5<>"",N(N5)>=N('청구서'!C6))),OR(N('청구서'!D6)=0,AND(N5<>"",N(N5)<=N('청구서'!D6)))),1,0) | P5: =IF(O5=1,SUM(O5:O5),"")
I6: =IF(OR(N(G6)=0,IF(N(H6)>0,H6,IFERROR(VLOOKUP(D6,'기사명등록'!B5:E19,4,0),0))=0),"",ROUND(G6*IF(N(H6)>0,H6,IFERROR(VLOOKUP(D6,'기사명등록'!B5:E19,4,0),0)),0)) | M6: =IF(OR(F6="",I6=""),"",IF(SUMIF(F5:F6,F6,I5:I6)<=SUMIF('장비임대료수금원장'!D5:D54,F6,'장비임대료수금원장'!E5:E54)+SUMIF(F5:F104,F6,J5:J104),"수금","미수금")) | N6: =IF(OR(N(A6)=0,N(B6)=0,N(C6)=0),"",DATE(A6,B6,C6)) | O6: =IF(AND(F6<>"",F6='청구서'!C5,I6<>"",OR(N('청구서'!C6)=0,AND(N6<>"",N(N6)>=N('청구서'!C6))),OR(N('청구서'!D6)=0,AND(N6<>"",N(N6)<=N('청구서'!D6)))),1,0) | P6: =IF(O6=1,SUM(O5:O6),"")
I7: =IF(OR(N(G7)=0,IF(N(H7)>0,H7,IFERROR(VLOOKUP(D7,'기사명등록'!B5:E19,4,0),0))=0),"",ROUND(G7*IF(N(H7)>0,H7,IFERROR(VLOOKUP(D7,'기사명등록'!B5:E19,4,0),0)),0)) | M7: =IF(OR(F7="",I7=""),"",IF(SUMIF(F5:F7,F7,I5:I7)<=SUMIF('장비임대료수금원장'!D5:D54,F7,'장비임대료수금원장'!E5:E54)+SUMIF(F5:F104,F7,J5:J104),"수금","미수금")) | N7: =IF(OR(N(A7)=0,N(B7)=0,N(C7)=0),"",DATE(A7,B7,C7)) | O7: =IF(AND(F7<>"",F7='청구서'!C5,I7<>"",OR(N('청구서'!C6)=0,AND(N7<>"",N(N7)>=N('청구서'!C6))),OR(N('청구서'!D6)=0,AND(N7<>"",N(N7)<=N('청구서'!D6)))),1,0) | P7: =IF(O7=1,SUM(O5:O7),"")
I8: =IF(OR(N(G8)=0,IF(N(H8)>0,H8,IFERROR(VLOOKUP(D8,'기사명등록'!B5:E19,4,0),0))=0),"",ROUND(G8*IF(N(H8)>0,H8,IFERROR(VLOOKUP(D8,'기사명등록'!B5:E19,4,0),0)),0)) | M8: =IF(OR(F8="",I8=""),"",IF(SUMIF(F5:F8,F8,I5:I8)<=SUMIF('장비임대료수금원장'!D5:D54,F8,'장비임대료수금원장'!E5:E54)+SUMIF(F5:F104,F8,J5:J104),"수금","미수금")) | N8: =IF(OR(N(A8)=0,N(B8)=0,N(C8)=0),"",DATE(A8,B8,C8)) | O8: =IF(AND(F8<>"",F8='청구서'!C5,I8<>"",OR(N('청구서'!C6)=0,AND(N8<>"",N(N8)>=N('청구서'!C6))),OR(N('청구서'!D6)=0,AND(N8<>"",N(N8)<=N('청구서'!D6)))),1,0) | P8: =IF(O8=1,SUM(O5:O8),"")
I9: =IF(OR(N(G9)=0,IF(N(H9)>0,H9,IFERROR(VLOOKUP(D9,'기사명등록'!B5:E19,4,0),0))=0),"",ROUND(G9*IF(N(H9)>0,H9,IFERROR(VLOOKUP(D9,'기사명등록'!B5:E19,4,0),0)),0)) | M9: =IF(OR(F9="",I9=""),"",IF(SUMIF(F5:F9,F9,I5:I9)<=SUMIF('장비임대료수금원장'!D5:D54,F9,'장비임대료수금원장'!E5:E54)+SUMIF(F5:F104,F9,J5:J104),"수금","미수금")) | N9: =IF(OR(N(A9)=0,N(B9)=0,N(C9)=0),"",DATE(A9,B9,C9)) | O9: =IF(AND(F9<>"",F9='청구서'!C5,I9<>"",OR(N('청구서'!C6)=0,AND(N9<>"",N(N9)>=N('청구서'!C6))),OR(N('청구서'!D6)=0,AND(N9<>"",N(N9)<=N('청구서'!D6)))),1,0) | P9: =IF(O9=1,SUM(O5:O9),"")
I10: =IF(OR(N(G10)=0,IF(N(H10)>0,H10,IFERROR(VLOOKUP(D10,'기사명등록'!B5:E19,4,0),0))=0),"",ROUND(G10*IF(N(H10)>0,H10,IFERROR(VLOOKUP(D10,'기사명등록'!B5:E19,4,0),0)),0)) | M10: =IF(OR(F10="",I10=""),"",IF(SUMIF(F5:F10,F10,I5:I10)<=SUMIF('장비임대료수금원장'!D5:D54,F10,'장비임대료수금원장'!E5:E54)+SUMIF(F5:F104,F10,J5:J104),"수금","미수금")) | N10: =IF(OR(N(A10)=0,N(B10)=0,N(C10)=0),"",DATE(A10,B10,C10)) | O10: =IF(AND(F10<>"",F10='청구서'!C5,I10<>"",OR(N('청구서'!C6)=0,AND(N10<>"",N(N10)>=N('청구서'!C6))),OR(N('청구서'!D6)=0,AND(N10<>"",N(N10)<=N('청구서'!D6)))),1,0) | P10: =IF(O10=1,SUM(O5:O10),"")
I11: =IF(OR(N(G11)=0,IF(N(H11)>0,H11,IFERROR(VLOOKUP(D11,'기사명등록'!B5:E19,4,0),0))=0),"",ROUND(G11*IF(N(H11)>0,H11,IFERROR(VLOOKUP(D11,'기사명등록'!B5:E19,4,0),0)),0)) | M11: =IF(OR(F11="",I11=""),"",IF(SUMIF(F5:F11,F11,I5:I11)<=SUMIF('장비임대료수금원장'!D5:D54,F11,'장비임대료수금원장'!E5:E54)+SUMIF(F5:F104,F11,J5:J104),"수금","미수금")) | N11: =IF(OR(N(A11)=0,N(B11)=0,N(C11)=0),"",DATE(A11,B11,C11)) | O11: =IF(AND(F11<>"",F11='청구서'!C5,I11<>"",OR(N('청구서'!C6)=0,AND(N11<>"",N(N11)>=N('청구서'!C6))),OR(N('청구서'!D6)=0,AND(N11<>"",N(N11)<=N('청구서'!D6)))),1,0) | P11: =IF(O11=1,SUM(O5:O11),"")
I12: =IF(OR(N(G12)=0,IF(N(H12)>0,H12,IFERROR(VLOOKUP(D12,'기사명등록'!B5:E19,4,0),0))=0),"",ROUND(G12*IF(N(H12)>0,H12,IFERROR(VLOOKUP(D12,'기사명등록'!B5:E19,4,0),0)),0)) | M12: =IF(OR(F12="",I12=""),"",IF(SUMIF(F5:F12,F12,I5:I12)<=SUMIF('장비임대료수금원장'!D5:D54,F12,'장비임대료수금원장'!E5:E54)+SUMIF(F5:F104,F12,J5:J104),"수금","미수금")) | N12: =IF(OR(N(A12)=0,N(B12)=0,N(C12)=0),"",DATE(A12,B12,C12)) | O12: =IF(AND(F12<>"",F12='청구서'!C5,I12<>"",OR(N('청구서'!C6)=0,AND(N12<>"",N(N12)>=N('청구서'!C6))),OR(N('청구서'!D6)=0,AND(N12<>"",N(N12)<=N('청구서'!D6)))),1,0) | P12: =IF(O12=1,SUM(O5:O12),"")
I13: =IF(OR(N(G13)=0,IF(N(H13)>0,H13,IFERROR(VLOOKUP(D13,'기사명등록'!B5:E19,4,0),0))=0),"",ROUND(G13*IF(N(H13)>0,H13,IFERROR(VLOOKUP(D13,'기사명등록'!B5:E19,4,0),0)),0)) | M13: =IF(OR(F13="",I13=""),"",IF(SUMIF(F5:F13,F13,I5:I13)<=SUMIF('장비임대료수금원장'!D5:D54,F13,'장비임대료수금원장'!E5:E54)+SUMIF(F5:F104,F13,J5:J104),"수금","미수금")) | N13: =IF(OR(N(A13)=0,N(B13)=0,N(C13)=0),"",DATE(A13,B13,C13)) | O13: =IF(AND(F13<>"",F13='청구서'!C5,I13<>"",OR(N('청구서'!C6)=0,AND(N13<>"",N(N13)>=N('청구서'!C6))),OR(N('청구서'!D6)=0,AND(N13<>"",N(N13)<=N('청구서'!D6)))),1,0) | P13: =IF(O13=1,SUM(O5:O13),"")
I14: =IF(OR(N(G14)=0,IF(N(H14)>0,H14,IFERROR(VLOOKUP(D14,'기사명등록'!B5:E19,4,0),0))=0),"",ROUND(G14*IF(N(H14)>0,H14,IFERROR(VLOOKUP(D14,'기사명등록'!B5:E19,4,0),0)),0)) | M14: =IF(OR(F14="",I14=""),"",IF(SUMIF(F5:F14,F14,I5:I14)<=SUMIF('장비임대료수금원장'!D5:D54,F14,'장비임대료수금원장'!E5:E54)+SUMIF(F5:F104,F14,J5:J104),"수금","미수금")) | N14: =IF(OR(N(A14)=0,N(B14)=0,N(C14)=0),"",DATE(A14,B14,C14)) | O14: =IF(AND(F14<>"",F14='청구서'!C5,I14<>"",OR(N('청구서'!C6)=0,AND(N14<>"",N(N14)>=N('청구서'!C6))),OR(N('청구서'!D6)=0,AND(N14<>"",N(N14)<=N('청구서'!D6)))),1,0) | P14: =IF(O14=1,SUM(O5:O14),"")
I15: =IF(OR(N(G15)=0,IF(N(H15)>0,H15,IFERROR(VLOOKUP(D15,'기사명등록'!B5:E19,4,0),0))=0),"",ROUND(G15*IF(N(H15)>0,H15,IFERROR(VLOOKUP(D15,'기사명등록'!B5:E19,4,0),0)),0)) | M15: =IF(OR(F15="",I15=""),"",IF(SUMIF(F5:F15,F15,I5:I15)<=SUMIF('장비임대료수금원장'!D5:D54,F15,'장비임대료수금원장'!E5:E54)+SUMIF(F5:F104,F15,J5:J104),"수금","미수금")) | N15: =IF(OR(N(A15)=0,N(B15)=0,N(C15)=0),"",DATE(A15,B15,C15)) | O15: =IF(AND(F15<>"",F15='청구서'!C5,I15<>"",OR(N('청구서'!C6)=0,AND(N15<>"",N(N15)>=N('청구서'!C6))),OR(N('청구서'!D6)=0,AND(N15<>"",N(N15)<=N('청구서'!D6)))),1,0) | P15: =IF(O15=1,SUM(O5:O15),"")
I16: =IF(OR(N(G16)=0,IF(N(H16)>0,H16,IFERROR(VLOOKUP(D16,'기사명등록'!B5:E19,4,0),0))=0),"",ROUND(G16*IF(N(H16)>0,H16,IFERROR(VLOOKUP(D16,'기사명등록'!B5:E19,4,0),0)),0)) | M16: =IF(OR(F16="",I16=""),"",IF(SUMIF(F5:F16,F16,I5:I16)<=SUMIF('장비임대료수금원장'!D5:D54,F16,'장비임대료수금원장'!E5:E54)+SUMIF(F5:F104,F16,J5:J104),"수금","미수금")) | N16: =IF(OR(N(A16)=0,N(B16)=0,N(C16)=0),"",DATE(A16,B16,C16)) | O16: =IF(AND(F16<>"",F16='청구서'!C5,I16<>"",OR(N('청구서'!C6)=0,AND(N16<>"",N(N16)>=N('청구서'!C6))),OR(N('청구서'!D6)=0,AND(N16<>"",N(N16)<=N('청구서'!D6)))),1,0) | P16: =IF(O16=1,SUM(O5:O16),"")
I17: =IF(OR(N(G17)=0,IF(N(H17)>0,H17,IFERROR(VLOOKUP(D17,'기사명등록'!B5:E19,4,0),0))=0),"",ROUND(G17*IF(N(H17)>0,H17,IFERROR(VLOOKUP(D17,'기사명등록'!B5:E19,4,0),0)),0)) | M17: =IF(OR(F17="",I17=""),"",IF(SUMIF(F5:F17,F17,I5:I17)<=SUMIF('장비임대료수금원장'!D5:D54,F17,'장비임대료수금원장'!E5:E54)+SUMIF(F5:F104,F17,J5:J104),"수금","미수금")) | N17: =IF(OR(N(A17)=0,N(B17)=0,N(C17)=0),"",DATE(A17,B17,C17)) | O17: =IF(AND(F17<>"",F17='청구서'!C5,I17<>"",OR(N('청구서'!C6)=0,AND(N17<>"",N(N17)>=N('청구서'!C6))),OR(N('청구서'!D6)=0,AND(N17<>"",N(N17)<=N('청구서'!D6)))),1,0) | P17: =IF(O17=1,SUM(O5:O17),"")
I18: =IF(OR(N(G18)=0,IF(N(H18)>0,H18,IFERROR(VLOOKUP(D18,'기사명등록'!B5:E19,4,0),0))=0),"",ROUND(G18*IF(N(H18)>0,H18,IFERROR(VLOOKUP(D18,'기사명등록'!B5:E19,4,0),0)),0)) | M18: =IF(OR(F18="",I18=""),"",IF(SUMIF(F5:F18,F18,I5:I18)<=SUMIF('장비임대료수금원장'!D5:D54,F18,'장비임대료수금원장'!E5:E54)+SUMIF(F5:F104,F18,J5:J104),"수금","미수금")) | N18: =IF(OR(N(A18)=0,N(B18)=0,N(C18)=0),"",DATE(A18,B18,C18)) | O18: =IF(AND(F18<>"",F18='청구서'!C5,I18<>"",OR(N('청구서'!C6)=0,AND(N18<>"",N(N18)>=N('청구서'!C6))),OR(N('청구서'!D6)=0,AND(N18<>"",N(N18)<=N('청구서'!D6)))),1,0) | P18: =IF(O18=1,SUM(O5:O18),"")
I19: =IF(OR(N(G19)=0,IF(N(H19)>0,H19,IFERROR(VLOOKUP(D19,'기사명등록'!B5:E19,4,0),0))=0),"",ROUND(G19*IF(N(H19)>0,H19,IFERROR(VLOOKUP(D19,'기사명등록'!B5:E19,4,0),0)),0)) | M19: =IF(OR(F19="",I19=""),"",IF(SUMIF(F5:F19,F19,I5:I19)<=SUMIF('장비임대료수금원장'!D5:D54,F19,'장비임대료수금원장'!E5:E54)+SUMIF(F5:F104,F19,J5:J104),"수금","미수금")) | N19: =IF(OR(N(A19)=0,N(B19)=0,N(C19)=0),"",DATE(A19,B19,C19)) | O19: =IF(AND(F19<>"",F19='청구서'!C5,I19<>"",OR(N('청구서'!C6)=0,AND(N19<>"",N(N19)>=N('청구서'!C6))),OR(N('청구서'!D6)=0,AND(N19<>"",N(N19)<=N('청구서'!D6)))),1,0) | P19: =IF(O19=1,SUM(O5:O19),"")
I20: =IF(OR(N(G20)=0,IF(N(H20)>0,H20,IFERROR(VLOOKUP(D20,'기사명등록'!B5:E19,4,0),0))=0),"",ROUND(G20*IF(N(H20)>0,H20,IFERROR(VLOOKUP(D20,'기사명등록'!B5:E19,4,0),0)),0)) | M20: =IF(OR(F20="",I20=""),"",IF(SUMIF(F5:F20,F20,I5:I20)<=SUMIF('장비임대료수금원장'!D5:D54,F20,'장비임대료수금원장'!E5:E54)+SUMIF(F5:F104,F20,J5:J104),"수금","미수금")) | N20: =IF(OR(N(A20)=0,N(B20)=0,N(C20)=0),"",DATE(A20,B20,C20)) | O20: =IF(AND(F20<>"",F20='청구서'!C5,I20<>"",OR(N('청구서'!C6)=0,AND(N20<>"",N(N20)>=N('청구서'!C6))),OR(N('청구서'!D6)=0,AND(N20<>"",N(N20)<=N('청구서'!D6)))),1,0) | P20: =IF(O20=1,SUM(O5:O20),"")
I21: =IF(OR(N(G21)=0,IF(N(H21)>0,H21,IFERROR(VLOOKUP(D21,'기사명등록'!B5:E19,4,0),0))=0),"",ROUND(G21*IF(N(H21)>0,H21,IFERROR(VLOOKUP(D21,'기사명등록'!B5:E19,4,0),0)),0)) | M21: =IF(OR(F21="",I21=""),"",IF(SUMIF(F5:F21,F21,I5:I21)<=SUMIF('장비임대료수금원장'!D5:D54,F21,'장비임대료수금원장'!E5:E54)+SUMIF(F5:F104,F21,J5:J104),"수금","미수금")) | N21: =IF(OR(N(A21)=0,N(B21)=0,N(C21)=0),"",DATE(A21,B21,C21)) | O21: =IF(AND(F21<>"",F21='청구서'!C5,I21<>"",OR(N('청구서'!C6)=0,AND(N21<>"",N(N21)>=N('청구서'!C6))),OR(N('청구서'!D6)=0,AND(N21<>"",N(N21)<=N('청구서'!D6)))),1,0) | P21: =IF(O21=1,SUM(O5:O21),"")
I22: =IF(OR(N(G22)=0,IF(N(H22)>0,H22,IFERROR(VLOOKUP(D22,'기사명등록'!B5:E19,4,0),0))=0),"",ROUND(G22*IF(N(H22)>0,H22,IFERROR(VLOOKUP(D22,'기사명등록'!B5:E19,4,0),0)),0)) | M22: =IF(OR(F22="",I22=""),"",IF(SUMIF(F5:F22,F22,I5:I22)<=SUMIF('장비임대료수금원장'!D5:D54,F22,'장비임대료수금원장'!E5:E54)+SUMIF(F5:F104,F22,J5:J104),"수금","미수금")) | N22: =IF(OR(N(A22)=0,N(B22)=0,N(C22)=0),"",DATE(A22,B22,C22)) | O22: =IF(AND(F22<>"",F22='청구서'!C5,I22<>"",OR(N('청구서'!C6)=0,AND(N22<>"",N(N22)>=N('청구서'!C6))),OR(N('청구서'!D6)=0,AND(N22<>"",N(N22)<=N('청구서'!D6)))),1,0) | P22: =IF(O22=1,SUM(O5:O22),"")
I23: =IF(OR(N(G23)=0,IF(N(H23)>0,H23,IFERROR(VLOOKUP(D23,'기사명등록'!B5:E19,4,0),0))=0),"",ROUND(G23*IF(N(H23)>0,H23,IFERROR(VLOOKUP(D23,'기사명등록'!B5:E19,4,0),0)),0)) | M23: =IF(OR(F23="",I23=""),"",IF(SUMIF(F5:F23,F23,I5:I23)<=SUMIF('장비임대료수금원장'!D5:D54,F23,'장비임대료수금원장'!E5:E54)+SUMIF(F5:F104,F23,J5:J104),"수금","미수금")) | N23: =IF(OR(N(A23)=0,N(B23)=0,N(C23)=0),"",DATE(A23,B23,C23)) | O23: =IF(AND(F23<>"",F23='청구서'!C5,I23<>"",OR(N('청구서'!C6)=0,AND(N23<>"",N(N23)>=N('청구서'!C6))),OR(N('청구서'!D6)=0,AND(N23<>"",N(N23)<=N('청구서'!D6)))),1,0) | P23: =IF(O23=1,SUM(O5:O23),"")
I24: =IF(OR(N(G24)=0,IF(N(H24)>0,H24,IFERROR(VLOOKUP(D24,'기사명등록'!B5:E19,4,0),0))=0),"",ROUND(G24*IF(N(H24)>0,H24,IFERROR(VLOOKUP(D24,'기사명등록'!B5:E19,4,0),0)),0)) | M24: =IF(OR(F24="",I24=""),"",IF(SUMIF(F5:F24,F24,I5:I24)<=SUMIF('장비임대료수금원장'!D5:D54,F24,'장비임대료수금원장'!E5:E54)+SUMIF(F5:F104,F24,J5:J104),"수금","미수금")) | N24: =IF(OR(N(A24)=0,N(B24)=0,N(C24)=0),"",DATE(A24,B24,C24)) | O24: =IF(AND(F24<>"",F24='청구서'!C5,I24<>"",OR(N('청구서'!C6)=0,AND(N24<>"",N(N24)>=N('청구서'!C6))),OR(N('청구서'!D6)=0,AND(N24<>"",N(N24)<=N('청구서'!D6)))),1,0) | P24: =IF(O24=1,SUM(O5:O24),"")
I25: =IF(OR(N(G25)=0,IF(N(H25)>0,H25,IFERROR(VLOOKUP(D25,'기사명등록'!B5:E19,4,0),0))=0),"",ROUND(G25*IF(N(H25)>0,H25,IFERROR(VLOOKUP(D25,'기사명등록'!B5:E19,4,0),0)),0)) | M25: =IF(OR(F25="",I25=""),"",IF(SUMIF(F5:F25,F25,I5:I25)<=SUMIF('장비임대료수금원장'!D5:D54,F25,'장비임대료수금원장'!E5:E54)+SUMIF(F5:F104,F25,J5:J104),"수금","미수금")) | N25: =IF(OR(N(A25)=0,N(B25)=0,N(C25)=0),"",DATE(A25,B25,C25)) | O25: =IF(AND(F25<>"",F25='청구서'!C5,I25<>"",OR(N('청구서'!C6)=0,AND(N25<>"",N(N25)>=N('청구서'!C6))),OR(N('청구서'!D6)=0,AND(N25<>"",N(N25)<=N('청구서'!D6)))),1,0) | P25: =IF(O25=1,SUM(O5:O25),"")
I26: =IF(OR(N(G26)=0,IF(N(H26)>0,H26,IFERROR(VLOOKUP(D26,'기사명등록'!B5:E19,4,0),0))=0),"",ROUND(G26*IF(N(H26)>0,H26,IFERROR(VLOOKUP(D26,'기사명등록'!B5:E19,4,0),0)),0)) | M26: =IF(OR(F26="",I26=""),"",IF(SUMIF(F5:F26,F26,I5:I26)<=SUMIF('장비임대료수금원장'!D5:D54,F26,'장비임대료수금원장'!E5:E54)+SUMIF(F5:F104,F26,J5:J104),"수금","미수금")) | N26: =IF(OR(N(A26)=0,N(B26)=0,N(C26)=0),"",DATE(A26,B26,C26)) | O26: =IF(AND(F26<>"",F26='청구서'!C5,I26<>"",OR(N('청구서'!C6)=0,AND(N26<>"",N(N26)>=N('청구서'!C6))),OR(N('청구서'!D6)=0,AND(N26<>"",N(N26)<=N('청구서'!D6)))),1,0) | P26: =IF(O26=1,SUM(O5:O26),"")
I27: =IF(OR(N(G27)=0,IF(N(H27)>0,H27,IFERROR(VLOOKUP(D27,'기사명등록'!B5:E19,4,0),0))=0),"",ROUND(G27*IF(N(H27)>0,H27,IFERROR(VLOOKUP(D27,'기사명등록'!B5:E19,4,0),0)),0)) | M27: =IF(OR(F27="",I27=""),"",IF(SUMIF(F5:F27,F27,I5:I27)<=SUMIF('장비임대료수금원장'!D5:D54,F27,'장비임대료수금원장'!E5:E54)+SUMIF(F5:F104,F27,J5:J104),"수금","미수금")) | N27: =IF(OR(N(A27)=0,N(B27)=0,N(C27)=0),"",DATE(A27,B27,C27)) | O27: =IF(AND(F27<>"",F27='청구서'!C5,I27<>"",OR(N('청구서'!C6)=0,AND(N27<>"",N(N27)>=N('청구서'!C6))),OR(N('청구서'!D6)=0,AND(N27<>"",N(N27)<=N('청구서'!D6)))),1,0) | P27: =IF(O27=1,SUM(O5:O27),"")
I28: =IF(OR(N(G28)=0,IF(N(H28)>0,H28,IFERROR(VLOOKUP(D28,'기사명등록'!B5:E19,4,0),0))=0),"",ROUND(G28*IF(N(H28)>0,H28,IFERROR(VLOOKUP(D28,'기사명등록'!B5:E19,4,0),0)),0)) | M28: =IF(OR(F28="",I28=""),"",IF(SUMIF(F5:F28,F28,I5:I28)<=SUMIF('장비임대료수금원장'!D5:D54,F28,'장비임대료수금원장'!E5:E54)+SUMIF(F5:F104,F28,J5:J104),"수금","미수금")) | N28: =IF(OR(N(A28)=0,N(B28)=0,N(C28)=0),"",DATE(A28,B28,C28)) | O28: =IF(AND(F28<>"",F28='청구서'!C5,I28<>"",OR(N('청구서'!C6)=0,AND(N28<>"",N(N28)>=N('청구서'!C6))),OR(N('청구서'!D6)=0,AND(N28<>"",N(N28)<=N('청구서'!D6)))),1,0) | P28: =IF(O28=1,SUM(O5:O28),"")
I29: =IF(OR(N(G29)=0,IF(N(H29)>0,H29,IFERROR(VLOOKUP(D29,'기사명등록'!B5:E19,4,0),0))=0),"",ROUND(G29*IF(N(H29)>0,H29,IFERROR(VLOOKUP(D29,'기사명등록'!B5:E19,4,0),0)),0)) | M29: =IF(OR(F29="",I29=""),"",IF(SUMIF(F5:F29,F29,I5:I29)<=SUMIF('장비임대료수금원장'!D5:D54,F29,'장비임대료수금원장'!E5:E54)+SUMIF(F5:F104,F29,J5:J104),"수금","미수금")) | N29: =IF(OR(N(A29)=0,N(B29)=0,N(C29)=0),"",DATE(A29,B29,C29)) | O29: =IF(AND(F29<>"",F29='청구서'!C5,I29<>"",OR(N('청구서'!C6)=0,AND(N29<>"",N(N29)>=N('청구서'!C6))),OR(N('청구서'!D6)=0,AND(N29<>"",N(N29)<=N('청구서'!D6)))),1,0) | P29: =IF(O29=1,SUM(O5:O29),"")
I30: =IF(OR(N(G30)=0,IF(N(H30)>0,H30,IFERROR(VLOOKUP(D30,'기사명등록'!B5:E19,4,0),0))=0),"",ROUND(G30*IF(N(H30)>0,H30,IFERROR(VLOOKUP(D30,'기사명등록'!B5:E19,4,0),0)),0)) | M30: =IF(OR(F30="",I30=""),"",IF(SUMIF(F5:F30,F30,I5:I30)<=SUMIF('장비임대료수금원장'!D5:D54,F30,'장비임대료수금원장'!E5:E54)+SUMIF(F5:F104,F30,J5:J104),"수금","미수금")) | N30: =IF(OR(N(A30)=0,N(B30)=0,N(C30)=0),"",DATE(A30,B30,C30)) | O30: =IF(AND(F30<>"",F30='청구서'!C5,I30<>"",OR(N('청구서'!C6)=0,AND(N30<>"",N(N30)>=N('청구서'!C6))),OR(N('청구서'!D6)=0,AND(N30<>"",N(N30)<=N('청구서'!D6)))),1,0) | P30: =IF(O30=1,SUM(O5:O30),"")
I31: =IF(OR(N(G31)=0,IF(N(H31)>0,H31,IFERROR(VLOOKUP(D31,'기사명등록'!B5:E19,4,0),0))=0),"",ROUND(G31*IF(N(H31)>0,H31,IFERROR(VLOOKUP(D31,'기사명등록'!B5:E19,4,0),0)),0)) | M31: =IF(OR(F31="",I31=""),"",IF(SUMIF(F5:F31,F31,I5:I31)<=SUMIF('장비임대료수금원장'!D5:D54,F31,'장비임대료수금원장'!E5:E54)+SUMIF(F5:F104,F31,J5:J104),"수금","미수금")) | N31: =IF(OR(N(A31)=0,N(B31)=0,N(C31)=0),"",DATE(A31,B31,C31)) | O31: =IF(AND(F31<>"",F31='청구서'!C5,I31<>"",OR(N('청구서'!C6)=0,AND(N31<>"",N(N31)>=N('청구서'!C6))),OR(N('청구서'!D6)=0,AND(N31<>"",N(N31)<=N('청구서'!D6)))),1,0) | P31: =IF(O31=1,SUM(O5:O31),"")
I32: =IF(OR(N(G32)=0,IF(N(H32)>0,H32,IFERROR(VLOOKUP(D32,'기사명등록'!B5:E19,4,0),0))=0),"",ROUND(G32*IF(N(H32)>0,H32,IFERROR(VLOOKUP(D32,'기사명등록'!B5:E19,4,0),0)),0)) | M32: =IF(OR(F32="",I32=""),"",IF(SUMIF(F5:F32,F32,I5:I32)<=SUMIF('장비임대료수금원장'!D5:D54,F32,'장비임대료수금원장'!E5:E54)+SUMIF(F5:F104,F32,J5:J104),"수금","미수금")) | N32: =IF(OR(N(A32)=0,N(B32)=0,N(C32)=0),"",DATE(A32,B32,C32)) | O32: =IF(AND(F32<>"",F32='청구서'!C5,I32<>"",OR(N('청구서'!C6)=0,AND(N32<>"",N(N32)>=N('청구서'!C6))),OR(N('청구서'!D6)=0,AND(N32<>"",N(N32)<=N('청구서'!D6)))),1,0) | P32: =IF(O32=1,SUM(O5:O32),"")
I33: =IF(OR(N(G33)=0,IF(N(H33)>0,H33,IFERROR(VLOOKUP(D33,'기사명등록'!B5:E19,4,0),0))=0),"",ROUND(G33*IF(N(H33)>0,H33,IFERROR(VLOOKUP(D33,'기사명등록'!B5:E19,4,0),0)),0)) | M33: =IF(OR(F33="",I33=""),"",IF(SUMIF(F5:F33,F33,I5:I33)<=SUMIF('장비임대료수금원장'!D5:D54,F33,'장비임대료수금원장'!E5:E54)+SUMIF(F5:F104,F33,J5:J104),"수금","미수금")) | N33: =IF(OR(N(A33)=0,N(B33)=0,N(C33)=0),"",DATE(A33,B33,C33)) | O33: =IF(AND(F33<>"",F33='청구서'!C5,I33<>"",OR(N('청구서'!C6)=0,AND(N33<>"",N(N33)>=N('청구서'!C6))),OR(N('청구서'!D6)=0,AND(N33<>"",N(N33)<=N('청구서'!D6)))),1,0) | P33: =IF(O33=1,SUM(O5:O33),"")
I34: =IF(OR(N(G34)=0,IF(N(H34)>0,H34,IFERROR(VLOOKUP(D34,'기사명등록'!B5:E19,4,0),0))=0),"",ROUND(G34*IF(N(H34)>0,H34,IFERROR(VLOOKUP(D34,'기사명등록'!B5:E19,4,0),0)),0)) | M34: =IF(OR(F34="",I34=""),"",IF(SUMIF(F5:F34,F34,I5:I34)<=SUMIF('장비임대료수금원장'!D5:D54,F34,'장비임대료수금원장'!E5:E54)+SUMIF(F5:F104,F34,J5:J104),"수금","미수금")) | N34: =IF(OR(N(A34)=0,N(B34)=0,N(C34)=0),"",DATE(A34,B34,C34)) | O34: =IF(AND(F34<>"",F34='청구서'!C5,I34<>"",OR(N('청구서'!C6)=0,AND(N34<>"",N(N34)>=N('청구서'!C6))),OR(N('청구서'!D6)=0,AND(N34<>"",N(N34)<=N('청구서'!D6)))),1,0) | P34: =IF(O34=1,SUM(O5:O34),"")
I35: =IF(OR(N(G35)=0,IF(N(H35)>0,H35,IFERROR(VLOOKUP(D35,'기사명등록'!B5:E19,4,0),0))=0),"",ROUND(G35*IF(N(H35)>0,H35,IFERROR(VLOOKUP(D35,'기사명등록'!B5:E19,4,0),0)),0)) | M35: =IF(OR(F35="",I35=""),"",IF(SUMIF(F5:F35,F35,I5:I35)<=SUMIF('장비임대료수금원장'!D5:D54,F35,'장비임대료수금원장'!E5:E54)+SUMIF(F5:F104,F35,J5:J104),"수금","미수금")) | N35: =IF(OR(N(A35)=0,N(B35)=0,N(C35)=0),"",DATE(A35,B35,C35)) | O35: =IF(AND(F35<>"",F35='청구서'!C5,I35<>"",OR(N('청구서'!C6)=0,AND(N35<>"",N(N35)>=N('청구서'!C6))),OR(N('청구서'!D6)=0,AND(N35<>"",N(N35)<=N('청구서'!D6)))),1,0) | P35: =IF(O35=1,SUM(O5:O35),"")
I36: =IF(OR(N(G36)=0,IF(N(H36)>0,H36,IFERROR(VLOOKUP(D36,'기사명등록'!B5:E19,4,0),0))=0),"",ROUND(G36*IF(N(H36)>0,H36,IFERROR(VLOOKUP(D36,'기사명등록'!B5:E19,4,0),0)),0)) | M36: =IF(OR(F36="",I36=""),"",IF(SUMIF(F5:F36,F36,I5:I36)<=SUMIF('장비임대료수금원장'!D5:D54,F36,'장비임대료수금원장'!E5:E54)+SUMIF(F5:F104,F36,J5:J104),"수금","미수금")) | N36: =IF(OR(N(A36)=0,N(B36)=0,N(C36)=0),"",DATE(A36,B36,C36)) | O36: =IF(AND(F36<>"",F36='청구서'!C5,I36<>"",OR(N('청구서'!C6)=0,AND(N36<>"",N(N36)>=N('청구서'!C6))),OR(N('청구서'!D6)=0,AND(N36<>"",N(N36)<=N('청구서'!D6)))),1,0) | P36: =IF(O36=1,SUM(O5:O36),"")
I37: =IF(OR(N(G37)=0,IF(N(H37)>0,H37,IFERROR(VLOOKUP(D37,'기사명등록'!B5:E19,4,0),0))=0),"",ROUND(G37*IF(N(H37)>0,H37,IFERROR(VLOOKUP(D37,'기사명등록'!B5:E19,4,0),0)),0)) | M37: =IF(OR(F37="",I37=""),"",IF(SUMIF(F5:F37,F37,I5:I37)<=SUMIF('장비임대료수금원장'!D5:D54,F37,'장비임대료수금원장'!E5:E54)+SUMIF(F5:F104,F37,J5:J104),"수금","미수금")) | N37: =IF(OR(N(A37)=0,N(B37)=0,N(C37)=0),"",DATE(A37,B37,C37)) | O37: =IF(AND(F37<>"",F37='청구서'!C5,I37<>"",OR(N('청구서'!C6)=0,AND(N37<>"",N(N37)>=N('청구서'!C6))),OR(N('청구서'!D6)=0,AND(N37<>"",N(N37)<=N('청구서'!D6)))),1,0) | P37: =IF(O37=1,SUM(O5:O37),"")
I38: =IF(OR(N(G38)=0,IF(N(H38)>0,H38,IFERROR(VLOOKUP(D38,'기사명등록'!B5:E19,4,0),0))=0),"",ROUND(G38*IF(N(H38)>0,H38,IFERROR(VLOOKUP(D38,'기사명등록'!B5:E19,4,0),0)),0)) | M38: =IF(OR(F38="",I38=""),"",IF(SUMIF(F5:F38,F38,I5:I38)<=SUMIF('장비임대료수금원장'!D5:D54,F38,'장비임대료수금원장'!E5:E54)+SUMIF(F5:F104,F38,J5:J104),"수금","미수금")) | N38: =IF(OR(N(A38)=0,N(B38)=0,N(C38)=0),"",DATE(A38,B38,C38)) | O38: =IF(AND(F38<>"",F38='청구서'!C5,I38<>"",OR(N('청구서'!C6)=0,AND(N38<>"",N(N38)>=N('청구서'!C6))),OR(N('청구서'!D6)=0,AND(N38<>"",N(N38)<=N('청구서'!D6)))),1,0) | P38: =IF(O38=1,SUM(O5:O38),"")
I39: =IF(OR(N(G39)=0,IF(N(H39)>0,H39,IFERROR(VLOOKUP(D39,'기사명등록'!B5:E19,4,0),0))=0),"",ROUND(G39*IF(N(H39)>0,H39,IFERROR(VLOOKUP(D39,'기사명등록'!B5:E19,4,0),0)),0)) | M39: =IF(OR(F39="",I39=""),"",IF(SUMIF(F5:F39,F39,I5:I39)<=SUMIF('장비임대료수금원장'!D5:D54,F39,'장비임대료수금원장'!E5:E54)+SUMIF(F5:F104,F39,J5:J104),"수금","미수금")) | N39: =IF(OR(N(A39)=0,N(B39)=0,N(C39)=0),"",DATE(A39,B39,C39)) | O39: =IF(AND(F39<>"",F39='청구서'!C5,I39<>"",OR(N('청구서'!C6)=0,AND(N39<>"",N(N39)>=N('청구서'!C6))),OR(N('청구서'!D6)=0,AND(N39<>"",N(N39)<=N('청구서'!D6)))),1,0) | P39: =IF(O39=1,SUM(O5:O39),"")
I40: =IF(OR(N(G40)=0,IF(N(H40)>0,H40,IFERROR(VLOOKUP(D40,'기사명등록'!B5:E19,4,0),0))=0),"",ROUND(G40*IF(N(H40)>0,H40,IFERROR(VLOOKUP(D40,'기사명등록'!B5:E19,4,0),0)),0)) | M40: =IF(OR(F40="",I40=""),"",IF(SUMIF(F5:F40,F40,I5:I40)<=SUMIF('장비임대료수금원장'!D5:D54,F40,'장비임대료수금원장'!E5:E54)+SUMIF(F5:F104,F40,J5:J104),"수금","미수금")) | N40: =IF(OR(N(A40)=0,N(B40)=0,N(C40)=0),"",DATE(A40,B40,C40)) | O40: =IF(AND(F40<>"",F40='청구서'!C5,I40<>"",OR(N('청구서'!C6)=0,AND(N40<>"",N(N40)>=N('청구서'!C6))),OR(N('청구서'!D6)=0,AND(N40<>"",N(N40)<=N('청구서'!D6)))),1,0) | P40: =IF(O40=1,SUM(O5:O40),"")
...

Sheet 장비임대료수금원장
A1: K-건설맵 | k-conmap.com 무료 건설 서식 | F1: ← 이 1행을 지우고 쓰셔도 됩니다
A2: 장 비 임 대 료 수 금 원 장
A3: 합 계 | E3: =SUBTOTAL(9,E5:E54)
A4: 년 | B4: 월 | C4: 일 | D4: 거 래 처 | E4: 수 금 액 | F4: 기 사 명 | G4: 내 용
A56: 거래처 · 기사명은 목록에서 고르세요. 기사명은 기사별 수금현황에 쓰입니다(모르면 비워도 됨).

Sheet 기사명등록
A1: K-건설맵 | k-conmap.com 무료 건설 서식 | E1: ← 이 1행을 지우고 쓰셔도 됩니다
A2: 기 사 명 등 록
A3: 여기 적은 기사명이 거래내역 · 수금원장의 목록으로 나옵니다. 시간당 단가는 거래내역에서 단가를 비우면 쓰입니다.
A4: 번호 | B4: 기 사 명 | C4: 장 비 명 | D4: 장비번호 | E4: 시간당 단가 | F4: 연 락 처 | G4: 비 고
A5: 1
A6: 2
A7: 3
A8: 4
A9: 5
A10: 6
A11: 7
A12: 8
A13: 9
A14: 10
A15: 11
A16: 12
... A19: 15
A21: 원본의 «가나다순 정렬» 단추(매크로)는 없앴습니다 — 순서는 상관없습니다.

Sheet 거래처등록
A1: K-건설맵 | k-conmap.com 무료 건설 서식 | F1: ← 이 1행을 지우고 쓰셔도 됩니다
A2: 거 래 처 등 록
A3: 여기 적은 거래처가 거래내역 · 수금원장 · 청구서의 목록과 장비관리(업체별 현황)에 나옵니다.
A4: 번호 | B4: 거 래 처 | C4: 현 장 명 | D4: 대 표 | E4: 연 락 처 | F4: 팩 스 | G4: 주 소 | H4: 사업자등록번호
A5: 1
A6: 2
A7: 3
A8: 4
A9: 5
A10: 6
A11: 7
A12: 8
A13: 9
A14: 10
A15: 11
A16: 12
... A19: 15
A21: 원본의 «가나다순 정렬» 단추(매크로)는 없앴습니다.

Sheet 경비사용및장비관리비메모
A1: K-건설맵 | k-conmap.com 무료 건설 서식 | F1: ← 이 1행을 지우고 쓰셔도 됩니다
A2: 경비 사용 및 장비관리비 메모
A3: 합 계 | D3: =SUBTOTAL(9,F7:F46)
A4: 경 비 | D4: =SUMIF(D7:D46,"경비",F7:F46)
A5: 장비관리비 | D5: =SUMIF(D7:D46,"장비관리비",F7:F46)
A6: 년 | B6: 월 | C6: 일 | D6: 구 분 | E6: 내 용 | F6: 금 액 | G6: 비 고
A48: 구분은 «경비» 또는 «장비관리비» 에서 고르면 위에 따로 모입니다.

Sheet 청구서
A1: K-건설맵 | k-conmap.com 무료 건설 서식 | F1: ← 이 1행을 지우고 쓰셔도 됩니다
A2: 청 구 서
A4: 작 성 일 | F4: 상 호
A5: 거 래 처 | E5: 귀 하 | F5: 대 표
A6: 기 간 | F6: T E L
A7: ※ 기간을 비우면 그 거래처의 모든 거래를 적습니다. 거래처는 목록에서 고르세요.
A9: 청구 금액 (미수급금) | C9: =IF(C5="","",SUMIF('장비관리'!B7:B21,C5,'장비관리'!F7:F21)) | F9: 원 | G9: =IF(N(C9)<=0,"",C9)
A11: 년 | B11: 월 | C11: 일 | D11: 장 비 명 | E11: 현 장 명 | F11: 시간 | G11: 금 액 | H11: 유 류 대 | I11: 비 고
A12: =IFERROR(N(INDEX('거래내역원장'!A5:A104,MATCH(1,'거래내역원장'!P5:P104,0))),"") | B12: =IFERROR(N(INDEX('거래내역원장'!B5:B104,MATCH(1,'거래내역원장'!P5:P104,0))),"") | C12: =IFERROR(N(INDEX('거래내역원장'!C5:C104,MATCH(1,'거래내역원장'!P5:P104,0))),"") | D12: =IFERROR(INDEX('거래내역원장'!E5:E104,MATCH(1,'거래내역원장'!P5:P104,0))&"","") | E12: =IFERROR(INDEX('거래내역원장'!K5:K104,MATCH(1,'거래내역원장'!P5:P104,0))&"","") | F12: =IFERROR(N(INDEX('거래내역원장'!G5:G104,MATCH(1,'거래내역원장'!P5:P104,0))),"") | G12: =IFERROR(N(INDEX('거래내역원장'!I5:I104,MATCH(1,'거래내역원장'!P5:P104,0))),"") | H12: =IFERROR(N(INDEX('거래내역원장'!J5:J104,MATCH(1,'거래내역원장'!P5:P104,0))),"") | I12: =IFERROR(INDEX('거래내역원장'!L5:L104,MATCH(1,'거래내역원장'!P5:P104,0))&"","")
A13: =IFERROR(N(INDEX('거래내역원장'!A5:A104,MATCH(2,'거래내역원장'!P5:P104,0))),"") | B13: =IFERROR(N(INDEX('거래내역원장'!B5:B104,MATCH(2,'거래내역원장'!P5:P104,0))),"") | C13: =IFERROR(N(INDEX('거래내역원장'!C5:C104,MATCH(2,'거래내역원장'!P5:P104,0))),"") | D13: =IFERROR(INDEX('거래내역원장'!E5:E104,MATCH(2,'거래내역원장'!P5:P104,0))&"","") | E13: =IFERROR(INDEX('거래내역원장'!K5:K104,MATCH(2,'거래내역원장'!P5:P104,0))&"","") | F13: =IFERROR(N(INDEX('거래내역원장'!G5:G104,MATCH(2,'거래내역원장'!P5:P104,0))),"") | G13: =IFERROR(N(INDEX('거래내역원장'!I5:I104,MATCH(2,'거래내역원장'!P5:P104,0))),"") | H13: =IFERROR(N(INDEX('거래내역원장'!J5:J104,MATCH(2,'거래내역원장'!P5:P104,0))),"") | I13: =IFERROR(INDEX('거래내역원장'!L5:L104,MATCH(2,'거래내역원장'!P5:P104,0))&"","")
A14: =IFERROR(N(INDEX('거래내역원장'!A5:A104,MATCH(3,'거래내역원장'!P5:P104,0))),"") | B14: =IFERROR(N(INDEX('거래내역원장'!B5:B104,MATCH(3,'거래내역원장'!P5:P104,0))),"") | C14: =IFERROR(N(INDEX('거래내역원장'!C5:C104,MATCH(3,'거래내역원장'!P5:P104,0))),"") | D14: =IFERROR(INDEX('거래내역원장'!E5:E104,MATCH(3,'거래내역원장'!P5:P104,0))&"","") | E14: =IFERROR(INDEX('거래내역원장'!K5:K104,MATCH(3,'거래내역원장'!P5:P104,0))&"","") | F14: =IFERROR(N(INDEX('거래내역원장'!G5:G104,MATCH(3,'거래내역원장'!P5:P104,0))),"") | G14: =IFERROR(N(INDEX('거래내역원장'!I5:I104,MATCH(3,'거래내역원장'!P5:P104,0))),"") | H14: =IFERROR(N(INDEX('거래내역원장'!J5:J104,MATCH(3,'거래내역원장'!P5:P104,0))),"") | I14: =IFERROR(INDEX('거래내역원장'!L5:L104,MATCH(3,'거래내역원장'!P5:P104,0))&"","")
A15: =IFERROR(N(INDEX('거래내역원장'!A5:A104,MATCH(4,'거래내역원장'!P5:P104,0))),"") | B15: =IFERROR(N(INDEX('거래내역원장'!B5:B104,MATCH(4,'거래내역원장'!P5:P104,0))),"") | C15: =IFERROR(N(INDEX('거래내역원장'!C5:C104,MATCH(4,'거래내역원장'!P5:P104,0))),"") | D15: =IFERROR(INDEX('거래내역원장'!E5:E104,MATCH(4,'거래내역원장'!P5:P104,0))&"","") | E15: =IFERROR(INDEX('거래내역원장'!K5:K104,MATCH(4,'거래내역원장'!P5:P104,0))&"","") | F15: =IFERROR(N(INDEX('거래내역원장'!G5:G104,MATCH(4,'거래내역원장'!P5:P104,0))),"") | G15: =IFERROR(N(INDEX('거래내역원장'!I5:I104,MATCH(4,'거래내역원장'!P5:P104,0))),"") | H15: =IFERROR(N(INDEX('거래내역원장'!J5:J104,MATCH(4,'거래내역원장'!P5:P104,0))),"") | I15: =IFERROR(INDEX('거래내역원장'!L5:L104,MATCH(4,'거래내역원장'!P5:P104,0))&"","")
A16: =IFERROR(N(INDEX('거래내역원장'!A5:A104,MATCH(5,'거래내역원장'!P5:P104,0))),"") | B16: =IFERROR(N(INDEX('거래내역원장'!B5:B104,MATCH(5,'거래내역원장'!P5:P104,0))),"") | C16: =IFERROR(N(INDEX('거래내역원장'!C5:C104,MATCH(5,'거래내역원장'!P5:P104,0))),"") | D16: =IFERROR(INDEX('거래내역원장'!E5:E104,MATCH(5,'거래내역원장'!P5:P104,0))&"","") | E16: =IFERROR(INDEX('거래내역원장'!K5:K104,MATCH(5,'거래내역원장'!P5:P104,0))&"","") | F16: =IFERROR(N(INDEX('거래내역원장'!G5:G104,MATCH(5,'거래내역원장'!P5:P104,0))),"") | G16: =IFERROR(N(INDEX('거래내역원장'!I5:I104,MATCH(5,'거래내역원장'!P5:P104,0))),"") | H16: =IFERROR(N(INDEX('거래내역원장'!J5:J104,MATCH(5,'거래내역원장'!P5:P104,0))),"") | I16: =IFERROR(INDEX('거래내역원장'!L5:L104,MATCH(5,'거래내역원장'!P5:P104,0))&"","")
A17: =IFERROR(N(INDEX('거래내역원장'!A5:A104,MATCH(6,'거래내역원장'!P5:P104,0))),"") | B17: =IFERROR(N(INDEX('거래내역원장'!B5:B104,MATCH(6,'거래내역원장'!P5:P104,0))),"") | C17: =IFERROR(N(INDEX('거래내역원장'!C5:C104,MATCH(6,'거래내역원장'!P5:P104,0))),"") | D17: =IFERROR(INDEX('거래내역원장'!E5:E104,MATCH(6,'거래내역원장'!P5:P104,0))&"","") | E17: =IFERROR(INDEX('거래내역원장'!K5:K104,MATCH(6,'거래내역원장'!P5:P104,0))&"","") | F17: =IFERROR(N(INDEX('거래내역원장'!G5:G104,MATCH(6,'거래내역원장'!P5:P104,0))),"") | G17: =IFERROR(N(INDEX('거래내역원장'!I5:I104,MATCH(6,'거래내역원장'!P5:P104,0))),"") | H17: =IFERROR(N(INDEX('거래내역원장'!J5:J104,MATCH(6,'거래내역원장'!P5:P104,0))),"") | I17: =IFERROR(INDEX('거래내역원장'!L5:L104,MATCH(6,'거래내역원장'!P5:P104,0))&"","")
A18: =IFERROR(N(INDEX('거래내역원장'!A5:A104,MATCH(7,'거래내역원장'!P5:P104,0))),"") | B18: =IFERROR(N(INDEX('거래내역원장'!B5:B104,MATCH(7,'거래내역원장'!P5:P104,0))),"") | C18: =IFERROR(N(INDEX('거래내역원장'!C5:C104,MATCH(7,'거래내역원장'!P5:P104,0))),"") | D18: =IFERROR(INDEX('거래내역원장'!E5:E104,MATCH(7,'거래내역원장'!P5:P104,0))&"","") | E18: =IFERROR(INDEX('거래내역원장'!K5:K104,MATCH(7,'거래내역원장'!P5:P104,0))&"","") | F18: =IFERROR(N(INDEX('거래내역원장'!G5:G104,MATCH(7,'거래내역원장'!P5:P104,0))),"") | G18: =IFERROR(N(INDEX('거래내역원장'!I5:I104,MATCH(7,'거래내역원장'!P5:P104,0))),"") | H18: =IFERROR(N(INDEX('거래내역원장'!J5:J104,MATCH(7,'거래내역원장'!P5:P104,0))),"") | I18: =IFERROR(INDEX('거래내역원장'!L5:L104,MATCH(7,'거래내역원장'!P5:P104,0))&"","")
A19: =IFERROR(N(INDEX('거래내역원장'!A5:A104,MATCH(8,'거래내역원장'!P5:P104,0))),"") | B19: =IFERROR(N(INDEX('거래내역원장'!B5:B104,MATCH(8,'거래내역원장'!P5:P104,0))),"") | C19: =IFERROR(N(INDEX('거래내역원장'!C5:C104,MATCH(8,'거래내역원장'!P5:P104,0))),"") | D19: =IFERROR(INDEX('거래내역원장'!E5:E104,MATCH(8,'거래내역원장'!P5:P104,0))&"","") | E19: =IFERROR(INDEX('거래내역원장'!K5:K104,MATCH(8,'거래내역원장'!P5:P104,0))&"","") | F19: =IFERROR(N(INDEX('거래내역원장'!G5:G104,MATCH(8,'거래내역원장'!P5:P104,0))),"") | G19: =IFERROR(N(INDEX('거래내역원장'!I5:I104,MATCH(8,'거래내역원장'!P5:P104,0))),"") | H19: =IFERROR(N(INDEX('거래내역원장'!J5:J104,MATCH(8,'거래내역원장'!P5:P104,0))),"") | I19: =IFERROR(INDEX('거래내역원장'!L5:L104,MATCH(8,'거래내역원장'!P5:P104,0))&"","")
A20: =IFERROR(N(INDEX('거래내역원장'!A5:A104,MATCH(9,'거래내역원장'!P5:P104,0))),"") | B20: =IFERROR(N(INDEX('거래내역원장'!B5:B104,MATCH(9,'거래내역원장'!P5:P104,0))),"") | C20: =IFERROR(N(INDEX('거래내역원장'!C5:C104,MATCH(9,'거래내역원장'!P5:P104,0))),"") | D20: =IFERROR(INDEX('거래내역원장'!E5:E104,MATCH(9,'거래내역원장'!P5:P104,0))&"","") | E20: =IFERROR(INDEX('거래내역원장'!K5:K104,MATCH(9,'거래내역원장'!P5:P104,0))&"","") | F20: =IFERROR(N(INDEX('거래내역원장'!G5:G104,MATCH(9,'거래내역원장'!P5:P104,0))),"") | G20: =IFERROR(N(INDEX('거래내역원장'!I5:I104,MATCH(9,'거래내역원장'!P5:P104,0))),"") | H20: =IFERROR(N(INDEX('거래내역원장'!J5:J104,MATCH(9,'거래내역원장'!P5:P104,0))),"") | I20: =IFERROR(INDEX('거래내역원장'!L5:L104,MATCH(9,'거래내역원장'!P5:P104,0))&"","")
A21: =IFERROR(N(INDEX('거래내역원장'!A5:A104,MATCH(10,'거래내역원장'!P5:P104,0))),"") | B21: =IFERROR(N(INDEX('거래내역원장'!B5:B104,MATCH(10,'거래내역원장'!P5:P104,0))),"") | C21: =IFERROR(N(INDEX('거래내역원장'!C5:C104,MATCH(10,'거래내역원장'!P5:P104,0))),"") | D21: =IFERROR(INDEX('거래내역원장'!E5:E104,MATCH(10,'거래내역원장'!P5:P104,0))&"","") | E21: =IFERROR(INDEX('거래내역원장'!K5:K104,MATCH(10,'거래내역원장'!P5:P104,0))&"","") | F21: =IFERROR(N(INDEX('거래내역원장'!G5:G104,MATCH(10,'거래내역원장'!P5:P104,0))),"") | G21: =IFERROR(N(INDEX('거래내역원장'!I5:I104,MATCH(10,'거래내역원장'!P5:P104,0))),"") | H21: =IFERROR(N(INDEX('거래내역원장'!J5:J104,MATCH(10,'거래내역원장'!P5:P104,0))),"") | I21: =IFERROR(INDEX('거래내역원장'!L5:L104,MATCH(10,'거래내역원장'!P5:P104,0))&"","")
A22: =IFERROR(N(INDEX('거래내역원장'!A5:A104,MATCH(11,'거래내역원장'!P5:P104,0))),"") | B22: =IFERROR(N(INDEX('거래내역원장'!B5:B104,MATCH(11,'거래내역원장'!P5:P104,0))),"") | C22: =IFERROR(N(INDEX('거래내역원장'!C5:C104,MATCH(11,'거래내역원장'!P5:P104,0))),"") | D22: =IFERROR(INDEX('거래내역원장'!E5:E104,MATCH(11,'거래내역원장'!P5:P104,0))&"","") | E22: =IFERROR(INDEX('거래내역원장'!K5:K104,MATCH(11,'거래내역원장'!P5:P104,0))&"","") | F22: =IFERROR(N(INDEX('거래내역원장'!G5:G104,MATCH(11,'거래내역원장'!P5:P104,0))),"") | G22: =IFERROR(N(INDEX('거래내역원장'!I5:I104,MATCH(11,'거래내역원장'!P5:P104,0))),"") | H22: =IFERROR(N(INDEX('거래내역원장'!J5:J104,MATCH(11,'거래내역원장'!P5:P104,0))),"") | I22: =IFERROR(INDEX('거래내역원장'!L5:L104,MATCH(11,'거래내역원장'!P5:P104,0))&"","")
A23: =IFERROR(N(INDEX('거래내역원장'!A5:A104,MATCH(12,'거래내역원장'!P5:P104,0))),"") | B23: =IFERROR(N(INDEX('거래내역원장'!B5:B104,MATCH(12,'거래내역원장'!P5:P104,0))),"") | C23: =IFERROR(N(INDEX('거래내역원장'!C5:C104,MATCH(12,'거래내역원장'!P5:P104,0))),"") | D23: =IFERROR(INDEX('거래내역원장'!E5:E104,MATCH(12,'거래내역원장'!P5:P104,0))&"","") | E23: =IFERROR(INDEX('거래내역원장'!K5:K104,MATCH(12,'거래내역원장'!P5:P104,0))&"","") | F23: =IFERROR(N(INDEX('거래내역원장'!G5:G104,MATCH(12,'거래내역원장'!P5:P104,0))),"") | G23: =IFERROR(N(INDEX('거래내역원장'!I5:I104,MATCH(12,'거래내역원장'!P5:P104,0))),"") | H23: =IFERROR(N(INDEX('거래내역원장'!J5:J104,MATCH(12,'거래내역원장'!P5:P104,0))),"") | I23: =IFERROR(INDEX('거래내역원장'!L5:L104,MATCH(12,'거래내역원장'!P5:P104,0))&"","")
A24: =IFERROR(N(INDEX('거래내역원장'!A5:A104,MATCH(13,'거래내역원장'!P5:P104,0))),"") | B24: =IFERROR(N(INDEX('거래내역원장'!B5:B104,MATCH(13,'거래내역원장'!P5:P104,0))),"") | C24: =IFERROR(N(INDEX('거래내역원장'!C5:C104,MATCH(13,'거래내역원장'!P5:P104,0))),"") | D24: =IFERROR(INDEX('거래내역원장'!E5:E104,MATCH(13,'거래내역원장'!P5:P104,0))&"","") | E24: =IFERROR(INDEX('거래내역원장'!K5:K104,MATCH(13,'거래내역원장'!P5:P104,0))&"","") | F24: =IFERROR(N(INDEX('거래내역원장'!G5:G104,MATCH(13,'거래내역원장'!P5:P104,0))),"") | G24: =IFERROR(N(INDEX('거래내역원장'!I5:I104,MATCH(13,'거래내역원장'!P5:P104,0))),"") | H24: =IFERROR(N(INDEX('거래내역원장'!J5:J104,MATCH(13,'거래내역원장'!P5:P104,0))),"") | I24: =IFERROR(INDEX('거래내역원장'!L5:L104,MATCH(13,'거래내역원장'!P5:P104,0))&"","")
A25: =IFERROR(N(INDEX('거래내역원장'!A5:A104,MATCH(14,'거래내역원장'!P5:P104,0))),"") | B25: =IFERROR(N(INDEX('거래내역원장'!B5:B104,MATCH(14,'거래내역원장'!P5:P104,0))),"") | C25: =IFERROR(N(INDEX('거래내역원장'!C5:C104,MATCH(14,'거래내역원장'!P5:P104,0))),"") | D25: =IFERROR(INDEX('거래내역원장'!E5:E104,MATCH(14,'거래내역원장'!P5:P104,0))&"","") | E25: =IFERROR(INDEX('거래내역원장'!K5:K104,MATCH(14,'거래내역원장'!P5:P104,0))&"","") | F25: =IFERROR(N(INDEX('거래내역원장'!G5:G104,MATCH(14,'거래내역원장'!P5:P104,0))),"") | G25: =IFERROR(N(INDEX('거래내역원장'!I5:I104,MATCH(14,'거래내역원장'!P5:P104,0))),"") | H25: =IFERROR(N(INDEX('거래내역원장'!J5:J104,MATCH(14,'거래내역원장'!P5:P104,0))),"") | I25: =IFERROR(INDEX('거래내역원장'!L5:L104,MATCH(14,'거래내역원장'!P5:P104,0))&"","")
A26: =IFERROR(N(INDEX('거래내역원장'!A5:A104,MATCH(15,'거래내역원장'!P5:P104,0))),"") | B26: =IFERROR(N(INDEX('거래내역원장'!B5:B104,MATCH(15,'거래내역원장'!P5:P104,0))),"") | C26: =IFERROR(N(INDEX('거래내역원장'!C5:C104,MATCH(15,'거래내역원장'!P5:P104,0))),"") | D26: =IFERROR(INDEX('거래내역원장'!E5:E104,MATCH(15,'거래내역원장'!P5:P104,0))&"","") | E26: =IFERROR(INDEX('거래내역원장'!K5:K104,MATCH(15,'거래내역원장'!P5:P104,0))&"","") | F26: =IFERROR(N(INDEX('거래내역원장'!G5:G104,MATCH(15,'거래내역원장'!P5:P104,0))),"") | G26: =IFERROR(N(INDEX('거래내역원장'!I5:I104,MATCH(15,'거래내역원장'!P5:P104,0))),"") | H26: =IFERROR(N(INDEX('거래내역원장'!J5:J104,MATCH(15,'거래내역원장'!P5:P104,0))),"") | I26: =IFERROR(INDEX('거래내역원장'!L5:L104,MATCH(15,'거래내역원장'!P5:P104,0))&"","")
A27: =IFERROR(N(INDEX('거래내역원장'!A5:A104,MATCH(16,'거래내역원장'!P5:P104,0))),"") | B27: =IFERROR(N(INDEX('거래내역원장'!B5:B104,MATCH(16,'거래내역원장'!P5:P104,0))),"") | C27: =IFERROR(N(INDEX('거래내역원장'!C5:C104,MATCH(16,'거래내역원장'!P5:P104,0))),"") | D27: =IFERROR(INDEX('거래내역원장'!E5:E104,MATCH(16,'거래내역원장'!P5:P104,0))&"","") | E27: =IFERROR(INDEX('거래내역원장'!K5:K104,MATCH(16,'거래내역원장'!P5:P104,0))&"","") | F27: =IFERROR(N(INDEX('거래내역원장'!G5:G104,MATCH(16,'거래내역원장'!P5:P104,0))),"") | G27: =IFERROR(N(INDEX('거래내역원장'!I5:I104,MATCH(16,'거래내역원장'!P5:P104,0))),"") | H27: =IFERROR(N(INDEX('거래내역원장'!J5:J104,MATCH(16,'거래내역원장'!P5:P104,0))),"") | I27: =IFERROR(INDEX('거래내역원장'!L5:L104,MATCH(16,'거래내역원장'!P5:P104,0))&"","")
A28: =IFERROR(N(INDEX('거래내역원장'!A5:A104,MATCH(17,'거래내역원장'!P5:P104,0))),"") | B28: =IFERROR(N(INDEX('거래내역원장'!B5:B104,MATCH(17,'거래내역원장'!P5:P104,0))),"") | C28: =IFERROR(N(INDEX('거래내역원장'!C5:C104,MATCH(17,'거래내역원장'!P5:P104,0))),"") | D28: =IFERROR(INDEX('거래내역원장'!E5:E104,MATCH(17,'거래내역원장'!P5:P104,0))&"","") | E28: =IFERROR(INDEX('거래내역원장'!K5:K104,MATCH(17,'거래내역원장'!P5:P104,0))&"","") | F28: =IFERROR(N(INDEX('거래내역원장'!G5:G104,MATCH(17,'거래내역원장'!P5:P104,0))),"") | G28: =IFERROR(N(INDEX('거래내역원장'!I5:I104,MATCH(17,'거래내역원장'!P5:P104,0))),"") | H28: =IFERROR(N(INDEX('거래내역원장'!J5:J104,MATCH(17,'거래내역원장'!P5:P104,0))),"") | I28: =IFERROR(INDEX('거래내역원장'!L5:L104,MATCH(17,'거래내역원장'!P5:P104,0))&"","")
A29: =IFERROR(N(INDEX('거래내역원장'!A5:A104,MATCH(18,'거래내역원장'!P5:P104,0))),"") | B29: =IFERROR(N(INDEX('거래내역원장'!B5:B104,MATCH(18,'거래내역원장'!P5:P104,0))),"") | C29: =IFERROR(N(INDEX('거래내역원장'!C5:C104,MATCH(18,'거래내역원장'!P5:P104,0))),"") | D29: =IFERROR(INDEX('거래내역원장'!E5:E104,MATCH(18,'거래내역원장'!P5:P104,0))&"","") | E29: =IFERROR(INDEX('거래내역원장'!K5:K104,MATCH(18,'거래내역원장'!P5:P104,0))&"","") | F29: =IFERROR(N(INDEX('거래내역원장'!G5:G104,MATCH(18,'거래내역원장'!P5:P104,0))),"") | G29: =IFERROR(N(INDEX('거래내역원장'!I5:I104,MATCH(18,'거래내역원장'!P5:P104,0))),"") | H29: =IFERROR(N(INDEX('거래내역원장'!J5:J104,MATCH(18,'거래내역원장'!P5:P104,0))),"") | I29: =IFERROR(INDEX('거래내역원장'!L5:L104,MATCH(18,'거래내역원장'!P5:P104,0))&"","")
A30: =IFERROR(N(INDEX('거래내역원장'!A5:A104,MATCH(19,'거래내역원장'!P5:P104,0))),"") | B30: =IFERROR(N(INDEX('거래내역원장'!B5:B104,MATCH(19,'거래내역원장'!P5:P104,0))),"") | C30: =IFERROR(N(INDEX('거래내역원장'!C5:C104,MATCH(19,'거래내역원장'!P5:P104,0))),"") | D30: =IFERROR(INDEX('거래내역원장'!E5:E104,MATCH(19,'거래내역원장'!P5:P104,0))&"","") | E30: =IFERROR(INDEX('거래내역원장'!K5:K104,MATCH(19,'거래내역원장'!P5:P104,0))&"","") | F30: =IFERROR(N(INDEX('거래내역원장'!G5:G104,MATCH(19,'거래내역원장'!P5:P104,0))),"") | G30: =IFERROR(N(INDEX('거래내역원장'!I5:I104,MATCH(19,'거래내역원장'!P5:P104,0))),"") | H30: =IFERROR(N(INDEX('거래내역원장'!J5:J104,MATCH(19,'거래내역원장'!P5:P104,0))),"") | I30: =IFERROR(INDEX('거래내역원장'!L5:L104,MATCH(19,'거래내역원장'!P5:P104,0))&"","")
A31: =IFERROR(N(INDEX('거래내역원장'!A5:A104,MATCH(20,'거래내역원장'!P5:P104,0))),"") | B31: =IFERROR(N(INDEX('거래내역원장'!B5:B104,MATCH(20,'거래내역원장'!P5:P104,0))),"") | C31: =IFERROR(N(INDEX('거래내역원장'!C5:C104,MATCH(20,'거래내역원장'!P5:P104,0))),"") | D31: =IFERROR(INDEX('거래내역원장'!E5:E104,MATCH(20,'거래내역원장'!P5:P104,0))&"","") | E31: =IFERROR(INDEX('거래내역원장'!K5:K104,MATCH(20,'거래내역원장'!P5:P104,0))&"","") | F31: =IFERROR(N(INDEX('거래내역원장'!G5:G104,MATCH(20,'거래내역원장'!P5:P104,0))),"") | G31: =IFERROR(N(INDEX('거래내역원장'!I5:I104,MATCH(20,'거래내역원장'!P5:P104,0))),"") | H31: =IFERROR(N(INDEX('거래내역원장'!J5:J104,MATCH(20,'거래내역원장'!P5:P104,0))),"") | I31: =IFERROR(INDEX('거래내역원장'!L5:L104,MATCH(20,'거래내역원장'!P5:P104,0))&"","")
A32: =IFERROR(N(INDEX('거래내역원장'!A5:A104,MATCH(21,'거래내역원장'!P5:P104,0))),"") | B32: =IFERROR(N(INDEX('거래내역원장'!B5:B104,MATCH(21,'거래내역원장'!P5:P104,0))),"") | C32: =IFERROR(N(INDEX('거래내역원장'!C5:C104,MATCH(21,'거래내역원장'!P5:P104,0))),"") | D32: =IFERROR(INDEX('거래내역원장'!E5:E104,MATCH(21,'거래내역원장'!P5:P104,0))&"","") | E32: =IFERROR(INDEX('거래내역원장'!K5:K104,MATCH(21,'거래내역원장'!P5:P104,0))&"","") | F32: =IFERROR(N(INDEX('거래내역원장'!G5:G104,MATCH(21,'거래내역원장'!P5:P104,0))),"") | G32: =IFERROR(N(INDEX('거래내역원장'!I5:I104,MATCH(21,'거래내역원장'!P5:P104,0))),"") | H32: =IFERROR(N(INDEX('거래내역원장'!J5:J104,MATCH(21,'거래내역원장'!P5:P104,0))),"") | I32: =IFERROR(INDEX('거래내역원장'!L5:L104,MATCH(21,'거래내역원장'!P5:P104,0))&"","")
A33: =IFERROR(N(INDEX('거래내역원장'!A5:A104,MATCH(22,'거래내역원장'!P5:P104,0))),"") | B33: =IFERROR(N(INDEX('거래내역원장'!B5:B104,MATCH(22,'거래내역원장'!P5:P104,0))),"") | C33: =IFERROR(N(INDEX('거래내역원장'!C5:C104,MATCH(22,'거래내역원장'!P5:P104,0))),"") | D33: =IFERROR(INDEX('거래내역원장'!E5:E104,MATCH(22,'거래내역원장'!P5:P104,0))&"","") | E33: =IFERROR(INDEX('거래내역원장'!K5:K104,MATCH(22,'거래내역원장'!P5:P104,0))&"","") | F33: =IFERROR(N(INDEX('거래내역원장'!G5:G104,MATCH(22,'거래내역원장'!P5:P104,0))),"") | G33: =IFERROR(N(INDEX('거래내역원장'!I5:I104,MATCH(22,'거래내역원장'!P5:P104,0))),"") | H33: =IFERROR(N(INDEX('거래내역원장'!J5:J104,MATCH(22,'거래내역원장'!P5:P104,0))),"") | I33: =IFERROR(INDEX('거래내역원장'!L5:L104,MATCH(22,'거래내역원장'!P5:P104,0))&"","")
A34: =IFERROR(N(INDEX('거래내역원장'!A5:A104,MATCH(23,'거래내역원장'!P5:P104,0))),"") | B34: =IFERROR(N(INDEX('거래내역원장'!B5:B104,MATCH(23,'거래내역원장'!P5:P104,0))),"") | C34: =IFERROR(N(INDEX('거래내역원장'!C5:C104,MATCH(23,'거래내역원장'!P5:P104,0))),"") | D34: =IFERROR(INDEX('거래내역원장'!E5:E104,MATCH(23,'거래내역원장'!P5:P104,0))&"","") | E34: =IFERROR(INDEX('거래내역원장'!K5:K104,MATCH(23,'거래내역원장'!P5:P104,0))&"","") | F34: =IFERROR(N(INDEX('거래내역원장'!G5:G104,MATCH(23,'거래내역원장'!P5:P104,0))),"") | G34: =IFERROR(N(INDEX('거래내역원장'!I5:I104,MATCH(23,'거래내역원장'!P5:P104,0))),"") | H34: =IFERROR(N(INDEX('거래내역원장'!J5:J104,MATCH(23,'거래내역원장'!P5:P104,0))),"") | I34: =IFERROR(INDEX('거래내역원장'!L5:L104,MATCH(23,'거래내역원장'!P5:P104,0))&"","")
A35: =IFERROR(N(INDEX('거래내역원장'!A5:A104,MATCH(24,'거래내역원장'!P5:P104,0))),"") | B35: =IFERROR(N(INDEX('거래내역원장'!B5:B104,MATCH(24,'거래내역원장'!P5:P104,0))),"") | C35: =IFERROR(N(INDEX('거래내역원장'!C5:C104,MATCH(24,'거래내역원장'!P5:P104,0))),"") | D35: =IFERROR(INDEX('거래내역원장'!E5:E104,MATCH(24,'거래내역원장'!P5:P104,0))&"","") | E35: =IFERROR(INDEX('거래내역원장'!K5:K104,MATCH(24,'거래내역원장'!P5:P104,0))&"","") | F35: =IFERROR(N(INDEX('거래내역원장'!G5:G104,MATCH(24,'거래내역원장'!P5:P104,0))),"") | G35: =IFERROR(N(INDEX('거래내역원장'!I5:I104,MATCH(24,'거래내역원장'!P5:P104,0))),"") | H35: =IFERROR(N(INDEX('거래내역원장'!J5:J104,MATCH(24,'거래내역원장'!P5:P104,0))),"") | I35: =IFERROR(INDEX('거래내역원장'!L5:L104,MATCH(24,'거래내역원장'!P5:P104,0))&"","")
A36: =IFERROR(N(INDEX('거래내역원장'!A5:A104,MATCH(25,'거래내역원장'!P5:P104,0))),"") | B36: =IFERROR(N(INDEX('거래내역원장'!B5:B104,MATCH(25,'거래내역원장'!P5:P104,0))),"") | C36: =IFERROR(N(INDEX('거래내역원장'!C5:C104,MATCH(25,'거래내역원장'!P5:P104,0))),"") | D36: =IFERROR(INDEX('거래내역원장'!E5:E104,MATCH(25,'거래내역원장'!P5:P104,0))&"","") | E36: =IFERROR(INDEX('거래내역원장'!K5:K104,MATCH(25,'거래내역원장'!P5:P104,0))&"","") | F36: =IFERROR(N(INDEX('거래내역원장'!G5:G104,MATCH(25,'거래내역원장'!P5:P104,0))),"") | G36: =IFERROR(N(INDEX('거래내역원장'!I5:I104,MATCH(25,'거래내역원장'!P5:P104,0))),"") | H36: =IFERROR(N(INDEX('거래내역원장'!J5:J104,MATCH(25,'거래내역원장'!P5:P104,0))),"") | I36: =IFERROR(INDEX('거래내역원장'!L5:L104,MATCH(25,'거래내역원장'!P5:P104,0))&"","")
A37: =IFERROR(N(INDEX('거래내역원장'!A5:A104,MATCH(26,'거래내역원장'!P5:P104,0))),"") | B37: =IFERROR(N(INDEX('거래내역원장'!B5:B104,MATCH(26,'거래내역원장'!P5:P104,0))),"") | C37: =IFERROR(N(INDEX('거래내역원장'!C5:C104,MATCH(26,'거래내역원장'!P5:P104,0))),"") | D37: =IFERROR(INDEX('거래내역원장'!E5:E104,MATCH(26,'거래내역원장'!P5:P104,0))&"","") | E37: =IFERROR(INDEX('거래내역원장'!K5:K104,MATCH(26,'거래내역원장'!P5:P104,0))&"","") | F37: =IFERROR(N(INDEX('거래내역원장'!G5:G104,MATCH(26,'거래내역원장'!P5:P104,0))),"") | G37: =IFERROR(N(INDEX('거래내역원장'!I5:I104,MATCH(26,'거래내역원장'!P5:P104,0))),"") | H37: =IFERROR(N(INDEX('거래내역원장'!J5:J104,MATCH(26,'거래내역원장'!P5:P104,0))),"") | I37: =IFERROR(INDEX('거래내역원장'!L5:L104,MATCH(26,'거래내역원장'!P5:P104,0))&"","")
A38: =IFERROR(N(INDEX('거래내역원장'!A5:A104,MATCH(27,'거래내역원장'!P5:P104,0))),"") | B38: =IFERROR(N(INDEX('거래내역원장'!B5:B104,MATCH(27,'거래내역원장'!P5:P104,0))),"") | C38: =IFERROR(N(INDEX('거래내역원장'!C5:C104,MATCH(27,'거래내역원장'!P5:P104,0))),"") | D38: =IFERROR(INDEX('거래내역원장'!E5:E104,MATCH(27,'거래내역원장'!P5:P104,0))&"","") | E38: =IFERROR(INDEX('거래내역원장'!K5:K104,MATCH(27,'거래내역원장'!P5:P104,0))&"","") | F38: =IFERROR(N(INDEX('거래내역원장'!G5:G104,MATCH(27,'거래내역원장'!P5:P104,0))),"") | G38: =IFERROR(N(INDEX('거래내역원장'!I5:I104,MATCH(27,'거래내역원장'!P5:P104,0))),"") | H38: =IFERROR(N(INDEX('거래내역원장'!J5:J104,MATCH(27,'거래내역원장'!P5:P104,0))),"") | I38: =IFERROR(INDEX('거래내역원장'!L5:L104,MATCH(27,'거래내역원장'!P5:P104,0))&"","")
A39: =IFERROR(N(INDEX('거래내역원장'!A5:A104,MATCH(28,'거래내역원장'!P5:P104,0))),"") | B39: =IFERROR(N(INDEX('거래내역원장'!B5:B104,MATCH(28,'거래내역원장'!P5:P104,0))),"") | C39: =IFERROR(N(INDEX('거래내역원장'!C5:C104,MATCH(28,'거래내역원장'!P5:P104,0))),"") | D39: =IFERROR(INDEX('거래내역원장'!E5:E104,MATCH(28,'거래내역원장'!P5:P104,0))&"","") | E39: =IFERROR(INDEX('거래내역원장'!K5:K104,MATCH(28,'거래내역원장'!P5:P104,0))&"","") | F39: =IFERROR(N(INDEX('거래내역원장'!G5:G104,MATCH(28,'거래내역원장'!P5:P104,0))),"") | G39: =IFERROR(N(INDEX('거래내역원장'!I5:I104,MATCH(28,'거래내역원장'!P5:P104,0))),"") | H39: =IFERROR(N(INDEX('거래내역원장'!J5:J104,MATCH(28,'거래내역원장'!P5:P104,0))),"") | I39: =IFERROR(INDEX('거래내역원장'!L5:L104,MATCH(28,'거래내역원장'!P5:P104,0))&"","")
A40: =IFERROR(N(INDEX('거래내역원장'!A5:A104,MATCH(29,'거래내역원장'!P5:P104,0))),"") | B40: =IFERROR(N(INDEX('거래내역원장'!B5:B104,MATCH(29,'거래내역원장'!P5:P104,0))),"") | C40: =IFERROR(N(INDEX('거래내역원장'!C5:C104,MATCH(29,'거래내역원장'!P5:P104,0))),"") | D40: =IFERROR(INDEX('거래내역원장'!E5:E104,MATCH(29,'거래내역원장'!P5:P104,0))&"","") | E40: =IFERROR(INDEX('거래내역원장'!K5:K104,MATCH(29,'거래내역원장'!P5:P104,0))&"","") | F40: =IFERROR(N(INDEX('거래내역원장'!G5:G104,MATCH(29,'거래내역원장'!P5:P104,0))),"") | G40: =IFERROR(N(INDEX('거래내역원장'!I5:I104,MATCH(29,'거래내역원장'!P5:P104,0))),"") | H40: =IFERROR(N(INDEX('거래내역원장'!J5:J104,MATCH(29,'거래내역원장'!P5:P104,0))),"") | I40: =IFERROR(INDEX('거래내역원장'!L5:L104,MATCH(29,'거래내역원장'!P5:P104,0))&"","")
A41: =IFERROR(N(INDEX('거래내역원장'!A5:A104,MATCH(30,'거래내역원장'!P5:P104,0))),"") | B41: =IFERROR(N(INDEX('거래내역원장'!B5:B104,MATCH(30,'거래내역원장'!P5:P104,0))),"") | C41: =IFERROR(N(INDEX('거래내역원장'!C5:C104,MATCH(30,'거래내역원장'!P5:P104,0))),"") | D41: =IFERROR(INDEX('거래내역원장'!E5:E104,MATCH(30,'거래내역원장'!P5:P104,0))&"","") | E41: =IFERROR(INDEX('거래내역원장'!K5:K104,MATCH(30,'거래내역원장'!P5:P104,0))&"","") | F41: =IFERROR(N(INDEX('거래내역원장'!G5:G104,MATCH(30,'거래내역원장'!P5:P104,0))),"") | G41: =IFERROR(N(INDEX('거래내역원장'!I5:I104,MATCH(30,'거래내역원장'!P5:P104,0))),"") | H41: =IFERROR(N(INDEX('거래내역원장'!J5:J104,MATCH(30,'거래내역원장'!P5:P104,0))),"") | I41: =IFERROR(INDEX('거래내역원장'!L5:L104,MATCH(30,'거래내역원장'!P5:P104,0))&"","")
A42: 합 계 (위 목록) | G42: =SUM(G12:G41) | H42: =SUM(H12:H41)
A43: =IF(COUNT('거래내역원장'!P5:P104)>30,"⚠ 거래가 30줄을 넘습니다 — 기간을 나눠 청구서를 두 장으로 만드세요.","")
...

Sheet 예시-장비관리
A1: K-건설맵 | k-conmap.com 무료 건설 서식 | G1: 작성 예시 (가상의 현장)
A2: =IF(N(K3)=0,"장 비 관 리","장 비 관 리 "&K3)
I3: 연도(제목용) | K3: 2026
A5: ■ 업체별 현황
A6: 번호 | B6: 거래처 | C6: 대표 | D6: 장비 임대료 | E6: 기수급금 (유류대 포함) | F6: 미수급금 | G6: 임대료 비율 | H6: 수금률 | I6: 미수율 | J6: 유 류 대 | K6: 연 락 처
A7: 1 | B7: =IF('예시-거래처등록'!B5="","",'예시-거래처등록'!B5) | C7: =IF('예시-거래처등록'!B5="","",'예시-거래처등록'!D5) | D7: =IF(B7="","",SUMIF('예시-거래내역원장'!F5:F104,B7,'예시-거래내역원장'!I5:I104)) | E7: =IF(B7="","",SUMIF('예시-장비임대료수금원장'!D5:D54,B7,'예시-장비임대료수금원장'!E5:E54)+N(J7)) | F7: =IF(B7="","",N(D7)-N(E7)) | G7: =IF(OR(B7="",N(D22)=0),"",N(D7)/D22) | H7: =IF(OR(B7="",N(D7)=0),"",N(E7)/D7) | I7: =IF(OR(B7="",N(D7)=0),"",N(F7)/D7) | J7: =IF(B7="","",SUMIF('예시-거래내역원장'!F5:F104,B7,'예시-거래내역원장'!J5:J104)) | K7: =IF('예시-거래처등록'!B5="","",'예시-거래처등록'!E5)
