Workbook

Sheet 기록지
A1: K-건설맵 | k-conmap.com 무료 건설 서식 | G1: ← 이 1행을 지우고 쓰셔도 됩니다
A2: 기 록 지 (기본 입력)
A3: 여기 한 번 적으면 모음의 모든 서류에 들어갑니다. 발주처가 요구하지 않는 서류(예: 국유림은 현장인수증)는 빼고 인쇄하세요.
A5: ■ 회 사 · 수 신
A6: 수 신
A7: 시 공 회 사 | G7: 대 표 자
A8: 주 소
A9: 법인등록번호 | G9: 전 화 번 호
A10: 등 록 업 종 | G10: 등 록 번 호
A11: ■ 공 사
A12: 공 사 명
A13: 발 주 처 | G13: 공 사 수 량
A14: 공 사 장 소
A15: 도 급 금 액 | G15: 관 급 금 액
A16: 합 계 | D16: =IF(N(D15)+N(J15)=0,"",N(D15)+N(J15)) | G16: 변 경 금 액
A17: 안전관리비(계상) | G17: 환경보전비(계상)
A18: 계 약 일 | G18: 변경계약일
A19: 착 공 일 | G19: 준 공 일
A20: 공 사 일 수 | D20: =IF(OR(N(D19)=0,N(J19)=0),"",IF(J19<D19,"⚠ 준공일 확인",J19-D19+1)) | G20: 작성일자 (비우면 착공일)
G21: =IF(N(J20)>0,J20,IF(N(D19)>0,D19,""))
A22: ■ 감 독 · 감 리
A23: 공사감독 직급 | G23: 공사감독 성명
A24: 공사감리업체 | G24: 감리원 성명
A25: ■ 기 술 자 · 관 리 자
A26: 현장대리인 성명 | G26: 생 년 월 일
A27: 자격 구분(등급) | G27: 자 격 번 호
A28: 현장대리인 주소
A29: 안전관리자 | G29: 환경관리자
A30: 품질관리자 | G30: 관리감독자
A31: 안전관리 담당자
A33: 법인등록번호 칸에 개인의 주민등록번호는 적지 마세요(개인사업자는 사업자등록번호). 하늘색 칸 = 자동.
A34: 공사일수 = 준공일 − 착공일 + 1. 작성일자를 비우면 서류 날짜는 착공일로 들어갑니다.

Sheet 현장인수증
A1: K-건설맵 | k-conmap.com 무료 건설 서식 | G1: ← 이 1행을 지우고 쓰셔도 됩니다
A2: 현 장 인 수 증
A4: 성 명 | C4: =IF('기록지'!J7="","",'기록지'!J7) | G4: 법인등록번호 | I4: =IF('기록지'!D9="","",'기록지'!D9)
A5: 주 소 | C5: =IF('기록지'!D8="","",'기록지'!D8)
A6: 상 호 | C6: =IF('기록지'!D7="","",'기록지'!D7)
A7: 공 사 명 | C7: =IF('기록지'!D12="","",'기록지'!D12) | I7: 공사수량 | K7: =IF('기록지'!J13="","",'기록지'!J13)
A8: 공 사 현 장 | C8: =IF('기록지'!D14="","",'기록지'!D14)
A9: 공 사 금 액 | C9: =IF(N('기록지'!D15)=0,"",'기록지'!D15) | I9: =IF(N('기록지'!D15)=0,"",'기록지'!D15)
A10: 공 사 개 요 | C10: 공 종 | F10: 규 격 | G10: 단위 | H10: 수 량 | I10: 단 가 | K10: 금 액
K11: =IF(OR(N(H11)=0,N(I11)=0),"",ROUND(H11*I11,0))
K12: =IF(OR(N(H12)=0,N(I12)=0),"",ROUND(H12*I12,0))
K13: =IF(OR(N(H13)=0,N(I13)=0),"",ROUND(H13*I13,0))
K14: =IF(OR(N(H14)=0,N(I14)=0),"",ROUND(H14*I14,0))
K15: =IF(OR(N(H15)=0,N(I15)=0),"",ROUND(H15*I15,0))
K16: =IF(OR(N(H16)=0,N(I16)=0),"",ROUND(H16*I16,0))
K17: =IF(OR(N(H17)=0,N(I17)=0),"",ROUND(H17*I17,0))
K18: =IF(OR(N(H18)=0,N(I18)=0),"",ROUND(H18*I18,0))
K19: =IF(OR(N(H19)=0,N(I19)=0),"",ROUND(H19*I19,0))
K20: =IF(OR(N(H20)=0,N(I20)=0),"",ROUND(H20*I20,0))
C21: 합 계 | K21: =IF(SUM(K11:K20)=0,"",SUM(K11:K20))
C22: 계약금액과의 차이 (간접사업비 등) | K22: =IF(OR(K21="",N('기록지'!D15)=0),"",'기록지'!D15-K21)
B24: =IF(OR(N('기록지'!D18)=0,'기록지'!D12="")," 년 월 일자로 계약 체결한 현장을 위와 같이 인수함.",YEAR('기록지'!D18)&"년 "&MONTH('기록지'!D18)&"월 "&DAY('기록지'!D18)&"일자로 계약 체결한 «"&'기록지'!D12&"» 현장을 위와 같이 인수함.")
A26: =IF(N('기록지'!G21)=0,"20 년 월 일",'기록지'!G21)
F28: =IF('기록지'!D7="","",'기록지'!D7) | J28: =IF('기록지'!J7="","",'기록지'!J7) | L28: (인)
B30: =IF('기록지'!D6="","",'기록지'!D6) | H30: 귀 하
A32: 공종 · 금액은 착공(착수)내역서를 보고 적으세요. 금액 = 수량 × 단가 — 한꺼번에 적을 때는 수량 1 · 단가 = 금액.
A33: 원본의 «주민(법인)등록번호» 칸은 법인등록번호만 적도록 바꿨습니다. 발주처가 요구하지 않으면(예: 국유림) 이 장은 빼고 인쇄하세요.

Sheet 착수계
A1: K-건설맵 | k-conmap.com 무료 건설 서식 | G1: ← 이 1행을 지우고 쓰셔도 됩니다
A3: 착 수 계
F5: 공사감독관 : | H5: =IF(AND('기록지'!D23="",'기록지'!J23=""),"직 성명 (인)","직 "&'기록지'!D23&" 성명 "&'기록지'!J23&" (인)")
F6: 공사감리원 : | H6: =IF('기록지'!J24="","성명 (인)","성명 "&'기록지'!J24&" (인)")
A8: 공 사 명 | C8: =IF('기록지'!D12="","",'기록지'!D12) | I8: 공사수량 | K8: =IF('기록지'!J13="","",'기록지'!J13)
A9: 현 장 위 치 | C9: =IF('기록지'!D14="","",'기록지'!D14)
A10: 공 사 금 액 | C10: 합 계 | E10: =IF(N('기록지'!D16)=0,"",'기록지'!D16) | J10: =IF(N('기록지'!D16)=0,"",'기록지'!D16)
C11: 도급금액 | E11: =IF(N('기록지'!D15)=0,"",'기록지'!D15) | J11: =IF(N('기록지'!D15)=0,"",'기록지'!D15)
C12: 관급금액 | E12: =IF(N('기록지'!J15)=0,"",'기록지'!J15) | J12: =IF(N('기록지'!J15)=0,"",'기록지'!J15)
A13: 계 약 일 자 | C13: =IF(N('기록지'!D18)=0,"",'기록지'!D18)
A14: 착 수 일 자 | C14: =IF(N('기록지'!D19)=0,"",'기록지'!D19)
A15: 완료예정일자 | C15: =IF(N('기록지'!J19)=0,"",'기록지'!J19)
A17: 위와 같이 착공하였기에 착공계를 제출합니다.
A19: =IF(N('기록지'!G21)=0,"20 년 월 일",'기록지'!G21)
F21: 주 소 | H21: : | I21: =IF('기록지'!D8="","",'기록지'!D8)
F22: 상 호 | H22: : | I22: =IF('기록지'!D7="","",'기록지'!D7)
F23: 법인등록번호 | H23: : | I23: =IF('기록지'!D9="","",'기록지'!D9)
F24: 성 명 | H24: : | I24: =IF('기록지'!J7="","",'기록지'!J7) | L24: (인)
B26: =IF('기록지'!D6="","",'기록지'!D6) | H26: 귀 하
A28: 모든 칸이 «기록지» 에서 따라옵니다. 관급금액이 없으면 그 줄은 비어 보입니다.

Sheet 현장대리인선임계
A1: K-건설맵 | k-conmap.com 무료 건설 서식 | G1: ← 이 1행을 지우고 쓰셔도 됩니다
A3: 현 장 대 리 인 선 임 계
A5: 공 사 명 | C5: =IF('기록지'!D12="","",'기록지'!D12) | I5: 공사수량 | K5: =IF('기록지'!J13="","",'기록지'!J13)
A6: 현 장 위 치 | C6: =IF('기록지'!D14="","",'기록지'!D14)
A7: 현장대리인 | C7: 자격 및 등급 | E7: =IF('기록지'!D27="","",'기록지'!D27)
C8: 자 격 번 호 | E8: =IF('기록지'!J27="","",'기록지'!J27)
C9: 주 소 | E9: =IF('기록지'!D28="","",'기록지'!D28)
C10: 생 년 월 일 | E10: =IF(N('기록지'!J26)=0,"",'기록지'!J26)
C11: 성 명 | E11: =IF('기록지'!D26="","",'기록지'!D26)
B13: =IF(OR(N('기록지'!D18)=0,'기록지'!D12="")," 상기자를 년 월 일자 계약한 의 현장대리인으로 선임하고 본인에게 부여된 현장 내의 책임을 대행하도록 하였기에 현장대리인 선임계를 제출합니다."," 상기자를 "&YEAR('기록지'!D18)&"년 "&MONTH('기록지'!D18)&"월 "&DAY('기록지'!D18)&"일자 계약한 «"&'기록지'!D12&"» 의 현장대리인으로 선임하고 본인에게 부여된 현장 내의 책임을 대행하도록 하였기에 현장대리인 선임계를 제출합니다.")
A15: =IF(N('기록지'!G21)=0,"20 년 월 일",'기록지'!G21)
F17: 주 소 | H17: : | I17: =IF('기록지'!D8="","",'기록지'!D8)
F18: 상 호 | H18: : | I18: =IF('기록지'!D7="","",'기록지'!D7)
F19: 법인등록번호 | H19: : | I19: =IF('기록지'!D9="","",'기록지'!D9)
F20: 성 명 | H20: : | I20: =IF('기록지'!J7="","",'기록지'!J7) | L20: (인)
B22: =IF('기록지'!D6="","",'기록지'!D6) | H22: 귀 하
A24: 현장대리인 선임계 뒤에 재직증명서 · 자격증 사본을 붙이세요.

Sheet 자격증사본
A1: K-건설맵 | k-conmap.com 무료 건설 서식 | G1: ← 이 1행을 지우고 쓰셔도 됩니다
A3: 자 격 증 사 본
H4: 현장대리인 : | J4: =IF('기록지'!D26="","",'기록지'!D26)
A6: (사본을 여기에 붙이세요)
A37: 원본의 사본 그림(개인 자격증 · 수료증)은 옮기지 않았습니다 — 해당자의 사본을 붙여 쓰세요.

Sheet 착수내역서표지
A1: K-건설맵 | k-conmap.com 무료 건설 서식 | G1: ← 이 1행을 지우고 쓰셔도 됩니다
A3: =IF('기록지'!D12="","",'기록지'!D12)
A5: 착 수 내 역 서
A7: =IF('기록지'!D14="","공사위치 :","공사위치 : "&'기록지'!D14)
G9: 주 소 | I9: : | J9: =IF('기록지'!D8="","",'기록지'!D8)
G10: 상 호 | I10: : | J10: =IF('기록지'!D7="","",'기록지'!D7)
G11: 성 명 | I11: : | J11: =IF('기록지'!J7="","",'기록지'!J7) | L11: (인)
A13: 이 표지 뒤에 착수(착공)내역서를 붙이세요.

Sheet 사업계획서
A1: K-건설맵 | k-conmap.com 무료 건설 서식 | G1: ← 이 1행을 지우고 쓰셔도 됩니다
A3: =IF('기록지'!D12="","",'기록지'!D12)
A5: 사 업 계 획 서
D7: 1. 안전관리계획서
D8: 2. 환경보전 관리계획서
D9: 3. 품질관리계획서
D10: 4. 공정별 인력 투입 계획서
D11: 5. 장비 투입 계획서
A13: =IF(N('기록지'!G21)=0,"20 년 월 일",'기록지'!G21)
F15: 주 소 | H15: : | I15: =IF('기록지'!D8="","",'기록지'!D8)
F16: 상 호 | H16: : | I16: =IF('기록지'!D7="","",'기록지'!D7)
F17: 법인등록번호 | H17: : | I17: =IF('기록지'!D9="","",'기록지'!D9)
F18: 성 명 | H18: : | I18: =IF('기록지'!J7="","",'기록지'!J7) | L18: (인)
A20: 모음 안의 계획서(안전 · 환경 · 품질 · 인력 · 장비) 앞에 붙이는 표지입니다.

Sheet 안전관리자선임계
A1: K-건설맵 | k-conmap.com 무료 건설 서식 | G1: ← 이 1행을 지우고 쓰셔도 됩니다
A3: 안전관리자 선임계
A5: 1. | B5: 공 사 명 | E5: : | F5: =IF('기록지'!D12="","",'기록지'!D12)
A6: 2. | B6: 공 사 금 액 | E6: : | F6: =IF(N('기록지'!D15)=0,"",'기록지'!D15) | K6: =IF(N('기록지'!D15)=0,"",'기록지'!D15)
A7: 3. | B7: 계 약 년 월 일 | E7: : | F7: =IF(N('기록지'!D18)=0,"",'기록지'!D18)
A8: 4. | B8: 착 공 년 월 일 | E8: : | F8: =IF(N('기록지'!D19)=0,"",'기록지'!D19)
A9: 5. | B9: 예정준공년월일 | E9: : | F9: =IF(N('기록지'!J19)=0,"",'기록지'!J19)
B11: 상기 공사의 안전관리자를 아래와 같이 선정하여 보고합니다.
D13: 안전관리자 | F13: : | G13: =IF('기록지'!D29="","",'기록지'!D29)
C15: 붙 임 : 안전관리계획서 1부. 끝.
A17: =IF(N('기록지'!G21)=0,"20 년 월 일",'기록지'!G21)
F19: 주 소 | H19: : | I19: =IF('기록지'!D8="","",'기록지'!D8)
F20: 상 호 | H20: : | I20: =IF('기록지'!D7="","",'기록지'!D7)
F21: 법인등록번호 | H21: : | I21: =IF('기록지'!D9="","",'기록지'!D9)
F22: 성 명 | H22: : | I22: =IF('기록지'!J7="","",'기록지'!J7) | L22: (인)
B24: =IF('기록지'!D6="","",'기록지'!D6) | H24: 귀 하
A26: 안전관리자 이름은 «기록지» 에서 따라옵니다.

Sheet 교육수료증
A1: K-건설맵 | k-conmap.com 무료 건설 서식 | G1: ← 이 1행을 지우고 쓰셔도 됩니다
A3: 교 육 수 료 증
H4: 해 당 자 : | J4: =IF('기록지'!D29="","",'기록지'!D29)
A6: (교육 수료증 사본을 여기에 붙이세요)
A37: 원본의 사본 그림(개인 자격증 · 수료증)은 옮기지 않았습니다 — 해당자의 사본을 붙여 쓰세요.

Sheet 안전관리계획서
A1: K-건설맵 | k-conmap.com 무료 건설 서식 | G1: ← 이 1행을 지우고 쓰셔도 됩니다
A3: 안 전 관 리 계 획 서
A5: 1. | B5: 공 사 명 | E5: : | F5: =IF('기록지'!D12="","",'기록지'!D12)
A6: 2. | B6: 공 사 금 액 | E6: : | F6: =IF(N('기록지'!D15)=0,"",'기록지'!D15) | K6: =IF(N('기록지'!D15)=0,"",'기록지'!D15)
B7: (변 경) | E7: : | F7: =IF(N('기록지'!J16)=0,"",'기록지'!J16) | K7: =IF(N('기록지'!J16)=0,"",'기록지'!J16)
A8: 3. | B8: 계 약 년 월 일 | E8: : | F8: =IF(N('기록지'!D18)=0,"",'기록지'!D18)
B9: (변 경) | E9: : | F9: =IF(N('기록지'!J18)=0,"",'기록지'!J18)
A10: 4. | B10: 착 공 년 월 일 | E10: : | F10: =IF(N('기록지'!D19)=0,"",'기록지'!D19)
A11: 5. | B11: 예정준공년월일 | E11: : | F11: =IF(N('기록지'!J19)=0,"",'기록지'!J19)
A12: 6. | B12: 공 사 장 소 | E12: : | F12: =IF('기록지'!D14="","",'기록지'!D14)
A13: 7. | B13: 안 전 관 리 자 | E13: : | F13: =IF('기록지'!D29="","",'기록지'!D29)
A15: 위 공사에 대하여 착공일부터 공사 완료 때까지 현장의 안전관리를 최우선으로 하여 시공할 것을 확인하며, 이에 안전관리계획서를 제출합니다.
A16: - 아 래 -
A17: 1. 목 적
A18: 현장에서 근로자의 안전과 보건을 유지 · 증진하고 각종 재해를 미리 예방하여 인적 · 물적 손실을 막거나 피해를 최소화한다.
A19: 2. 안전보건 우선
A20: 모든 작업과 관리에서 안전제일을 원칙으로 하며, 사고 예방을 위하여 안전보건 업무를 최우선으로 한다.
A21: 3. 안전관리자의 직무
A22: 1) | B22: 현장의 안전보건관리 및 산업재해 예방계획 수립
A23: 2) | B23: 근로자 안전보건교육 및 안전보건관리 업무계획 수립 · 시행
A24: 3) | B24: 개인 안전장구 · 보호구 구입 · 지급 및 관리
A25: 4) | B25: 유해 · 위험 기구와 설비 사용 전 안전 여부 확인
A26: 5) | B26: 현장 안전시설물 구입 · 설치 · 관리 · 보수
A27: 6) | B27: 산업안전보건관리비 계상 · 집행 지도 및 관리
A28: 7) | B28: 그 밖의 안전보건에 관한 사항
A29: 4. 안전관리자 선임
A30: 안전관리자는 관계 법령의 자격을 갖춘 사람으로 선임한다.
A31: 5. 안전관리 계획
A32: 1) | B32: 현장 안의 모든 인원(관리자 · 작업자 · 방문객 등)은 안전장구와 보호구(안전모 등)를 반드시 착용한다.
A33: 2) | B33: 안전장구 · 보호구 착용을 거부하면 담당자는 현장 출입을 막을 수 있다.
A34: 3) | B34: 안전보건관리자는 작업 전에 근로자의 안전장구 이상 유무와 안전시설물을 점검 · 보완한다.
A35: 4) | B35: 현장에 위험한 상황이 생기면 즉시 작업을 중지시키고 안전조치를 한다.
A36: 5) | B36: 휴무일이나 작업하지 않는 날(우천 · 양생 등)에는 쉬기 전에 안전시설물을 점검하고 안전조치를 확실히 한다.
A37: 6) | B37: 수시로 근로자에게 안전보건교육을 하여 안전보건과 사고 예방의 중요성을 알린다.
A38: 7) | B38: 장비 · 기계 조작 때는 작업 반경 안에 접근하지 못하게 하고, 위험이 큰 장비는 유도원(신호수)을 지정하여 작업한다.
A39: 8) | B39: 현장에는 구급함 등 구급용구를 늘 갖추어 둔다.
A40: 6. 산업안전보건관리비 사용내역서 작성
A41: 1) | B41: 안전관리자는 작업 진행에 따라 산업안전보건관리비 사용내역을 작성하고, 공사 시작 후 6개월마다 1회 이상(6개월 안에 끝나면 끝날 때) 발주자 또는 감리자의 확인을 받으며, 기성 · 준공 때 사용내역서를 제출한다.
A42: 2) | B42: 산업안전보건관리비는 현행 「건설업 산업안전보건관리비 계상 및 사용기준」(고용노동부 고시)에 따라 쓰고, 이에 따라 사용내역서를 작성한다.
A44: =IF(N('기록지'!G21)=0,"20 년 월 일",'기록지'!G21)
...

Sheet 안전관리비사용계획
A1: K-건설맵 | k-conmap.com 무료 건설 서식 | G1: ← 이 1행을 지우고 쓰셔도 됩니다
A2: (4) 산업안전보건관리비 사용계획
A4: 1. 일 반 사 항
A5: 발 주 처 | D5: =IF('기록지'!D13="","",'기록지'!D13) | H5: 공 사 종 류
A6: 계상된 안전관리비 | D6: =IF(N('기록지'!D17)=0,"",'기록지'!D17) | H6: 발주자 내역서의 계상액 (대상액 × 별표 1 요율)
A7: 공사금액 내역 | D7: (1) 직접노무비
D8: (2) 재료비 (직접 + 간접)
D9: (3) 관급(발주자 제공) 재료비 | H9: =IF(N('기록지'!J15)=0,"",'기록지'!J15)
D10: 대상액 (1) + (2) + (3) | H10: =IF(N(H7)+N(H8)+N(H9)=0,"",N(H7)+N(H8)+N(H9))
D11: (4) 기 타 | H11: =IF(OR(H10="",N('기록지'!D16)=0),"",'기록지'!D16-H10)
D12: 합 계 (공사금액) | H12: =IF(N('기록지'!D16)=0,"",'기록지'!D16)
A13: 적용 요율 (참고) | D13: =IF(OR(H10="",N(D6)=0),"",D6/H10) | H13: 계상액 ÷ 대상액 — 별표 1 의 요율과 대조해 보세요
A15: 2. 항 목 별 실 행 계 획
A16: 항 목 | G16: 금 액 | I16: 비 율 | J16: 비 고
A17: 1. 안전관리자 · 보건관리자의 임금 등 | I17: =IF(OR(N(G17)=0,G27=""),"",G17/G27)
A18: 2. 안전시설비 등 | I18: =IF(OR(N(G18)=0,G27=""),"",G18/G27)
A19: (그중 스마트 안전장비 — 2 - 나)
A20: 3. 보호구 등 | I20: =IF(OR(N(G20)=0,G27=""),"",G20/G27)
A21: 4. 안전보건진단비 등 | I21: =IF(OR(N(G21)=0,G27=""),"",G21/G27)
A22: 5. 안전보건교육비 등 | I22: =IF(OR(N(G22)=0,G27=""),"",G22/G27)
A23: 6. 근로자 건강장해예방비 등 | I23: =IF(OR(N(G23)=0,G27=""),"",G23/G27)
A24: 7. 건설재해예방전문지도기관 지도 대가 | I24: =IF(OR(N(G24)=0,G27=""),"",G24/G27)
A25: 8. 본사 전담조직 근로자 임금 등 | I25: =IF(OR(N(G25)=0,G27=""),"",G25/G27)
A26: 9. 위험성평가 등에 따른 개선비 | I26: =IF(OR(N(G26)=0,G27=""),"",G26/G27)
A27: 총 계 | G27: =IF(SUM(G17,G18,G20,G21,G22,G23,G24,G25,G26)=0,"",SUM(G17,G18,G20,G21,G22,G23,G24,G25,G26)) | I27: =IF(G27="","",1)
A28: 계상액과의 차이 (총계 − 계상액) | G28: =IF(OR(G27="",N(D6)=0),"",G27-D6)
A29: =IF(G28="","",IF(G28>=0,"✔ 실행계획 총계가 계상액 이상입니다 (실행예산은 계상된 총액 이상 편성 — 고시 제10조제1항).","⚠ 실행계획 총계가 계상액보다 적습니다 — 실행예산은 계상된 총액 이상으로 편성해야 합니다(고시 제10조제1항)."))
A30: =IF(OR(N(D6)=0,G27=""),"",IF((IF(N(G19)>D6*0.2,"스마트 안전장비 ","")&IF(N(G25)>D6*0.05,"본사 전담조직 ","")&IF(N(G26)>D6*0.15,"위험성평가 개선 ",""))="","✔ 한도 항목(스마트 안전장비 10분의 2 · 본사 전담조직 20분의 1 · 위험성평가 개선 100분의 15) 모두 한도 안입니다.","⚠ 한도 초과 : "&IF(N(G19)>D6*0.2,"스마트 안전장비 ","")&IF(N(G25)>D6*0.05,"본사 전담조직 ","")&IF(N(G26)>D6*0.15,"위험성평가 개선 ","")))
A32: 항목은 현행 「건설업 산업안전보건관리비 계상 및 사용기준」(고시 제2025-11호) 제7조의 9개 항목입니다(원본의 옛 7항목 대신). 공사 종류는 2024. 7. 1. 개편된 4종입니다.
A33: 대상액 = 직접재료비 + 간접재료비 + 직접노무비(발주자가 재료를 주면 그 재료비 포함) — 고시 제2조. 7번은 자기공사자만, 8번은 해당 사업자만 씁니다.

Sheet 환경관리자선임계
A1: K-건설맵 | k-conmap.com 무료 건설 서식 | G1: ← 이 1행을 지우고 쓰셔도 됩니다
A3: 환경관리자 선임계
A5: 1. | B5: 공 사 명 | E5: : | F5: =IF('기록지'!D12="","",'기록지'!D12)
A6: 2. | B6: 공 사 금 액 | E6: : | F6: =IF(N('기록지'!D15)=0,"",'기록지'!D15) | K6: =IF(N('기록지'!D15)=0,"",'기록지'!D15)
A7: 3. | B7: 계 약 년 월 일 | E7: : | F7: =IF(N('기록지'!D18)=0,"",'기록지'!D18)
A8: 4. | B8: 착 공 년 월 일 | E8: : | F8: =IF(N('기록지'!D19)=0,"",'기록지'!D19)
A9: 5. | B9: 예정준공년월일 | E9: : | F9: =IF(N('기록지'!J19)=0,"",'기록지'!J19)
B11: 상기 공사의 환경관리자를 아래와 같이 선정하여 보고합니다.
D13: 환경관리자 | F13: : | G13: =IF('기록지'!J29="","",'기록지'!J29)
C15: 붙 임 : 환경관리계획서 1부. 끝.
A17: =IF(N('기록지'!G21)=0,"20 년 월 일",'기록지'!G21)
F19: 주 소 | H19: : | I19: =IF('기록지'!D8="","",'기록지'!D8)
F20: 상 호 | H20: : | I20: =IF('기록지'!D7="","",'기록지'!D7)
F21: 법인등록번호 | H21: : | I21: =IF('기록지'!D9="","",'기록지'!D9)
F22: 성 명 | H22: : | I22: =IF('기록지'!J7="","",'기록지'!J7) | L22: (인)
B24: =IF('기록지'!D6="","",'기록지'!D6) | H24: 귀 하
A26: 환경관리자 이름은 «기록지» 에서 따라옵니다.

Sheet 환경관리계획서
A1: K-건설맵 | k-conmap.com 무료 건설 서식 | G1: ← 이 1행을 지우고 쓰셔도 됩니다
A3: 환 경 관 리 계 획 서
A5: 1. | B5: 공 사 명 | E5: : | F5: =IF('기록지'!D12="","",'기록지'!D12)
A6: 2. | B6: 공 사 금 액 | E6: : | F6: =IF(N('기록지'!D15)=0,"",'기록지'!D15) | K6: =IF(N('기록지'!D15)=0,"",'기록지'!D15)
B7: (변 경) | E7: : | F7: =IF(N('기록지'!J16)=0,"",'기록지'!J16) | K7: =IF(N('기록지'!J16)=0,"",'기록지'!J16)
A8: 3. | B8: 계 약 년 월 일 | E8: : | F8: =IF(N('기록지'!D18)=0,"",'기록지'!D18)
B9: (변 경) | E9: : | F9: =IF(N('기록지'!J18)=0,"",'기록지'!J18)
A10: 4. | B10: 착 공 년 월 일 | E10: : | F10: =IF(N('기록지'!D19)=0,"",'기록지'!D19)
A11: 5. | B11: 예정준공년월일 | E11: : | F11: =IF(N('기록지'!J19)=0,"",'기록지'!J19)
A12: 6. | B12: 공 사 장 소 | E12: : | F12: =IF('기록지'!D14="","",'기록지'!D14)
A13: 7. | B13: 환 경 관 리 자 | E13: : | F13: =IF('기록지'!J29="","",'기록지'!J29)
A15: 위 공사에 대하여 착공일부터 공사 완료 때까지 현장의 환경관리를 안전관리와 같은 수준으로 처리할 것을 확인하며, 이에 환경관리계획서를 제출합니다.
A16: - 아 래 -
A17: 1. 목 적
A18: 공사 작업으로 인한 환경 피해를 최소화하고 근로자에게 쾌적한 근로 여건을 보장하여 작업 능률을 높이며, 환경보전에 이바지한다.
A19: 2. 환경관리 우선
A20: 모든 작업과 관리에서 환경관리를 안전관리와 더불어 같은 수준으로 처리한다.
A21: 3. 환경관리자의 직무
A22: 1) | B22: 현장의 환경관리계획 수립 · 실행
A23: 2) | B23: 환경관리비 산출 및 관련 비용 집행
A24: 3) | B24: 근로자 환경관리 교육
A25: 4) | B25: 환경오염 물질 발생 억제와 적법 처리
A26: 5) | B26: 환경오염 방지시설의 적정 설치 · 관리 · 보수
A27: 6) | B27: 그 밖의 환경관리 사항
A28: 4. 환경관리자 선임
A29: 환경관리자는 현장에서 자격을 갖춘 사람으로 선임한다.
A30: 5. 환경관리 계획
A31: 1) | B31: 작업 중 비산먼지가 최소가 되도록 살수 · 덮개 설치 · 잔토 처리 등의 대책을 세우고 알맞게 조치한다(「대기환경보전법」).
A32: 2) | B32: 작업장 정리정돈을 철저히 한다.
A33: 3) | B33: 공사로 생기는 폐기물의 양을 최소화하고, 수집 · 처리는 허가받은 업체에 맡겨 정해진 방법으로 처리한다(현장 소각 금지).
A34: 4) | B34: 흙탕물 · 세척수 등 수질오염은 침사 · 차단 시설로 막는다(「물환경보전법」).
A35: 5) | B35: 작업 중 소음 · 진동 억제 대책을 세우고 알맞게 조치한다(「소음 · 진동관리법」).
A36: 6) | B36: 수시로 근로자에게 환경오염 예방 방법을 교육하여 환경보전의 필요성을 알린다.
A37: 7) | B37: 그 밖에 현장의 환경오염을 막는 데 필요한 방법을 찾아 시행한다.
A38: 6. 환경관리비(환경보전비) 사용계획 · 내역서
A39: 환경관리자는 환경관리비 사용계획을 환경오염 방지시설을 처음 설치하기 전까지 발주자에게 제출하고(건설기술 진흥법 시행규칙 제61조), 작업 진행에 따라 사용내역을 작성하여 기성 · 준공 때 발주자에게 제출한다.
A41: =IF(N('기록지'!G21)=0,"20 년 월 일",'기록지'!G21)
F43: 주 소 | H43: : | I43: =IF('기록지'!D8="","",'기록지'!D8)
F44: 상 호 | H44: : | I44: =IF('기록지'!D7="","",'기록지'!D7)
F45: 법인등록번호 | H45: : | I45: =IF('기록지'!D9="","",'기록지'!D9)
...

Sheet 환경보전비사용계획
A1: K-건설맵 | k-conmap.com 무료 건설 서식 | G1: ← 이 1행을 지우고 쓰셔도 됩니다
A2: (1) 환경보전비 사용계획
A3: 1. 일 반 사 항
A4: 발 주 처 | D4: =IF('기록지'!D13="","",'기록지'!D13) | G4: 공 사 종 류
A5: 계상된 환경보전비 | D5: =IF(N('기록지'!J17)=0,"",'기록지'!J17) | G5: 최 저 요 율 | I5: =IF(I4="","",IFERROR(INDEX(H27:H39,MATCH(I4,B27:B39,0)),"⚠ 종류를 목록에서 고르세요"))
A6: 직접공사비 내역 | D6: (1) 직접노무비 | H6: =IF(N('안전관리비사용계획'!H7)=0,"",'안전관리비사용계획'!H7)
D7: (2) 재 료 비 | H7: =IF(N('안전관리비사용계획'!H8)=0,"",'안전관리비사용계획'!H8)
D8: (3) 산 출 경 비
D9: 직접공사비 (1) + (2) + (3) | H9: =IF(N(H6)+N(H7)+N(H8)=0,"",N(H6)+N(H7)+N(H8))
A10: 최저 계상액 | D10: =IF(OR(H9="",NOT(ISNUMBER(I5))),"",H9*I5) | G10: 직접공사비 × 최저요율 (간접공사비 반영분의 최저 기준)
A11: =IF(OR(D10="",N(D5)=0),"",IF(D5>=D10,"✔ 계상액이 최저 기준(직접공사비 × 최저요율) 이상입니다.","⚠ 계상액이 최저 기준보다 적습니다 — 발주자와 협의하세요."))
A12: ※ 직접노무비 · 재료비는 «안전관리비사용계획» 시트에서 따라옵니다. 최저요율은 간접공사비에 반영하는 환경보전비의 최저 기준입니다.
A14: 2. 항 목 별 실 행 계 획
A15: 항 목 | G15: 금 액 | I15: 비 율 | J15: 비 고
A16: 1. 환경오염 방지시설 설치 및 운영 비용 등 | I16: =IF(OR(N(G16)=0,G23=""),"",G16/G23)
A17: 2. 폐기물의 처리 및 재활용 비용 | I17: =IF(OR(N(G17)=0,G23=""),"",G17/G23)
A18: 3. 환경 계측 비용 | I18: =IF(OR(N(G18)=0,G23=""),"",G18/G23)
A19: 4. 환경교육 · 훈련 비용 | I19: =IF(OR(N(G19)=0,G23=""),"",G19/G23)
A20: 5. 현장 환경정리 비용 | I20: =IF(OR(N(G20)=0,G23=""),"",G20/G23)
A21: 6. 환경자료 및 홍보물 구입 비용 | I21: =IF(OR(N(G21)=0,G23=""),"",G21/G23)
A22: 7. 환경기술인 및 환경 관련 인건비 | I22: =IF(OR(N(G22)=0,G23=""),"",G22/G23)
A23: 총 계 | G23: =IF(SUM(G16:G22)=0,"",SUM(G16:G22)) | I23: =IF(G23="","",1)
A24: 계상액과의 차이 (총계 − 계상액) | G24: =IF(OR(G23="",N(D5)=0),"",G23-D5)
A26: 최저요율표 (건설기술 진흥법 시행규칙 [별표 8] — 간접공사비에 반영하는 환경보전비)
B27: 도로 | H27: 0.009
B28: 플랜트 | H28: 0.004
B29: 지하철 | H29: 0.005
B30: 철도 | H30: 0.015
B31: 상하수도 | H31: 0.005
B32: 항만 | H32: 0.008
B33: 항만(수질오염방지막 · 준설토방지막 설치) | H33: 0.018
B34: 댐 | H34: 0.011
B35: 택지개발 | H35: 0.006
B36: 그 밖의 토목공사 | H36: 0.008
B37: 주택(재개발 및 재건축) | H37: 0.007
B38: 주택(신축) | H38: 0.003
B39: 그 밖의 건축공사 | H39: 0.005
A41: 환경관리비 = 환경오염 방지시설 설치 · 운영 비용 + 폐기물 처리 · 재활용 비용(시행규칙 제61조). 사용계획은 방지시설을 처음 설치하기 전까지 발주자에게 제출합니다.
A42: 항목 7가지는 원본 그대로입니다. 최저요율표는 [별표 8] 값(항만은 방지막 설치 때 1.8%)이며, 공사 종류를 고르면 저절로 찾아옵니다.

Sheet 품질관리자선임계
A1: K-건설맵 | k-conmap.com 무료 건설 서식 | G1: ← 이 1행을 지우고 쓰셔도 됩니다
A3: 품질관리자 선임계
A5: 1. | B5: 공 사 명 | E5: : | F5: =IF('기록지'!D12="","",'기록지'!D12)
A6: 2. | B6: 공 사 금 액 | E6: : | F6: =IF(N('기록지'!D15)=0,"",'기록지'!D15) | K6: =IF(N('기록지'!D15)=0,"",'기록지'!D15)
A7: 3. | B7: 계 약 년 월 일 | E7: : | F7: =IF(N('기록지'!D18)=0,"",'기록지'!D18)
A8: 4. | B8: 착 공 년 월 일 | E8: : | F8: =IF(N('기록지'!D19)=0,"",'기록지'!D19)
A9: 5. | B9: 예정준공년월일 | E9: : | F9: =IF(N('기록지'!J19)=0,"",'기록지'!J19)
B11: 상기 공사의 품질관리자를 아래와 같이 선정하여 보고합니다.
D13: 품질관리자 | F13: : | G13: =IF('기록지'!D30="","",'기록지'!D30)
C15: 붙 임 : 품질관리계획서 1부. 끝.
A17: =IF(N('기록지'!G21)=0,"20 년 월 일",'기록지'!G21)
F19: 주 소 | H19: : | I19: =IF('기록지'!D8="","",'기록지'!D8)
F20: 상 호 | H20: : | I20: =IF('기록지'!D7="","",'기록지'!D7)
F21: 법인등록번호 | H21: : | I21: =IF('기록지'!D9="","",'기록지'!D9)
F22: 성 명 | H22: : | I22: =IF('기록지'!J7="","",'기록지'!J7) | L22: (인)
B24: =IF('기록지'!D6="","",'기록지'!D6) | H24: 귀 하
A26: 품질관리자 이름은 «기록지» 에서 따라옵니다. 원본의 품질관리자 선임계가 안전관리자 이름을 끌어오던 실수는 바로잡았습니다.

Sheet 품질관리계획서
A1: K-건설맵 | k-conmap.com 무료 건설 서식 | G1: ← 이 1행을 지우고 쓰셔도 됩니다
A3: 품 질 관 리 계 획 서
A5: 1. | B5: 공 사 명 | E5: : | F5: =IF('기록지'!D12="","",'기록지'!D12)
A6: 2. | B6: 공 사 금 액 | E6: : | F6: =IF(N('기록지'!D15)=0,"",'기록지'!D15) | K6: =IF(N('기록지'!D15)=0,"",'기록지'!D15)
B7: (변 경) | E7: : | F7: =IF(N('기록지'!J16)=0,"",'기록지'!J16) | K7: =IF(N('기록지'!J16)=0,"",'기록지'!J16)
A8: 3. | B8: 계 약 년 월 일 | E8: : | F8: =IF(N('기록지'!D18)=0,"",'기록지'!D18)
B9: (변 경) | E9: : | F9: =IF(N('기록지'!J18)=0,"",'기록지'!J18)
A10: 4. | B10: 착 공 년 월 일 | E10: : | F10: =IF(N('기록지'!D19)=0,"",'기록지'!D19)
A11: 5. | B11: 예정준공년월일 | E11: : | F11: =IF(N('기록지'!J19)=0,"",'기록지'!J19)
A12: 6. | B12: 공 사 장 소 | E12: : | F12: =IF('기록지'!D14="","",'기록지'!D14)
A13: 7. | B13: 품 질 관 리 자 | E13: : | F13: =IF('기록지'!D30="","",'기록지'!D30)
A15: 위 공사에 대하여 착공일부터 공사 완료 때까지 현장의 품질관리를 발주처의 설계도서 및 시방서 기준에 따라 처리할 것을 확인하며, 이에 품질관리계획서를 제출합니다.
A16: - 아 래 -
A17: 1. 목 적
A18: 공사에 참여하는 작업자는 전문 분야의 능력을 발휘하여 좋은 품질을 완성하기 위한 모든 노력을 다한다.
A19: 2. 품질관리 우선
A20: 모든 작업과 관리에서 품질관리를 안전관리와 더불어 같은 수준으로 처리한다.
A21: 3. 품질관리자의 직무
A22: 1) | B22: 현장의 품질관리계획 수립 · 실행
A23: 2) | B23: 모든 공종에서 좋은 품질을 완성하기 위한 관리 · 확인
A24: 4. 품질관리자 선임
A25: 품질관리자는 현장에서 자격을 갖춘 사람으로 선임한다.
A26: 5. 품질관리 계획
A27: 1) | B27: 모든 공정을 시공하면서 참여자는 전문 능력을 발휘하여 발주처의 설계도서 및 시방서 기준에 따라 모든 공종의 품질을 완성하고 보장한다.
A28: 2) | B28: 품질관리 업무 참여자는 알맞은 자격을 갖추고 맡은 업무를 원활히 수행할 능력이 있음을 보장한다.
A29: 3) | B29: 현장에 쓰는 자재는 한국산업표준(KS) 표시 제품, 품질검사 전문기관의 시험성적서가 있는 재료, 관계 법령에 따라 품질검사를 받았거나 품질인증을 받은 재료로 시공한다.
A30: 4) | B30: 이 품질관리 목적을 충분히 이행하고 유지하도록 힘쓴다.
A32: =IF(N('기록지'!G21)=0,"20 년 월 일",'기록지'!G21)
F34: 주 소 | H34: : | I34: =IF('기록지'!D8="","",'기록지'!D8)
F35: 상 호 | H35: : | I35: =IF('기록지'!D7="","",'기록지'!D7)
F36: 법인등록번호 | H36: : | I36: =IF('기록지'!D9="","",'기록지'!D9)
F37: 성 명 | H37: : | I37: =IF('기록지'!J7="","",'기록지'!J7) | L37: (인)
B39: =IF('기록지'!D6="","",'기록지'!D6) | H39: 귀 하
A41: 원본의 복사 실수(«2. 환경보건 우선» · «3. 환경관리자의 직무»)와 옛 법령(주택건설 촉진법)은 바로잡았습니다.

Sheet 예정공정표
A1: K-건설맵 | k-conmap.com 무료 건설 서식 | I1: ← 이 1행을 지우고 쓰셔도 됩니다
A2: 공 사 예 정 공 정 표
A3: 공 사 명 : | B3: =IF('기록지'!D12="","",'기록지'!D12) | K3: 한 칸 = (일) | N3: 5
A4: 공 정 별 | B4: 시작 일차 | C4: 종료 일차 | D4: =IF(N('기록지'!D20)=0,"착 공 일 로 부 터 일 간","착 공 일 로 부 터 "&'기록지'!D20&" 일 간") | P4: 비 고
D5: =IF(N(N3)=0,"",1*N3) | E5: =IF(N(N3)=0,"",2*N3) | F5: =IF(N(N3)=0,"",3*N3) | G5: =IF(N(N3)=0,"",4*N3) | H5: =IF(N(N3)=0,"",5*N3) | I5: =IF(N(N3)=0,"",6*N3) | J5: =IF(N(N3)=0,"",7*N3) | K5: =IF(N(N3)=0,"",8*N3) | L5: =IF(N(N3)=0,"",9*N3) | M5: =IF(N(N3)=0,"",10*N3) | N5: =IF(N(N3)=0,"",11*N3) | O5: =IF(N(N3)=0,"",12*N3)
A6: 1. 공사준비
A7: 2. 벌목
A8: 3. 집재
A9: 4. 집적
A10: 5. 예정지 정리작업
A11: 6. 임산물 운반로 개설
A15: ※ 공정마다 시작 · 종료 일차(착공일 = 1일차)를 적으면 막대가 그려집니다. 종료 일차는 공사일수 안에 들게 적으세요.
A17: 상기와 같이 예정공정표를 제출합니다.
A18: =IF(N('기록지'!G21)=0,"20 년 월 일",'기록지'!G21)
G19: 주 소 | I19: : | J19: =IF('기록지'!D8="","",'기록지'!D8)
G20: 상 호 | I20: : | J20: =IF('기록지'!D7="","",'기록지'!D7)
G21: 법인등록번호 | I21: : | J21: =IF('기록지'!D9="","",'기록지'!D9)
G22: 성 명 | I22: : | J22: =IF('기록지'!J7="","",'기록지'!J7) | O22: (인)
C23: =IF('기록지'!D6="","",'기록지'!D6) | I23: 귀 하
A25: 한 칸의 기간(노란 칸, 기본 5일)을 바꾸면 머리 날짜와 막대가 함께 바뀝니다. 공정 이름은 원본 차례를 넣어 두었습니다.

Sheet 동원인력계획
A1: K-건설맵 | k-conmap.com 무료 건설 서식 | I1: ← 이 1행을 지우고 쓰셔도 됩니다
A2: 공 정 별 인 력 투 입 계 획
A3: 공 사 명 : | B3: =IF('기록지'!D12="","",'기록지'!D12) | L3: 착수년월일 : | N3: =IF(N('기록지'!D19)=0,"",'기록지'!D19)
A4: 공 사 금 액 : | B4: =IF(N('기록지'!D15)=0,"",'기록지'!D15) | I4: =IF(N('기록지'!D15)=0,"",'기록지'!D15) | L4: 완료년월일 : | N4: =IF(N('기록지'!J19)=0,"",'기록지'!J19)
A5: 구 분 ╲ 공 기 | B5: 계획 계 (인) | C5: =IF(N('기록지'!D20)=0,"공기 일 (한 칸 = 예정공정표의 칸 단위)","공기 "&'기록지'!D20&"일 (한 칸 = "&'예정공정표'!N3&"일)") | O5: 설계 인원 | P5: 차 이 (설계−계획) | Q5: 비 고
C6: =IF(N('예정공정표'!N3)=0,"",1*'예정공정표'!N3) | D6: =IF(N('예정공정표'!N3)=0,"",2*'예정공정표'!N3) | E6: =IF(N('예정공정표'!N3)=0,"",3*'예정공정표'!N3) | F6: =IF(N('예정공정표'!N3)=0,"",4*'예정공정표'!N3) | G6: =IF(N('예정공정표'!N3)=0,"",5*'예정공정표'!N3) | H6: =IF(N('예정공정표'!N3)=0,"",6*'예정공정표'!N3) | I6: =IF(N('예정공정표'!N3)=0,"",7*'예정공정표'!N3) | J6: =IF(N('예정공정표'!N3)=0,"",8*'예정공정표'!N3) | K6: =IF(N('예정공정표'!N3)=0,"",9*'예정공정표'!N3) | L6: =IF(N('예정공정표'!N3)=0,"",10*'예정공정표'!N3) | M6: =IF(N('예정공정표'!N3)=0,"",11*'예정공정표'!N3) | N6: =IF(N('예정공정표'!N3)=0,"",12*'예정공정표'!N3)
A7: 보통인부 | B7: =IF(SUM(C7:N7)=0,"",SUM(C7:N7)) | P7: =IF(N(O7)=0,"",N(O7)-N(B7))
A8: 벌목공 | B8: =IF(SUM(C8:N8)=0,"",SUM(C8:N8)) | P8: =IF(N(O8)=0,"",N(O8)-N(B8))
B9: =IF(SUM(C9:N9)=0,"",SUM(C9:N9)) | P9: =IF(N(O9)=0,"",N(O9)-N(B9))
B10: =IF(SUM(C10:N10)=0,"",SUM(C10:N10)) | P10: =IF(N(O10)=0,"",N(O10)-N(B10))
A11: 기타기술인부 | B11: =IF(SUM(C11:N11)=0,"",SUM(C11:N11)) | P11: =IF(N(O11)=0,"",N(O11)-N(B11))
B12: =IF(SUM(C12:N12)=0,"",SUM(C12:N12)) | P12: =IF(N(O12)=0,"",N(O12)-N(B12))
A13: 계 | B13: =IF(SUM(B7,B8,B9,B10,B11,B12)=0,"",SUM(B7,B8,B9,B10,B11,B12)) | C13: =IF(SUM(C7,C8,C9,C10,C11,C12)=0,"",SUM(C7,C8,C9,C10,C11,C12)) | D13: =IF(SUM(D7,D8,D9,D10,D11,D12)=0,"",SUM(D7,D8,D9,D10,D11,D12)) | E13: =IF(SUM(E7,E8,E9,E10,E11,E12)=0,"",SUM(E7,E8,E9,E10,E11,E12)) | F13: =IF(SUM(F7,F8,F9,F10,F11,F12)=0,"",SUM(F7,F8,F9,F10,F11,F12)) | G13: =IF(SUM(G7,G8,G9,G10,G11,G12)=0,"",SUM(G7,G8,G9,G10,G11,G12)) | H13: =IF(SUM(H7,H8,H9,H10,H11,H12)=0,"",SUM(H7,H8,H9,H10,H11,H12)) | I13: =IF(SUM(I7,I8,I9,I10,I11,I12)=0,"",SUM(I7,I8,I9,I10,I11,I12)) | ... O13: =IF(SUM(O7,O8,O9,O10,O11,O12)=0,"",SUM(O7,O8,O9,O10,O11,O12)) | P13: =IF(O13="","",O13-N(B13))
A14: ※ 칸마다 그 기간에 투입할 연인원(인 · 일)을 적으세요. 계획 계와 설계 인원의 차이가 저절로 나옵니다(음수 = 설계 초과, 빨간 글씨).
A16: 상기와 같이 동원인력계획표를 제출합니다.
A17: =IF(N('기록지'!G21)=0,"20 년 월 일",'기록지'!G21)
H18: 주 소 | J18: : | K18: =IF('기록지'!D8="","",'기록지'!D8)
H19: 상 호 | J19: : | K19: =IF('기록지'!D7="","",'기록지'!D7)
H20: 법인등록번호 | J20: : | K20: =IF('기록지'!D9="","",'기록지'!D9)
H21: 성 명 | J21: : | K21: =IF('기록지'!J7="","",'기록지'!J7) | P21: (인)
C22: =IF('기록지'!D6="","",'기록지'!D6) | I22: 귀 하
A24: 설계 인원은 착공(착수)내역서의 노무 인원을 옮겨 적으세요. 한 칸의 기간은 «예정공정표» 의 칸 단위를 따릅니다.

Sheet 장비동원계획
A1: K-건설맵 | k-conmap.com 무료 건설 서식 | I1: ← 이 1행을 지우고 쓰셔도 됩니다
A2: 장 비 동 원 계 획 표
A3: 공 사 명 : | B3: =IF('기록지'!D12="","",'기록지'!D12) | L3: 착수년월일 : | N3: =IF(N('기록지'!D19)=0,"",'기록지'!D19)
A4: 공 사 금 액 : | B4: =IF(N('기록지'!D15)=0,"",'기록지'!D15) | I4: =IF(N('기록지'!D15)=0,"",'기록지'!D15) | L4: 완료년월일 : | N4: =IF(N('기록지'!J19)=0,"",'기록지'!J19)
A5: 구 분 ╲ 공 기 | B5: 계획 계 (시간) | C5: =IF(N('기록지'!D20)=0,"공기 일 (한 칸 = 예정공정표의 칸 단위)","공기 "&'기록지'!D20&"일 (한 칸 = "&'예정공정표'!N3&"일)") | O5: 설계 시간 | P5: 차 이 (설계−계획) | Q5: 비 고
C6: =IF(N('예정공정표'!N3)=0,"",1*'예정공정표'!N3) | D6: =IF(N('예정공정표'!N3)=0,"",2*'예정공정표'!N3) | E6: =IF(N('예정공정표'!N3)=0,"",3*'예정공정표'!N3) | F6: =IF(N('예정공정표'!N3)=0,"",4*'예정공정표'!N3) | G6: =IF(N('예정공정표'!N3)=0,"",5*'예정공정표'!N3) | H6: =IF(N('예정공정표'!N3)=0,"",6*'예정공정표'!N3) | I6: =IF(N('예정공정표'!N3)=0,"",7*'예정공정표'!N3) | J6: =IF(N('예정공정표'!N3)=0,"",8*'예정공정표'!N3) | K6: =IF(N('예정공정표'!N3)=0,"",9*'예정공정표'!N3) | L6: =IF(N('예정공정표'!N3)=0,"",10*'예정공정표'!N3) | M6: =IF(N('예정공정표'!N3)=0,"",11*'예정공정표'!N3) | N6: =IF(N('예정공정표'!N3)=0,"",12*'예정공정표'!N3)
A7: 굴삭기 0.2㎥ | B7: =IF(SUM(C7:N7)=0,"",SUM(C7:N7)) | P7: =IF(N(O7)=0,"",N(O7)-N(B7))
A8: 굴삭기 0.6㎥ | B8: =IF(SUM(C8:N8)=0,"",SUM(C8:N8)) | P8: =IF(N(O8)=0,"",N(O8)-N(B8))
A9: 덤프트럭(24ton) | B9: =IF(SUM(C9:N9)=0,"",SUM(C9:N9)) | P9: =IF(N(O9)=0,"",N(O9)-N(B9))
A10: 덤프트럭(15ton) | B10: =IF(SUM(C10:N10)=0,"",SUM(C10:N10)) | P10: =IF(N(O10)=0,"",N(O10)-N(B10))
A11: 기타 | B11: =IF(SUM(C11:N11)=0,"",SUM(C11:N11)) | P11: =IF(N(O11)=0,"",N(O11)-N(B11))
B12: =IF(SUM(C12:N12)=0,"",SUM(C12:N12)) | P12: =IF(N(O12)=0,"",N(O12)-N(B12))
A13: 계 | B13: =IF(SUM(B7,B8,B9,B10,B11,B12)=0,"",SUM(B7,B8,B9,B10,B11,B12)) | C13: =IF(SUM(C7,C8,C9,C10,C11,C12)=0,"",SUM(C7,C8,C9,C10,C11,C12)) | D13: =IF(SUM(D7,D8,D9,D10,D11,D12)=0,"",SUM(D7,D8,D9,D10,D11,D12)) | E13: =IF(SUM(E7,E8,E9,E10,E11,E12)=0,"",SUM(E7,E8,E9,E10,E11,E12)) | F13: =IF(SUM(F7,F8,F9,F10,F11,F12)=0,"",SUM(F7,F8,F9,F10,F11,F12)) | G13: =IF(SUM(G7,G8,G9,G10,G11,G12)=0,"",SUM(G7,G8,G9,G10,G11,G12)) | H13: =IF(SUM(H7,H8,H9,H10,H11,H12)=0,"",SUM(H7,H8,H9,H10,H11,H12)) | I13: =IF(SUM(I7,I8,I9,I10,I11,I12)=0,"",SUM(I7,I8,I9,I10,I11,I12)) | ... O13: =IF(SUM(O7,O8,O9,O10,O11,O12)=0,"",SUM(O7,O8,O9,O10,O11,O12)) | P13: =IF(O13="","",O13-N(B13))
A14: ※ 칸마다 그 기간에 투입할 장비 사용 시간을 적으세요. 계획 계와 설계 시간의 차이가 저절로 나옵니다(음수 = 설계 초과, 빨간 글씨).
A16: 상기와 같이 장비동원계획표를 제출합니다.
A17: =IF(N('기록지'!G21)=0,"20 년 월 일",'기록지'!G21)
H18: 주 소 | J18: : | K18: =IF('기록지'!D8="","",'기록지'!D8)
H19: 상 호 | J19: : | K19: =IF('기록지'!D7="","",'기록지'!D7)
H20: 법인등록번호 | J20: : | K20: =IF('기록지'!D9="","",'기록지'!D9)
H21: 성 명 | J21: : | K21: =IF('기록지'!J7="","",'기록지'!J7) | P21: (인)
C22: =IF('기록지'!D6="","",'기록지'!D6) | I22: 귀 하
A24: 설계 시간은 착공(착수)내역서의 장비 시간을 옮겨 적으세요. 한 칸의 기간은 «예정공정표» 의 칸 단위를 따릅니다.

Sheet 착공전사진
A1: K-건설맵 | k-conmap.com 무료 건설 서식 | G1: ← 이 1행을 지우고 쓰셔도 됩니다
A2: 착 공 전 사 진
A3: 공 사 명 : | C3: =IF('기록지'!D12="","",'기록지'!D12)
A4: 위 치 : | C4: =IF('기록지'!D14="","",'기록지'!D14)
A5: (사진)
A14: 위치 · 내용 | C14: 1호지 | I14: 촬 영 일
A16: (사진)
A25: 위치 · 내용 | C25: 2호지 | I25: 촬 영 일
A27: (사진)
A36: 위치 · 내용 | C36: 3호지 | I36: 촬 영 일
A38: 착 공 전 사 진
A39: 공 사 명 : | C39: =IF('기록지'!D12="","",'기록지'!D12)
A40: 위 치 : | C40: =IF('기록지'!D14="","",'기록지'!D14)
A41: (사진)
A50: 위치 · 내용 | C50: 4호지 | I50: 촬 영 일
A52: (사진)
A61: 위치 · 내용 | C61: 5호지 | I61: 촬 영 일
A63: (사진)
A72: 위치 · 내용 | C72: 6호지 | I72: 촬 영 일
A75: 사진은 회색 칸 위에 붙여 넣으세요. 원본의 현장 사진은 옮기지 않았습니다.

Sheet 현장배치확인표
A1: K-건설맵 | k-conmap.com 무료 건설 서식 | G1: ← 이 1행을 지우고 쓰셔도 됩니다
A2: ■ 산림기술 진흥 및 관리에 관한 법률 시행규칙 [별지 제30호서식]
A3: 현장 배치 확인표
A4: ※ 바탕색이 있는 난은 신청인이 적지 않습니다.
A5: 접수번호 | D5: 접수일시 | G5: 발급일 | J5: 처리기간 즉시
A6: 신 청 인 | C6: 성 명 | E6: =IF('기록지'!D26="","",'기록지'!D26) | H6: 생년월일 | J6: =IF(N('기록지'!J26)=0,"",'기록지'!J26)
C7: 기술자격 종류 및 등급 | E7: =IF('기록지'!D27="","",'기록지'!D27) | H7: 자격번호 | J7: =IF('기록지'!J27="","",'기록지'!J27)
C8: 주 소 | E8: =IF('기록지'!D28="","",'기록지'!D28)
A9: 소속업체 | C9: 상호 또는 법인명 | E9: =IF('기록지'!D7="","",'기록지'!D7) | H9: 대 표 자 | J9: =IF('기록지'!J7="","",'기록지'!J7)
C10: 등록업종 | E10: =IF('기록지'!D10="","",'기록지'!D10) | H10: 등록번호 | J10: =IF('기록지'!J10="","",'기록지'!J10)
C11: 소 재 지 | E11: =IF('기록지'!D8="","",'기록지'!D8) | H11: 전화번호 | J11: =IF('기록지'!J9="","",'기록지'!J9)
A13: 배 치 기 간 | D13: 참 여 사 업 명 | G13: 직 책 | H13: 발주자명 | J13: 확 인
J14: 연월일 | K14: (발주청)
A15: =IF(OR(N('기록지'!D19)=0,N('기록지'!J19)=0),"",YEAR('기록지'!D19)&". "&MONTH('기록지'!D19)&". "&DAY('기록지'!D19)&". ~"&CHAR(10)&YEAR('기록지'!J19)&". "&MONTH('기록지'!J19)&". "&DAY('기록지'!J19)&".") | D15: =IF('기록지'!D12="","",'기록지'!D12) | H15: =IF('기록지'!D13="","",'기록지'!D13)
A19: 「산림기술 진흥 및 관리에 관한 법률」 제25조제1항, 같은 법 시행령 제15조제3항 및 같은 법 시행규칙 제20조제1항에 따라 현장 배치 확인표를 제출합니다.
A20: =IF(N('기록지'!G21)=0,"20 년 월 일",'기록지'!G21)
E21: 신 청 인 | G21: 성명 | H21: =IF('기록지'!D26="","",'기록지'!D26) | K21: (서명 또는 인)
E22: 대 리 인 | G22: 성명 | J22: 생년월일 | K22: (서명 또는 인)
B24: =IF('기록지'!D6="","",'기록지'!D6) | G24: 귀하 (발주청)
A26: 유 의 사 항
A27: 1. 신청인(본인)의 서명 또는 날인은 본인이 직접 해야 하며, 타인이 이를 위조하는 경우 「형법」 제239조에 따라 처벌받을 수 있습니다. 2. 대리인이 신청 · 수령하는 경우 실명 확인을 위해 생년월일을 적어야 합니다.
A28: 처 리 절 차
A29: 확인표 작성 · 제출 | D29: 접 수 | G29: 검토 · 확인 | J29: 확인표 수령
A30: 신청인 | D30: 발주청 | G30: 발주청 | J30: 신고인
A32: 현행 서식(2026. 8. 28. 시행)입니다. 바탕색 칸(접수번호 · 확인)은 발주청이 적습니다. 신청인 칸은 «기록지» 의 현장대리인에서 따라옵니다.
A33: 원본의 등록번호 · 전화번호 자리표(○○○)는 기록지 칸으로 바꿨습니다.

Sheet 예시-기록지
A1: K-건설맵 | k-conmap.com 무료 건설 서식 | G1: 작성 예시 (가상의 현장)
A2: 기 록 지 (기본 입력)
A3: 여기 한 번 적으면 모음의 모든 서류에 들어갑니다. 발주처가 요구하지 않는 서류(예: 국유림은 현장인수증)는 빼고 인쇄하세요.
A5: ■ 회 사 · 수 신
A6: 수 신 | D6: 가나군수
A7: 시 공 회 사 | D7: 예시임업(주) | G7: 대 표 자 | J7: 김대표
A8: 주 소 | D8: 가나군 가나읍 가나로 10
A9: 법인등록번호 | D9: 000000-0000000 | G9: 전 화 번 호 | J9: 000-000-0000
A10: 등 록 업 종 | D10: 산림사업(벌채 · 조림) | G10: 등 록 번 호 | J10: 예시-000
A11: ■ 공 사
A12: 공 사 명 | D12: 가나지구 산림 벌채 및 예정지 정리 사업
A13: 발 주 처 | D13: 가나군 | G13: 공 사 수 량 | J13: 12.5ha
A14: 공 사 장 소 | D14: 가나군 가나면 가나리 산 1-1 일원
A15: 도 급 금 액 | D15: 318000000 | G15: 관 급 금 액
A16: 합 계 | D16: =IF(N(D15)+N(J15)=0,"",N(D15)+N(J15)) | G16: 변 경 금 액
A17: 안전관리비(계상) | D17: 5600000 | G17: 환경보전비(계상) | J17: 2000000
A18: 계 약 일 | D18: 46083 | G18: 변경계약일
A19: 착 공 일 | D19: 46087 | G19: 준 공 일 | J19: 46142
A20: 공 사 일 수 | D20: =IF(OR(N(D19)=0,N(J19)=0),"",IF(J19<D19,"⚠ 준공일 확인",J19-D19+1)) | G20: 작성일자 (비우면 착공일)
G21: =IF(N(J20)>0,J20,IF(N(D19)>0,D19,""))
A22: ■ 감 독 · 감 리
A23: 공사감독 직급 | D23: 주무관 | G23: 공사감독 성명 | J23: 이감독
A24: 공사감리업체 | G24: 감리원 성명
A25: ■ 기 술 자 · 관 리 자
A26: 현장대리인 성명 | D26: 홍길동 | G26: 생 년 월 일 | J26: 29351
A27: 자격 구분(등급) | D27: 산림기사 | G27: 자 격 번 호 | J27: 예시-0001
A28: 현장대리인 주소 | D28: 가나군 가나읍 가나로 1
A29: 안전관리자 | D29: 박안전 | G29: 환경관리자 | J29: 이환경
A30: 품질관리자 | D30: 김철수 | G30: 관리감독자 | J30: 최반장
A31: 안전관리 담당자 | D31: 정담당
A33: 이 시트는 작성 예시입니다(가상의 사업 · 회사 · 사람 · 번호).

Sheet 예시-현장인수증
A1: K-건설맵 | k-conmap.com 무료 건설 서식 | G1: 작성 예시 (가상의 현장)
A2: 현 장 인 수 증
A4: 성 명 | C4: =IF('예시-기록지'!J7="","",'예시-기록지'!J7) | G4: 법인등록번호 | I4: =IF('예시-기록지'!D9="","",'예시-기록지'!D9)
A5: 주 소 | C5: =IF('예시-기록지'!D8="","",'예시-기록지'!D8)
A6: 상 호 | C6: =IF('예시-기록지'!D7="","",'예시-기록지'!D7)
A7: 공 사 명 | C7: =IF('예시-기록지'!D12="","",'예시-기록지'!D12) | I7: 공사수량 | K7: =IF('예시-기록지'!J13="","",'예시-기록지'!J13)
A8: 공 사 현 장 | C8: =IF('예시-기록지'!D14="","",'예시-기록지'!D14)
A9: 공 사 금 액 | C9: =IF(N('예시-기록지'!D15)=0,"",'예시-기록지'!D15) | I9: =IF(N('예시-기록지'!D15)=0,"",'예시-기록지'!D15)
A10: 공 사 개 요 | C10: 공 종 | F10: 규 격 | G10: 단위 | H10: 수 량 | I10: 단 가 | K10: 금 액
C11: 1. 벌채 · 집재공 | G11: 식 | H11: 1 | I11: 98450000 | K11: =IF(OR(N(H11)=0,N(I11)=0),"",ROUND(H11*I11,0))
C12: 2. 예정지 정리공 | G12: 식 | H12: 1 | I12: 61200000 | K12: =IF(OR(N(H12)=0,N(I12)=0),"",ROUND(H12*I12,0))
C13: 3. 운반로 개설공 | F13: B=3.0m | G13: m | H13: 850 | I13: 41000 | K13: =IF(OR(N(H13)=0,N(I13)=0),"",ROUND(H13*I13,0))
C14: 4. 운반공 | G14: 식 | H14: 1 | I14: 18630000 | K14: =IF(OR(N(H14)=0,N(I14)=0),"",ROUND(H14*I14,0))
K15: =IF(OR(N(H15)=0,N(I15)=0),"",ROUND(H15*I15,0))
K16: =IF(OR(N(H16)=0,N(I16)=0),"",ROUND(H16*I16,0))
K17: =IF(OR(N(H17)=0,N(I17)=0),"",ROUND(H17*I17,0))
K18: =IF(OR(N(H18)=0,N(I18)=0),"",ROUND(H18*I18,0))
K19: =IF(OR(N(H19)=0,N(I19)=0),"",ROUND(H19*I19,0))
K20: =IF(OR(N(H20)=0,N(I20)=0),"",ROUND(H20*I20,0))
C21: 합 계 | K21: =IF(SUM(K11:K20)=0,"",SUM(K11:K20))
C22: 계약금액과의 차이 (간접사업비 등) | K22: =IF(OR(K21="",N('예시-기록지'!D15)=0),"",'예시-기록지'!D15-K21)
B24: =IF(OR(N('예시-기록지'!D18)=0,'예시-기록지'!D12="")," 년 월 일자로 계약 체결한 현장을 위와 같이 인수함.",YEAR('예시-기록지'!D18)&"년 "&MONTH('예시-기록지'!D18)&"월 "&DAY('예시-기록지'!D18)&"일자로 계약 체결한 «"&'예시-기록지'!D12&"» 현장을 위와 같이 인수함.")
A26: =IF(N('예시-기록지'!G21)=0,"20 년 월 일",'예시-기록지'!G21)
F28: =IF('예시-기록지'!D7="","",'예시-기록지'!D7) | J28: =IF('예시-기록지'!J7="","",'예시-기록지'!J7) | L28: (인)
B30: =IF('예시-기록지'!D6="","",'예시-기록지'!D6) | H30: 귀 하
A32: 이 시트는 작성 예시입니다(가상의 금액).

Sheet 예시-착수계
A1: K-건설맵 | k-conmap.com 무료 건설 서식 | G1: 작성 예시 (가상의 현장)
A3: 착 수 계
F5: 공사감독관 : | H5: =IF(AND('예시-기록지'!D23="",'예시-기록지'!J23=""),"직 성명 (인)","직 "&'예시-기록지'!D23&" 성명 "&'예시-기록지'!J23&" (인)")
F6: 공사감리원 : | H6: =IF('예시-기록지'!J24="","성명 (인)","성명 "&'예시-기록지'!J24&" (인)")
A8: 공 사 명 | C8: =IF('예시-기록지'!D12="","",'예시-기록지'!D12) | I8: 공사수량 | K8: =IF('예시-기록지'!J13="","",'예시-기록지'!J13)
A9: 현 장 위 치 | C9: =IF('예시-기록지'!D14="","",'예시-기록지'!D14)
A10: 공 사 금 액 | C10: 합 계 | E10: =IF(N('예시-기록지'!D16)=0,"",'예시-기록지'!D16) | J10: =IF(N('예시-기록지'!D16)=0,"",'예시-기록지'!D16)
C11: 도급금액 | E11: =IF(N('예시-기록지'!D15)=0,"",'예시-기록지'!D15) | J11: =IF(N('예시-기록지'!D15)=0,"",'예시-기록지'!D15)
C12: 관급금액 | E12: =IF(N('예시-기록지'!J15)=0,"",'예시-기록지'!J15) | J12: =IF(N('예시-기록지'!J15)=0,"",'예시-기록지'!J15)
A13: 계 약 일 자 | C13: =IF(N('예시-기록지'!D18)=0,"",'예시-기록지'!D18)
A14: 착 수 일 자 | C14: =IF(N('예시-기록지'!D19)=0,"",'예시-기록지'!D19)
A15: 완료예정일자 | C15: =IF(N('예시-기록지'!J19)=0,"",'예시-기록지'!J19)
A17: 위와 같이 착공하였기에 착공계를 제출합니다.
A19: =IF(N('예시-기록지'!G21)=0,"20 년 월 일",'예시-기록지'!G21)
F21: 주 소 | H21: : | I21: =IF('예시-기록지'!D8="","",'예시-기록지'!D8)
F22: 상 호 | H22: : | I22: =IF('예시-기록지'!D7="","",'예시-기록지'!D7)
F23: 법인등록번호 | H23: : | I23: =IF('예시-기록지'!D9="","",'예시-기록지'!D9)
F24: 성 명 | H24: : | I24: =IF('예시-기록지'!J7="","",'예시-기록지'!J7) | L24: (인)
B26: =IF('예시-기록지'!D6="","",'예시-기록지'!D6) | H26: 귀 하
A28: 이 시트는 작성 예시입니다.

Sheet 예시-현장대리인선임계
A1: K-건설맵 | k-conmap.com 무료 건설 서식 | G1: 작성 예시 (가상의 현장)
A3: 현 장 대 리 인 선 임 계
A5: 공 사 명 | C5: =IF('예시-기록지'!D12="","",'예시-기록지'!D12) | I5: 공사수량 | K5: =IF('예시-기록지'!J13="","",'예시-기록지'!J13)
A6: 현 장 위 치 | C6: =IF('예시-기록지'!D14="","",'예시-기록지'!D14)
A7: 현장대리인 | C7: 자격 및 등급 | E7: =IF('예시-기록지'!D27="","",'예시-기록지'!D27)
C8: 자 격 번 호 | E8: =IF('예시-기록지'!J27="","",'예시-기록지'!J27)
C9: 주 소 | E9: =IF('예시-기록지'!D28="","",'예시-기록지'!D28)
C10: 생 년 월 일 | E10: =IF(N('예시-기록지'!J26)=0,"",'예시-기록지'!J26)
C11: 성 명 | E11: =IF('예시-기록지'!D26="","",'예시-기록지'!D26)
B13: =IF(OR(N('예시-기록지'!D18)=0,'예시-기록지'!D12="")," 상기자를 년 월 일자 계약한 의 현장대리인으로 선임하고 본인에게 부여된 현장 내의 책임을 대행하도록 하였기에 현장대리인 선임계를 제출합니다."," 상기자를 "&YEAR('예시-기록지'!D18)&"년 "&MONTH('예시-기록지'!D18)&"월 "&DAY('예시-기록지'!D18)&"일자 계약한 «"&'예시-기록지'!D12&"» 의 현장대리인으로 선임하고 본인에게 부여된 현장 내의 책임을 대행하도록 하였기에 현장대리인 선임계를 제출합니다.")
A15: =IF(N('예시-기록지'!G21)=0,"20 년 월 일",'예시-기록지'!G21)
F17: 주 소 | H17: : | I17: =IF('예시-기록지'!D8="","",'예시-기록지'!D8)
F18: 상 호 | H18: : | I18: =IF('예시-기록지'!D7="","",'예시-기록지'!D7)
F19: 법인등록번호 | H19: : | I19: =IF('예시-기록지'!D9="","",'예시-기록지'!D9)
F20: 성 명 | H20: : | I20: =IF('예시-기록지'!J7="","",'예시-기록지'!J7) | L20: (인)
B22: =IF('예시-기록지'!D6="","",'예시-기록지'!D6) | H22: 귀 하
A24: 이 시트는 작성 예시입니다.

Sheet 예시-자격증사본
A1: K-건설맵 | k-conmap.com 무료 건설 서식 | G1: 작성 예시 (가상의 현장)
A3: 자 격 증 사 본
H4: 현장대리인 : | J4: =IF('예시-기록지'!D26="","",'예시-기록지'!D26)
A6: (사본을 여기에 붙이세요)
A37: 원본의 사본 그림(개인 자격증 · 수료증)은 옮기지 않았습니다 — 해당자의 사본을 붙여 쓰세요.

Sheet 예시-착수내역서표지
A1: K-건설맵 | k-conmap.com 무료 건설 서식 | G1: 작성 예시 (가상의 현장)
A3: =IF('예시-기록지'!D12="","",'예시-기록지'!D12)
A5: 착 수 내 역 서
A7: =IF('예시-기록지'!D14="","공사위치 :","공사위치 : "&'예시-기록지'!D14)
G9: 주 소 | I9: : | J9: =IF('예시-기록지'!D8="","",'예시-기록지'!D8)
G10: 상 호 | I10: : | J10: =IF('예시-기록지'!D7="","",'예시-기록지'!D7)
G11: 성 명 | I11: : | J11: =IF('예시-기록지'!J7="","",'예시-기록지'!J7) | L11: (인)
A13: 이 표지 뒤에 착수(착공)내역서를 붙이세요.

Sheet 예시-사업계획서
A1: K-건설맵 | k-conmap.com 무료 건설 서식 | G1: 작성 예시 (가상의 현장)
A3: =IF('예시-기록지'!D12="","",'예시-기록지'!D12)
A5: 사 업 계 획 서
D7: 1. 안전관리계획서
D8: 2. 환경보전 관리계획서
D9: 3. 품질관리계획서
D10: 4. 공정별 인력 투입 계획서
D11: 5. 장비 투입 계획서
A13: =IF(N('예시-기록지'!G21)=0,"20 년 월 일",'예시-기록지'!G21)
F15: 주 소 | H15: : | I15: =IF('예시-기록지'!D8="","",'예시-기록지'!D8)
F16: 상 호 | H16: : | I16: =IF('예시-기록지'!D7="","",'예시-기록지'!D7)
F17: 법인등록번호 | H17: : | I17: =IF('예시-기록지'!D9="","",'예시-기록지'!D9)
F18: 성 명 | H18: : | I18: =IF('예시-기록지'!J7="","",'예시-기록지'!J7) | L18: (인)
A20: 모음 안의 계획서(안전 · 환경 · 품질 · 인력 · 장비) 앞에 붙이는 표지입니다.

Sheet 예시-안전관리자선임계
A1: K-건설맵 | k-conmap.com 무료 건설 서식 | G1: 작성 예시 (가상의 현장)
A3: 안전관리자 선임계
A5: 1. | B5: 공 사 명 | E5: : | F5: =IF('예시-기록지'!D12="","",'예시-기록지'!D12)
A6: 2. | B6: 공 사 금 액 | E6: : | F6: =IF(N('예시-기록지'!D15)=0,"",'예시-기록지'!D15) | K6: =IF(N('예시-기록지'!D15)=0,"",'예시-기록지'!D15)
A7: 3. | B7: 계 약 년 월 일 | E7: : | F7: =IF(N('예시-기록지'!D18)=0,"",'예시-기록지'!D18)
A8: 4. | B8: 착 공 년 월 일 | E8: : | F8: =IF(N('예시-기록지'!D19)=0,"",'예시-기록지'!D19)
A9: 5. | B9: 예정준공년월일 | E9: : | F9: =IF(N('예시-기록지'!J19)=0,"",'예시-기록지'!J19)
B11: 상기 공사의 안전관리자를 아래와 같이 선정하여 보고합니다.
D13: 안전관리자 | F13: : | G13: =IF('예시-기록지'!D29="","",'예시-기록지'!D29)
C15: 붙 임 : 안전관리계획서 1부. 끝.
A17: =IF(N('예시-기록지'!G21)=0,"20 년 월 일",'예시-기록지'!G21)
F19: 주 소 | H19: : | I19: =IF('예시-기록지'!D8="","",'예시-기록지'!D8)
F20: 상 호 | H20: : | I20: =IF('예시-기록지'!D7="","",'예시-기록지'!D7)
F21: 법인등록번호 | H21: : | I21: =IF('예시-기록지'!D9="","",'예시-기록지'!D9)
F22: 성 명 | H22: : | I22: =IF('예시-기록지'!J7="","",'예시-기록지'!J7) | L22: (인)
B24: =IF('예시-기록지'!D6="","",'예시-기록지'!D6) | H24: 귀 하
A26: 이 시트는 작성 예시입니다.

Sheet 예시-교육수료증
A1: K-건설맵 | k-conmap.com 무료 건설 서식 | G1: 작성 예시 (가상의 현장)
A3: 교 육 수 료 증
H4: 해 당 자 : | J4: =IF('예시-기록지'!D29="","",'예시-기록지'!D29)
A6: (교육 수료증 사본을 여기에 붙이세요)
A37: 원본의 사본 그림(개인 자격증 · 수료증)은 옮기지 않았습니다 — 해당자의 사본을 붙여 쓰세요.

Sheet 예시-안전관리계획서
A1: K-건설맵 | k-conmap.com 무료 건설 서식 | G1: 작성 예시 (가상의 현장)
A3: 안 전 관 리 계 획 서
A5: 1. | B5: 공 사 명 | E5: : | F5: =IF('예시-기록지'!D12="","",'예시-기록지'!D12)
A6: 2. | B6: 공 사 금 액 | E6: : | F6: =IF(N('예시-기록지'!D15)=0,"",'예시-기록지'!D15) | K6: =IF(N('예시-기록지'!D15)=0,"",'예시-기록지'!D15)
B7: (변 경) | E7: : | F7: =IF(N('예시-기록지'!J16)=0,"",'예시-기록지'!J16) | K7: =IF(N('예시-기록지'!J16)=0,"",'예시-기록지'!J16)
A8: 3. | B8: 계 약 년 월 일 | E8: : | F8: =IF(N('예시-기록지'!D18)=0,"",'예시-기록지'!D18)
B9: (변 경) | E9: : | F9: =IF(N('예시-기록지'!J18)=0,"",'예시-기록지'!J18)
A10: 4. | B10: 착 공 년 월 일 | E10: : | F10: =IF(N('예시-기록지'!D19)=0,"",'예시-기록지'!D19)
A11: 5. | B11: 예정준공년월일 | E11: : | F11: =IF(N('예시-기록지'!J19)=0,"",'예시-기록지'!J19)
A12: 6. | B12: 공 사 장 소 | E12: : | F12: =IF('예시-기록지'!D14="","",'예시-기록지'!D14)
A13: 7. | B13: 안 전 관 리 자 | E13: : | F13: =IF('예시-기록지'!D29="","",'예시-기록지'!D29)
A15: 위 공사에 대하여 착공일부터 공사 완료 때까지 현장의 안전관리를 최우선으로 하여 시공할 것을 확인하며, 이에 안전관리계획서를 제출합니다.
A16: - 아 래 -
A17: 1. 목 적
A18: 현장에서 근로자의 안전과 보건을 유지 · 증진하고 각종 재해를 미리 예방하여 인적 · 물적 손실을 막거나 피해를 최소화한다.
A19: 2. 안전보건 우선
A20: 모든 작업과 관리에서 안전제일을 원칙으로 하며, 사고 예방을 위하여 안전보건 업무를 최우선으로 한다.
A21: 3. 안전관리자의 직무
A22: 1) | B22: 현장의 안전보건관리 및 산업재해 예방계획 수립
A23: 2) | B23: 근로자 안전보건교육 및 안전보건관리 업무계획 수립 · 시행
A24: 3) | B24: 개인 안전장구 · 보호구 구입 · 지급 및 관리
A25: 4) | B25: 유해 · 위험 기구와 설비 사용 전 안전 여부 확인
A26: 5) | B26: 현장 안전시설물 구입 · 설치 · 관리 · 보수
A27: 6) | B27: 산업안전보건관리비 계상 · 집행 지도 및 관리
A28: 7) | B28: 그 밖의 안전보건에 관한 사항
A29: 4. 안전관리자 선임
A30: 안전관리자는 관계 법령의 자격을 갖춘 사람으로 선임한다.
A31: 5. 안전관리 계획
A32: 1) | B32: 현장 안의 모든 인원(관리자 · 작업자 · 방문객 등)은 안전장구와 보호구(안전모 등)를 반드시 착용한다.
A33: 2) | B33: 안전장구 · 보호구 착용을 거부하면 담당자는 현장 출입을 막을 수 있다.
A34: 3) | B34: 안전보건관리자는 작업 전에 근로자의 안전장구 이상 유무와 안전시설물을 점검 · 보완한다.
A35: 4) | B35: 현장에 위험한 상황이 생기면 즉시 작업을 중지시키고 안전조치를 한다.
A36: 5) | B36: 휴무일이나 작업하지 않는 날(우천 · 양생 등)에는 쉬기 전에 안전시설물을 점검하고 안전조치를 확실히 한다.
A37: 6) | B37: 수시로 근로자에게 안전보건교육을 하여 안전보건과 사고 예방의 중요성을 알린다.
A38: 7) | B38: 장비 · 기계 조작 때는 작업 반경 안에 접근하지 못하게 하고, 위험이 큰 장비는 유도원(신호수)을 지정하여 작업한다.
A39: 8) | B39: 현장에는 구급함 등 구급용구를 늘 갖추어 둔다.
A40: 6. 산업안전보건관리비 사용내역서 작성
A41: 1) | B41: 안전관리자는 작업 진행에 따라 산업안전보건관리비 사용내역을 작성하고, 공사 시작 후 6개월마다 1회 이상(6개월 안에 끝나면 끝날 때) 발주자 또는 감리자의 확인을 받으며, 기성 · 준공 때 사용내역서를 제출한다.
A42: 2) | B42: 산업안전보건관리비는 현행 「건설업 산업안전보건관리비 계상 및 사용기준」(고용노동부 고시)에 따라 쓰고, 이에 따라 사용내역서를 작성한다.
A44: =IF(N('예시-기록지'!G21)=0,"20 년 월 일",'예시-기록지'!G21)
...

Sheet 예시-안전관리비사용계획
A1: K-건설맵 | k-conmap.com 무료 건설 서식 | G1: 작성 예시 (가상의 현장)
A2: (4) 산업안전보건관리비 사용계획
A4: 1. 일 반 사 항
A5: 발 주 처 | D5: =IF('예시-기록지'!D13="","",'예시-기록지'!D13) | H5: 공 사 종 류 | J5: 토목공사
A6: 계상된 안전관리비 | D6: =IF(N('예시-기록지'!D17)=0,"",'예시-기록지'!D17) | H6: 발주자 내역서의 계상액 (대상액 × 별표 1 요율)
A7: 공사금액 내역 | D7: (1) 직접노무비 | H7: 150000000
D8: (2) 재료비 (직접 + 간접) | H8: 22000000
D9: (3) 관급(발주자 제공) 재료비 | H9: =IF(N('예시-기록지'!J15)=0,"",'예시-기록지'!J15)
D10: 대상액 (1) + (2) + (3) | H10: =IF(N(H7)+N(H8)+N(H9)=0,"",N(H7)+N(H8)+N(H9))
D11: (4) 기 타 | H11: =IF(OR(H10="",N('예시-기록지'!D16)=0),"",'예시-기록지'!D16-H10)
D12: 합 계 (공사금액) | H12: =IF(N('예시-기록지'!D16)=0,"",'예시-기록지'!D16)
A13: 적용 요율 (참고) | D13: =IF(OR(H10="",N(D6)=0),"",D6/H10) | H13: 계상액 ÷ 대상액 — 별표 1 의 요율과 대조해 보세요
A15: 2. 항 목 별 실 행 계 획
A16: 항 목 | G16: 금 액 | I16: 비 율 | J16: 비 고
A17: 1. 안전관리자 · 보건관리자의 임금 등 | G17: 1800000 | I17: =IF(OR(N(G17)=0,G27=""),"",G17/G27) | J17: 재해예방 전담 신호수 12인·일
A18: 2. 안전시설비 등 | G18: 1650000 | I18: =IF(OR(N(G18)=0,G27=""),"",G18/G27) | J18: 안전난간 · 추락방호망
A19: (그중 스마트 안전장비 — 2 - 나)
A20: 3. 보호구 등 | G20: 1420000 | I20: =IF(OR(N(G20)=0,G27=""),"",G20/G27) | J20: 안전모 · 안전화 · 보호장갑
A21: 4. 안전보건진단비 등 | I21: =IF(OR(N(G21)=0,G27=""),"",G21/G27)
A22: 5. 안전보건교육비 등 | G22: 450000 | I22: =IF(OR(N(G22)=0,G27=""),"",G22/G27) | J22: 교육장 · 안전기원제
A23: 6. 근로자 건강장해예방비 등 | G23: 380000 | I23: =IF(OR(N(G23)=0,G27=""),"",G23/G27) | J23: 구급함 · 온열질환 예방
A24: 7. 건설재해예방전문지도기관 지도 대가 | I24: =IF(OR(N(G24)=0,G27=""),"",G24/G27)
A25: 8. 본사 전담조직 근로자 임금 등 | I25: =IF(OR(N(G25)=0,G27=""),"",G25/G27)
A26: 9. 위험성평가 등에 따른 개선비 | I26: =IF(OR(N(G26)=0,G27=""),"",G26/G27)
A27: 총 계 | G27: =IF(SUM(G17,G18,G20,G21,G22,G23,G24,G25,G26)=0,"",SUM(G17,G18,G20,G21,G22,G23,G24,G25,G26)) | I27: =IF(G27="","",1)
A28: 계상액과의 차이 (총계 − 계상액) | G28: =IF(OR(G27="",N(D6)=0),"",G27-D6)
A29: =IF(G28="","",IF(G28>=0,"✔ 실행계획 총계가 계상액 이상입니다 (실행예산은 계상된 총액 이상 편성 — 고시 제10조제1항).","⚠ 실행계획 총계가 계상액보다 적습니다 — 실행예산은 계상된 총액 이상으로 편성해야 합니다(고시 제10조제1항)."))
A30: =IF(OR(N(D6)=0,G27=""),"",IF((IF(N(G19)>D6*0.2,"스마트 안전장비 ","")&IF(N(G25)>D6*0.05,"본사 전담조직 ","")&IF(N(G26)>D6*0.15,"위험성평가 개선 ",""))="","✔ 한도 항목(스마트 안전장비 10분의 2 · 본사 전담조직 20분의 1 · 위험성평가 개선 100분의 15) 모두 한도 안입니다.","⚠ 한도 초과 : "&IF(N(G19)>D6*0.2,"스마트 안전장비 ","")&IF(N(G25)>D6*0.05,"본사 전담조직 ","")&IF(N(G26)>D6*0.15,"위험성평가 개선 ","")))
A32: 이 시트는 작성 예시입니다(가상의 금액).

Sheet 예시-환경관리자선임계
A1: K-건설맵 | k-conmap.com 무료 건설 서식 | G1: 작성 예시 (가상의 현장)
A3: 환경관리자 선임계
A5: 1. | B5: 공 사 명 | E5: : | F5: =IF('예시-기록지'!D12="","",'예시-기록지'!D12)
A6: 2. | B6: 공 사 금 액 | E6: : | F6: =IF(N('예시-기록지'!D15)=0,"",'예시-기록지'!D15) | K6: =IF(N('예시-기록지'!D15)=0,"",'예시-기록지'!D15)
A7: 3. | B7: 계 약 년 월 일 | E7: : | F7: =IF(N('예시-기록지'!D18)=0,"",'예시-기록지'!D18)
A8: 4. | B8: 착 공 년 월 일 | E8: : | F8: =IF(N('예시-기록지'!D19)=0,"",'예시-기록지'!D19)
A9: 5. | B9: 예정준공년월일 | E9: : | F9: =IF(N('예시-기록지'!J19)=0,"",'예시-기록지'!J19)
B11: 상기 공사의 환경관리자를 아래와 같이 선정하여 보고합니다.
D13: 환경관리자 | F13: : | G13: =IF('예시-기록지'!J29="","",'예시-기록지'!J29)
C15: 붙 임 : 환경관리계획서 1부. 끝.
A17: =IF(N('예시-기록지'!G21)=0,"20 년 월 일",'예시-기록지'!G21)
F19: 주 소 | H19: : | I19: =IF('예시-기록지'!D8="","",'예시-기록지'!D8)
F20: 상 호 | H20: : | I20: =IF('예시-기록지'!D7="","",'예시-기록지'!D7)
F21: 법인등록번호 | H21: : | I21: =IF('예시-기록지'!D9="","",'예시-기록지'!D9)
F22: 성 명 | H22: : | I22: =IF('예시-기록지'!J7="","",'예시-기록지'!J7) | L22: (인)
B24: =IF('예시-기록지'!D6="","",'예시-기록지'!D6) | H24: 귀 하
A26: 이 시트는 작성 예시입니다.

Sheet 예시-환경관리계획서
A1: K-건설맵 | k-conmap.com 무료 건설 서식 | G1: 작성 예시 (가상의 현장)
A3: 환 경 관 리 계 획 서
A5: 1. | B5: 공 사 명 | E5: : | F5: =IF('예시-기록지'!D12="","",'예시-기록지'!D12)
A6: 2. | B6: 공 사 금 액 | E6: : | F6: =IF(N('예시-기록지'!D15)=0,"",'예시-기록지'!D15) | K6: =IF(N('예시-기록지'!D15)=0,"",'예시-기록지'!D15)
B7: (변 경) | E7: : | F7: =IF(N('예시-기록지'!J16)=0,"",'예시-기록지'!J16) | K7: =IF(N('예시-기록지'!J16)=0,"",'예시-기록지'!J16)
A8: 3. | B8: 계 약 년 월 일 | E8: : | F8: =IF(N('예시-기록지'!D18)=0,"",'예시-기록지'!D18)
B9: (변 경) | E9: : | F9: =IF(N('예시-기록지'!J18)=0,"",'예시-기록지'!J18)
A10: 4. | B10: 착 공 년 월 일 | E10: : | F10: =IF(N('예시-기록지'!D19)=0,"",'예시-기록지'!D19)
A11: 5. | B11: 예정준공년월일 | E11: : | F11: =IF(N('예시-기록지'!J19)=0,"",'예시-기록지'!J19)
A12: 6. | B12: 공 사 장 소 | E12: : | F12: =IF('예시-기록지'!D14="","",'예시-기록지'!D14)
A13: 7. | B13: 환 경 관 리 자 | E13: : | F13: =IF('예시-기록지'!J29="","",'예시-기록지'!J29)
A15: 위 공사에 대하여 착공일부터 공사 완료 때까지 현장의 환경관리를 안전관리와 같은 수준으로 처리할 것을 확인하며, 이에 환경관리계획서를 제출합니다.
A16: - 아 래 -
A17: 1. 목 적
A18: 공사 작업으로 인한 환경 피해를 최소화하고 근로자에게 쾌적한 근로 여건을 보장하여 작업 능률을 높이며, 환경보전에 이바지한다.
A19: 2. 환경관리 우선
A20: 모든 작업과 관리에서 환경관리를 안전관리와 더불어 같은 수준으로 처리한다.
A21: 3. 환경관리자의 직무
A22: 1) | B22: 현장의 환경관리계획 수립 · 실행
A23: 2) | B23: 환경관리비 산출 및 관련 비용 집행
A24: 3) | B24: 근로자 환경관리 교육
A25: 4) | B25: 환경오염 물질 발생 억제와 적법 처리
A26: 5) | B26: 환경오염 방지시설의 적정 설치 · 관리 · 보수
A27: 6) | B27: 그 밖의 환경관리 사항
A28: 4. 환경관리자 선임
A29: 환경관리자는 현장에서 자격을 갖춘 사람으로 선임한다.
A30: 5. 환경관리 계획
A31: 1) | B31: 작업 중 비산먼지가 최소가 되도록 살수 · 덮개 설치 · 잔토 처리 등의 대책을 세우고 알맞게 조치한다(「대기환경보전법」).
A32: 2) | B32: 작업장 정리정돈을 철저히 한다.
A33: 3) | B33: 공사로 생기는 폐기물의 양을 최소화하고, 수집 · 처리는 허가받은 업체에 맡겨 정해진 방법으로 처리한다(현장 소각 금지).
A34: 4) | B34: 흙탕물 · 세척수 등 수질오염은 침사 · 차단 시설로 막는다(「물환경보전법」).
A35: 5) | B35: 작업 중 소음 · 진동 억제 대책을 세우고 알맞게 조치한다(「소음 · 진동관리법」).
A36: 6) | B36: 수시로 근로자에게 환경오염 예방 방법을 교육하여 환경보전의 필요성을 알린다.
A37: 7) | B37: 그 밖에 현장의 환경오염을 막는 데 필요한 방법을 찾아 시행한다.
A38: 6. 환경관리비(환경보전비) 사용계획 · 내역서
A39: 환경관리자는 환경관리비 사용계획을 환경오염 방지시설을 처음 설치하기 전까지 발주자에게 제출하고(건설기술 진흥법 시행규칙 제61조), 작업 진행에 따라 사용내역을 작성하여 기성 · 준공 때 발주자에게 제출한다.
A41: =IF(N('예시-기록지'!G21)=0,"20 년 월 일",'예시-기록지'!G21)
F43: 주 소 | H43: : | I43: =IF('예시-기록지'!D8="","",'예시-기록지'!D8)
F44: 상 호 | H44: : | I44: =IF('예시-기록지'!D7="","",'예시-기록지'!D7)
F45: 법인등록번호 | H45: : | I45: =IF('예시-기록지'!D9="","",'예시-기록지'!D9)
...

Sheet 예시-환경보전비사용계획
A1: K-건설맵 | k-conmap.com 무료 건설 서식 | G1: 작성 예시 (가상의 현장)
A2: (1) 환경보전비 사용계획
A3: 1. 일 반 사 항
A4: 발 주 처 | D4: =IF('예시-기록지'!D13="","",'예시-기록지'!D13) | G4: 공 사 종 류 | I4: 그 밖의 토목공사
A5: 계상된 환경보전비 | D5: =IF(N('예시-기록지'!J17)=0,"",'예시-기록지'!J17) | G5: 최 저 요 율 | I5: =IF(I4="","",IFERROR(INDEX(H27:H39,MATCH(I4,B27:B39,0)),"⚠ 종류를 목록에서 고르세요"))
A6: 직접공사비 내역 | D6: (1) 직접노무비 | H6: =IF(N('예시-안전관리비사용계획'!H7)=0,"",'예시-안전관리비사용계획'!H7)
D7: (2) 재 료 비 | H7: =IF(N('예시-안전관리비사용계획'!H8)=0,"",'예시-안전관리비사용계획'!H8)
D8: (3) 산 출 경 비 | H8: 37000000
D9: 직접공사비 (1) + (2) + (3) | H9: =IF(N(H6)+N(H7)+N(H8)=0,"",N(H6)+N(H7)+N(H8))
A10: 최저 계상액 | D10: =IF(OR(H9="",NOT(ISNUMBER(I5))),"",H9*I5) | G10: 직접공사비 × 최저요율 (간접공사비 반영분의 최저 기준)
A11: =IF(OR(D10="",N(D5)=0),"",IF(D5>=D10,"✔ 계상액이 최저 기준(직접공사비 × 최저요율) 이상입니다.","⚠ 계상액이 최저 기준보다 적습니다 — 발주자와 협의하세요."))
A12: ※ 직접노무비 · 재료비는 «안전관리비사용계획» 시트에서 따라옵니다. 최저요율은 간접공사비에 반영하는 환경보전비의 최저 기준입니다.
A14: 2. 항 목 별 실 행 계 획
A15: 항 목 | G15: 금 액 | I15: 비 율 | J15: 비 고
A16: 1. 환경오염 방지시설 설치 및 운영 비용 등 | G16: 1200000 | I16: =IF(OR(N(G16)=0,G23=""),"",G16/G23) | J16: 살수 · 방진덮개
A17: 2. 폐기물의 처리 및 재활용 비용 | I17: =IF(OR(N(G17)=0,G23=""),"",G17/G23)
A18: 3. 환경 계측 비용 | I18: =IF(OR(N(G18)=0,G23=""),"",G18/G23)
A19: 4. 환경교육 · 훈련 비용 | G19: 200000 | I19: =IF(OR(N(G19)=0,G23=""),"",G19/G23)
A20: 5. 현장 환경정리 비용 | G20: 600000 | I20: =IF(OR(N(G20)=0,G23=""),"",G20/G23) | J20: 현장 정리
A21: 6. 환경자료 및 홍보물 구입 비용 | I21: =IF(OR(N(G21)=0,G23=""),"",G21/G23)
A22: 7. 환경기술인 및 환경 관련 인건비 | I22: =IF(OR(N(G22)=0,G23=""),"",G22/G23)
A23: 총 계 | G23: =IF(SUM(G16:G22)=0,"",SUM(G16:G22)) | I23: =IF(G23="","",1)
A24: 계상액과의 차이 (총계 − 계상액) | G24: =IF(OR(G23="",N(D5)=0),"",G23-D5)
A26: 최저요율표 (건설기술 진흥법 시행규칙 [별표 8] — 간접공사비에 반영하는 환경보전비)
B27: 도로 | H27: 0.009
B28: 플랜트 | H28: 0.004
B29: 지하철 | H29: 0.005
B30: 철도 | H30: 0.015
B31: 상하수도 | H31: 0.005
B32: 항만 | H32: 0.008
B33: 항만(수질오염방지막 · 준설토방지막 설치) | H33: 0.018
B34: 댐 | H34: 0.011
B35: 택지개발 | H35: 0.006
B36: 그 밖의 토목공사 | H36: 0.008
B37: 주택(재개발 및 재건축) | H37: 0.007
B38: 주택(신축) | H38: 0.003
B39: 그 밖의 건축공사 | H39: 0.005
A41: 이 시트는 작성 예시입니다(가상의 금액).

Sheet 예시-품질관리자선임계
A1: K-건설맵 | k-conmap.com 무료 건설 서식 | G1: 작성 예시 (가상의 현장)
A3: 품질관리자 선임계
A5: 1. | B5: 공 사 명 | E5: : | F5: =IF('예시-기록지'!D12="","",'예시-기록지'!D12)
A6: 2. | B6: 공 사 금 액 | E6: : | F6: =IF(N('예시-기록지'!D15)=0,"",'예시-기록지'!D15) | K6: =IF(N('예시-기록지'!D15)=0,"",'예시-기록지'!D15)
A7: 3. | B7: 계 약 년 월 일 | E7: : | F7: =IF(N('예시-기록지'!D18)=0,"",'예시-기록지'!D18)
A8: 4. | B8: 착 공 년 월 일 | E8: : | F8: =IF(N('예시-기록지'!D19)=0,"",'예시-기록지'!D19)
A9: 5. | B9: 예정준공년월일 | E9: : | F9: =IF(N('예시-기록지'!J19)=0,"",'예시-기록지'!J19)
B11: 상기 공사의 품질관리자를 아래와 같이 선정하여 보고합니다.
D13: 품질관리자 | F13: : | G13: =IF('예시-기록지'!D30="","",'예시-기록지'!D30)
C15: 붙 임 : 품질관리계획서 1부. 끝.
A17: =IF(N('예시-기록지'!G21)=0,"20 년 월 일",'예시-기록지'!G21)
F19: 주 소 | H19: : | I19: =IF('예시-기록지'!D8="","",'예시-기록지'!D8)
F20: 상 호 | H20: : | I20: =IF('예시-기록지'!D7="","",'예시-기록지'!D7)
F21: 법인등록번호 | H21: : | I21: =IF('예시-기록지'!D9="","",'예시-기록지'!D9)
F22: 성 명 | H22: : | I22: =IF('예시-기록지'!J7="","",'예시-기록지'!J7) | L22: (인)
B24: =IF('예시-기록지'!D6="","",'예시-기록지'!D6) | H24: 귀 하
A26: 이 시트는 작성 예시입니다.

Sheet 예시-품질관리계획서
A1: K-건설맵 | k-conmap.com 무료 건설 서식 | G1: 작성 예시 (가상의 현장)
A3: 품 질 관 리 계 획 서
A5: 1. | B5: 공 사 명 | E5: : | F5: =IF('예시-기록지'!D12="","",'예시-기록지'!D12)
A6: 2. | B6: 공 사 금 액 | E6: : | F6: =IF(N('예시-기록지'!D15)=0,"",'예시-기록지'!D15) | K6: =IF(N('예시-기록지'!D15)=0,"",'예시-기록지'!D15)
B7: (변 경) | E7: : | F7: =IF(N('예시-기록지'!J16)=0,"",'예시-기록지'!J16) | K7: =IF(N('예시-기록지'!J16)=0,"",'예시-기록지'!J16)
A8: 3. | B8: 계 약 년 월 일 | E8: : | F8: =IF(N('예시-기록지'!D18)=0,"",'예시-기록지'!D18)
B9: (변 경) | E9: : | F9: =IF(N('예시-기록지'!J18)=0,"",'예시-기록지'!J18)
A10: 4. | B10: 착 공 년 월 일 | E10: : | F10: =IF(N('예시-기록지'!D19)=0,"",'예시-기록지'!D19)
A11: 5. | B11: 예정준공년월일 | E11: : | F11: =IF(N('예시-기록지'!J19)=0,"",'예시-기록지'!J19)
A12: 6. | B12: 공 사 장 소 | E12: : | F12: =IF('예시-기록지'!D14="","",'예시-기록지'!D14)
A13: 7. | B13: 품 질 관 리 자 | E13: : | F13: =IF('예시-기록지'!D30="","",'예시-기록지'!D30)
A15: 위 공사에 대하여 착공일부터 공사 완료 때까지 현장의 품질관리를 발주처의 설계도서 및 시방서 기준에 따라 처리할 것을 확인하며, 이에 품질관리계획서를 제출합니다.
A16: - 아 래 -
A17: 1. 목 적
A18: 공사에 참여하는 작업자는 전문 분야의 능력을 발휘하여 좋은 품질을 완성하기 위한 모든 노력을 다한다.
A19: 2. 품질관리 우선
A20: 모든 작업과 관리에서 품질관리를 안전관리와 더불어 같은 수준으로 처리한다.
A21: 3. 품질관리자의 직무
A22: 1) | B22: 현장의 품질관리계획 수립 · 실행
A23: 2) | B23: 모든 공종에서 좋은 품질을 완성하기 위한 관리 · 확인
A24: 4. 품질관리자 선임
A25: 품질관리자는 현장에서 자격을 갖춘 사람으로 선임한다.
A26: 5. 품질관리 계획
A27: 1) | B27: 모든 공정을 시공하면서 참여자는 전문 능력을 발휘하여 발주처의 설계도서 및 시방서 기준에 따라 모든 공종의 품질을 완성하고 보장한다.
A28: 2) | B28: 품질관리 업무 참여자는 알맞은 자격을 갖추고 맡은 업무를 원활히 수행할 능력이 있음을 보장한다.
A29: 3) | B29: 현장에 쓰는 자재는 한국산업표준(KS) 표시 제품, 품질검사 전문기관의 시험성적서가 있는 재료, 관계 법령에 따라 품질검사를 받았거나 품질인증을 받은 재료로 시공한다.
A30: 4) | B30: 이 품질관리 목적을 충분히 이행하고 유지하도록 힘쓴다.
A32: =IF(N('예시-기록지'!G21)=0,"20 년 월 일",'예시-기록지'!G21)
F34: 주 소 | H34: : | I34: =IF('예시-기록지'!D8="","",'예시-기록지'!D8)
F35: 상 호 | H35: : | I35: =IF('예시-기록지'!D7="","",'예시-기록지'!D7)
F36: 법인등록번호 | H36: : | I36: =IF('예시-기록지'!D9="","",'예시-기록지'!D9)
F37: 성 명 | H37: : | I37: =IF('예시-기록지'!J7="","",'예시-기록지'!J7) | L37: (인)
B39: =IF('예시-기록지'!D6="","",'예시-기록지'!D6) | H39: 귀 하
A41: 이 시트는 작성 예시입니다.

Sheet 예시-예정공정표
A1: K-건설맵 | k-conmap.com 무료 건설 서식 | I1: 작성 예시 (가상의 현장)
A2: 공 사 예 정 공 정 표
A3: 공 사 명 : | B3: =IF('예시-기록지'!D12="","",'예시-기록지'!D12) | K3: 한 칸 = (일) | N3: 5
A4: 공 정 별 | B4: 시작 일차 | C4: 종료 일차 | D4: =IF(N('예시-기록지'!D20)=0,"착 공 일 로 부 터 일 간","착 공 일 로 부 터 "&'예시-기록지'!D20&" 일 간") | P4: 비 고
D5: =IF(N(N3)=0,"",1*N3) | E5: =IF(N(N3)=0,"",2*N3) | F5: =IF(N(N3)=0,"",3*N3) | G5: =IF(N(N3)=0,"",4*N3) | H5: =IF(N(N3)=0,"",5*N3) | I5: =IF(N(N3)=0,"",6*N3) | J5: =IF(N(N3)=0,"",7*N3) | K5: =IF(N(N3)=0,"",8*N3) | L5: =IF(N(N3)=0,"",9*N3) | M5: =IF(N(N3)=0,"",10*N3) | N5: =IF(N(N3)=0,"",11*N3) | O5: =IF(N(N3)=0,"",12*N3)
A6: 1. 공사준비 | B6: 1 | C6: 5
A7: 2. 벌목 | B7: 4 | C7: 30
A8: 3. 집재 | B8: 10 | C8: 38
A9: 4. 집적 | B9: 15 | C9: 42
A10: 5. 예정지 정리작업 | B10: 35 | C10: 52
A11: 6. 임산물 운반로 개설 | B11: 6 | C11: 20
A15: ※ 공정마다 시작 · 종료 일차(착공일 = 1일차)를 적으면 막대가 그려집니다. 종료 일차는 공사일수 안에 들게 적으세요.
A17: 상기와 같이 예정공정표를 제출합니다.
A18: =IF(N('예시-기록지'!G21)=0,"20 년 월 일",'예시-기록지'!G21)
G19: 주 소 | I19: : | J19: =IF('예시-기록지'!D8="","",'예시-기록지'!D8)
G20: 상 호 | I20: : | J20: =IF('예시-기록지'!D7="","",'예시-기록지'!D7)
G21: 법인등록번호 | I21: : | J21: =IF('예시-기록지'!D9="","",'예시-기록지'!D9)
G22: 성 명 | I22: : | J22: =IF('예시-기록지'!J7="","",'예시-기록지'!J7) | O22: (인)
C23: =IF('예시-기록지'!D6="","",'예시-기록지'!D6) | I23: 귀 하
A25: 이 시트는 작성 예시입니다(가상의 일정).

Sheet 예시-동원인력계획
A1: K-건설맵 | k-conmap.com 무료 건설 서식 | I1: 작성 예시 (가상의 현장)
A2: 공 정 별 인 력 투 입 계 획
A3: 공 사 명 : | B3: =IF('예시-기록지'!D12="","",'예시-기록지'!D12) | L3: 착수년월일 : | N3: =IF(N('예시-기록지'!D19)=0,"",'예시-기록지'!D19)
A4: 공 사 금 액 : | B4: =IF(N('예시-기록지'!D15)=0,"",'예시-기록지'!D15) | I4: =IF(N('예시-기록지'!D15)=0,"",'예시-기록지'!D15) | L4: 완료년월일 : | N4: =IF(N('예시-기록지'!J19)=0,"",'예시-기록지'!J19)
A5: 구 분 ╲ 공 기 | B5: 계획 계 (인) | C5: =IF(N('예시-기록지'!D20)=0,"공기 일 (한 칸 = 예정공정표의 칸 단위)","공기 "&'예시-기록지'!D20&"일 (한 칸 = "&'예시-예정공정표'!N3&"일)") | O5: 설계 인원 | P5: 차 이 (설계−계획) | Q5: 비 고
C6: =IF(N('예시-예정공정표'!N3)=0,"",1*'예시-예정공정표'!N3) | D6: =IF(N('예시-예정공정표'!N3)=0,"",2*'예시-예정공정표'!N3) | E6: =IF(N('예시-예정공정표'!N3)=0,"",3*'예시-예정공정표'!N3) | F6: =IF(N('예시-예정공정표'!N3)=0,"",4*'예시-예정공정표'!N3) | G6: =IF(N('예시-예정공정표'!N3)=0,"",5*'예시-예정공정표'!N3) | H6: =IF(N('예시-예정공정표'!N3)=0,"",6*'예시-예정공정표'!N3) | I6: =IF(N('예시-예정공정표'!N3)=0,"",7*'예시-예정공정표'!N3) | J6: =IF(N('예시-예정공정표'!N3)=0,"",8*'예시-예정공정표'!N3) | K6: =IF(N('예시-예정공정표'!N3)=0,"",9*'예시-예정공정표'!N3) | L6: =IF(N('예시-예정공정표'!N3)=0,"",10*'예시-예정공정표'!N3) | M6: =IF(N('예시-예정공정표'!N3)=0,"",11*'예시-예정공정표'!N3) | N6: =IF(N('예시-예정공정표'!N3)=0,"",12*'예시-예정공정표'!N3)
A7: 보통인부 | B7: =IF(SUM(C7:N7)=0,"",SUM(C7:N7)) | C7: 10 | D7: 15 | E7: 15 | F7: 15 | G7: 15 | H7: 15 | I7: 15 | J7: 15 | K7: 15 | L7: 10 | M7: 5 | O7: 150 | P7: =IF(N(O7)=0,"",N(O7)-N(B7))
A8: 벌목공 | B8: =IF(SUM(C8:N8)=0,"",SUM(C8:N8)) | D8: 5 | E8: 5 | F8: 5 | G8: 5 | H8: 5 | I8: 3 | O8: 31 | P8: =IF(N(O8)=0,"",N(O8)-N(B8))
A9: 임업기계 운전원 | B9: =IF(SUM(C9:N9)=0,"",SUM(C9:N9)) | D9: 2 | E9: 4 | F9: 4 | G9: 4 | H9: 4 | I9: 4 | J9: 4 | K9: 2 | O9: 30 | P9: =IF(N(O9)=0,"",N(O9)-N(B9))
A10: 기타기술인부 | B10: =IF(SUM(C10:N10)=0,"",SUM(C10:N10)) | C10: 2 | D10: 2 | E10: 2 | F10: 2 | G10: 2 | H10: 2 | I10: 2 | J10: 2 | K10: 2 | L10: 2 | M10: 2 | N10: 1 | O10: 25 | P10: =IF(N(O10)=0,"",N(O10)-N(B10))
B11: =IF(SUM(C11:N11)=0,"",SUM(C11:N11)) | P11: =IF(N(O11)=0,"",N(O11)-N(B11))
B12: =IF(SUM(C12:N12)=0,"",SUM(C12:N12)) | P12: =IF(N(O12)=0,"",N(O12)-N(B12))
A13: 계 | B13: =IF(SUM(B7,B8,B9,B10,B11,B12)=0,"",SUM(B7,B8,B9,B10,B11,B12)) | C13: =IF(SUM(C7,C8,C9,C10,C11,C12)=0,"",SUM(C7,C8,C9,C10,C11,C12)) | D13: =IF(SUM(D7,D8,D9,D10,D11,D12)=0,"",SUM(D7,D8,D9,D10,D11,D12)) | E13: =IF(SUM(E7,E8,E9,E10,E11,E12)=0,"",SUM(E7,E8,E9,E10,E11,E12)) | F13: =IF(SUM(F7,F8,F9,F10,F11,F12)=0,"",SUM(F7,F8,F9,F10,F11,F12)) | G13: =IF(SUM(G7,G8,G9,G10,G11,G12)=0,"",SUM(G7,G8,G9,G10,G11,G12)) | H13: =IF(SUM(H7,H8,H9,H10,H11,H12)=0,"",SUM(H7,H8,H9,H10,H11,H12)) | I13: =IF(SUM(I7,I8,I9,I10,I11,I12)=0,"",SUM(I7,I8,I9,I10,I11,I12)) | ... O13: =IF(SUM(O7,O8,O9,O10,O11,O12)=0,"",SUM(O7,O8,O9,O10,O11,O12)) | P13: =IF(O13="","",O13-N(B13))
A14: ※ 칸마다 그 기간에 투입할 연인원(인 · 일)을 적으세요. 계획 계와 설계 인원의 차이가 저절로 나옵니다(음수 = 설계 초과, 빨간 글씨).
A16: 상기와 같이 동원인력계획표를 제출합니다.
A17: =IF(N('예시-기록지'!G21)=0,"20 년 월 일",'예시-기록지'!G21)
H18: 주 소 | J18: : | K18: =IF('예시-기록지'!D8="","",'예시-기록지'!D8)
H19: 상 호 | J19: : | K19: =IF('예시-기록지'!D7="","",'예시-기록지'!D7)
H20: 법인등록번호 | J20: : | K20: =IF('예시-기록지'!D9="","",'예시-기록지'!D9)
H21: 성 명 | J21: : | K21: =IF('예시-기록지'!J7="","",'예시-기록지'!J7) | P21: (인)
C22: =IF('예시-기록지'!D6="","",'예시-기록지'!D6) | I22: 귀 하
A24: 이 시트는 작성 예시입니다(가상의 투입 계획).

Sheet 예시-장비동원계획
A1: K-건설맵 | k-conmap.com 무료 건설 서식 | I1: 작성 예시 (가상의 현장)
A2: 장 비 동 원 계 획 표
A3: 공 사 명 : | B3: =IF('예시-기록지'!D12="","",'예시-기록지'!D12) | L3: 착수년월일 : | N3: =IF(N('예시-기록지'!D19)=0,"",'예시-기록지'!D19)
A4: 공 사 금 액 : | B4: =IF(N('예시-기록지'!D15)=0,"",'예시-기록지'!D15) | I4: =IF(N('예시-기록지'!D15)=0,"",'예시-기록지'!D15) | L4: 완료년월일 : | N4: =IF(N('예시-기록지'!J19)=0,"",'예시-기록지'!J19)
A5: 구 분 ╲ 공 기 | B5: 계획 계 (시간) | C5: =IF(N('예시-기록지'!D20)=0,"공기 일 (한 칸 = 예정공정표의 칸 단위)","공기 "&'예시-기록지'!D20&"일 (한 칸 = "&'예시-예정공정표'!N3&"일)") | O5: 설계 시간 | P5: 차 이 (설계−계획) | Q5: 비 고
C6: =IF(N('예시-예정공정표'!N3)=0,"",1*'예시-예정공정표'!N3) | D6: =IF(N('예시-예정공정표'!N3)=0,"",2*'예시-예정공정표'!N3) | E6: =IF(N('예시-예정공정표'!N3)=0,"",3*'예시-예정공정표'!N3) | F6: =IF(N('예시-예정공정표'!N3)=0,"",4*'예시-예정공정표'!N3) | G6: =IF(N('예시-예정공정표'!N3)=0,"",5*'예시-예정공정표'!N3) | H6: =IF(N('예시-예정공정표'!N3)=0,"",6*'예시-예정공정표'!N3) | I6: =IF(N('예시-예정공정표'!N3)=0,"",7*'예시-예정공정표'!N3) | J6: =IF(N('예시-예정공정표'!N3)=0,"",8*'예시-예정공정표'!N3) | K6: =IF(N('예시-예정공정표'!N3)=0,"",9*'예시-예정공정표'!N3) | L6: =IF(N('예시-예정공정표'!N3)=0,"",10*'예시-예정공정표'!N3) | M6: =IF(N('예시-예정공정표'!N3)=0,"",11*'예시-예정공정표'!N3) | N6: =IF(N('예시-예정공정표'!N3)=0,"",12*'예시-예정공정표'!N3)
A7: 굴삭기 0.2㎥ | B7: =IF(SUM(C7:N7)=0,"",SUM(C7:N7)) | D7: 8 | E7: 24 | F7: 24 | G7: 24 | H7: 24 | I7: 24 | J7: 24 | K7: 24 | L7: 16 | M7: 8 | O7: 210 | P7: =IF(N(O7)=0,"",N(O7)-N(B7))
A8: 굴삭기 0.6㎥ | B8: =IF(SUM(C8:N8)=0,"",SUM(C8:N8)) | D8: 16 | E8: 16 | F8: 16 | G8: 16 | H8: 8 | O8: 80 | P8: =IF(N(O8)=0,"",N(O8)-N(B8))
A9: 덤프트럭(24ton) | B9: =IF(SUM(C9:N9)=0,"",SUM(C9:N9)) | F9: 8 | G9: 8 | H9: 8 | I9: 8 | J9: 8 | K9: 8 | O9: 50 | P9: =IF(N(O9)=0,"",N(O9)-N(B9))
A10: 덤프트럭(15ton) | B10: =IF(SUM(C10:N10)=0,"",SUM(C10:N10)) | G10: 8 | H10: 8 | I10: 8 | J10: 8 | K10: 8 | L10: 8 | O10: 48 | P10: =IF(N(O10)=0,"",N(O10)-N(B10))
B11: =IF(SUM(C11:N11)=0,"",SUM(C11:N11)) | P11: =IF(N(O11)=0,"",N(O11)-N(B11))
B12: =IF(SUM(C12:N12)=0,"",SUM(C12:N12)) | P12: =IF(N(O12)=0,"",N(O12)-N(B12))
A13: 계 | B13: =IF(SUM(B7,B8,B9,B10,B11,B12)=0,"",SUM(B7,B8,B9,B10,B11,B12)) | C13: =IF(SUM(C7,C8,C9,C10,C11,C12)=0,"",SUM(C7,C8,C9,C10,C11,C12)) | D13: =IF(SUM(D7,D8,D9,D10,D11,D12)=0,"",SUM(D7,D8,D9,D10,D11,D12)) | E13: =IF(SUM(E7,E8,E9,E10,E11,E12)=0,"",SUM(E7,E8,E9,E10,E11,E12)) | F13: =IF(SUM(F7,F8,F9,F10,F11,F12)=0,"",SUM(F7,F8,F9,F10,F11,F12)) | G13: =IF(SUM(G7,G8,G9,G10,G11,G12)=0,"",SUM(G7,G8,G9,G10,G11,G12)) | H13: =IF(SUM(H7,H8,H9,H10,H11,H12)=0,"",SUM(H7,H8,H9,H10,H11,H12)) | I13: =IF(SUM(I7,I8,I9,I10,I11,I12)=0,"",SUM(I7,I8,I9,I10,I11,I12)) | ... O13: =IF(SUM(O7,O8,O9,O10,O11,O12)=0,"",SUM(O7,O8,O9,O10,O11,O12)) | P13: =IF(O13="","",O13-N(B13))
A14: ※ 칸마다 그 기간에 투입할 장비 사용 시간을 적으세요. 계획 계와 설계 시간의 차이가 저절로 나옵니다(음수 = 설계 초과, 빨간 글씨).
A16: 상기와 같이 장비동원계획표를 제출합니다.
A17: =IF(N('예시-기록지'!G21)=0,"20 년 월 일",'예시-기록지'!G21)
H18: 주 소 | J18: : | K18: =IF('예시-기록지'!D8="","",'예시-기록지'!D8)
H19: 상 호 | J19: : | K19: =IF('예시-기록지'!D7="","",'예시-기록지'!D7)
H20: 법인등록번호 | J20: : | K20: =IF('예시-기록지'!D9="","",'예시-기록지'!D9)
H21: 성 명 | J21: : | K21: =IF('예시-기록지'!J7="","",'예시-기록지'!J7) | P21: (인)
C22: =IF('예시-기록지'!D6="","",'예시-기록지'!D6) | I22: 귀 하
A24: 이 시트는 작성 예시입니다(가상의 투입 계획).

Sheet 예시-착공전사진
A1: K-건설맵 | k-conmap.com 무료 건설 서식 | G1: 작성 예시 (가상의 현장)
A2: 착 공 전 사 진
A3: 공 사 명 : | C3: =IF('예시-기록지'!D12="","",'예시-기록지'!D12)
A4: 위 치 : | C4: =IF('예시-기록지'!D14="","",'예시-기록지'!D14)
A5: (사진)
A14: 위치 · 내용 | C14: 1호지 착공 전 전경 | I14: 촬 영 일 | K14: 46086
A16: (사진)
A25: 위치 · 내용 | C25: 2호지 착공 전 전경 | I25: 촬 영 일 | K25: 46086
A27: (사진)
A36: 위치 · 내용 | C36: 3호지 착공 전 전경 | I36: 촬 영 일 | K36: 46086
A38: 착 공 전 사 진
A39: 공 사 명 : | C39: =IF('예시-기록지'!D12="","",'예시-기록지'!D12)
A40: 위 치 : | C40: =IF('예시-기록지'!D14="","",'예시-기록지'!D14)
A41: (사진)
A50: 위치 · 내용 | C50: 4호지 착공 전 전경 | I50: 촬 영 일 | K50: 46086
A52: (사진)
A61: 위치 · 내용 | C61: 5호지 착공 전 전경 | I61: 촬 영 일 | K61: 46086
A63: (사진)
A72: 위치 · 내용 | C72: 6호지 착공 전 전경 | I72: 촬 영 일 | K72: 46086
A75: 이 시트는 작성 예시입니다(사진 자리는 비워 둠).

Sheet 예시-현장배치확인표
A1: K-건설맵 | k-conmap.com 무료 건설 서식 | G1: 작성 예시 (가상의 현장)
A2: ■ 산림기술 진흥 및 관리에 관한 법률 시행규칙 [별지 제30호서식]
A3: 현장 배치 확인표
A4: ※ 바탕색이 있는 난은 신청인이 적지 않습니다.
A5: 접수번호 | D5: 접수일시 | G5: 발급일 | J5: 처리기간 즉시
A6: 신 청 인 | C6: 성 명 | E6: =IF('예시-기록지'!D26="","",'예시-기록지'!D26) | H6: 생년월일 | J6: =IF(N('예시-기록지'!J26)=0,"",'예시-기록지'!J26)
C7: 기술자격 종류 및 등급 | E7: =IF('예시-기록지'!D27="","",'예시-기록지'!D27) | H7: 자격번호 | J7: =IF('예시-기록지'!J27="","",'예시-기록지'!J27)
C8: 주 소 | E8: =IF('예시-기록지'!D28="","",'예시-기록지'!D28)
A9: 소속업체 | C9: 상호 또는 법인명 | E9: =IF('예시-기록지'!D7="","",'예시-기록지'!D7) | H9: 대 표 자 | J9: =IF('예시-기록지'!J7="","",'예시-기록지'!J7)
C10: 등록업종 | E10: =IF('예시-기록지'!D10="","",'예시-기록지'!D10) | H10: 등록번호 | J10: =IF('예시-기록지'!J10="","",'예시-기록지'!J10)
C11: 소 재 지 | E11: =IF('예시-기록지'!D8="","",'예시-기록지'!D8) | H11: 전화번호 | J11: =IF('예시-기록지'!J9="","",'예시-기록지'!J9)
A13: 배 치 기 간 | D13: 참 여 사 업 명 | G13: 직 책 | H13: 발주자명 | J13: 확 인
J14: 연월일 | K14: (발주청)
A15: =IF(OR(N('예시-기록지'!D19)=0,N('예시-기록지'!J19)=0),"",YEAR('예시-기록지'!D19)&". "&MONTH('예시-기록지'!D19)&". "&DAY('예시-기록지'!D19)&". ~"&CHAR(10)&YEAR('예시-기록지'!J19)&". "&MONTH('예시-기록지'!J19)&". "&DAY('예시-기록지'!J19)&".") | D15: =IF('예시-기록지'!D12="","",'예시-기록지'!D12) | G15: 현장대리인 | H15: =IF('예시-기록지'!D13="","",'예시-기록지'!D13)
A19: 「산림기술 진흥 및 관리에 관한 법률」 제25조제1항, 같은 법 시행령 제15조제3항 및 같은 법 시행규칙 제20조제1항에 따라 현장 배치 확인표를 제출합니다.
A20: =IF(N('예시-기록지'!G21)=0,"20 년 월 일",'예시-기록지'!G21)
E21: 신 청 인 | G21: 성명 | H21: =IF('예시-기록지'!D26="","",'예시-기록지'!D26) | K21: (서명 또는 인)
E22: 대 리 인 | G22: 성명 | J22: 생년월일 | K22: (서명 또는 인)
B24: =IF('예시-기록지'!D6="","",'예시-기록지'!D6) | G24: 귀하 (발주청)
A26: 유 의 사 항
